{"text_format":"1","workbook":"xlsx","n_sheets":6,"sheets":["INTRODUCCIÓN","HOJA DE VERIFICACIÓN DE DATOS","INFORME RESUMIDO DE LOS COSTOS ","SOURCE","CALCULATIONS","DATA VERIFICATION FORMULAS"],"not_rendered":{"charts":22,"images":0,"macros":1,"external_links":2,"defined_names":39,"comments":5,"pivot_tables":0},"unopened":[],"bounds":{"document_bytes":16777216,"sheet_cells":100000,"rows_first":2000,"rows_last":500,"rows_between":2000,"halvings":0,"cell_chars":16384,"cell_head_chars":4096},"cells_cut":0,"cells_raw":0,"read":"whole","date_system":"1900"}

{"sheet":"INTRODUCCIÓN","index":0,"n_rows":78,"n_cols":2,"rows_kept":78,"cut":false,"hidden":false,"merged":[]}
[]
[null,"MODELO DE ESTIMACIÓN DE COSTOS NACIONALES DE LOS OBJETIVOS DE DESARROLLO SOSTENIBLE EN MATERIA DE WASH"]
[]
[null,"Contenidos del modelo"]
[null,"1. Hoja de introducción (a continuación)"]
[null,"2. Hoja de verificación de datos, donde pueden revisarse y ajustarse los datos proporcionados para un país específico"]
[null,"3. Informe de resumen de estimación de costos de los ODS, en el que se presenta un resumen de los resultados del país seleccionado, tanto en forma de gráfico como de cuadro, en dólares estadounidenses o en moneda local"]
[]
[null,"Introducción"]
[null,"A principios de 2016, el Banco Mundial publicó un informe sobre lo que le costaría al mundo alcanzar las metas 6.1 y 6.2 de los ODS relativas al abastecimiento de agua potable, el saneamiento y la higiene. Si bien las estimaciones sin desglosar se basaban en datos de 140 países de ingresos medianos y bajos, los datos subyacentes eran necesariamente débiles y el análisis de sensibilidad indicaba las horquillas probables de las estimaciones de costos a escala mundial y regional. Por consiguiente, las estimaciones de costos recogidas en el informe resultaban útiles para disponer de estimaciones aproximadas sobre lo que costaría a escala mundial y regional alcanzar las metas 6.1 y 6.2, y para determinar las diferencias probables en general entre las áreas rurales y las urbanas y entre los diferentes niveles de servicio obtenidos. Las estimaciones de costos no tienen por objeto ser utilizadas a nivel nacional, en el que se necesita una evaluación más detallada de los valores utilizados en el modelo de costos. Por consiguiente, las instrucciones de esta nota permiten al usuario saber cómo personalizar el análisis de costos para su país. El usuario debe recordar que, incluso después de haber validado los valores específicos para un país, los resultados deberían interpretarse con cautela debido a la sencillez del modelo de costos y a la incertidumbre que rodea a los valores subyacentes."]
[]
[null,"Métodos de costos y cómo personalizar los datos aportados para su país (en la HOJA DE VERIFICACIÓN DE DATOS)"]
[null,"Servicios para los que se han determinado los costos"]
[null,"En este modelo de costos se han determinado los costos para los siguientes servicios y niveles de servicios:"]
[null,"   1. Agua"]
[null,"       1.1 Abastecimiento de agua básico: una fuente \"mejorada\" de agua que esté situada de modo que el trayecto de ida y vuelta sea como máximo de 30 minutos"]
[null,"       1.2 Abastecimiento de agua gestionado de forma segura: abastecimiento de agua segura de fuente mejorada, en instalaciones y disponible"]
[null,"    2. Saneamiento"]
[null,"       2.1 Cualquier punto fijo para la defecación: que dé lugar a comunidades sin defecación al aire libre"]
[null,"       2.2 Saneamiento básico: una instalación de saneamiento \"mejorada\" para el uso exclusivo de una única familia"]
[null,"       2.3 Saneamiento gestionado de forma segura: una instalación mejorada en la que se realicen con seguridad la extracción, el transporte, el tratamiento y la    "]
[null,"              eliminación o reutilización de excretas humanas"]
[null,"    3. Higiene"]
[null,"       3.1 Lavado de manos: presencia de una estación de lavado de manos, agua y jabón (u otro material de limpieza adecuado)"]
[]
[null,"Método de estimación de costos"]
[null,"El modelo de costos calcula la población que debe recibir cada tipo y nivel de servicio basándose en la cobertura de 2015 y en los cambios previstos en la población entre 2015 y 2030, año de finalización de los ODS. Se ha agregado una nueva personalización que permite al usuario cambiar el año de referencia, es decir, después de 2015. Esto permite estimar valores anuales más realistas para alcanzar los objetivos nacionales. Las previsiones demográficas se han extraído de las estimaciones de las Naciones Unidas utilizando la variante media, teniendo en cuenta los cambios generales en la población, así como la migración de las zonas rurales a las urbanas que se produce en numerosos países. Las estimaciones de costos se obtienen multiplicando la población que debe recibir un servicio por el costo per cápita alcanzado. Se diferencia entre inversiones de capital, mantenimiento del capital y costos de prestar el servicio de. Los costos del programa también se incluyen como un costo separado, bajo Costos de capital. Del mismo modo que los niveles de servicio, las cifras de cobertura y las estimaciones de costos se desglosan por zonas rurales y urbanas."]
[]
[null,"Variables aportadas (en la HOJA DE VERIFICACIÓN DE DATOS)"]
[null,"En primer lugar, para elaborar un cuadro de los valores y los resultados para su país, vaya a la celda E4 de la HOJA DE VERIFICACIÓN DE DATOS y use el menú desplegable para seleccionar su país."]
[null,"En segundo lugar, elija su año de referencia. Este puede ser el año actual o el último año para el que tiene las entradas de datos necesarias (por ejemplo, cobertura, costos unitarios). Si elige el año actual, es factible proyectar los últimos números de cobertura para el año actual en función de las tendencias recientes.\\"]
[null,"Tercero, revise las tablas de la HOJA DE VERIFICACIÓN DE DATOS y, si lo considera necesario, modifique los valores utilizados para su país. Las variables que pueden cambiarse se abordan a continuación. "]
[null,"Cuarto, haga clic en el botón \"RESTAURAR VALORES POR DEFECTO\" en la esquina superior derecha de la Hoja de verificación de datos si desea restablecer los valores predeterminados originales para las variables en la Hoja de verificación de datos."]
[]
[null,"Nivel de cobertura de los servicios en 2015"]
[null,"Las estimaciones están basadas en el Programa Conjunto de Monitoreo (JMP) de 2015 para un abastecimiento de agua y un saneamiento mejorados. Este valor es importante para actualizar al último año disponible. El JMP ha realizado un ajuste a un abastecimiento de agua básico a partir de los datos disponibles de la encuesta. La presencia de estaciones de lavado de manos con jabón y agua se basa en informes de encuestas disponibles compilados por el JMP. Las estimaciones correspondientes al abastecimiento de agua gestionado de forma segura y al saneamiento gestionado de forma segura se basan en documentación y supuestos disponibles que se recogen en el informe de costos mundiales del Banco Mundial."]
[null,"El usuario puede ajustar la cobertura actual basándose en fuentes de datos más recientes o más fiables."]
[]
[null,"Cobertura en el año meta"]
[null,"El estudio de costos mundiales determina los costos de lograr acceso universal (100%) en 2030 para satisfacer las metas 6.1 y 6.2 de los ODS. Sin embargo, si esta meta no es realista para su país, puede ajustar la cobertura meta a menos del 100%."]
[]
[null,"Elección de tecnología"]
[null,"El estudio de costos mundiales calcula los costos basándose en una o dos opciones tecnológicas, en función del servicio. En el caso del abastecimiento de agua y el saneamiento básicos y del saneamiento gestionado de forma segura, hay dos opciones. Por tanto, el usuario puede ajustar la proporción de población que recibe cada una de estas dos opciones. Cuando se realiza un ajuste en la columna F, el total debe sumar el 100% (por ejemplo, 70 + 30, o 20 + 80). El nombre de la tecnología en sí puede modificarse en la columna E, lo que significa que debe indicarse el costo unitario correcto para la opción tecnológica seleccionada."]
[]
[null,"Costos"]
[null,"El usuario puede ajustar los costos unitarios para cada tipo de servicio de WASH y para zonas urbanas/zonas rurales, por separado. Dado el aumento del clima y otros riesgos en muchos países, el usuario debe tratar de reflejar los precios unitarios de los servicios WASH que son más resistentes para soportar estos riesgos. Se pueden revisar y ajustar las siguientes variables si se dispone de valores alternativos y más precisos para su país. Todos los valores de costos deben presentarse en valores de 2016. Por tanto, si se dispone de datos de costos de un año anterior, deberían ajustarse de modo que reflejen la tasa de inflación de los precios. Los valores de costo unitario deben inflarse para representar los niveles de precios en el año de referencia seleccionado del análisis."]
[null,"1. Costo de capital (CapEx). Los costos de capital se presentan en términos del costo por persona total alcanzado. Si se dispone de datos de costos locales disponibles para toda una zona o por familia, deberán dividirse los costos entre la población correspondiente cubierta para determinar el costo por persona alcanzado. Pueden ajustarse las tres variables siguientes:"]
[null,"i. Costo de capital por persona alcanzado. Suele incluir los fondos gastados en equipos físicos o infraestructuras, y los costos de su instalación física (mano de obra, equipamiento, etc.)."]
[null,"ii. Costo de software por persona alcanzado con los equipos físicos. Estos costos son necesarios para sensibilizar a las poblaciones en relación con la intervención y/o el cambio en su comportamiento y/o para generar demanda del servicio. También puede incluir otros costos de programas, gestión o administrativos, si no se han incluido en los costos de equipos físicos en el apartado 1.i."]
[null,"iii. Duración de vida (vida útil) de los equipos físicos de capital, en años, antes de que sea necesario sustituirlos por completo. El modelo exige que se introduzca un número negativo (es decir, con \"-\"); de lo contrario, el modelo no funcionará."]
[null,"2. Costo de mantenimiento del capital (CapManEx). Estos costos representan la rehabilitación o la renovación de infraestructuras para prolongar su vida útil hasta alcanzar la duración indicada en el apartado 1.iii."]
[null,"i. Costo de mantenimiento por persona alcanzado. Suele incluir los fondos gastados en equipos físicos (piezas), y los costos de su instalación física (mano de obra, etc.)."]
[null,"ii. Duración de vida (vida útil) de los equipos físicos de capital, en años, antes de que sea necesario llevar a cabo tareas de mantenimiento de capital para prolongar su duración hasta agotar toda su vida útil indicada en el apartado 1.iii. Las cifras del modelo se basan en el supuesto de que hay que volver a gastar el 30% del costo de capital (en 1.i) una vez transcurrida la mitad de la vida útil prevista de los equipos físicos (en 1.iii)."]
[null,"3. Costo de explotación (OpEx) por persona alcanzado, al año. Refleja los costos recurrentes de la prestación del servicio, entre los que se incluyen la mano de obra, los materiales, los productos químicos, la energía, el transporte y los gastos fijos."]
[]
[null,"Recuperación de costos"]
[null,"Con el fin de estimar la financiación requerida de fuentes públicas para ampliar la cobertura a las personas sin servicio y mantener operativos los servicios existentes, es necesario identificar el ratio de costos que deberán sufragar directamente los consumidores (mediante tarifas y otros honorarios por bienes y productos) frente a los costos financiados a través de subsidios públicos. Estos últimos pueden incluir donaciones no reembolsables realizadas por gobiernos y otros socios (por ejemplo, donantes bilaterales, ONG y otras organizaciones benéficas), lo que reduce el precio sufragado por los consumidores. Por consiguiente, aquí debe introducirse la división de costos prevista entre fuentes públicas y consumidores. En la medida de lo posible, los valores introducidos para la recuperación de costos deberían reflejar la política nacional actual o, si no la hay, una opción política realista de reparto de costos entre consumidores y sector público. Los valores del reparto de costos pueden alterarse para ver cómo repercuten en las necesidades del presupuesto público. Las partes pública y privada deben sumar el 100% por fila (por ejemplo, 30% público y 70% privado, o 10% público y 90% privado) para garantizar que los costos estén financiados en su totalidad."]
[]
[null,"Tipo de descuento"]
[null,"El modelo de costos original supone que una quinceava parte (1/15) de la población sin servicio obtendrá acceso a cada tipo de servicio de WASH entre 2016 y 2030, de modo que en el año 2030 se alcance la cobertura universal de los servicios. Si ha ingresado un año de referencia posterior, los costos anuales serán 1 / n de los costos totales estimados hasta 2030, siendo 'n' el número de años restantes desde el año de referencia hasta 2030. Por consiguiente, se incurrirá en la mayoría de los costos en algún momento en el futuro. El tipo de descuento se emplea para estimar el valor actual de los costos futuros y se basa en la teoría económica de la preferencia temporal del dinero (confirmada por el hecho de que los tipos de interés ofrecidos por los bancos para las cuentas de ahorro suelen ser positivos). Cuanto mayor es el tipo de descuento, más costos futuros tendrán un descuento al valorarlos en el momento actual. El tipo de descuento por defecto es del 5%, que refleja un valor elegido habitualmente por los gobiernos al evaluar económicamente los proyectos del sector público. Sin embargo, este valor puede modificarse para diferentes condiciones en cualquier contexto nacional específico."]
[]
[null,"Tipo de cambio de moneda local"]
[null,"Para habilitar la tabulación de resultados en moneda local es posible ingresar el tipo de cambio con el dólar estadounidense. Sin embargo, todos los valores de moneda introducidos en la \"Hoja de verificación de datos\" deben convertirse a dólares estadounidenses."]
[]
[null,"Gasto en WASH"]
[null,"Estos valores reflejan el gasto total en concepto de WASH realizado en el último año fiscal para el que se dispone de datos; preferiblemente, que abarque 2015. Todos los valores deberían convertirse a US$ utilizando los tipos de cambio vigentes. Dentro de lo posible, deberían recopilarse datos de financiación sobre cuatro fuentes de financiación principales: presupuesto del gobierno nacional; presupuesto del gobierno descentralizado; asistencia oficial para el desarrollo actual y otras contribuciones no gubernamentales (diferenciadas entre préstamos reembolsables y donaciones no reembolsables). Preferiblemente, deberían usarse datos de gastos en lugar de datos de presupuestos. Las cifras de gastos obtenidas suelen incluir los gastos de equipos físicos y software, y abarcan la cobertura de nuevos servicios y la explotación, el mantenimiento y la sustitución de servicios existentes. Los valores que deben introducirse pueden extraerse directamente de la sección sobre financiación de la encuesta del GLAAS (apartado D), si se ha cumplimentado. Si no se han recopilado datos para la encuesta del GLAAS, se recomienda introducir cifras aproximadas basadas en documentación y entrevistas disponibles. Es preferible que varias partes interesadas (representantes gubernamentales, peritos, etc.) puedan validar los valores."]
[]
[null,"Visualización de resultados (en el INFORME RESUMIDO DE ESTIMACIÓN DE COSTOS DE LOS ODS)"]
[null,"Los siguientes conjuntos de resultados pueden verse en los gráficos y los cuadros. En la celda H3 se puede elegir la moneda preferida para ver los resultados (moneda local o dólares estadounidenses)."]
[null,"1. Resumen de costos de capital, anualizados, tanto para la ampliación de servicios como para el mantenimiento de los servicios existentes "]
[null,"2. Tamaño de la población en áreas urbanas y rurales, desde el año de referencia seleccionado hasta 2030 y la cobertura de los servicios de WASH en el año de referencia seleccionado"]
[null,"3. Población a la que hay que prestar servicios, basada en el tamaño de la población y la proporción de población sin servicios"]
[null,"4. Costos de capital de extender los servicios a los no alcanzados, por año desde el año de referencia seleccionado hasta 2030"]
[null,"5. Costos de capital anuales como porcentaje del PIB, tanto para la ampliación de servicios como para el mantenimiento de los servicios existentes \n(el modelo estima el PIB para el año de referencia seleccionado)"]
[null,"6. Desglose de costos por capital, mantenimiento del capital y costos de explotación, tanto para la ampliación de servicios como para el mantenimiento de los servicios existentes"]
[null,"7. Financiación pública disponible para WASH en el último año fiscal disponible"]
[null,"8. Financiación anual necesaria de fuentes públicas y de los consumidores, basada en los ratios de reparto de costos"]
[null,"9. Déficit de financiación basado en la financiación pública disponible y el reparto de costos necesario de fuentes públicas"]

{"sheet":"HOJA DE VERIFICACIÓN DE DATOS","index":1,"n_rows":59,"n_cols":20,"rows_kept":59,"cut":false,"hidden":false,"merged":[[22,8,22,12],[22,13,22,16],[22,17,22,19],[23,8,23,10],[23,11,23,12],[23,13,23,14],[23,15,23,16],[23,18,23,19],[21,7,24,7],[27,3,28,3],[21,5,24,5],[21,6,24,6],[25,6,26,6],[25,7,26,7],[27,7,28,7],[27,6,28,6],[1,1,1,20],[57,2,58,2],[55,2,56,2],[21,8,21,19],[21,2,24,2],[21,3,24,3],[21,4,24,4],[49,4,49,7],[51,2,52,2],[31,2,34,2],[36,2,39,2],[40,2,41,2],[25,3,26,3],[31,3,32,3],[53,2,54,2],[25,2,28,2],[3,2,3,3],[33,3,34,3],[36,3,37,3],[38,6,39,6],[31,6,32,6],[38,3,39,3],[3,4,3,5],[29,2,30,2],[33,6,34,6],[36,6,37,6],[5,2,5,3],[5,4,5,5],[14,2,14,3],[7,2,7,5],[25,11,26,11],[25,12,26,12],[27,11,28,11],[27,12,28,12],[31,11,32,11],[31,12,32,12],[31,7,32,7],[36,15,37,15],[36,16,37,16],[38,16,39,16],[38,15,39,15],[33,11,34,11],[33,12,34,12],[36,11,37,11],[36,12,37,12],[38,11,39,11],[38,12,39,12],[33,7,34,7],[36,7,37,7],[38,7,39,7],[33,15,34,15],[25,15,26,15],[25,16,26,16],[27,16,28,16],[27,15,28,15],[31,15,32,15],[31,16,32,16],[48,4,48,7],[20,11,20,19],[46,2,46,7],[33,19,34,19],[33,18,34,18],[36,18,37,18],[36,19,37,19],[38,19,39,19],[38,18,39,18],[25,18,26,18],[25,19,26,19],[27,19,28,19],[27,18,28,18],[31,18,32,18],[31,19,32,19],[33,16,34,16]]}
[null,null,"INPUTS - SHEET TO ADJUST MODEL VALUES"]
[null,"HOJA DE VERIFICACIÓN DE DATOS"]
[]
[null,null,"    PASO 1: SELECCIONAR PAÍS -->",null,"Kenya"]
[]
[null,null,"     PASO 2: SELECCIONAR AÑO BASE -->",null,2020]
[]
[null,null,"     PASO 3: VERIFICAR Y AJUSTAR LOS DATOS PARA EL PAÍS A CONTINUACIÓN"]
[]
[null,null,"Verifique los datos a continuación y, si lo considera necesario, ajuste las cifras para reflejar los datos del país eliminando la fórmula e introduciendo una cifra revisada. En la hoja INTRODUCCIÓN encontrará instrucciones."]
[]
[null,null,"The cells in the table are colour coded according to the variable type, as follows:"]
[]
[null,null,"TECNOLOGÍA"]
[null,null,"NIVEL DE COBERTURA EN 2015"]
[null,null,"COBERTURA EN EL AÑO META"]
[null,null,"COSTOS"]
[null,null,"RECUPERACIÓN DE COSTOS"]
[null,null,"TIPO DE DESCUENTO"]
[null,null,"TIPO DE CAMBIO DE MONEDA LOCAL"]
[null,null,null,null,null,null,null,null,null,null,null,"ERROR: COST RECOVERY MUST ADD UP TO 100% FOR EACH COST TYPE"]
[null,null,"SERVICIO","ZONAS RURALES / ZONAS URBANAS","TECNOLOGÍA","HOGARES CON OPCIÓN TEC.","NIVEL DE COBERTURA DE LOS SERVICIOS EN 2015","META DE COBERTURA EN 2030","COSTO FINANCIERO PER CÁPITA (US$ en 2016) con DISTRIBUCIÓN DE LA RECUPERACIÓN DE COSTOS"]
[null,null,null,null,null,null,null,null,"COSTOS DE CAPITAL (TOTALES)",null,null,null,null,"COSTOS DE MANTENIMIENTO (TOTALES)",null,null,null,"COSTOS DE OPERACIÓN (ANUALES)"]
[null,null,null,null,null,null,null,null,"COSTOS",null,null,"RECUPERACIÓN DE COSTOS (%)",null,"COSTOS",null,"RECUPERACIÓN DE COSTOS (%)",null,"COSTOS","RECUPERACIÓN DE COSTOS (%)"]
[null,null,null,null,null,null,null,null,"CapEx","Software","Duración","Cliente","Subsidio","CapManEx","Duración","Cliente","Subsidio","OpEx","Cliente","Subsidio"]
[null,null,"Abastecimiento de agua básico","Zonas urbanas","Pozo entubado",{"$f":"INDIRECT(\"SOURCE!AXG\" & MATCH(E4,Countries,FALSE)+6)","v":0.5},{"$f":"INDIRECT(\"SOURCE!AJ\" & MATCH(E4,Countries,FALSE)+6)","v":0.69212295532226564},{"$f":"INDIRECT(\"SOURCE!AQ\" & MATCH(E4,Countries,FALSE)+6)","v":1},{"$f":"INDIRECT(\"SOURCE!AON\" & MATCH(E4,Countries,FALSE)+6)","v":62.507160986797338},{"$f":"INDIRECT(\"SOURCE!AOO\" & MATCH(E4,Countries,FALSE)+6)","v":3.1253580493398672},{"$f":"INDIRECT(\"SOURCE!AOQ\" & MATCH(E4,Countries,FALSE)+6)","v":-20},0.2,0.8,{"$f":"INDIRECT(\"SOURCE!AOT\" & MATCH(E4,Countries,FALSE)+6)","v":18.752148296039202},{"$f":"INDIRECT(\"SOURCE!AOU\" & MATCH(E4,Countries,FALSE)+6)","v":-10},0.2,0.8,{"$f":"INDIRECT(\"SOURCE!AOW\" & MATCH(E4,Countries,FALSE)+6)","v":2.300263524314142},0.8,0.2]
[null,null,null,null,"Pozo excavado",{"$f":"INDIRECT(\"SOURCE!AXL\" & MATCH(E4,Countries,FALSE)+6)","v":0.5},null,null,{"$f":"INDIRECT(\"SOURCE!APA\" & MATCH(E4,Countries,FALSE)+6)","v":29.776830692136208},{"$f":"INDIRECT(\"SOURCE!APB\" & MATCH(E4,Countries,FALSE)+6)","v":1.4888415346068105},{"$f":"INDIRECT(\"SOURCE!APD\" & MATCH(E4,Countries,FALSE)+6)","v":-10},null,null,{"$f":"INDIRECT(\"SOURCE!APG\" & MATCH(E4,Countries,FALSE)+6)","v":8.9330492076408614},{"$f":"INDIRECT(\"SOURCE!APH\" & MATCH(E4,Countries,FALSE)+6)","v":-5},null,null,{"$f":"INDIRECT(\"SOURCE!APJ\" & MATCH(E4,Countries,FALSE)+6)","v":1.4471539716378197}]
[null,null,null,"Zonas rurales","Pozo entubado",{"$f":"INDIRECT(\"SOURCE!AXQ\" & MATCH(E4,Countries,FALSE)+6)","v":0.5},{"$f":"INDIRECT(\"SOURCE!AR\" & MATCH(E4,Countries,FALSE)+6)","v":0.49306968688964842},{"$f":"INDIRECT(\"SOURCE!AY\" & MATCH(E4,Countries,FALSE)+6)","v":1},{"$f":"INDIRECT(\"SOURCE!APN\" & MATCH(E4,Countries,FALSE)+6)","v":42.8},{"$f":"INDIRECT(\"SOURCE!APO\" & MATCH(E4,Countries,FALSE)+6)","v":2.14},{"$f":"INDIRECT(\"SOURCE!APQ\" & MATCH(E4,Countries,FALSE)+6)","v":-20},0.2,0.8,{"$f":"INDIRECT(\"SOURCE!APT\" & MATCH(E4,Countries,FALSE)+6)","v":12.839999999999998},{"$f":"INDIRECT(\"SOURCE!APU\" & MATCH(E4,Countries,FALSE)+6)","v":-10},0.2,0.8,{"$f":"INDIRECT(\"SOURCE!APW\" & MATCH(E4,Countries,FALSE)+6)","v":2.3111999999999999},0.8,0.2]
[null,null,null,null,"Pozo excavado",{"$f":"INDIRECT(\"SOURCE!AXV\" & MATCH(E4,Countries,FALSE)+6)","v":0.5},null,null,{"$f":"INDIRECT(\"SOURCE!AQA\" & MATCH(E4,Countries,FALSE)+6)","v":8.1},{"$f":"INDIRECT(\"SOURCE!AQB\" & MATCH(E4,Countries,FALSE)+6)","v":0.40500000000000003},{"$f":"INDIRECT(\"SOURCE!AQD\" & MATCH(E4,Countries,FALSE)+6)","v":-10},null,null,{"$f":"INDIRECT(\"SOURCE!AQG\" & MATCH(E4,Countries,FALSE)+6)","v":2.4299999999999997},{"$f":"INDIRECT(\"SOURCE!AQH\" & MATCH(E4,Countries,FALSE)+6)","v":-5},null,null,{"$f":"INDIRECT(\"SOURCE!AQJ\" & MATCH(E4,Countries,FALSE)+6)","v":0.39366000000000001}]
[null,null,"Abastecimiento de agua gestionado de forma segura","Zonas urbanas","Abastecimiento de agua gestionado de forma segura",1,{"$f":"INDIRECT(\"SOURCE!AZ\" & MATCH(E4,Countries,FALSE)+6)","v":0.3114119500353299},{"$f":"INDIRECT(\"SOURCE!BG\" & MATCH(E4,Countries,FALSE)+6)","v":1},{"$f":"INDIRECT(\"SOURCE!AQN\" & MATCH(E4,Countries,FALSE)+6)","v":116.1},{"$f":"INDIRECT(\"SOURCE!AQO\" & MATCH(E4,Countries,FALSE)+6)","v":11.61},{"$f":"INDIRECT(\"SOURCE!AQQ\" & MATCH(E4,Countries,FALSE)+6)","v":-20},0.2,0.8,{"$f":"INDIRECT(\"SOURCE!AQT\" & MATCH(E4,Countries,FALSE)+6)","v":34.83},{"$f":"INDIRECT(\"SOURCE!AQU\" & MATCH(E4,Countries,FALSE)+6)","v":-10},0.2,0.8,{"$f":"INDIRECT(\"SOURCE!AQW\" & MATCH(E4,Countries,FALSE)+6)","v":20.7},0.8,0.2]
[null,null,null,"Zonas rurales","Abastecimiento de agua gestionado de forma segura",1,{"$f":"INDIRECT(\"SOURCE!BH\" & MATCH(E4,Countries,FALSE)+6)","v":3.7215281040368905E-2},{"$f":"INDIRECT(\"SOURCE!BO\" & MATCH(E4,Countries,FALSE)+6)","v":1},{"$f":"INDIRECT(\"SOURCE!ARA\" & MATCH(E4,Countries,FALSE)+6)","v":43.9},{"$f":"INDIRECT(\"SOURCE!ARB\" & MATCH(E4,Countries,FALSE)+6)","v":4.3899999999999997},{"$f":"INDIRECT(\"SOURCE!ARD\" & MATCH(E4,Countries,FALSE)+6)","v":-20},0.2,0.8,{"$f":"INDIRECT(\"SOURCE!ARG\" & MATCH(E4,Countries,FALSE)+6)","v":13.17},{"$f":"INDIRECT(\"SOURCE!AQU\" & MATCH(E4,Countries,FALSE)+6)","v":-10},0.2,0.8,{"$f":"INDIRECT(\"SOURCE!ARJ\" & MATCH(E4,Countries,FALSE)+6)","v":15.524999999999999},0.8,0.2]
[null,null,"Saneamiento básico (in situ únicamente)","Zonas urbanas","Tanque séptico",{"$f":"INDIRECT(\"SOURCE!AYA\" & MATCH(E4,Countries,FALSE)+6)","v":0.5},{"$f":"INDIRECT(\"SOURCE!BP\" & MATCH(E4,Countries,FALSE)+6)","v":0.31304315168332025},{"$f":"INDIRECT(\"SOURCE!BW\" & MATCH(E4,Countries,FALSE)+6)","v":1},{"$f":"INDIRECT(\"SOURCE!ARO\" & MATCH(E4,Countries,FALSE)+6)","v":671},{"$f":"INDIRECT(\"SOURCE!ARP\" & MATCH(E4,Countries,FALSE)+6)","v":134.20000000000002},{"$f":"INDIRECT(\"SOURCE!ARR\" & MATCH(E4,Countries,FALSE)+6)","v":-20},0.2,0.8,{"$f":"INDIRECT(\"SOURCE!ARU\" & MATCH(E4,Countries,FALSE)+6)","v":201.29999999999998},{"$f":"INDIRECT(\"SOURCE!ARV\" & MATCH(E4,Countries,FALSE)+6)","v":-10},0.2,0.8,{"$f":"INDIRECT(\"SOURCE!ARX\" & MATCH(E4,Countries,FALSE)+6)","v":51.801200000000001},0.8,0.2]
[null,null,null,null,"Letrina de pozo",{"$f":"INDIRECT(\"SOURCE!AYF\" & MATCH(E4,Countries,FALSE)+6)","v":0.5},null,null,{"$f":"INDIRECT(\"SOURCE!ASC\" & MATCH(E4,Countries,FALSE)+6)","v":43.625797612202234},{"$f":"INDIRECT(\"SOURCE!ASD\" & MATCH(E4,Countries,FALSE)+6)","v":4.362579761220224},{"$f":"INDIRECT(\"SOURCE!ASF\" & MATCH(E4,Countries,FALSE)+6)","v":-8},null,null,{"$f":"INDIRECT(\"SOURCE!ASI\" & MATCH(E4,Countries,FALSE)+6)","v":13.087739283660669},{"$f":"INDIRECT(\"SOURCE!ASJ\" & MATCH(E4,Countries,FALSE)+6)","v":-4},null,null,{"$f":"INDIRECT(\"SOURCE!ASL\" & MATCH(E4,Countries,FALSE)+6)","v":2.8574897435992459}]
[null,null,null,"Zonas rurales","Letrina de pozo húmedo",{"$f":"INDIRECT(\"SOURCE!AYK\" & MATCH(E4,Countries,FALSE)+6)","v":0.5},{"$f":"INDIRECT(\"SOURCE!BX\" & MATCH(E4,Countries,FALSE)+6)","v":0.29055560300670424},{"$f":"INDIRECT(\"SOURCE!CE\" & MATCH(E4,Countries,FALSE)+6)","v":1},{"$f":"INDIRECT(\"SOURCE!ASQ\" & MATCH(E4,Countries,FALSE)+6)","v":43.625797612202234},{"$f":"INDIRECT(\"SOURCE!ASR\" & MATCH(E4,Countries,FALSE)+6)","v":4.362579761220224},{"$f":"INDIRECT(\"SOURCE!AST\" & MATCH(E4,Countries,FALSE)+6)","v":-8},0.2,0.8,{"$f":"INDIRECT(\"SOURCE!ASW\" & MATCH(E4,Countries,FALSE)+6)","v":13.087739283660669},{"$f":"INDIRECT(\"SOURCE!ASX\" & MATCH(E4,Countries,FALSE)+6)","v":-4},0.2,0.8,{"$f":"INDIRECT(\"SOURCE!ASZ\" & MATCH(E4,Countries,FALSE)+6)","v":3.494426388737399},0.8,0.2]
[null,null,null,null,"Letrina de pozo seco",{"$f":"INDIRECT(\"SOURCE!AYP\" & MATCH(E4,Countries,FALSE)+6)","v":0.5},null,null,{"$f":"INDIRECT(\"SOURCE!ATE\" & MATCH(E4,Countries,FALSE)+6)","v":24.4},{"$f":"INDIRECT(\"SOURCE!ATF\" & MATCH(E4,Countries,FALSE)+6)","v":4.362579761220224},{"$f":"INDIRECT(\"SOURCE!ATH\" & MATCH(E4,Countries,FALSE)+6)","v":-8},null,null,{"$f":"INDIRECT(\"SOURCE!ATK\" & MATCH(E4,Countries,FALSE)+6)","v":7.3199999999999994},{"$f":"INDIRECT(\"SOURCE!ATL\" & MATCH(E4,Countries,FALSE)+6)","v":-4},null,null,{"$f":"INDIRECT(\"SOURCE!ATN\" & MATCH(E4,Countries,FALSE)+6)","v":1.6347999999999998}]
[null,null,"Cualquier punto fijo para la defecación","Zonas rurales","Pozo no mejorado",1,{"$f":"INDIRECT(\"SOURCE!CF\" & MATCH(E4,Countries,FALSE)+6)","v":0.84724596562693133},{"$f":"INDIRECT(\"SOURCE!CM\" & MATCH(E4,Countries,FALSE)+6)","v":1},{"$f":"INDIRECT(\"SOURCE!ATR\" & MATCH(E4,Countries,FALSE)+6)","v":24.4},{"$f":"INDIRECT(\"SOURCE!ATS\" & MATCH(E4,Countries,FALSE)+6)","v":2.181289880610112},{"$f":"INDIRECT(\"SOURCE!ATU\" & MATCH(E4,Countries,FALSE)+6)","v":-2},0.2,0.8,{"$f":"INDIRECT(\"SOURCE!ATX\" & MATCH(E4,Countries,FALSE)+6)","v":7.3199999999999994},{"$f":"INDIRECT(\"SOURCE!ATY\" & MATCH(E4,Countries,FALSE)+6)","v":-1},0.2,0.8,{"$f":"INDIRECT(\"SOURCE!AUA\" & MATCH(E4,Countries,FALSE)+6)","v":1.6347999999999998},0.8,0.2]
[null,null,"Saneamiento gestionado de forma segura (gestión de residuos fecales o alcantarillado únicamente)","Zonas urbanas","Alcantarillado con tratamiento",{"$f":"INDIRECT(\"SOURCE!AYU\" & MATCH(E4,Countries,FALSE)+6)","v":0.5},{"$f":"INDIRECT(\"SOURCE!CQ\" & MATCH(E4,Countries,FALSE)+6)","v":0.31661400000000006},{"$f":"INDIRECT(\"SOURCE!CS\" & MATCH(E4,Countries,FALSE)+6)","v":1},{"$f":"INDIRECT(\"SOURCE!AUE\" & MATCH(E4,Countries,FALSE)+6)","v":158.6},{"$f":"INDIRECT(\"SOURCE!AUF\" & MATCH(E4,Countries,FALSE)+6)","v":15.86},{"$f":"INDIRECT(\"SOURCE!AUH\" & MATCH(E4,Countries,FALSE)+6)","v":-20},0.2,0.8,{"$f":"INDIRECT(\"SOURCE!AUK\" & MATCH(E4,Countries,FALSE)+6)","v":47.58},{"$f":"INDIRECT(\"SOURCE!AUL\" & MATCH(E4,Countries,FALSE)+6)","v":-10},0.2,0.8,{"$f":"INDIRECT(\"SOURCE!AUN\" & MATCH(E4,Countries,FALSE)+6)","v":9.6587399999999999},0.8,0.2]
[null,null,null,null,"Tanque séptico con tratamiento (gestión de residuos fecales)",{"$f":"INDIRECT(\"SOURCE!AYZ\" & MATCH(E4,Countries,FALSE)+6)","v":0.5},null,null,{"$f":"INDIRECT(\"SOURCE!AUR\" & MATCH(E4,Countries,FALSE)+6)","v":70.279721494505466},{"$f":"INDIRECT(\"SOURCE!AUS\" & MATCH(E4,Countries,FALSE)+6)","v":7.0279721494505472},{"$f":"INDIRECT(\"SOURCE!AUU\" & MATCH(E4,Countries,FALSE)+6)","v":-20},null,null,{"$f":"INDIRECT(\"SOURCE!AUX\" & MATCH(E4,Countries,FALSE)+6)","v":21.083916448351641},{"$f":"INDIRECT(\"SOURCE!AUY\" & MATCH(E4,Countries,FALSE)+6)","v":-10},null,null,{"$f":"INDIRECT(\"SOURCE!AVA\" & MATCH(E4,Countries,FALSE)+6)","v":5.0250000868571414}]
[null,null,null,"Zonas rurales","Letrina de pozo con tratamiento (gestión de residuos fecales)",{"$f":"INDIRECT(\"SOURCE!AZE\" & MATCH(E4,Countries,FALSE)+6)","v":0.5},{"$f":"INDIRECT(\"SOURCE!CW\" & MATCH(E4,Countries,FALSE)+6)","v":0.33800000000000002},{"$f":"INDIRECT(\"SOURCE!CY\" & MATCH(E4,Countries,FALSE)+6)","v":1},{"$f":"INDIRECT(\"SOURCE!AVE\" & MATCH(E4,Countries,FALSE)+6)","v":56.305369438085428},{"$f":"INDIRECT(\"SOURCE!AVF\" & MATCH(E4,Countries,FALSE)+6)","v":5.6305369438085435},{"$f":"INDIRECT(\"SOURCE!AVH\" & MATCH(E4,Countries,FALSE)+6)","v":-20},0.2,0.8,{"$f":"INDIRECT(\"SOURCE!AVK\" & MATCH(E4,Countries,FALSE)+6)","v":16.891610831425627},{"$f":"INDIRECT(\"SOURCE!AVL\" & MATCH(E4,Countries,FALSE)+6)","v":-10},0.2,0.8,{"$f":"INDIRECT(\"SOURCE!AVN\" & MATCH(E4,Countries,FALSE)+6)","v":2.7195493438595264},0.8,0.2]
[null,null,null,null,"Alcantarillado con tratamiento",{"$f":"INDIRECT(\"SOURCE!AZJ\" & MATCH(E4,Countries,FALSE)+6)","v":0.5},null,null,{"$f":"INDIRECT(\"SOURCE!AVR\" & MATCH(E4,Countries,FALSE)+6)","v":392.05808936053648},{"$f":"INDIRECT(\"SOURCE!AVS\" & MATCH(E4,Countries,FALSE)+6)","v":39.20580893605365},{"$f":"INDIRECT(\"SOURCE!AVU\" & MATCH(E4,Countries,FALSE)+6)","v":-20},null,null,{"$f":"INDIRECT(\"SOURCE!AVX\" & MATCH(E4,Countries,FALSE)+6)","v":117.61742680816094},{"$f":"INDIRECT(\"SOURCE!AVY\" & MATCH(E4,Countries,FALSE)+6)","v":-10},null,null,{"$f":"INDIRECT(\"SOURCE!AWA\" & MATCH(E4,Countries,FALSE)+6)","v":8.5468663480596963}]
[null,null,"Lavado de manos con jabón","Zonas urbanas","Estación con jabón y agua",1,{"$f":"INDIRECT(\"SOURCE!CZ\" & MATCH(E4,Countries,FALSE)+6)","v":0.13100000000000001},{"$f":"INDIRECT(\"SOURCE!DG\" & MATCH(E4,Countries,FALSE)+6)","v":1},{"$f":"INDIRECT(\"SOURCE!AWE\" & MATCH(E4,Countries,FALSE)+6)","v":8.6999999999999993},{"$f":"INDIRECT(\"SOURCE!AWF\" & MATCH(E4,Countries,FALSE)+6)","v":15.390272043126577},{"$f":"INDIRECT(\"SOURCE!AWH\" & MATCH(E4,Countries,FALSE)+6)","v":-6},0.2,0.8,{"$f":"INDIRECT(\"SOURCE!AWL\" & MATCH(E4,Countries,FALSE)+6)","v":2.61},{"$f":"INDIRECT(\"SOURCE!AWM\" & MATCH(E4,Countries,FALSE)+6)","v":-3},0.2,0.8,{"$f":"INDIRECT(\"SOURCE!AWO\" & MATCH(E4,Countries,FALSE)+6)","v":1.4},0.8,0.2]
[null,null,null,"Zonas rurales","Estación con jabón y agua",1,{"$f":"INDIRECT(\"SOURCE!DH\" & MATCH(E4,Countries,FALSE)+6)","v":6.6000000000000003E-2},{"$f":"INDIRECT(\"SOURCE!DO\" & MATCH(E4,Countries,FALSE)+6)","v":1},{"$f":"INDIRECT(\"SOURCE!AWS\" & MATCH(E4,Countries,FALSE)+6)","v":1.1000000000000001},{"$f":"INDIRECT(\"SOURCE!AWT\" & MATCH(E4,Countries,FALSE)+6)","v":7.5293271381413698},{"$f":"INDIRECT(\"SOURCE!AWV\" & MATCH(E4,Countries,FALSE)+6)","v":-10},0.2,0.8,{"$f":"INDIRECT(\"SOURCE!AWZ\" & MATCH(E4,Countries,FALSE)+6)","v":0.33},{"$f":"INDIRECT(\"SOURCE!AXA\" & MATCH(E4,Countries,FALSE)+6)","v":-5},0.2,0.8,{"$f":"INDIRECT(\"SOURCE!AXC\" & MATCH(E4,Countries,FALSE)+6)","v":1.4},0.8,0.2]
[null,null,"TIPO DE DESCUENTO",{"$f":"SOURCE!BAI5","v":0.05}]
[null,null,"MONEDA LOCAL POR US$",1000]
[null,null,"MONEDA LOCAL (FORMA CORTO)","KSH"]
[null,null,null,"USD"]
[null,null,"     PASO 4: INTRODUCIR DATOS FINANCIEROS SOBRE LOS GASTOS EN WASH A CONTINUACIÓN"]
[]
[null,null,"Ubicación y subsector",null,"US$ en 2016"]
[null,null,null,null,"VALOR DEL GASTO / PRESUPUESTO"]
[null,null,"SUBSECTOR","ZONAS RURALES / ZONAS URBANAS","PRESUPUESTOS NACIONALES GASTADOS","PRESUPUESTOS SUBNACIONALES GASTADOS","ASISTENCIA OFICIAL PARA EL DESARROLLO ACTUAL \n(préstamos o financiación reembolsable)","ASISTENCIA OFICIAL PARA EL DESARROLLO ACTUAL \n(donaciones y transferencias voluntarias)"]
[null,null,"Abastecimiento de agua","Zonas urbanas"]
[null,null,null,"Zonas rurales"]
[null,null,"Saneamiento e higiene","Zonas urbanas"]
[null,null,null,"Zonas rurales"]
[null,null,"Gasto en WASH, no desglosado","Zonas urbanas"]
[null,null,null,"Zonas rurales"]
[null,null,"Total","Zonas urbanas",{"$f":"E52+E54+E56","v":0},{"$f":"F52+F54+F56","v":0},0,0]
[null,null,null,"Zonas rurales",{"$f":"E53+E55+E57","v":0},0,0,0]

{"sheet":"INFORME RESUMIDO DE LOS COSTOS ","index":2,"n_rows":485,"n_cols":63,"rows_kept":485,"cut":false,"hidden":false,"merged":[[263,30,263,32],[263,33,263,35],[263,36,263,38],[263,39,263,41],[263,42,263,44],[263,45,263,47],[75,4,76,4],[75,10,75,13],[75,6,75,9],[134,29,134,45],[155,29,155,59],[156,30,156,59],[261,33,261,35],[261,36,261,38],[259,29,259,51],[157,30,157,44],[157,45,157,59],[260,30,260,35],[261,39,261,41],[261,42,261,44],[1,1,1,14],[1,29,1,63],[89,29,89,45],[119,4,119,5],[119,3,120,3],[73,3,74,3],[72,3,72,13],[5,2,6,14],[73,4,74,4],[77,4,78,4],[79,4,80,4],[73,6,73,9],[73,10,73,13],[50,2,50,14],[108,35,108,39],[75,3,76,3],[108,43,108,47],[114,35,114,39],[114,43,114,47],[108,50,108,54],[114,50,114,54],[476,29,476,45],[477,30,477,31],[477,32,477,33],[477,29,478,29],[260,42,260,47],[260,36,260,41],[355,29,355,62],[372,29,372,62],[359,30,359,32],[359,33,359,35],[359,36,359,38],[357,30,357,47],[357,48,358,50],[359,48,359,50],[359,51,359,53],[261,45,261,47],[392,31,393,31],[392,32,392,35],[392,36,392,39],[374,30,374,47],[358,30,358,35],[359,45,359,47],[359,39,359,41],[261,30,261,32],[381,31,382,31],[376,45,376,47],[359,42,359,44],[358,42,358,47],[374,48,375,50],[358,36,358,41],[413,7,413,8],[413,9,413,10],[365,31,366,31],[365,32,365,35],[365,36,365,39],[375,30,375,35],[376,30,376,32],[376,33,376,35],[376,36,376,38],[376,39,376,41],[381,32,381,35],[381,36,381,39],[376,57,376,59],[359,54,359,56],[359,57,359,59],[375,51,375,56],[376,54,376,56],[376,60,376,62],[376,51,376,53],[376,48,376,50],[376,42,376,44],[375,42,375,47],[333,30,334,30],[335,30,336,30],[326,32,326,35],[327,32,327,35],[329,30,330,30],[331,30,332,30],[374,51,374,62],[375,57,375,62],[358,51,358,56],[357,51,357,62],[358,57,358,62],[359,60,359,62],[375,36,375,41]]}
[2]
[null,{"$f":" \" INFORME DE RESUMEN DE ESTIMACIÓN DE COSTOS DE LOS ODS PARA \" & UPPER('HOJA DE VERIFICACIÓN DE DATOS'!$E$4)","v":" INFORME DE RESUMEN DE ESTIMACIÓN DE COSTOS DE LOS ODS PARA KENYA"},null,null,null,null,null,null,null,null,null,null,null,null,null,null,null,null,null,null,null,null,null,null,null,null,null,null,null,"SUMMARY TABLES"]
[null,null,null,null,null,null,null,"USD",null,null,null,null,null,null,null,null,null,null,null,null,null,null,null,null,null,null,null,null,null,{"$f":"\"Millón \" & $H$3","v":"Millón USD"}]
[null,null,null,null,null,null,null,null,null,null,null,null,null,null,null,null,null,null,null,null,null,null,null,null,null,null,null,null,null,{"$f":"H3","v":"USD"},{"$f":"IF(AD4=\"USD\",1,'HOJA DE VERIFICACIÓN DE DATOS'!$D$44)","v":1}]
[null,"1. COSTOS GLOBALES"]
[null,null,{"$f":"\"1a. \" & 'HOJA DE VERIFICACIÓN DE DATOS'!E4 & \" necesitará \" & $H$3 & \" \" & TEXT(ROUND(($J$78+$J$79),0),\"#,#\") & \" millones para establecer y mantener la cobertura básica universal y un adicional de \" & $H$3 & \" \" & TEXT(ROUND(($M$78+$M$79),0),\"#,#\") & \" millones para crear y mantener servicios gestionados de forma segura cada año hasta 2030\"","v":"1a. Kenya necesitará USD 1,201 millones para establecer y mantener la cobertura básica universal y un adicional de USD 1,625 millones para crear y mantener servicios gestionados de forma segura cada año hasta 2030"}]
[]
[null,null,null,{"$f":"\"Figura 1a. Costos de capital anuales de conseguir que toda la población logre acceso universal a diferentes niveles de servicio en 2030, en millones de \" & H3","v":"Figura 1a. Costos de capital anuales de conseguir que toda la población logre acceso universal a diferentes niveles de servicio en 2030, en millones de USD"}]
[]
[]
[]
[]
[]
[]
[]
[]
[]
[]
[]
[]
[]
[]
[]
[]
[]
[null,null,null,"Nota: las metas 6.1 y 6.2 son un 50% de abastecimiento de agua básico + 100% de WASH gestionado de forma segura + 100% de saneamiento básico + 100% de saneamiento gestionado de forma segura + 100% de higiene básica."]
[null,null,null,"Los costos de mantener lugares sin defecación al aire libre suelen ser elevados debido a la sustitución regular de las letrinas de pozo tradicionales. Para lograr la meta 6.2 de los ODS, se supone que las poblaciones han recibido una instalación de saneamiento adecuada."]
[null,null,null,"Los costos de los servicios de agua y saneamiento para que estos sean gestionados de forma segura son típicamente adicionales a los costos para lograr acceso básico."]
[]
[null,null,{"$f":"\"1b. El gasto de capital ascenderá a \"&$H$3&\" \"&TEXT(ROUND($J$78,0),\"#,#\")&\" millones para la cobertura básica universal y un adicional de \"&$H$3&\" \"&TEXT(ROUND($M$78,0),\"#,#\")&\" millones para servicios gestionados de forma segura cada año hasta 2030\"","v":"1b. El gasto de capital ascenderá a USD 1,069 millones para la cobertura básica universal y un adicional de USD 1,423 millones para servicios gestionados de forma segura cada año hasta 2030"}]
[]
[null,null,null,{"$f":"\"Figura 1b. Costos de capital anuales de conseguir que la población sin servicio logre acceso universal a diferentes niveles de servicio en 2030, en millones de \"  & $H$3","v":"Figura 1b. Costos de capital anuales de conseguir que la población sin servicio logre acceso universal a diferentes niveles de servicio en 2030, en millones de USD"}]
[]
[]
[]
[]
[]
[]
[]
[]
[]
[]
[]
[]
[]
[]
[null,null,null,"Nota: las metas 6.1 y 6.2 son un 50% de abastecimiento de agua básico + 100% de WASH gestionado de forma segura + 100% de saneamiento básico + 100% de saneamiento gestionado de forma segura + 100% de higiene básica."]
[null,null,null,"Los costos de mantener lugares sin defecación al aire libre suelen ser elevados debido a la sustitución regular de las letrinas de pozo tradicionales. Para lograr la meta 6.2 de los ODS, se supone que las poblaciones han recibido una instalación de saneamiento adecuada."]
[null,null,null,"Los costos de los servicios de agua y saneamiento para que estos sean gestionados de forma segura son típicamente adicionales a los costos para lograr acceso básico."]
[]
[null,null,{"$f":"\"1c. Los gastos de mantenimiento supondrán otros \"  & $H$3 & \" \" & ROUND($J$79,0) & \" millones para la cobertura básica universal y un adicional de \"  & $H$3 & \" \" & ROUND($M$79,0) & \" millones para servicios gestionados de forma segura cada año hasta 2030\"","v":"1c. Los gastos de mantenimiento supondrán otros USD 132 millones para la cobertura básica universal y un adicional de USD 202 millones para servicios gestionados de forma segura cada año hasta 2030"}]
[]
[null,null,null,{"$f":"\"Figura 1c. Costos de capital anuales de conseguir que la población que ya tiene servicio (en 2015) mantenga diferentes niveles de servicio en 2030, en millones de \"  & $H$3","v":"Figura 1c. Costos de capital anuales de conseguir que la población que ya tiene servicio (en 2015) mantenga diferentes niveles de servicio en 2030, en millones de USD"}]
[]
[]
[]
[]
[]
[]
[]
[]
[]
[]
[]
[]
[]
[null,null,null,"Nota: los costos de mantener lugares sin defecación al aire libre pueden ser considerablemente más elevados que los de otros servicios debido a la sustitución regular de las letrinas de pozo (cada 1 o 2 años)."]
[null,null,null,"Por consiguiente, las metas 6.1 y 6.2 de los ODS incluyen los costos de que las poblaciones obtengan saneamiento básico en lugar de los que conllevaría poner fin a la defecación al aire libre con una letrina no mejorada."]
[null,null,null,"Los costos de los servicios de agua y saneamiento para que estos sean gestionados de forma segura son típicamente adicionales a los costos para lograr acceso básico."]
[]
[null,null,"1d. Resumen de datos"]
[]
[null,null,null,{"$f":"\"Cuadro 1a. Costos de capital anuales de conseguir que la población sin servicio logre acceso universal a diferentes niveles de servicio en 2030, en millones de \"  & $H$3","v":"Cuadro 1a. Costos de capital anuales de conseguir que la población sin servicio logre acceso universal a diferentes niveles de servicio en 2030, en millones de USD"}]
[null,null,null,"Population group served","Output",null,"Universal Basic Service",null,null,null,"Universal Safely Managed Service"]
[null,null,null,null,null,"Ending OD","Water","Sanitation","Hygiene","WASH","Water","Sanitation","WatSan","Targets \n6.1 + 6.2"]
[null,null,null,"Grupo de población atendido","Resultado",null,"\nServicio básico universal",null,null,null,"\nServicio universal administrado de forma segura"]
[null,null,null,null,null,"Poner fin a la DAL","Agua","Saneamiento","Higiene","WASH","Agua","Saneamiento","Higiene","ODS Objetivo 6.1 et 6.2"]
[null,null,null,{"$f":"\"Ampliación a las personas sin servicio de \" & 'HOJA DE VERIFICACIÓN DE DATOS'!E6 & \" a 2030\"","v":"Ampliación a las personas sin servicio de 2020 a 2030"},"Costo total",{"$f":"HLOOKUP(\"Ending OD\",CALCULATIONS!$III$6:$IIQ$140,'INFORME RESUMIDO DE LOS COSTOS '!$A$1+1,FALSE)*$AE$4","v":48.244166980962426},{"$f":"HLOOKUP(G$75,CALCULATIONS!$III$6:$IIM$140,'INFORME RESUMIDO DE LOS COSTOS '!$A$1+1,FALSE)*$AE$4","v":124.7686397018137},{"$f":"HLOOKUP(H$75,CALCULATIONS!$III$6:$IIM$140,'INFORME RESUMIDO DE LOS COSTOS '!$A$1+1,FALSE)*$AE$4","v":860.11571602849585},{"$f":"HLOOKUP(I$75,CALCULATIONS!$III$6:$IIM$140,'INFORME RESUMIDO DE LOS COSTOS '!$A$1+1,FALSE)*$AE$4","v":84.046601461693839},{"$f":"SUM(G78:I78)","v":1068.9309571920035},{"$f":"HLOOKUP(K$75,CALCULATIONS!$IIN$6:$IIQ$140,'INFORME RESUMIDO DE LOS COSTOS '!$A$1+1,FALSE)*$AE$4","v":427.59297226217353},{"$f":"HLOOKUP(L$75,CALCULATIONS!$IIN$6:$IIQ$140,'INFORME RESUMIDO DE LOS COSTOS '!$A$1+1,FALSE)*$AE$4","v":995.47356957443537},{"$f":"SUM(K78:L78)","v":1423.0665418366088},{"$f":"G78*0.5+H78+I78+K78+L78","v":2429.6131791777057}]
[null,null,null,{"$f":"\"Mantenimiento de servicios para personas con servicio en \" & 'HOJA DE VERIFICACIÓN DE DATOS'!E6","v":"Mantenimiento de servicios para personas con servicio en 2020"},null,{"$f":"HLOOKUP(\"Ending OD\",CALCULATIONS!$INM$6:$INU$140,'INFORME RESUMIDO DE LOS COSTOS '!$A$1+1,FALSE)*$AE$4","v":271.29394445186432},{"$f":"HLOOKUP(G$75,CALCULATIONS!$INM$6:$INQ$140,'INFORME RESUMIDO DE LOS COSTOS '!$A$1+1,FALSE)*$AE$4","v":30.38249545917358},{"$f":"HLOOKUP(H$75,CALCULATIONS!$INM$6:$INQ$140,'INFORME RESUMIDO DE LOS COSTOS '!$A$1+1,FALSE)*$AE$4","v":95.749798538439222},{"$f":"HLOOKUP(I$75,CALCULATIONS!$INM$6:$INQ$140,'INFORME RESUMIDO DE LOS COSTOS '!$A$1+1,FALSE)*$AE$4","v":5.7375610814718039},{"$f":"SUM(G79:I79)","v":131.8698550790846},{"$f":"HLOOKUP(K$75,CALCULATIONS!$INR$6:$INU$140,'INFORME RESUMIDO DE LOS COSTOS '!$A$1+1,FALSE)*$AE$4","v":18.668996442069286},{"$f":"HLOOKUP(L$75,CALCULATIONS!$INR$6:$INU$140,'INFORME RESUMIDO DE LOS COSTOS '!$A$1+1,FALSE)*$AE$4","v":183.73364752765613},{"$f":"SUM(K79:L79)","v":202.40264396972543},{"$f":"G79*0.5+H79+I79+K79+L79","v":319.08125131922327}]
[null,null,null,{"$f":"\"Ampliación a las personas sin servicio de \" & 'HOJA DE VERIFICACIÓN DE DATOS'!E6 & \" a 2030\"","v":"Ampliación a las personas sin servicio de 2020 a 2030"},"Porcentaje del PIB",{"$f":"HLOOKUP(\"Ending OD\",CALCULATIONS!$IIR$6:$IIZ$140,'INFORME RESUMIDO DE LOS COSTOS '!$A$1+1,FALSE)","v":4.9383727446203861E-4},{"$f":"HLOOKUP(G$75,CALCULATIONS!$IIR$6:$IIV$140,'INFORME RESUMIDO DE LOS COSTOS '!$A$1+1,FALSE)","v":1.2771576093954273E-3},{"$f":"HLOOKUP(H$75,CALCULATIONS!$IIR$6:$IIV$140,'INFORME RESUMIDO DE LOS COSTOS '!$A$1+1,FALSE)","v":8.8043224187722025E-3},{"$f":"HLOOKUP(I$75,CALCULATIONS!$IIR$6:$IIV$140,'INFORME RESUMIDO DE LOS COSTOS '!$A$1+1,FALSE)","v":8.6031840097930282E-4},{"$f":"SUM(G80:I80)","v":1.0941798429146932E-2},{"$f":"HLOOKUP(K$75,CALCULATIONS!$IIW$6:$IIZ$140,'INFORME RESUMIDO DE LOS COSTOS '!$A$1+1,FALSE)","v":4.3769301288671845E-3},{"$f":"HLOOKUP(L$75,CALCULATIONS!$IIW$6:$IIZ$140,'INFORME RESUMIDO DE LOS COSTOS '!$A$1+1,FALSE)","v":1.0189873411880573E-2},{"$f":"SUM(K80:L80)","v":1.4566803540747759E-2},{"$f":"G80*0.5+H80+I80+K80+L80","v":2.4870023165196976E-2}]
[null,null,null,{"$f":"\"Mantenimiento de servicios para personas con servicio en \" & 'HOJA DE VERIFICACIÓN DE DATOS'!E6","v":"Mantenimiento de servicios para personas con servicio en 2020"},null,{"$f":"HLOOKUP(\"Ending OD\",CALCULATIONS!$INV$6:$IOD$140,'INFORME RESUMIDO DE LOS COSTOS '!$A$1+1,FALSE)","v":2.7770209434651886E-3},{"$f":"HLOOKUP(G$75,CALCULATIONS!$INV$6:$INZ$140,'INFORME RESUMIDO DE LOS COSTOS '!$A$1+1,FALSE)","v":3.1100150936038047E-4},{"$f":"HLOOKUP(H$75,CALCULATIONS!$INV$6:$INZ$140,'INFORME RESUMIDO DE LOS COSTOS '!$A$1+1,FALSE)","v":9.8011474753354377E-4},{"$f":"HLOOKUP(I$75,CALCULATIONS!$INV$6:$INZ$140,'INFORME RESUMIDO DE LOS COSTOS '!$A$1+1,FALSE)","v":5.8730862275051723E-5},{"$f":"SUM(G81:I81)","v":1.3498471191689761E-3},{"$f":"HLOOKUP(K$75,CALCULATIONS!$IOA$6:$IOD$140,'INFORME RESUMIDO DE LOS COSTOS '!$A$1+1,FALSE)","v":1.9109971001325543E-4},{"$f":"HLOOKUP(L$75,CALCULATIONS!$IOA$6:$IOD$140,'INFORME RESUMIDO DE LOS COSTOS '!$A$1+1,FALSE)","v":1.8807356287824646E-3},{"$f":"SUM(K81:L81)","v":2.0718353387957199E-3},{"$f":"G81*0.5+H81+I81+K81+L81","v":3.2661817032845061E-3}]
[null,null,null,"Los costos de los servicios de agua y saneamiento para que estos sean gestionados de forma segura son típicamente adicionales a los costos para lograr acceso básico."]
[]
[null,"2. DATOS DEMOGRÁFICOS Y ESTADÍSTICAS SOBRE WASH"]
[null,null,{"$f":"\"2a. Está previsto que la población urbana y rural de \"&'HOJA DE VERIFICACIÓN DE DATOS'!$E$4 & \" crezca un \" & ROUND(((INDIRECT(HLOOKUP(\"x\",AE91:AT95,5,FALSE)&93)/$AE$93)-1)*100,0) &\"% y un \"&ROUND(((INDIRECT(HLOOKUP(\"x\",AE91:AT95,5,FALSE)&94)/$AE$94)-1)*100,0) & \"%, respectivamente, entre \" & AE92 & \" y 2030\"","v":"2a. Está previsto que la población urbana y rural de Kenya crezca un 48% y un 17%, respectivamente, entre 2020 y 2030"}]
[]
[null,null,null,{"$f":"\"Figura 2a. Tamaño de la población en \" & AE92 & \" y proyecciones para 2030, en zonas rurales y urbanas\"","v":"Figura 2a. Tamaño de la población en 2020 y proyecciones para 2030, en zonas rurales y urbanas"}]
[]
[]
[null,null,null,null,null,null,null,null,null,null,null,null,null,null,null,null,null,null,null,null,null,null,null,null,null,null,null,null,null,"Cuadro 1. Tamaño de la población en 2015 y proyecciones para 2030, en zonas rurales y urbanas (población en miles)"]
[null,null,null,null,null,null,null,null,null,null,null,null,null,null,null,null,null,null,null,null,null,null,null,null,null,null,null,null,null,null,{"$f":"IF(AE92=2030,\"x\",\"\")","v":""},{"$f":"IF(AF92=2030,\"x\",\"\")","v":""},{"$f":"IF(AG92=2030,\"x\",\"\")","v":""},"","","","","","","","x","","","","",""]
[null,null,null,null,null,null,null,null,null,null,null,null,null,null,null,null,null,null,null,null,null,null,null,null,null,null,null,null,null,null,{"$f":"'HOJA DE VERIFICACIÓN DE DATOS'!$E$6","v":2020},{"$f":"IFERROR(IF(AE92=2030,\"\",AE92+1),\"\")","v":2021},{"$f":"IFERROR(IF(AF92=2030,\"\",AF92+1),\"\")","v":2022},2023,2024,2025,2026,2027,2028,2029,2030,"","","","",""]
[null,null,null,null,null,null,null,null,null,null,null,null,null,null,null,null,null,null,null,null,null,null,null,null,null,null,null,null,null,"Zonas urbanas",{"$f":"HLOOKUP(AE92,CALCULATIONS!$B$6:$Q$140,'INFORME RESUMIDO DE LOS COSTOS '!$A$1+1,FALSE)","v":14737.72},{"$f":"HLOOKUP(AF92,CALCULATIONS!$B$6:$Q$140,'INFORME RESUMIDO DE LOS COSTOS '!$A$1+1,FALSE)","v":15344.459000000001},{"$f":"HLOOKUP(AG92,CALCULATIONS!$B$6:$Q$140,'INFORME RESUMIDO DE LOS COSTOS '!$A$1+1,FALSE)","v":15970.474},{"$f":"HLOOKUP(AH92,CALCULATIONS!$B$6:$Q$140,'INFORME RESUMIDO DE LOS COSTOS '!$A$1+1,FALSE)","v":16616.636999999999},{"$f":"HLOOKUP(AI92,CALCULATIONS!$B$6:$Q$140,'INFORME RESUMIDO DE LOS COSTOS '!$A$1+1,FALSE)","v":17284.004000000001},{"$f":"HLOOKUP(AJ92,CALCULATIONS!$B$6:$Q$140,'INFORME RESUMIDO DE LOS COSTOS '!$A$1+1,FALSE)","v":17973.485000000001},{"$f":"HLOOKUP(AK92,CALCULATIONS!$B$6:$Q$140,'INFORME RESUMIDO DE LOS COSTOS '!$A$1+1,FALSE)","v":18685.608},{"$f":"HLOOKUP(AL92,CALCULATIONS!$B$6:$Q$140,'INFORME RESUMIDO DE LOS COSTOS '!$A$1+1,FALSE)","v":19420.669999999998},{"$f":"HLOOKUP(AM92,CALCULATIONS!$B$6:$Q$140,'INFORME RESUMIDO DE LOS COSTOS '!$A$1+1,FALSE)","v":20179.063999999998},{"$f":"HLOOKUP(AN92,CALCULATIONS!$B$6:$Q$140,'INFORME RESUMIDO DE LOS COSTOS '!$A$1+1,FALSE)","v":20961.082999999999},{"$f":"HLOOKUP(AO92,CALCULATIONS!$B$6:$Q$140,'INFORME RESUMIDO DE LOS COSTOS '!$A$1+1,FALSE)","v":21766.906999999999},{"$f":"HLOOKUP(AP92,CALCULATIONS!$B$6:$Q$140,'INFORME RESUMIDO DE LOS COSTOS '!$A$1+1,FALSE)","v":{"$error":"#N/A"}},{"$f":"HLOOKUP(AQ92,CALCULATIONS!$B$6:$Q$140,'INFORME RESUMIDO DE LOS COSTOS '!$A$1+1,FALSE)","v":{"$error":"#N/A"}},{"$f":"HLOOKUP(AR92,CALCULATIONS!$B$6:$Q$140,'INFORME RESUMIDO DE LOS COSTOS '!$A$1+1,FALSE)","v":{"$error":"#N/A"}},{"$f":"HLOOKUP(AS92,CALCULATIONS!$B$6:$Q$140,'INFORME RESUMIDO DE LOS COSTOS '!$A$1+1,FALSE)","v":{"$error":"#N/A"}},{"$f":"HLOOKUP(AT92,CALCULATIONS!$B$6:$Q$140,'INFORME RESUMIDO DE LOS COSTOS '!$A$1+1,FALSE)","v":{"$error":"#N/A"}}]
[null,null,null,null,null,null,null,null,null,null,null,null,null,null,null,null,null,null,null,null,null,null,null,null,null,null,null,null,null,"Zonas rurales",{"$f":"HLOOKUP(AE92,CALCULATIONS!$S$6:$AH$140,'INFORME RESUMIDO DE LOS COSTOS '!$A$1+1,FALSE)","v":38167.885999999999},{"$f":"HLOOKUP(AF92,CALCULATIONS!$S$6:$AH$140,'INFORME RESUMIDO DE LOS COSTOS '!$A$1+1,FALSE)","v":38828.594999999994},{"$f":"HLOOKUP(AG92,CALCULATIONS!$S$6:$AH$140,'INFORME RESUMIDO DE LOS COSTOS '!$A$1+1,FALSE)","v":39482.434999999998},{"$f":"HLOOKUP(AH92,CALCULATIONS!$S$6:$AH$140,'INFORME RESUMIDO DE LOS COSTOS '!$A$1+1,FALSE)","v":40130.266000000003},{"$f":"HLOOKUP(AI92,CALCULATIONS!$S$6:$AH$140,'INFORME RESUMIDO DE LOS COSTOS '!$A$1+1,FALSE)","v":40773.324000000001},{"$f":"HLOOKUP(AJ92,CALCULATIONS!$S$6:$AH$140,'INFORME RESUMIDO DE LOS COSTOS '!$A$1+1,FALSE)","v":41412.423000000003},{"$f":"HLOOKUP(AK92,CALCULATIONS!$S$6:$AH$140,'INFORME RESUMIDO DE LOS COSTOS '!$A$1+1,FALSE)","v":42047.466999999997},{"$f":"HLOOKUP(AL92,CALCULATIONS!$S$6:$AH$140,'INFORME RESUMIDO DE LOS COSTOS '!$A$1+1,FALSE)","v":42677.921999999999},{"$f":"HLOOKUP(AM92,CALCULATIONS!$S$6:$AH$140,'INFORME RESUMIDO DE LOS COSTOS '!$A$1+1,FALSE)","v":43303.572},{"$f":"HLOOKUP(AN92,CALCULATIONS!$S$6:$AH$140,'INFORME RESUMIDO DE LOS COSTOS '!$A$1+1,FALSE)","v":43924.107000000004},{"$f":"HLOOKUP(AO92,CALCULATIONS!$S$6:$AH$140,'INFORME RESUMIDO DE LOS COSTOS '!$A$1+1,FALSE)","v":44539.155999999995},{"$f":"HLOOKUP(AP92,CALCULATIONS!$S$6:$AH$140,'INFORME RESUMIDO DE LOS COSTOS '!$A$1+1,FALSE)","v":{"$error":"#N/A"}},{"$f":"HLOOKUP(AQ92,CALCULATIONS!$S$6:$AH$140,'INFORME RESUMIDO DE LOS COSTOS '!$A$1+1,FALSE)","v":{"$error":"#N/A"}},{"$f":"HLOOKUP(AR92,CALCULATIONS!$S$6:$AH$140,'INFORME RESUMIDO DE LOS COSTOS '!$A$1+1,FALSE)","v":{"$error":"#N/A"}},{"$f":"HLOOKUP(AS92,CALCULATIONS!$S$6:$AH$140,'INFORME RESUMIDO DE LOS COSTOS '!$A$1+1,FALSE)","v":{"$error":"#N/A"}},{"$f":"HLOOKUP(AT92,CALCULATIONS!$S$6:$AH$140,'INFORME RESUMIDO DE LOS COSTOS '!$A$1+1,FALSE)","v":{"$error":"#N/A"}}]
[null,null,null,null,null,null,null,null,null,null,null,null,null,null,null,null,null,null,null,null,null,null,null,null,null,null,null,null,null,"AD","AE","AF","AG","AH","AI","AJ","AK","AL","AM","AN","AO","AP","AQ","AR","AS","AT"]
[null,null,null,null,null,null,null,null,null,null,null,null,null,null,null,null,null,null,null,null,null,null,null,null,null,null,null,null,null,null,{"$f":"HLOOKUP(\"x\",AE91:AT95,5,FALSE)","v":"AO"}]
[]
[]
[]
[]
[]
[null,null,{"$f":"\"2b. Cobertura de servicios de WASH\"","v":"2b. Cobertura de servicios de WASH"}]
[]
[null,null,null,{"$f":"\" Figura 2b. Cobertura de servicios de WASH \" & 'HOJA DE VERIFICACIÓN DE DATOS'!E6 & \", desglosada por nivel de servicio y zonas rurales/zonas urbanas\"","v":" Figura 2b. Cobertura de servicios de WASH 2020, desglosada por nivel de servicio y zonas rurales/zonas urbanas"}]
[]
[]
[]
[]
[]
[]
[]
[]
[]
[]
[]
[]
[]
[null,null,null,{"$f":"\"Cuadro 2a. Cobertura de servicios de WASH \" & 'HOJA DE VERIFICACIÓN DE DATOS'!E6 & \", desglosada por nivel de servicio y zonas rurales/zonas urbanas\"","v":"Cuadro 2a. Cobertura de servicios de WASH 2020, desglosada por nivel de servicio y zonas rurales/zonas urbanas"}]
[]
[null,null,null,"Servicio","Proporción"]
[null,null,null,null,"Zonas urbanas","Zonas rurales"]
[null,null,null,"Abastecimiento de agua básico",{"$f":"CALCULATIONS!AJ8","v":0.69212295532226564},{"$f":"CALCULATIONS!AR8","v":0.49306968688964842}]
[null,null,null,"Abastecimiento de agua gestionado de forma segura",{"$f":"CALCULATIONS!AZ8","v":0.3114119500353299},{"$f":"CALCULATIONS!BH8","v":3.7215281040368905E-2}]
[null,null,null,"Saneamiento básico",{"$f":"CALCULATIONS!BP8","v":0.31304315168332025},{"$f":"CALCULATIONS!BX8","v":0.29055560300670424}]
[null,null,null,"Punto fijo para la defecación",null,{"$f":"CALCULATIONS!CF8","v":0.84724596562693133}]
[null,null,null,"Saneamiento gestionado de forma segura",{"$f":"CALCULATIONS!CQ8","v":0.31661400000000006},{"$f":"CALCULATIONS!CW8","v":0.33800000000000002}]
[null,null,null,"Estación de lavado de manos con jabón y agua",{"$f":"CALCULATIONS!CZ8","v":0.13100000000000001},{"$f":"CALCULATIONS!DH8","v":6.6000000000000003E-2}]
[]
[]
[]
[null,"3. POBLACIÓN A LA QUE LLEVAR EL SERVICIO"]
[]
[null,null,null,"Figura 3. Población nueva total a la que llevar el servicio para que logre acceso universal a diferentes niveles de servicio en 2030, por zonas rurales y urbanas"]
[]
[null,null,null,null,null,null,null,null,null,null,null,null,null,null,null,null,null,null,null,null,null,null,null,null,null,null,null,null,null,"Cuadro 3. Población nueva total a la que llevar el servicio para que logre acceso universal a diferentes niveles de servicio en 2030, por zonas rurales y urbanas (población en miles)"]
[]
[null,null,null,null,null,null,null,null,null,null,null,null,null,null,null,null,null,null,null,null,null,null,null,null,null,null,null,null,null,null,"Zonas urbanas con abastecimiento de agua básico","Zonas rurales con abastecimiento de agua básico","Zonas rurales sin defecación al aire libre","Zonas urbanas con saneamiento básico","Zonas rurales con saneamiento básico","Zonas urbanas con higiene básica","Zonas rurales con higiene básica","Zonas urbanas con abastecimiento de agua gestionado de forma segura","Zonas rurales con abastecimiento de agua gestionado de forma segura","Zonas urbanas con saneamiento gestionado de forma segura","Zonas rurales con saneamiento gestionado de forma segura"]
[null,null,null,null,null,null,null,null,null,null,null,null,null,null,null,null,null,null,null,null,null,null,null,null,null,null,null,null,null,"Población cubierta (por servicio)",{"$f":"CALCULATIONS!HY8","v":11566.592678887944},{"$f":"CALCULATIONS!MI8","v":25719.728400740205},{"$f":"HLOOKUP(\"Annual until target year\",CALCULATIONS!$MO$6:$MO$140,'INFORME RESUMIDO DE LOS COSTOS '!$A$1+1,FALSE)","v":1814.9671139982729},{"$f":"CALCULATIONS!QZ8","v":17153.364682573694},{"$f":"CALCULATIONS!VJ8","v":33449.26286777886},{"$f":"CALCULATIONS!$ZT$8","v":19836.26568},{"$f":"CALCULATIONS!$AED$8","v":42020.075523999993},{"$f":"CALCULATIONS!$AIN$8","v":17177.404875725322},{"$f":"CALCULATIONS!$AMX$8","v":43118.727395793219},{"$f":"CALCULATIONS!$ANQ$8","v":17100.73851992},{"$f":"CALCULATIONS!$AOJ$8","v":31638.410531999994}]
[]
[]
[]
[]
[]
[]
[]
[]
[]
[]
[]
[]
[]
[]
[]
[null,"4. COSTOS POR AÑO"]
[null,null,null,null,null,null,null,null,null,null,null,null,null,null,null,null,null,null,null,null,null,null,null,null,null,null,null,null,null,1000]
[null,null,null,{"$f":"\"Figura 4a. Costos de capital totales en zonas urbanas para que las personas sin servicio tengan servicio para el año 2030, en millones de \" & $H$3","v":"Figura 4a. Costos de capital totales en zonas urbanas para que las personas sin servicio tengan servicio para el año 2030, en millones de USD"},null,null,null,null,null,null,null,null,null,null,null,null,null,null,null,null,null,null,null,null,null,null,null,null,null,"Cuadro 4. Costos totales en zonas urbanas para que las personas sin servicio tengan servicio para el año 2030, en millones de US$"]
[null,null,null,null,null,null,null,null,null,null,null,null,null,null,null,null,null,null,null,null,null,null,null,null,null,null,null,null,null,null,"Costos de 2015 al año meta (millones de US$)"]
[null,null,null,null,null,null,null,null,null,null,null,null,null,null,null,null,null,null,null,null,null,null,null,null,null,null,null,null,null,null,"Zonas urbanas",null,null,null,null,null,null,null,null,null,null,null,null,null,null,"Zonas rurales"]
[null,null,null,null,null,null,null,null,null,null,null,null,null,null,null,null,null,null,null,null,null,null,null,null,null,null,null,null,null,null,{"$f":"'HOJA DE VERIFICACIÓN DE DATOS'!$E$6","v":2020},{"$f":"IFERROR(IF(AE159=2030,\"\",AE159+1),\"\")","v":2021},{"$f":"IFERROR(IF(AF159=2030,\"\",AF159+1),\"\")","v":2022},2023,2024,2025,2026,2027,2028,2029,2030,"","","","",{"$f":"AE159","v":2020},2021,2022,2023,2024,2025,2026,2027,2028,2029,2030,"","","",""]
[null,null,null,null,null,null,null,null,null,null,null,null,null,null,null,null,null,null,null,null,null,null,null,null,null,null,null,null,null,"Abastecimiento de agua básico",{"$f":"(HLOOKUP(AE$159,CALCULATIONS!$BEM$6:$BFA$140,'INFORME RESUMIDO DE LOS COSTOS '!$A$1+1,FALSE))/1000*$AE$4","v":60.804078098970841},{"$f":"(HLOOKUP(AF$159,CALCULATIONS!$BEM$6:$BFA$140,'INFORME RESUMIDO DE LOS COSTOS '!$A$1+1,FALSE))/1000*$AE$4","v":62.446724490481877},{"$f":"(HLOOKUP(AG$159,CALCULATIONS!$BEM$6:$BFA$140,'INFORME RESUMIDO DE LOS COSTOS '!$A$1+1,FALSE))/1000*$AE$4","v":63.795050640400106},{"$f":"(HLOOKUP(AH$159,CALCULATIONS!$BEM$6:$BFA$140,'INFORME RESUMIDO DE LOS COSTOS '!$A$1+1,FALSE))/1000*$AE$4","v":64.87336222617536},{"$f":"(HLOOKUP(AI$159,CALCULATIONS!$BEM$6:$BFA$140,'INFORME RESUMIDO DE LOS COSTOS '!$A$1+1,FALSE))/1000*$AE$4","v":65.704317491671802},{"$f":"(HLOOKUP(AJ$159,CALCULATIONS!$BEM$6:$BFA$140,'INFORME RESUMIDO DE LOS COSTOS '!$A$1+1,FALSE))/1000*$AE$4","v":66.309029030689729},{"$f":"(HLOOKUP(AK$159,CALCULATIONS!$BEM$6:$BFA$140,'INFORME RESUMIDO DE LOS COSTOS '!$A$1+1,FALSE))/1000*$AE$4","v":66.707159612495801},{"$f":"(HLOOKUP(AL$159,CALCULATIONS!$BEM$6:$BFA$140,'INFORME RESUMIDO DE LOS COSTOS '!$A$1+1,FALSE))/1000*$AE$4","v":66.917012385987704},{"$f":"(HLOOKUP(AM$159,CALCULATIONS!$BEM$6:$BFA$140,'INFORME RESUMIDO DE LOS COSTOS '!$A$1+1,FALSE))/1000*$AE$4","v":66.955615780569943},{"$f":"(HLOOKUP(AN$159,CALCULATIONS!$BEM$6:$BFA$140,'INFORME RESUMIDO DE LOS COSTOS '!$A$1+1,FALSE))/1000*$AE$4","v":66.838803404271403},{"$f":"(HLOOKUP(AO$159,CALCULATIONS!$BEM$6:$BFA$140,'INFORME RESUMIDO DE LOS COSTOS '!$A$1+1,FALSE))/1000*$AE$4","v":0},{"$f":"(HLOOKUP(AP$159,CALCULATIONS!$BEM$6:$BFA$140,'INFORME RESUMIDO DE LOS COSTOS '!$A$1+1,FALSE))/1000*$AE$4","v":{"$error":"#N/A"}},{"$f":"(HLOOKUP(AQ$159,CALCULATIONS!$BEM$6:$BFA$140,'INFORME RESUMIDO DE LOS COSTOS '!$A$1+1,FALSE))/1000*$AE$4","v":{"$error":"#N/A"}},{"$f":"(HLOOKUP(AR$159,CALCULATIONS!$BEM$6:$BFA$140,'INFORME RESUMIDO DE LOS COSTOS '!$A$1+1,FALSE))/1000*$AE$4","v":{"$error":"#N/A"}},{"$f":"(HLOOKUP(AS$159,CALCULATIONS!$BEM$6:$BFA$140,'INFORME RESUMIDO DE LOS COSTOS '!$A$1+1,FALSE))/1000*$AE$4","v":{"$error":"#N/A"}},{"$f":"(HLOOKUP(AT$159,CALCULATIONS!$BJI$6:$BJW$140,'INFORME RESUMIDO DE LOS COSTOS '!$A$1+1,FALSE))/1000*$AE$4","v":76.052745318105877},{"$f":"(HLOOKUP(AU$159,CALCULATIONS!$BJI$6:$BJW$140,'INFORME RESUMIDO DE LOS COSTOS '!$A$1+1,FALSE))/1000*$AE$4","v":79.405663254603581},{"$f":"(HLOOKUP(AV$159,CALCULATIONS!$BJI$6:$BJW$140,'INFORME RESUMIDO DE LOS COSTOS '!$A$1+1,FALSE))/1000*$AE$4","v":82.266800468536644},{"$f":"(HLOOKUP(AW$159,CALCULATIONS!$BJI$6:$BJW$140,'INFORME RESUMIDO DE LOS COSTOS '!$A$1+1,FALSE))/1000*$AE$4","v":84.675390230678758},{"$f":"(HLOOKUP(AX$159,CALCULATIONS!$BJI$6:$BJW$140,'INFORME RESUMIDO DE LOS COSTOS '!$A$1+1,FALSE))/1000*$AE$4","v":86.668044458856045},{"$f":"(HLOOKUP(AY$159,CALCULATIONS!$BJI$6:$BJW$140,'INFORME RESUMIDO DE LOS COSTOS '!$A$1+1,FALSE))/1000*$AE$4","v":88.278914406275675},{"$f":"(HLOOKUP(AZ$159,CALCULATIONS!$BJI$6:$BJW$140,'INFORME RESUMIDO DE LOS COSTOS '!$A$1+1,FALSE))/1000*$AE$4","v":89.539841990315523},{"$f":"(HLOOKUP(BA$159,CALCULATIONS!$BJI$6:$BJW$140,'INFORME RESUMIDO DE LOS COSTOS '!$A$1+1,FALSE))/1000*$AE$4","v":90.480502288786312},{"$f":"(HLOOKUP(BB$159,CALCULATIONS!$BJI$6:$BJW$140,'INFORME RESUMIDO DE LOS COSTOS '!$A$1+1,FALSE))/1000*$AE$4","v":91.128537701710442},{"$f":"(HLOOKUP(BC$159,CALCULATIONS!$BJI$6:$BJW$140,'INFORME RESUMIDO DE LOS COSTOS '!$A$1+1,FALSE))/1000*$AE$4","v":91.509684249256793},{"$f":"(HLOOKUP(BD$159,CALCULATIONS!$BJI$6:$BJW$140,'INFORME RESUMIDO DE LOS COSTOS '!$A$1+1,FALSE))/1000*$AE$4","v":18.329578090109536},{"$f":"(HLOOKUP(BE$159,CALCULATIONS!$BJI$6:$BJW$140,'INFORME RESUMIDO DE LOS COSTOS '!$A$1+1,FALSE))/1000*$AE$4","v":{"$error":"#N/A"}},{"$f":"(HLOOKUP(BF$159,CALCULATIONS!$BJI$6:$BJW$140,'INFORME RESUMIDO DE LOS COSTOS '!$A$1+1,FALSE))/1000*$AE$4","v":{"$error":"#N/A"}},{"$f":"(HLOOKUP(BG$159,CALCULATIONS!$BJI$6:$BJW$140,'INFORME RESUMIDO DE LOS COSTOS '!$A$1+1,FALSE))/1000*$AE$4","v":{"$error":"#N/A"}},{"$f":"(HLOOKUP(BH$159,CALCULATIONS!$BJI$6:$BJW$140,'INFORME RESUMIDO DE LOS COSTOS '!$A$1+1,FALSE))/1000*$AE$4","v":{"$error":"#N/A"}}]
[null,null,null,null,null,null,null,null,null,null,null,null,null,null,null,null,null,null,null,null,null,null,null,null,null,null,null,null,null,"Abastecimiento de agua gestionado de forma segura",{"$f":"(HLOOKUP(AE$159,CALCULATIONS!$DAY$6:$DBM$140,'INFORME RESUMIDO DE LOS COSTOS '!$A$1+1,FALSE))/1000*$AE$4","v":262.67798217888424},{"$f":"(HLOOKUP(AF$159,CALCULATIONS!$DAY$6:$DBM$140,'INFORME RESUMIDO DE LOS COSTOS '!$A$1+1,FALSE))/1000*$AE$4","v":291.41269208560044},{"$f":"(HLOOKUP(AG$159,CALCULATIONS!$DAY$6:$DBM$140,'INFORME RESUMIDO DE LOS COSTOS '!$A$1+1,FALSE))/1000*$AE$4","v":316.81512127063644},{"$f":"(HLOOKUP(AH$159,CALCULATIONS!$DAY$6:$DBM$140,'INFORME RESUMIDO DE LOS COSTOS '!$A$1+1,FALSE))/1000*$AE$4","v":339.13747173037285},{"$f":"(HLOOKUP(AI$159,CALCULATIONS!$DAY$6:$DBM$140,'INFORME RESUMIDO DE LOS COSTOS '!$A$1+1,FALSE))/1000*$AE$4","v":358.61548241555249},{"$f":"(HLOOKUP(AJ$159,CALCULATIONS!$DAY$6:$DBM$140,'INFORME RESUMIDO DE LOS COSTOS '!$A$1+1,FALSE))/1000*$AE$4","v":375.46942525377534},{"$f":"(HLOOKUP(AK$159,CALCULATIONS!$DAY$6:$DBM$140,'INFORME RESUMIDO DE LOS COSTOS '!$A$1+1,FALSE))/1000*$AE$4","v":389.90504364387823},{"$f":"(HLOOKUP(AL$159,CALCULATIONS!$DAY$6:$DBM$140,'INFORME RESUMIDO DE LOS COSTOS '!$A$1+1,FALSE))/1000*$AE$4","v":402.11443664251141},{"$f":"(HLOOKUP(AM$159,CALCULATIONS!$DAY$6:$DBM$140,'INFORME RESUMIDO DE LOS COSTOS '!$A$1+1,FALSE))/1000*$AE$4","v":412.27689188698042},{"$f":"(HLOOKUP(AN$159,CALCULATIONS!$DAY$6:$DBM$140,'INFORME RESUMIDO DE LOS COSTOS '!$A$1+1,FALSE))/1000*$AE$4","v":420.55967013165298},{"$f":"(HLOOKUP(AO$159,CALCULATIONS!$DAY$6:$DBM$140,'INFORME RESUMIDO DE LOS COSTOS '!$A$1+1,FALSE))/1000*$AE$4","v":0},{"$f":"(HLOOKUP(AP$159,CALCULATIONS!$DAY$6:$DBM$140,'INFORME RESUMIDO DE LOS COSTOS '!$A$1+1,FALSE))/1000*$AE$4","v":{"$error":"#N/A"}},{"$f":"(HLOOKUP(AQ$159,CALCULATIONS!$DAY$6:$DBM$140,'INFORME RESUMIDO DE LOS COSTOS '!$A$1+1,FALSE))/1000*$AE$4","v":{"$error":"#N/A"}},{"$f":"(HLOOKUP(AR$159,CALCULATIONS!$DAY$6:$DBM$140,'INFORME RESUMIDO DE LOS COSTOS '!$A$1+1,FALSE))/1000*$AE$4","v":{"$error":"#N/A"}},{"$f":"(HLOOKUP(AS$159,CALCULATIONS!$DAY$6:$DBM$140,'INFORME RESUMIDO DE LOS COSTOS '!$A$1+1,FALSE))/1000*$AE$4","v":{"$error":"#N/A"}},{"$f":"(HLOOKUP(AT$159,CALCULATIONS!$DFU$6:$DGI$140,'INFORME RESUMIDO DE LOS COSTOS '!$A$1+1,FALSE))/1000*$AE$4","v":282.51638231192669},{"$f":"(HLOOKUP(AU$159,CALCULATIONS!$DFU$6:$DGI$140,'INFORME RESUMIDO DE LOS COSTOS '!$A$1+1,FALSE))/1000*$AE$4","v":339.82136193292166},{"$f":"(HLOOKUP(AV$159,CALCULATIONS!$DFU$6:$DGI$140,'INFORME RESUMIDO DE LOS COSTOS '!$A$1+1,FALSE))/1000*$AE$4","v":391.0280977298948},{"$f":"(HLOOKUP(AW$159,CALCULATIONS!$DFU$6:$DGI$140,'INFORME RESUMIDO DE LOS COSTOS '!$A$1+1,FALSE))/1000*$AE$4","v":436.5874315644964},{"$f":"(HLOOKUP(AX$159,CALCULATIONS!$DFU$6:$DGI$140,'INFORME RESUMIDO DE LOS COSTOS '!$A$1+1,FALSE))/1000*$AE$4","v":476.9210961955082},{"$f":"(HLOOKUP(AY$159,CALCULATIONS!$DFU$6:$DGI$140,'INFORME RESUMIDO DE LOS COSTOS '!$A$1+1,FALSE))/1000*$AE$4","v":512.42346525720689},{"$f":"(HLOOKUP(AZ$159,CALCULATIONS!$DFU$6:$DGI$140,'INFORME RESUMIDO DE LOS COSTOS '!$A$1+1,FALSE))/1000*$AE$4","v":543.4632025801601},{"$f":"(HLOOKUP(BA$159,CALCULATIONS!$DFU$6:$DGI$140,'INFORME RESUMIDO DE LOS COSTOS '!$A$1+1,FALSE))/1000*$AE$4","v":570.38481647267952},{"$f":"(HLOOKUP(BB$159,CALCULATIONS!$DFU$6:$DGI$140,'INFORME RESUMIDO DE LOS COSTOS '!$A$1+1,FALSE))/1000*$AE$4","v":593.51012427434637},{"$f":"(HLOOKUP(BC$159,CALCULATIONS!$DFU$6:$DGI$140,'INFORME RESUMIDO DE LOS COSTOS '!$A$1+1,FALSE))/1000*$AE$4","v":613.13963220267397},{"$f":"(HLOOKUP(BD$159,CALCULATIONS!$DFU$6:$DGI$140,'INFORME RESUMIDO DE LOS COSTOS '!$A$1+1,FALSE))/1000*$AE$4","v":0},{"$f":"(HLOOKUP(BE$159,CALCULATIONS!$DFU$6:$DGI$140,'INFORME RESUMIDO DE LOS COSTOS '!$A$1+1,FALSE))/1000*$AE$4","v":{"$error":"#N/A"}},{"$f":"(HLOOKUP(BF$159,CALCULATIONS!$DFU$6:$DGI$140,'INFORME RESUMIDO DE LOS COSTOS '!$A$1+1,FALSE))/1000*$AE$4","v":{"$error":"#N/A"}},{"$f":"(HLOOKUP(BG$159,CALCULATIONS!$DFU$6:$DGI$140,'INFORME RESUMIDO DE LOS COSTOS '!$A$1+1,FALSE))/1000*$AE$4","v":{"$error":"#N/A"}},{"$f":"(HLOOKUP(BH$159,CALCULATIONS!$DFU$6:$DGI$140,'INFORME RESUMIDO DE LOS COSTOS '!$A$1+1,FALSE))/1000*$AE$4","v":{"$error":"#N/A"}}]
[null,null,null,null,null,null,null,null,null,null,null,null,null,null,null,null,null,null,null,null,null,null,null,null,null,null,null,null,null,"Saneamiento básico",{"$f":"(HLOOKUP(AE$159,CALCULATIONS!$BXW$6:$BYK$140,'INFORME RESUMIDO DE LOS COSTOS '!$A$1+1,FALSE))/1000*$AE$4","v":804.15594188972887},{"$f":"(HLOOKUP(AF$159,CALCULATIONS!$BXW$6:$BYK$140,'INFORME RESUMIDO DE LOS COSTOS '!$A$1+1,FALSE))/1000*$AE$4","v":834.81839502712035},{"$f":"(HLOOKUP(AG$159,CALCULATIONS!$BXW$6:$BYK$140,'INFORME RESUMIDO DE LOS COSTOS '!$A$1+1,FALSE))/1000*$AE$4","v":860.7371316709515},{"$f":"(HLOOKUP(AH$159,CALCULATIONS!$BXW$6:$BYK$140,'INFORME RESUMIDO DE LOS COSTOS '!$A$1+1,FALSE))/1000*$AE$4","v":882.29440497222458},{"$f":"(HLOOKUP(AI$159,CALCULATIONS!$BXW$6:$BYK$140,'INFORME RESUMIDO DE LOS COSTOS '!$A$1+1,FALSE))/1000*$AE$4","v":899.84681974668524},{"$f":"(HLOOKUP(AJ$159,CALCULATIONS!$BXW$6:$BYK$140,'INFORME RESUMIDO DE LOS COSTOS '!$A$1+1,FALSE))/1000*$AE$4","v":913.726908386226},{"$f":"(HLOOKUP(AK$159,CALCULATIONS!$BXW$6:$BYK$140,'INFORME RESUMIDO DE LOS COSTOS '!$A$1+1,FALSE))/1000*$AE$4","v":924.24461484298365},{"$f":"(HLOOKUP(AL$159,CALCULATIONS!$BXW$6:$BYK$140,'INFORME RESUMIDO DE LOS COSTOS '!$A$1+1,FALSE))/1000*$AE$4","v":931.68869186760946},{"$f":"(HLOOKUP(AM$159,CALCULATIONS!$BXW$6:$BYK$140,'INFORME RESUMIDO DE LOS COSTOS '!$A$1+1,FALSE))/1000*$AE$4","v":936.32801639818263},{"$f":"(HLOOKUP(AN$159,CALCULATIONS!$BXW$6:$BYK$140,'INFORME RESUMIDO DE LOS COSTOS '!$A$1+1,FALSE))/1000*$AE$4","v":938.41282772659781},{"$f":"(HLOOKUP(AO$159,CALCULATIONS!$BXW$6:$BYK$140,'INFORME RESUMIDO DE LOS COSTOS '!$A$1+1,FALSE))/1000*$AE$4","v":0},{"$f":"(HLOOKUP(AP$159,CALCULATIONS!$BXW$6:$BYK$140,'INFORME RESUMIDO DE LOS COSTOS '!$A$1+1,FALSE))/1000*$AE$4","v":{"$error":"#N/A"}},{"$f":"(HLOOKUP(AQ$159,CALCULATIONS!$BXW$6:$BYK$140,'INFORME RESUMIDO DE LOS COSTOS '!$A$1+1,FALSE))/1000*$AE$4","v":{"$error":"#N/A"}},{"$f":"(HLOOKUP(AR$159,CALCULATIONS!$BXW$6:$BYK$140,'INFORME RESUMIDO DE LOS COSTOS '!$A$1+1,FALSE))/1000*$AE$4","v":{"$error":"#N/A"}},{"$f":"(HLOOKUP(AS$159,CALCULATIONS!$BXW$6:$BYK$140,'INFORME RESUMIDO DE LOS COSTOS '!$A$1+1,FALSE))/1000*$AE$4","v":{"$error":"#N/A"}},{"$f":"(HLOOKUP(AT$159,CALCULATIONS!$CCS$6:$CDG$140,'INFORME RESUMIDO DE LOS COSTOS '!$A$1+1,FALSE))/1000*$AE$4","v":143.84660947463831},{"$f":"(HLOOKUP(AU$159,CALCULATIONS!$CCS$6:$CDG$140,'INFORME RESUMIDO DE LOS COSTOS '!$A$1+1,FALSE))/1000*$AE$4","v":151.74292563977346},{"$f":"(HLOOKUP(AV$159,CALCULATIONS!$CCS$6:$CDG$140,'INFORME RESUMIDO DE LOS COSTOS '!$A$1+1,FALSE))/1000*$AE$4","v":158.561028906019},{"$f":"(HLOOKUP(AW$159,CALCULATIONS!$CCS$6:$CDG$140,'INFORME RESUMIDO DE LOS COSTOS '!$A$1+1,FALSE))/1000*$AE$4","v":164.3857007372938},{"$f":"(HLOOKUP(AX$159,CALCULATIONS!$CCS$6:$CDG$140,'INFORME RESUMIDO DE LOS COSTOS '!$A$1+1,FALSE))/1000*$AE$4","v":169.29609309959011},{"$f":"(HLOOKUP(AY$159,CALCULATIONS!$CCS$6:$CDG$140,'INFORME RESUMIDO DE LOS COSTOS '!$A$1+1,FALSE))/1000*$AE$4","v":173.36607235541524},{"$f":"(HLOOKUP(AZ$159,CALCULATIONS!$CCS$6:$CDG$140,'INFORME RESUMIDO DE LOS COSTOS '!$A$1+1,FALSE))/1000*$AE$4","v":176.66454317168433},{"$f":"(HLOOKUP(BA$159,CALCULATIONS!$CCS$6:$CDG$140,'INFORME RESUMIDO DE LOS COSTOS '!$A$1+1,FALSE))/1000*$AE$4","v":179.2557535647363},{"$f":"(HLOOKUP(BB$159,CALCULATIONS!$CCS$6:$CDG$140,'INFORME RESUMIDO DE LOS COSTOS '!$A$1+1,FALSE))/1000*$AE$4","v":181.19958214445535},{"$f":"(HLOOKUP(BC$159,CALCULATIONS!$CCS$6:$CDG$140,'INFORME RESUMIDO DE LOS COSTOS '!$A$1+1,FALSE))/1000*$AE$4","v":182.55180856110641},{"$f":"(HLOOKUP(BD$159,CALCULATIONS!$CCS$6:$CDG$140,'INFORME RESUMIDO DE LOS COSTOS '!$A$1+1,FALSE))/1000*$AE$4","v":0},{"$f":"(HLOOKUP(BE$159,CALCULATIONS!$CCS$6:$CDG$140,'INFORME RESUMIDO DE LOS COSTOS '!$A$1+1,FALSE))/1000*$AE$4","v":{"$error":"#N/A"}},{"$f":"(HLOOKUP(BF$159,CALCULATIONS!$CCS$6:$CDG$140,'INFORME RESUMIDO DE LOS COSTOS '!$A$1+1,FALSE))/1000*$AE$4","v":{"$error":"#N/A"}},{"$f":"(HLOOKUP(BG$159,CALCULATIONS!$CCS$6:$CDG$140,'INFORME RESUMIDO DE LOS COSTOS '!$A$1+1,FALSE))/1000*$AE$4","v":{"$error":"#N/A"}},{"$f":"(HLOOKUP(BH$159,CALCULATIONS!$CCS$6:$CDG$140,'INFORME RESUMIDO DE LOS COSTOS '!$A$1+1,FALSE))/1000*$AE$4","v":{"$error":"#N/A"}}]
[null,null,null,null,null,null,null,null,null,null,null,null,null,null,null,null,null,null,null,null,null,null,null,null,null,null,null,null,null,"Punto fijo para la defecación",0,0,0,0,0,0,0,0,0,0,0,0,0,0,0,{"$f":"(HLOOKUP(AT$159,CALCULATIONS!$BTA$6:$BTO$140,'INFORME RESUMIDO DE LOS COSTOS '!$A$1+1,FALSE))/1000*$AE$4","v":65.161112457117497},{"$f":"(HLOOKUP(AU$159,CALCULATIONS!$BTA$6:$BTO$140,'INFORME RESUMIDO DE LOS COSTOS '!$A$1+1,FALSE))/1000*$AE$4","v":74.947303655277693},{"$f":"(HLOOKUP(AV$159,CALCULATIONS!$BTA$6:$BTO$140,'INFORME RESUMIDO DE LOS COSTOS '!$A$1+1,FALSE))/1000*$AE$4","v":133.55026792779148},{"$f":"(HLOOKUP(AW$159,CALCULATIONS!$BTA$6:$BTO$140,'INFORME RESUMIDO DE LOS COSTOS '!$A$1+1,FALSE))/1000*$AE$4","v":141.80422491441112},{"$f":"(HLOOKUP(AX$159,CALCULATIONS!$BTA$6:$BTO$140,'INFORME RESUMIDO DE LOS COSTOS '!$A$1+1,FALSE))/1000*$AE$4","v":188.65985125429236},{"$f":"(HLOOKUP(AY$159,CALCULATIONS!$BTA$6:$BTO$140,'INFORME RESUMIDO DE LOS COSTOS '!$A$1+1,FALSE))/1000*$AE$4","v":0},{"$f":"(HLOOKUP(AZ$159,CALCULATIONS!$BTA$6:$BTO$140,'INFORME RESUMIDO DE LOS COSTOS '!$A$1+1,FALSE))/1000*$AE$4","v":0},{"$f":"(HLOOKUP(BA$159,CALCULATIONS!$BTA$6:$BTO$140,'INFORME RESUMIDO DE LOS COSTOS '!$A$1+1,FALSE))/1000*$AE$4","v":0},{"$f":"(HLOOKUP(BB$159,CALCULATIONS!$BTA$6:$BTO$140,'INFORME RESUMIDO DE LOS COSTOS '!$A$1+1,FALSE))/1000*$AE$4","v":0},{"$f":"(HLOOKUP(BC$159,CALCULATIONS!$BTA$6:$BTO$140,'INFORME RESUMIDO DE LOS COSTOS '!$A$1+1,FALSE))/1000*$AE$4","v":0},{"$f":"(HLOOKUP(BD$159,CALCULATIONS!$BTA$6:$BTO$140,'INFORME RESUMIDO DE LOS COSTOS '!$A$1+1,FALSE))/1000*$AE$4","v":0},{"$f":"(HLOOKUP(BE$159,CALCULATIONS!$BTA$6:$BTO$140,'INFORME RESUMIDO DE LOS COSTOS '!$A$1+1,FALSE))/1000*$AE$4","v":{"$error":"#N/A"}},{"$f":"(HLOOKUP(BF$159,CALCULATIONS!$BTA$6:$BTO$140,'INFORME RESUMIDO DE LOS COSTOS '!$A$1+1,FALSE))/1000*$AE$4","v":{"$error":"#N/A"}},{"$f":"(HLOOKUP(BG$159,CALCULATIONS!$BTA$6:$BTO$140,'INFORME RESUMIDO DE LOS COSTOS '!$A$1+1,FALSE))/1000*$AE$4","v":{"$error":"#N/A"}},{"$f":"(HLOOKUP(BH$159,CALCULATIONS!$BTA$6:$BTO$140,'INFORME RESUMIDO DE LOS COSTOS '!$A$1+1,FALSE))/1000*$AE$4","v":{"$error":"#N/A"}}]
[null,null,null,null,null,null,null,null,null,null,null,null,null,null,null,null,null,null,null,null,null,null,null,null,null,null,null,null,null,"Saneamiento gestionado de forma segura",{"$f":"(HLOOKUP(AE$159,CALCULATIONS!$DLL$6:$DLZ$140,'INFORME RESUMIDO DE LOS COSTOS '!$A$1+1,FALSE))/1000*$AE$4","v":235.42905225555177},{"$f":"(HLOOKUP(AF$159,CALCULATIONS!$DLL$6:$DLZ$140,'INFORME RESUMIDO DE LOS COSTOS '!$A$1+1,FALSE))/1000*$AE$4","v":230.53358106546824},{"$f":"(HLOOKUP(AG$159,CALCULATIONS!$DLL$6:$DLZ$140,'INFORME RESUMIDO DE LOS COSTOS '!$A$1+1,FALSE))/1000*$AE$4","v":231.70526327337603},{"$f":"(HLOOKUP(AH$159,CALCULATIONS!$DLL$6:$DLZ$140,'INFORME RESUMIDO DE LOS COSTOS '!$A$1+1,FALSE))/1000*$AE$4","v":232.24260481507613},{"$f":"(HLOOKUP(AI$159,CALCULATIONS!$DLL$6:$DLZ$140,'INFORME RESUMIDO DE LOS COSTOS '!$A$1+1,FALSE))/1000*$AE$4","v":232.20336221159533},{"$f":"(HLOOKUP(AJ$159,CALCULATIONS!$DLL$6:$DLZ$140,'INFORME RESUMIDO DE LOS COSTOS '!$A$1+1,FALSE))/1000*$AE$4","v":231.64122977711935},{"$f":"(HLOOKUP(AK$159,CALCULATIONS!$DLL$6:$DLZ$140,'INFORME RESUMIDO DE LOS COSTOS '!$A$1+1,FALSE))/1000*$AE$4","v":230.60609552866691},{"$f":"(HLOOKUP(AL$159,CALCULATIONS!$DLL$6:$DLZ$140,'INFORME RESUMIDO DE LOS COSTOS '!$A$1+1,FALSE))/1000*$AE$4","v":229.14428193476746},{"$f":"(HLOOKUP(AM$159,CALCULATIONS!$DLL$6:$DLZ$140,'INFORME RESUMIDO DE LOS COSTOS '!$A$1+1,FALSE))/1000*$AE$4","v":227.2987723667527},{"$f":"(HLOOKUP(AN$159,CALCULATIONS!$DLL$6:$DLZ$140,'INFORME RESUMIDO DE LOS COSTOS '!$A$1+1,FALSE))/1000*$AE$4","v":225.10942406840195},{"$f":"(HLOOKUP(AO$159,CALCULATIONS!$DLL$6:$DLZ$140,'INFORME RESUMIDO DE LOS COSTOS '!$A$1+1,FALSE))/1000*$AE$4","v":0},{"$f":"(HLOOKUP(AP$159,CALCULATIONS!$DLL$6:$DLZ$140,'INFORME RESUMIDO DE LOS COSTOS '!$A$1+1,FALSE))/1000*$AE$4","v":{"$error":"#N/A"}},{"$f":"(HLOOKUP(AQ$159,CALCULATIONS!$DLL$6:$DLZ$140,'INFORME RESUMIDO DE LOS COSTOS '!$A$1+1,FALSE))/1000*$AE$4","v":{"$error":"#N/A"}},{"$f":"(HLOOKUP(AR$159,CALCULATIONS!$DLL$6:$DLZ$140,'INFORME RESUMIDO DE LOS COSTOS '!$A$1+1,FALSE))/1000*$AE$4","v":{"$error":"#N/A"}},{"$f":"(HLOOKUP(AS$159,CALCULATIONS!$DLL$6:$DLZ$140,'INFORME RESUMIDO DE LOS COSTOS '!$A$1+1,FALSE))/1000*$AE$4","v":{"$error":"#N/A"}},{"$f":"(HLOOKUP(AT$159,CALCULATIONS!$DMG$6:$DMU$140,'INFORME RESUMIDO DE LOS COSTOS '!$A$1+1,FALSE))/1000*$AE$4","v":825.58179014469772},{"$f":"(HLOOKUP(AU$159,CALCULATIONS!$DMG$6:$DMU$140,'INFORME RESUMIDO DE LOS COSTOS '!$A$1+1,FALSE))/1000*$AE$4","v":783.58959511431146},{"$f":"(HLOOKUP(AV$159,CALCULATIONS!$DMG$6:$DMU$140,'INFORME RESUMIDO DE LOS COSTOS '!$A$1+1,FALSE))/1000*$AE$4","v":765.5801949542298},{"$f":"(HLOOKUP(AW$159,CALCULATIONS!$DMG$6:$DMU$140,'INFORME RESUMIDO DE LOS COSTOS '!$A$1+1,FALSE))/1000*$AE$4","v":747.50912860732058},{"$f":"(HLOOKUP(AX$159,CALCULATIONS!$DMG$6:$DMU$140,'INFORME RESUMIDO DE LOS COSTOS '!$A$1+1,FALSE))/1000*$AE$4","v":729.42310668584457},{"$f":"(HLOOKUP(AY$159,CALCULATIONS!$DMG$6:$DMU$140,'INFORME RESUMIDO DE LOS COSTOS '!$A$1+1,FALSE))/1000*$AE$4","v":711.36453100494589},{"$f":"(HLOOKUP(AZ$159,CALCULATIONS!$DMG$6:$DMU$140,'INFORME RESUMIDO DE LOS COSTOS '!$A$1+1,FALSE))/1000*$AE$4","v":693.37179902452795},{"$f":"(HLOOKUP(BA$159,CALCULATIONS!$DMG$6:$DMU$140,'INFORME RESUMIDO DE LOS COSTOS '!$A$1+1,FALSE))/1000*$AE$4","v":675.47958906717679},{"$f":"(HLOOKUP(BB$159,CALCULATIONS!$DMG$6:$DMU$140,'INFORME RESUMIDO DE LOS COSTOS '!$A$1+1,FALSE))/1000*$AE$4","v":657.71912745264729},{"$f":"(HLOOKUP(BC$159,CALCULATIONS!$DMG$6:$DMU$140,'INFORME RESUMIDO DE LOS COSTOS '!$A$1+1,FALSE))/1000*$AE$4","v":640.11843862438309},{"$f":"(HLOOKUP(BD$159,CALCULATIONS!$DMG$6:$DMU$140,'INFORME RESUMIDO DE LOS COSTOS '!$A$1+1,FALSE))/1000*$AE$4","v":0},{"$f":"(HLOOKUP(BE$159,CALCULATIONS!$DMG$6:$DMU$140,'INFORME RESUMIDO DE LOS COSTOS '!$A$1+1,FALSE))/1000*$AE$4","v":{"$error":"#N/A"}},{"$f":"(HLOOKUP(BF$159,CALCULATIONS!$DMG$6:$DMU$140,'INFORME RESUMIDO DE LOS COSTOS '!$A$1+1,FALSE))/1000*$AE$4","v":{"$error":"#N/A"}},{"$f":"(HLOOKUP(BG$159,CALCULATIONS!$DMG$6:$DMU$140,'INFORME RESUMIDO DE LOS COSTOS '!$A$1+1,FALSE))/1000*$AE$4","v":{"$error":"#N/A"}},{"$f":"(HLOOKUP(BH$159,CALCULATIONS!$DMG$6:$DMU$140,'INFORME RESUMIDO DE LOS COSTOS '!$A$1+1,FALSE))/1000*$AE$4","v":{"$error":"#N/A"}}]
[null,null,null,null,null,null,null,null,null,null,null,null,null,null,null,null,null,null,null,null,null,null,null,null,null,null,null,null,null,"Estación de lavado de manos con jabón y agua",{"$f":"(HLOOKUP(AE$159,CALCULATIONS!$CMK$6:$CMY$140,'INFORME RESUMIDO DE LOS COSTOS '!$A$1+1,FALSE))/1000*$AE$4","v":52.464317025420684},{"$f":"(HLOOKUP(AF$159,CALCULATIONS!$CMK$6:$CMY$140,'INFORME RESUMIDO DE LOS COSTOS '!$A$1+1,FALSE))/1000*$AE$4","v":54.421457519759869},{"$f":"(HLOOKUP(AG$159,CALCULATIONS!$CMK$6:$CMY$140,'INFORME RESUMIDO DE LOS COSTOS '!$A$1+1,FALSE))/1000*$AE$4","v":56.073236976031772},{"$f":"(HLOOKUP(AH$159,CALCULATIONS!$CMK$6:$CMY$140,'INFORME RESUMIDO DE LOS COSTOS '!$A$1+1,FALSE))/1000*$AE$4","v":57.444299437557241},{"$f":"(HLOOKUP(AI$159,CALCULATIONS!$CMK$6:$CMY$140,'INFORME RESUMIDO DE LOS COSTOS '!$A$1+1,FALSE))/1000*$AE$4","v":58.557634324570017},{"$f":"(HLOOKUP(AJ$159,CALCULATIONS!$CMK$6:$CMY$140,'INFORME RESUMIDO DE LOS COSTOS '!$A$1+1,FALSE))/1000*$AE$4","v":59.434678135183482},{"$f":"(HLOOKUP(AK$159,CALCULATIONS!$CMK$6:$CMY$140,'INFORME RESUMIDO DE LOS COSTOS '!$A$1+1,FALSE))/1000*$AE$4","v":60.095410212530858},{"$f":"(HLOOKUP(AL$159,CALCULATIONS!$CMK$6:$CMY$140,'INFORME RESUMIDO DE LOS COSTOS '!$A$1+1,FALSE))/1000*$AE$4","v":60.558442912590777},{"$f":"(HLOOKUP(AM$159,CALCULATIONS!$CMK$6:$CMY$140,'INFORME RESUMIDO DE LOS COSTOS '!$A$1+1,FALSE))/1000*$AE$4","v":60.841106488807057},{"$f":"(HLOOKUP(AN$159,CALCULATIONS!$CMK$6:$CMY$140,'INFORME RESUMIDO DE LOS COSTOS '!$A$1+1,FALSE))/1000*$AE$4","v":60.959528992203211},{"$f":"(HLOOKUP(AO$159,CALCULATIONS!$CMK$6:$CMY$140,'INFORME RESUMIDO DE LOS COSTOS '!$A$1+1,FALSE))/1000*$AE$4","v":31.592189100289779},{"$f":"(HLOOKUP(AP$159,CALCULATIONS!$CMK$6:$CMY$140,'INFORME RESUMIDO DE LOS COSTOS '!$A$1+1,FALSE))/1000*$AE$4","v":{"$error":"#N/A"}},{"$f":"(HLOOKUP(AQ$159,CALCULATIONS!$CMK$6:$CMY$140,'INFORME RESUMIDO DE LOS COSTOS '!$A$1+1,FALSE))/1000*$AE$4","v":{"$error":"#N/A"}},{"$f":"(HLOOKUP(AR$159,CALCULATIONS!$CMK$6:$CMY$140,'INFORME RESUMIDO DE LOS COSTOS '!$A$1+1,FALSE))/1000*$AE$4","v":{"$error":"#N/A"}},{"$f":"(HLOOKUP(AS$159,CALCULATIONS!$CMK$6:$CMY$140,'INFORME RESUMIDO DE LOS COSTOS '!$A$1+1,FALSE))/1000*$AE$4","v":{"$error":"#N/A"}},{"$f":"(HLOOKUP(AT$159,CALCULATIONS!$CRG$6:$CRU$140,'INFORME RESUMIDO DE LOS COSTOS '!$A$1+1,FALSE))/1000*$AE$4","v":42.4635924691895},{"$f":"(HLOOKUP(AU$159,CALCULATIONS!$CRG$6:$CRU$140,'INFORME RESUMIDO DE LOS COSTOS '!$A$1+1,FALSE))/1000*$AE$4","v":46.349225839789213},{"$f":"(HLOOKUP(AV$159,CALCULATIONS!$CRG$6:$CRU$140,'INFORME RESUMIDO DE LOS COSTOS '!$A$1+1,FALSE))/1000*$AE$4","v":49.768509564052479},{"$f":"(HLOOKUP(AW$159,CALCULATIONS!$CRG$6:$CRU$140,'INFORME RESUMIDO DE LOS COSTOS '!$A$1+1,FALSE))/1000*$AE$4","v":52.757046933987297},{"$f":"(HLOOKUP(AX$159,CALCULATIONS!$CRG$6:$CRU$140,'INFORME RESUMIDO DE LOS COSTOS '!$A$1+1,FALSE))/1000*$AE$4","v":55.348107934077859},{"$f":"(HLOOKUP(AY$159,CALCULATIONS!$CRG$6:$CRU$140,'INFORME RESUMIDO DE LOS COSTOS '!$A$1+1,FALSE))/1000*$AE$4","v":57.572770727960275},{"$f":"(HLOOKUP(AZ$159,CALCULATIONS!$CRG$6:$CRU$140,'INFORME RESUMIDO DE LOS COSTOS '!$A$1+1,FALSE))/1000*$AE$4","v":59.460054961123568},{"$f":"(HLOOKUP(BA$159,CALCULATIONS!$CRG$6:$CRU$140,'INFORME RESUMIDO DE LOS COSTOS '!$A$1+1,FALSE))/1000*$AE$4","v":61.037047338230565},{"$f":"(HLOOKUP(BB$159,CALCULATIONS!$CRG$6:$CRU$140,'INFORME RESUMIDO DE LOS COSTOS '!$A$1+1,FALSE))/1000*$AE$4","v":62.329019908535713},{"$f":"(HLOOKUP(BC$159,CALCULATIONS!$CRG$6:$CRU$140,'INFORME RESUMIDO DE LOS COSTOS '!$A$1+1,FALSE))/1000*$AE$4","v":63.35954146911061},{"$f":"(HLOOKUP(BD$159,CALCULATIONS!$CRG$6:$CRU$140,'INFORME RESUMIDO DE LOS COSTOS '!$A$1+1,FALSE))/1000*$AE$4","v":0},{"$f":"(HLOOKUP(BE$159,CALCULATIONS!$CRG$6:$CRU$140,'INFORME RESUMIDO DE LOS COSTOS '!$A$1+1,FALSE))/1000*$AE$4","v":{"$error":"#N/A"}},{"$f":"(HLOOKUP(BF$159,CALCULATIONS!$CRG$6:$CRU$140,'INFORME RESUMIDO DE LOS COSTOS '!$A$1+1,FALSE))/1000*$AE$4","v":{"$error":"#N/A"}},{"$f":"(HLOOKUP(BG$159,CALCULATIONS!$CRG$6:$CRU$140,'INFORME RESUMIDO DE LOS COSTOS '!$A$1+1,FALSE))/1000*$AE$4","v":{"$error":"#N/A"}},{"$f":"(HLOOKUP(BH$159,CALCULATIONS!$CRG$6:$CRU$140,'INFORME RESUMIDO DE LOS COSTOS '!$A$1+1,FALSE))/1000*$AE$4","v":{"$error":"#N/A"}}]
[]
[]
[]
[]
[]
[]
[]
[]
[]
[null,null,null,"Los costos de los servicios de agua y saneamiento para que estos sean gestionados de forma segura son típicamente adicionales a los costos para lograr acceso básico."]
[]
[null,null,null,{"$f":"\"Figura 4b. Costos de capital totales en zonas rurales para que las personas sin servicio tengan servicio para el año 2030, en millones de \" & $H$3","v":"Figura 4b. Costos de capital totales en zonas rurales para que las personas sin servicio tengan servicio para el año 2030, en millones de USD"}]
[]
[]
[]
[]
[]
[]
[]
[]
[]
[]
[]
[]
[]
[]
[]
[]
[]
[]
[null,null,null,"Los costos de los servicios de agua y saneamiento para que estos sean gestionados de forma segura son típicamente adicionales a los costos para lograr acceso básico."]
[]
[]
[null,"5. COSTOS GLOBALES (% del PIB)"]
[]
[null,null,null,"Figura 5a. Costos de capital anuales de conseguir que la población sin servicio logre acceso universal a diferentes niveles de servicio en 2030, como porcentaje del PIB"]
[]
[]
[]
[]
[]
[]
[]
[]
[]
[]
[]
[]
[]
[]
[]
[null,null,null,"Los costos de los servicios de agua y saneamiento para que estos sean gestionados de forma segura son típicamente adicionales a los costos para lograr acceso básico."]
[]
[null,null,null,"Figura 5b. Costos de capital anuales de conseguir que la población que ya tiene servicio (en 2015) mantenga diferentes niveles de servicio en 2030, como porcentaje del PIB"]
[]
[]
[]
[]
[]
[]
[]
[]
[]
[]
[]
[]
[]
[]
[]
[null,null,null,"Los costos de los servicios de agua y saneamiento para que estos sean gestionados de forma segura son típicamente adicionales a los costos para lograr acceso básico."]
[]
[null,null,null,"Figura 5c. Costos de capital anuales de conseguir que toda la población logre acceso universal a diferentes niveles de servicio en 2030, como porcentaje del PIB"]
[]
[]
[]
[]
[]
[]
[]
[]
[]
[]
[]
[]
[]
[]
[]
[]
[]
[null,null,null,"Los costos de los servicios de agua y saneamiento para que estos sean gestionados de forma segura son típicamente adicionales a los costos para lograr acceso básico."]
[]
[null,"6. DESGLOSE DE COSTOS POR CAPEX Y OPEX"]
[null,null,null,null,null,null,null,null,null,null,null,null,null,null,null,null,null,null,null,null,null,null,null,null,null,null,null,null,null,1000]
[null,null,null,{"$f":"\"Figura 6a. Costos anuales de conseguir que la población sin servicio logre acceso universal a diferentes niveles de servicio en 2030, por componente de costos principal, en millones de \" & $H$3","v":"Figura 6a. Costos anuales de conseguir que la población sin servicio logre acceso universal a diferentes niveles de servicio en 2030, por componente de costos principal, en millones de USD"}]
[null,null,null,null,null,null,null,null,null,null,null,null,null,null,null,null,null,null,null,null,null,null,null,null,null,null,null,null,null,"Cuadro 6. Costos anuales de conseguir que la población sin servicio logre acceso universal a diferentes niveles de servicio en 2030, por componente de costos principal, en millones de US$"]
[null,null,null,null,null,null,null,null,null,null,null,null,null,null,null,null,null,null,null,null,null,null,null,null,null,null,null,null,null,"New services","Llevar nuevos servicios a la población sin servicio",null,null,null,null,null,"Mantener y explotar los servicios existentes",null,null,null,null,null,"Ampliar, mantener y explotar los servicios existentes"]
[null,null,null,null,null,null,null,null,null,null,null,null,null,null,null,null,null,null,null,null,null,null,null,null,null,null,null,null,null,null,"Zonas urbanas",null,null,"Zonas rurales",null,null,"Zonas urbanas",null,null,"Zonas rurales",null,null,"Zonas urbanas",null,null,"Zonas rurales"]
[null,null,null,null,null,null,null,null,null,null,null,null,null,null,null,null,null,null,null,null,null,null,null,null,null,null,null,null,null,null,"Capital","Capital maintenance","Operations","Capital","Capital maintenance","Operations","Capital","Capital maintenance","Operations","Capital","Capital maintenance","Operations","Capital","Capital maintenance","Operations","Capital","Capital maintenance","Operations"]
[null,null,null,null,null,null,null,null,null,null,null,null,null,null,null,null,null,null,null,null,null,null,null,null,null,null,null,null,null,null,"Zonas urbanas",null,null,"Zonas rurales",null,null,"Zonas urbanas",null,null,"Zonas rurales",null,null,"Zonas urbanas",null,null,"Zonas rurales"]
[null,null,null,null,null,null,null,null,null,null,null,null,null,null,null,null,null,null,null,null,null,null,null,null,null,null,null,null,null,null,"Capital","Mantenimiento de Capital","Operación","Capital","Mantenimiento de Capital","Operación","Capital","Mantenimiento de Capital","Operación","Capital","Mantenimiento de Capital","Operación","Capital","Mantenimiento de Capital","Operación","Capital","Mantenimiento de Capital","Operación"]
[null,null,null,null,null,null,null,null,null,null,null,null,null,null,null,null,null,null,null,null,null,null,null,null,null,null,null,null,null,"Abastecimiento de agua básico",{"$f":"(HLOOKUP(AE$263,CALCULATIONS!$IJA$6:$IJC$140,'INFORME RESUMIDO DE LOS COSTOS '!$A$1+1,FALSE))/1000*$AE$4","v":34.603818313099573},{"$f":"(HLOOKUP(AF$263,CALCULATIONS!$IJA$6:$IJC$140,'INFORME RESUMIDO DE LOS COSTOS '!$A$1+1,FALSE))/1000*$AE$4","v":16.801793453054064},{"$f":"(HLOOKUP(AG$263,CALCULATIONS!$IJA$6:$IJC$140,'INFORME RESUMIDO DE LOS COSTOS '!$A$1+1,FALSE))/1000*$AE$4","v":13.729503550017824},{"$f":"(HLOOKUP(AH$263,CALCULATIONS!$IJD$6:$IJF$140,'INFORME RESUMIDO DE LOS COSTOS '!$A$1+1,FALSE))/1000*$AE$4","v":42.498679732401349},{"$f":"(HLOOKUP(AI$263,CALCULATIONS!$IJD$6:$IJF$140,'INFORME RESUMIDO DE LOS COSTOS '!$A$1+1,FALSE))/1000*$AE$4","v":24.76581041787778},{"$f":"(HLOOKUP(AJ$263,CALCULATIONS!$IJD$6:$IJF$140,'INFORME RESUMIDO DE LOS COSTOS '!$A$1+1,FALSE))/1000*$AE$4","v":20.569080095444406},{"$f":"(HLOOKUP(AK$263,CALCULATIONS!$IME$6:$IMG$140,'INFORME RESUMIDO DE LOS COSTOS '!$A$1+1,FALSE))/1000*$AE$4","v":12.582970101080308},{"$f":"(HLOOKUP(AL$263,CALCULATIONS!$IME$6:$IMG$140,'INFORME RESUMIDO DE LOS COSTOS '!$A$1+1,FALSE))/1000*$AE$4","v":3.595134314594373},{"$f":"(HLOOKUP(AM$263,CALCULATIONS!$IME$6:$IMG$140,'INFORME RESUMIDO DE LOS COSTOS '!$A$1+1,FALSE))/1000*$AE$4","v":6.6075523105684359},{"$f":"(HLOOKUP(AN$263,CALCULATIONS!$IMH$6:$IMJ$140,'INFORME RESUMIDO DE LOS COSTOS '!$A$1+1,FALSE))/1000*$AE$4","v":17.799525358093273},{"$f":"(HLOOKUP(AO$263,CALCULATIONS!$IMH$6:$IMJ$140,'INFORME RESUMIDO DE LOS COSTOS '!$A$1+1,FALSE))/1000*$AE$4","v":7.426662165185725},{"$f":"(HLOOKUP(AP$263,CALCULATIONS!$IMH$6:$IMJ$140,'INFORME RESUMIDO DE LOS COSTOS '!$A$1+1,FALSE))/1000*$AE$4","v":13.727978749100526},{"$f":"(AE266+AK266)","v":47.18678841417988},20.396927767648435,20.337055860586261,60.298205090494619,32.192472583063505,34.297058844544935]
[null,null,null,null,null,null,null,null,null,null,null,null,null,null,null,null,null,null,null,null,null,null,null,null,null,null,null,null,null,"Abastecimiento de agua gestionado de forma segura",{"$f":"(HLOOKUP(AE$263,CALCULATIONS!$IJV$6:$IJX$140,'INFORME RESUMIDO DE LOS COSTOS '!$A$1+1,FALSE))/1000*$AE$4","v":103.14662259245547},{"$f":"(HLOOKUP(AF$263,CALCULATIONS!$IJV$6:$IJX$140,'INFORME RESUMIDO DE LOS COSTOS '!$A$1+1,FALSE))/1000*$AE$4","v":45.400827616344706},{"$f":"(HLOOKUP(AG$263,CALCULATIONS!$IJV$6:$IJX$140,'INFORME RESUMIDO DE LOS COSTOS '!$A$1+1,FALSE))/1000*$AE$4","v":208.35097151518426},{"$f":"(HLOOKUP(AH$263,CALCULATIONS!$IJY$6:$IKA$140,'INFORME RESUMIDO DE LOS COSTOS '!$A$1+1,FALSE))/1000*$AE$4","v":87.388643345518375},{"$f":"(HLOOKUP(AI$263,CALCULATIONS!$IJY$6:$IKA$140,'INFORME RESUMIDO DE LOS COSTOS '!$A$1+1,FALSE))/1000*$AE$4","v":38.464824464803243},{"$f":"(HLOOKUP(AJ$263,CALCULATIONS!$IJY$6:$IKA$140,'INFORME RESUMIDO DE LOS COSTOS '!$A$1+1,FALSE))/1000*$AE$4","v":350.12609324185979},{"$f":"(HLOOKUP(AK$263,CALCULATIONS!$IMZ$6:$INB$140,'INFORME RESUMIDO DE LOS COSTOS '!$A$1+1,FALSE))/1000*$AE$4","v":16.504120335290313},{"$f":"(HLOOKUP(AL$263,CALCULATIONS!$IMZ$6:$INB$140,'INFORME RESUMIDO DE LOS COSTOS '!$A$1+1,FALSE))/1000*$AE$4","v":4.5011237278064495},{"$f":"(HLOOKUP(AM$263,CALCULATIONS!$IMZ$6:$INB$140,'INFORME RESUMIDO DE LOS COSTOS '!$A$1+1,FALSE))/1000*$AE$4","v":53.501729064366067},{"$f":"(HLOOKUP(AN$263,CALCULATIONS!$INC$6:$INE$140,'INFORME RESUMIDO DE LOS COSTOS '!$A$1+1,FALSE))/1000*$AE$4","v":2.1648761067789715},{"$f":"(HLOOKUP(AO$263,CALCULATIONS!$INC$6:$INE$140,'INFORME RESUMIDO DE LOS COSTOS '!$A$1+1,FALSE))/1000*$AE$4","v":0.59042075639426495},{"$f":"(HLOOKUP(AP$263,CALCULATIONS!$INC$6:$INE$140,'INFORME RESUMIDO DE LOS COSTOS '!$A$1+1,FALSE))/1000*$AE$4","v":13.91994266214269},119.65074292774578,49.901951344151158,261.85270057955034,89.553519452297351,39.055245221197509,364.04603590400251]
[null,null,null,null,null,null,null,null,null,null,null,null,null,null,null,null,null,null,null,null,null,null,null,null,null,null,null,null,null,"Saneamiento básico",{"$f":"(HLOOKUP(AE$263,CALCULATIONS!$IJG$6:$IJI$140,'INFORME RESUMIDO DE LOS COSTOS '!$A$1+1,FALSE))/1000*$AE$4","v":439.54342736543771},{"$f":"(HLOOKUP(AF$263,CALCULATIONS!$IJG$6:$IJI$140,'INFORME RESUMIDO DE LOS COSTOS '!$A$1+1,FALSE))/1000*$AE$4","v":199.54912768839009},{"$f":"(HLOOKUP(AG$263,CALCULATIONS!$IJG$6:$IJI$140,'INFORME RESUMIDO DE LOS COSTOS '!$A$1+1,FALSE))/1000*$AE$4","v":253.53282019900331},{"$f":"(HLOOKUP(AH$263,CALCULATIONS!$IJJ$6:$IJL$140,'INFORME RESUMIDO DE LOS COSTOS '!$A$1+1,FALSE))/1000*$AE$4","v":93.956051583027545},{"$f":"(HLOOKUP(AI$263,CALCULATIONS!$IJJ$6:$IJL$140,'INFORME RESUMIDO DE LOS COSTOS '!$A$1+1,FALSE))/1000*$AE$4","v":34.651767521408409},{"$f":"(HLOOKUP(AJ$263,CALCULATIONS!$IJJ$6:$IJL$140,'INFORME RESUMIDO DE LOS COSTOS '!$A$1+1,FALSE))/1000*$AE$4","v":39.479192661035285},{"$f":"(HLOOKUP(AK$263,CALCULATIONS!$IMK$6:$IMM$140,'INFORME RESUMIDO DE LOS COSTOS '!$A$1+1,FALSE))/1000*$AE$4","v":74.739740778234065},{"$f":"(HLOOKUP(AL$263,CALCULATIONS!$IMK$6:$IMM$140,'INFORME RESUMIDO DE LOS COSTOS '!$A$1+1,FALSE))/1000*$AE$4","v":1.5092502609086107},{"$f":"(HLOOKUP(AM$263,CALCULATIONS!$IMK$6:$IMM$140,'INFORME RESUMIDO DE LOS COSTOS '!$A$1+1,FALSE))/1000*$AE$4","v":67.295411173190772},{"$f":"(HLOOKUP(AN$263,CALCULATIONS!$IMN$6:$IMP$140,'INFORME RESUMIDO DE LOS COSTOS '!$A$1+1,FALSE))/1000*$AE$4","v":21.010057760205164},{"$f":"(HLOOKUP(AO$263,CALCULATIONS!$IMN$6:$IMP$140,'INFORME RESUMIDO DE LOS COSTOS '!$A$1+1,FALSE))/1000*$AE$4","v":3.2062761369626429},{"$f":"(HLOOKUP(AP$263,CALCULATIONS!$IMN$6:$IMP$140,'INFORME RESUMIDO DE LOS COSTOS '!$A$1+1,FALSE))/1000*$AE$4","v":12.231753292894522},514.28316814367179,201.05837794929869,320.82823137219407,114.96610934323272,37.858043658371052,51.710945953929809]
[null,null,null,null,null,null,null,null,null,null,null,null,null,null,null,null,null,null,null,null,null,null,null,null,null,null,null,null,null,"Punto fijo para la defecación",0,0,0,{"$f":"(HLOOKUP(AH$263,CALCULATIONS!$IJS$6:$IJU$140,'INFORME RESUMIDO DE LOS COSTOS '!$A$1+1,FALSE))/1000*$AE$4","v":73.138029338716507},{"$f":"(HLOOKUP(AI$263,CALCULATIONS!$IJS$6:$IJU$140,'INFORME RESUMIDO DE LOS COSTOS '!$A$1+1,FALSE))/1000*$AE$4","v":39.322656155665925},{"$f":"(HLOOKUP(AJ$263,CALCULATIONS!$IJS$6:$IJU$140,'INFORME RESUMIDO DE LOS COSTOS '!$A$1+1,FALSE))/1000*$AE$4","v":8.3638665473956184},0,0,0,{"$f":"(HLOOKUP(AN$263,CALCULATIONS!$IMW$6:$IMY$140,'INFORME RESUMIDO DE LOS COSTOS '!$A$1+1,FALSE))/1000*$AE$4","v":271.29394445186432},{"$f":"(HLOOKUP(AO$263,CALCULATIONS!$IMW$6:$IMY$140,'INFORME RESUMIDO DE LOS COSTOS '!$A$1+1,FALSE))/1000*$AE$4","v":74.709379503673134},{"$f":"(HLOOKUP(AP$263,CALCULATIONS!$IMW$6:$IMY$140,'INFORME RESUMIDO DE LOS COSTOS '!$A$1+1,FALSE))/1000*$AE$4","v":33.37018951164066},0,0,0,344.43197379058086,114.03203565933906,41.734056059036277]
[null,null,null,null,null,null,null,null,null,null,null,null,null,null,null,null,null,null,null,null,null,null,null,null,null,null,null,null,null,"Saneamiento gestionado de forma segura",{"$f":"(HLOOKUP(AE$263,CALCULATIONS!$IKB$6:$IKD$140,'INFORME RESUMIDO DE LOS COSTOS '!$A$1+1,FALSE))/1000*$AE$4","v":105.36452663336941},{"$f":"(HLOOKUP(AF$263,CALCULATIONS!$IKB$6:$IKD$140,'INFORME RESUMIDO DE LOS COSTOS '!$A$1+1,FALSE))/1000*$AE$4","v":46.377056178175415},{"$f":"(HLOOKUP(AG$263,CALCULATIONS!$IKB$6:$IKD$140,'INFORME RESUMIDO DE LOS COSTOS '!$A$1+1,FALSE))/1000*$AE$4","v":78.849783918132744},{"$f":"(HLOOKUP(AH$263,CALCULATIONS!$IKE$6:$IKG$140,'INFORME RESUMIDO DE LOS COSTOS '!$A$1+1,FALSE))/1000*$AE$4","v":396.1533591650001},{"$f":"(HLOOKUP(AI$263,CALCULATIONS!$IKE$6:$IKG$140,'INFORME RESUMIDO DE LOS COSTOS '!$A$1+1,FALSE))/1000*$AE$4","v":174.3701336702963},{"$f":"(HLOOKUP(AJ$263,CALCULATIONS!$IKE$6:$IKG$140,'INFORME RESUMIDO DE LOS COSTOS '!$A$1+1,FALSE))/1000*$AE$4","v":152.45023723271208},{"$f":"(HLOOKUP(AK$263,CALCULATIONS!$INF$6:$INH$140,'INFORME RESUMIDO DE LOS COSTOS '!$A$1+1,FALSE))/1000*$AE$4","v":8.1377588232594054},{"$f":"(HLOOKUP(AL$263,CALCULATIONS!$INF$6:$INH$140,'INFORME RESUMIDO DE LOS COSTOS '!$A$1+1,FALSE))/1000*$AE$4","v":2.7702158106560826},{"$f":"(HLOOKUP(AM$263,CALCULATIONS!$INF$6:$INH$140,'INFORME RESUMIDO DE LOS COSTOS '!$A$1+1,FALSE))/1000*$AE$4","v":13.204695364127328},{"$f":"(HLOOKUP(AN$263,CALCULATIONS!$INI$6:$INK$140,'INFORME RESUMIDO DE LOS COSTOS '!$A$1+1,FALSE))/1000*$AE$4","v":175.59588870439671},{"$f":"(HLOOKUP(AO$263,CALCULATIONS!$INI$6:$INK$140,'INFORME RESUMIDO DE LOS COSTOS '!$A$1+1,FALSE))/1000*$AE$4","v":47.889787828471832},{"$f":"(HLOOKUP(AP$263,CALCULATIONS!$INI$6:$INK$140,'INFORME RESUMIDO DE LOS COSTOS '!$A$1+1,FALSE))/1000*$AE$4","v":22.146146978528492},113.50228545662881,49.147271988831498,92.054479282260075,571.74924786939687,222.25992149876814,174.59638421124058]
[null,null,null,null,null,null,null,null,null,null,null,null,null,null,null,null,null,null,null,null,null,null,null,null,null,null,null,null,null,"Estación de lavado de manos con jabón y agua",{"$f":"(HLOOKUP(AE$263,CALCULATIONS!$IJM$6:$IJO$140,'INFORME RESUMIDO DE LOS COSTOS '!$A$1+1,FALSE))/1000*$AE$4","v":45.796126785099396},{"$f":"(HLOOKUP(AF$263,CALCULATIONS!$IJM$6:$IJO$140,'INFORME RESUMIDO DE LOS COSTOS '!$A$1+1,FALSE))/1000*$AE$4","v":11.839692467440438},{"$f":"(HLOOKUP(AG$263,CALCULATIONS!$IJM$6:$IJO$140,'INFORME RESUMIDO DE LOS COSTOS '!$A$1+1,FALSE))/1000*$AE$4","v":17.294784234648873},{"$f":"(HLOOKUP(AH$263,CALCULATIONS!$IJP$6:$IJR$140,'INFORME RESUMIDO DE LOS COSTOS '!$A$1+1,FALSE))/1000*$AE$4","v":23.71626446407365},{"$f":"(HLOOKUP(AI$263,CALCULATIONS!$IJP$6:$IJR$140,'INFORME RESUMIDO DE LOS COSTOS '!$A$1+1,FALSE))/1000*$AE$4","v":1.6175688552064478},{"$f":"(HLOOKUP(AJ$263,CALCULATIONS!$IJP$6:$IJR$140,'INFORME RESUMIDO DE LOS COSTOS '!$A$1+1,FALSE))/1000*$AE$4","v":29.710658395325595},{"$f":"(HLOOKUP(AK$263,CALCULATIONS!$IMQ$6:$IMS$140,'INFORME RESUMIDO DE LOS COSTOS '!$A$1+1,FALSE))/1000*$AE$4","v":4.3653990326571144},{"$f":"(HLOOKUP(AL$263,CALCULATIONS!$IMQ$6:$IMS$140,'INFORME RESUMIDO DE LOS COSTOS '!$A$1+1,FALSE))/1000*$AE$4","v":0.47295819054421639},{"$f":"(HLOOKUP(AM$263,CALCULATIONS!$IMQ$6:$IMS$140,'INFORME RESUMIDO DE LOS COSTOS '!$A$1+1,FALSE))/1000*$AE$4","v":1.5221642914066735},{"$f":"(HLOOKUP(AN$263,CALCULATIONS!$IMT$6:$IMV$140,'INFORME RESUMIDO DE LOS COSTOS '!$A$1+1,FALSE))/1000*$AE$4","v":1.3721620488146891},{"$f":"(HLOOKUP(AO$263,CALCULATIONS!$IMT$6:$IMV$140,'INFORME RESUMIDO DE LOS COSTOS '!$A$1+1,FALSE))/1000*$AE$4","v":5.2473787221187299E-2},{"$f":"(HLOOKUP(AP$263,CALCULATIONS!$IMT$6:$IMV$140,'INFORME RESUMIDO DE LOS COSTOS '!$A$1+1,FALSE))/1000*$AE$4","v":2.2261606699897643},50.161525817756512,12.312650657984655,18.816948526055548,25.08842651288834,1.6700426424276351,31.936819065315358]
[]
[]
[]
[]
[]
[]
[]
[]
[null,null,null,"Los costos de los servicios de agua y saneamiento para que estos sean gestionados de forma segura son típicamente adicionales a los costos para lograr acceso básico."]
[]
[null,null,null,{"$f":"\"Figura 6b. Costos anuales de conseguir que la población que ya tiene servicio mantenga diferentes niveles de servicio en 2030, por componente de costos principal, en millones de \" & $H$3","v":"Figura 6b. Costos anuales de conseguir que la población que ya tiene servicio mantenga diferentes niveles de servicio en 2030, por componente de costos principal, en millones de USD"}]
[]
[]
[]
[]
[]
[]
[]
[]
[]
[]
[]
[]
[]
[]
[]
[]
[]
[]
[null,null,null,"Los costos de los servicios de agua y saneamiento para que estos sean gestionados de forma segura son típicamente adicionales a los costos para lograr acceso básico."]
[]
[null,null,null,{"$f":"\"Figura 6c. Costos anuales de conseguir que toda la población tenga diferentes niveles de servicio en 2030, por componente de costos principal, en millones de \" & $H$3","v":"Figura 6c. Costos anuales de conseguir que toda la población tenga diferentes niveles de servicio en 2030, por componente de costos principal, en millones de USD"}]
[]
[]
[]
[]
[]
[]
[]
[]
[]
[]
[]
[]
[]
[]
[]
[]
[]
[]
[null,null,null,"Los costos de los servicios de agua y saneamiento para que estos sean gestionados de forma segura son típicamente adicionales a los costos para lograr acceso básico."]
[]
[null,"7. FINANCIACIÓN PÚBLICA"]
[]
[null,null,null,{"$f":"\"Figura 7a. Fondos destinados al abastecimiento de agua y al saneamiento en zonas rurales y urbanas, en millones de \" & $H$3","v":"Figura 7a. Fondos destinados al abastecimiento de agua y al saneamiento en zonas rurales y urbanas, en millones de USD"}]
[null,null,null,null,null,null,null,null,null,null,null,null,null,null,null,null,null,null,null,null,null,null,null,null,null,null,null,null,null,null,"Location and sub-sector",null,"United States Dollars (US$) in 2016 Prices"]
[null,null,null,null,null,null,null,null,null,null,null,null,null,null,null,null,null,null,null,null,null,null,null,null,null,null,null,null,null,null,null,null,"VALUE OF EXPENDITURE / BUDGET"]
[null,null,null,null,null,null,null,null,null,null,null,null,null,null,null,null,null,null,null,null,null,null,null,null,null,null,null,null,null,null,"SUB-SECTOR","RURAL / Urbano","PRESUPUESTOS NACIONALES GASTADOS","PRESUPUESTOS SUBNACIONALES GASTADOS","AOD ACTUAL\n(préstamos o financiación reembolsable)","AOD ACTUAL\n(donaciones y transferencias voluntarias)"]
[null,null,null,null,null,null,null,null,null,null,null,null,null,null,null,null,null,null,null,null,null,null,null,null,null,null,null,null,null,null,"d make c","Urbano",{"$f":"'HOJA DE VERIFICACIÓN DE DATOS'!E52*$AE$4","v":0},{"$f":"'HOJA DE VERIFICACIÓN DE DATOS'!F52*$AE$4","v":0},{"$f":"'HOJA DE VERIFICACIÓN DE DATOS'!G52*$AE$4","v":0},{"$f":"'HOJA DE VERIFICACIÓN DE DATOS'!H52*$AE$4","v":0}]
[null,null,null,null,null,null,null,null,null,null,null,null,null,null,null,null,null,null,null,null,null,null,null,null,null,null,null,null,null,null,null,"Rural",{"$f":"'HOJA DE VERIFICACIÓN DE DATOS'!E53*$AE$4","v":0},{"$f":"'HOJA DE VERIFICACIÓN DE DATOS'!F53*$AE$4","v":0},{"$f":"'HOJA DE VERIFICACIÓN DE DATOS'!G53*$AE$4","v":0},{"$f":"'HOJA DE VERIFICACIÓN DE DATOS'!H53*$AE$4","v":0}]
[null,null,null,null,null,null,null,null,null,null,null,null,null,null,null,null,null,null,null,null,null,null,null,null,null,null,null,null,null,null,"Saneamiento e higiene","Urbano",{"$f":"'HOJA DE VERIFICACIÓN DE DATOS'!E54*$AE$4","v":0},{"$f":"'HOJA DE VERIFICACIÓN DE DATOS'!F54*$AE$4","v":0},{"$f":"'HOJA DE VERIFICACIÓN DE DATOS'!G54*$AE$4","v":0},{"$f":"'HOJA DE VERIFICACIÓN DE DATOS'!H54*$AE$4","v":0}]
[null,null,null,null,null,null,null,null,null,null,null,null,null,null,null,null,null,null,null,null,null,null,null,null,null,null,null,null,null,null,null,"Rural",{"$f":"'HOJA DE VERIFICACIÓN DE DATOS'!E55*$AE$4","v":0},{"$f":"'HOJA DE VERIFICACIÓN DE DATOS'!F55*$AE$4","v":0},{"$f":"'HOJA DE VERIFICACIÓN DE DATOS'!G55*$AE$4","v":0},{"$f":"'HOJA DE VERIFICACIÓN DE DATOS'!H55*$AE$4","v":0}]
[null,null,null,null,null,null,null,null,null,null,null,null,null,null,null,null,null,null,null,null,null,null,null,null,null,null,null,null,null,null,"Gasto en WASH, sin desglosar","Urbano",{"$f":"'HOJA DE VERIFICACIÓN DE DATOS'!E56*$AE$4","v":0},{"$f":"'HOJA DE VERIFICACIÓN DE DATOS'!F56*$AE$4","v":0},{"$f":"'HOJA DE VERIFICACIÓN DE DATOS'!G56*$AE$4","v":0},{"$f":"'HOJA DE VERIFICACIÓN DE DATOS'!H56*$AE$4","v":0}]
[null,null,null,null,null,null,null,null,null,null,null,null,null,null,null,null,null,null,null,null,null,null,null,null,null,null,null,null,null,null,null,"Rural",{"$f":"'HOJA DE VERIFICACIÓN DE DATOS'!E57*$AE$4","v":0},{"$f":"'HOJA DE VERIFICACIÓN DE DATOS'!F57*$AE$4","v":0},{"$f":"'HOJA DE VERIFICACIÓN DE DATOS'!G57*$AE$4","v":0},{"$f":"'HOJA DE VERIFICACIÓN DE DATOS'!H57*$AE$4","v":0}]
[null,null,null,null,null,null,null,null,null,null,null,null,null,null,null,null,null,null,null,null,null,null,null,null,null,null,null,null,null,null,"Total","Urbano",{"$f":"'HOJA DE VERIFICACIÓN DE DATOS'!E58*$AE$4","v":0},{"$f":"'HOJA DE VERIFICACIÓN DE DATOS'!F58*$AE$4","v":0},{"$f":"'HOJA DE VERIFICACIÓN DE DATOS'!G58*$AE$4","v":0},{"$f":"'HOJA DE VERIFICACIÓN DE DATOS'!H58*$AE$4","v":0}]
[null,null,null,null,null,null,null,null,null,null,null,null,null,null,null,null,null,null,null,null,null,null,null,null,null,null,null,null,null,null,null,"Rural",{"$f":"'HOJA DE VERIFICACIÓN DE DATOS'!E59*$AE$4","v":0},{"$f":"'HOJA DE VERIFICACIÓN DE DATOS'!F59*$AE$4","v":0},{"$f":"'HOJA DE VERIFICACIÓN DE DATOS'!G59*$AE$4","v":0},{"$f":"'HOJA DE VERIFICACIÓN DE DATOS'!H59*$AE$4","v":0}]
[]
[]
[]
[]
[]
[]
[]
[]
[]
[]
[null,"8. FUENTES DE FINANCIACIÓN"]
[]
[null,null,null,{"$f":"\"Figura 8a. Fuentes de financiación para el gasto de capital destinado a llevar el servicio a personas que carecen de él en zonas urbanas basadas en el ratio de reparto de costos en millones de \" & $H$3","v":"Figura 8a. Fuentes de financiación para el gasto de capital destinado a llevar el servicio a personas que carecen de él en zonas urbanas basadas en el ratio de reparto de costos en millones de USD"}]
[]
[]
[]
[]
[]
[null,null,null,null,null,null,null,null,null,null,null,null,null,null,null,null,null,null,null,null,null,null,null,null,null,null,null,null,null,"Cuadro 7. Fuentes de financiación para el gasto de capital destinado a llevar servicio a personas sin servicio en zonas urbanas y rurales basadas en el ratio de reparto de costos en millones de US$"]
[]
[null,null,null,null,null,null,null,null,null,null,null,null,null,null,null,null,null,null,null,null,null,null,null,null,null,null,null,null,null,null,"WASH básico",null,null,null,null,null,null,null,null,null,null,null,null,null,null,null,null,null,"Lugares libres de defecación al aire libre",null,null,"Servicios seguros"]
[null,null,null,null,null,null,null,null,null,null,null,null,null,null,null,null,null,null,null,null,null,null,null,null,null,null,null,null,null,null,"Suministro de agua",null,null,null,null,null,"Saneamiento",null,null,null,null,null,"Higiene",null,null,null,null,null,null,null,null,"Abastecimiento de agua seguro",null,null,null,null,null,"Saneamiento seguro"]
[null,null,null,null,null,null,null,null,null,null,null,null,null,null,null,null,null,null,null,null,null,null,null,null,null,null,null,null,null,null,"Zonas urbanas",null,null,"Zonas rurales",null,null,"Zonas urbanas",null,null,"Zonas rurales",null,null,"Zonas urbanas",null,null,"Zonas rurales",null,null,"Zonas rurales",null,null,"Zonas urbanas",null,null,"Zonas rurales",null,null,"Zonas urbanas",null,null,"Zonas rurales"]
[null,null,null,null,null,null,null,null,null,null,null,null,null,null,null,null,null,null,null,null,null,null,null,null,null,null,null,null,null,null,"Capital","Capital maintenance","Operations","Capital","Capital maintenance","Operations","Capital","Capital maintenance","Operations","Capital","Capital maintenance","Operations","Capital","Capital maintenance","Operations","Capital","Capital maintenance","Operations","Capital","Capital maintenance","Operations","Capital","Capital maintenance","Operations","Capital","Capital maintenance","Operations","Capital","Capital maintenance","Operations","Capital","Capital maintenance","Operations"]
[null,null,null,null,null,null,null,null,null,null,null,null,null,null,null,null,null,null,null,null,null,null,null,null,null,null,null,null,null,"Total, del cual:",{"$f":"HLOOKUP(AE361,CALCULATIONS!$IJA$6:$IJC$140,'INFORME RESUMIDO DE LOS COSTOS '!$A$1+1,FALSE)/1000*$AE$4","v":34.603818313099573},{"$f":"HLOOKUP(AF361,CALCULATIONS!$IJA$6:$IJC$140,'INFORME RESUMIDO DE LOS COSTOS '!$A$1+1,FALSE)/1000*$AE$4","v":16.801793453054064},{"$f":"HLOOKUP(AG361,CALCULATIONS!$IJA$6:$IJC$140,'INFORME RESUMIDO DE LOS COSTOS '!$A$1+1,FALSE)/1000*$AE$4","v":13.729503550017824},{"$f":"HLOOKUP(AH361,CALCULATIONS!$IJD$6:$IJF$140,'INFORME RESUMIDO DE LOS COSTOS '!$A$1+1,FALSE)/1000*$AE$4","v":42.498679732401349},{"$f":"HLOOKUP(AI361,CALCULATIONS!$IJD$6:$IJF$140,'INFORME RESUMIDO DE LOS COSTOS '!$A$1+1,FALSE)/1000*$AE$4","v":24.76581041787778},{"$f":"HLOOKUP(AJ361,CALCULATIONS!$IJD$6:$IJF$140,'INFORME RESUMIDO DE LOS COSTOS '!$A$1+1,FALSE)/1000*$AE$4","v":20.569080095444406},{"$f":"HLOOKUP(AK361,CALCULATIONS!$IJG$6:$IJI$140,'INFORME RESUMIDO DE LOS COSTOS '!$A$1+1,FALSE)/1000*$AE$4","v":439.54342736543771},{"$f":"HLOOKUP(AL361,CALCULATIONS!$IJG$6:$IJI$140,'INFORME RESUMIDO DE LOS COSTOS '!$A$1+1,FALSE)/1000*$AE$4","v":199.54912768839009},{"$f":"HLOOKUP(AM361,CALCULATIONS!$IJG$6:$IJI$140,'INFORME RESUMIDO DE LOS COSTOS '!$A$1+1,FALSE)/1000*$AE$4","v":253.53282019900331},{"$f":"HLOOKUP(AN361,CALCULATIONS!$IJJ$6:$IJL$140,'INFORME RESUMIDO DE LOS COSTOS '!$A$1+1,FALSE)/1000*$AE$4","v":93.956051583027545},{"$f":"HLOOKUP(AO361,CALCULATIONS!$IJJ$6:$IJL$140,'INFORME RESUMIDO DE LOS COSTOS '!$A$1+1,FALSE)/1000*$AE$4","v":34.651767521408409},{"$f":"HLOOKUP(AP361,CALCULATIONS!$IJJ$6:$IJL$140,'INFORME RESUMIDO DE LOS COSTOS '!$A$1+1,FALSE)/1000*$AE$4","v":39.479192661035285},{"$f":"HLOOKUP(AQ361,CALCULATIONS!$IJM$6:$IJO$140,'INFORME RESUMIDO DE LOS COSTOS '!$A$1+1,FALSE)/1000*$AE$4","v":45.796126785099396},{"$f":"HLOOKUP(AR361,CALCULATIONS!$IJM$6:$IJO$140,'INFORME RESUMIDO DE LOS COSTOS '!$A$1+1,FALSE)/1000*$AE$4","v":11.839692467440438},{"$f":"HLOOKUP(AS361,CALCULATIONS!$IJM$6:$IJO$140,'INFORME RESUMIDO DE LOS COSTOS '!$A$1+1,FALSE)/1000*$AE$4","v":17.294784234648873},{"$f":"HLOOKUP(AT361,CALCULATIONS!$IJP$6:$IJR$140,'INFORME RESUMIDO DE LOS COSTOS '!$A$1+1,FALSE)/1000*$AE$4","v":23.71626446407365},{"$f":"HLOOKUP(AU361,CALCULATIONS!$IJP$6:$IJR$140,'INFORME RESUMIDO DE LOS COSTOS '!$A$1+1,FALSE)/1000*$AE$4","v":1.6175688552064478},{"$f":"HLOOKUP(AV361,CALCULATIONS!$IJP$6:$IJR$140,'INFORME RESUMIDO DE LOS COSTOS '!$A$1+1,FALSE)/1000*$AE$4","v":29.710658395325595},{"$f":"HLOOKUP(AW361,CALCULATIONS!$IJS$6:$IJU$140,'INFORME RESUMIDO DE LOS COSTOS '!$A$1+1,FALSE)/1000*$AE$4","v":73.138029338716507},{"$f":"HLOOKUP(AX361,CALCULATIONS!$IJS$6:$IJU$140,'INFORME RESUMIDO DE LOS COSTOS '!$A$1+1,FALSE)/1000*$AE$4","v":39.322656155665925},{"$f":"HLOOKUP(AY361,CALCULATIONS!$IJS$6:$IJU$140,'INFORME RESUMIDO DE LOS COSTOS '!$A$1+1,FALSE)/1000*$AE$4","v":8.3638665473956184},{"$f":"HLOOKUP(AZ361,CALCULATIONS!$IJV$6:$IJX$140,'INFORME RESUMIDO DE LOS COSTOS '!$A$1+1,FALSE)/1000*$AE$4","v":103.14662259245547},{"$f":"HLOOKUP(BA361,CALCULATIONS!$IJV$6:$IJX$140,'INFORME RESUMIDO DE LOS COSTOS '!$A$1+1,FALSE)/1000*$AE$4","v":45.400827616344706},{"$f":"HLOOKUP(BB361,CALCULATIONS!$IJV$6:$IJX$140,'INFORME RESUMIDO DE LOS COSTOS '!$A$1+1,FALSE)/1000*$AE$4","v":208.35097151518426},{"$f":"HLOOKUP(BC361,CALCULATIONS!$IJY$6:$IKA$140,'INFORME RESUMIDO DE LOS COSTOS '!$A$1+1,FALSE)/1000*$AE$4","v":87.388643345518375},{"$f":"HLOOKUP(BD361,CALCULATIONS!$IJY$6:$IKA$140,'INFORME RESUMIDO DE LOS COSTOS '!$A$1+1,FALSE)/1000*$AE$4","v":38.464824464803243},{"$f":"HLOOKUP(BE361,CALCULATIONS!$IJY$6:$IKA$140,'INFORME RESUMIDO DE LOS COSTOS '!$A$1+1,FALSE)/1000*$AE$4","v":350.12609324185979},{"$f":"HLOOKUP(BF361,CALCULATIONS!$IKB$6:$IKD$140,'INFORME RESUMIDO DE LOS COSTOS '!$A$1+1,FALSE)/1000*$AE$4","v":105.36452663336941},{"$f":"HLOOKUP(BG361,CALCULATIONS!$IKB$6:$IKD$140,'INFORME RESUMIDO DE LOS COSTOS '!$A$1+1,FALSE)/1000*$AE$4","v":46.377056178175415},{"$f":"HLOOKUP(BH361,CALCULATIONS!$IKB$6:$IKD$140,'INFORME RESUMIDO DE LOS COSTOS '!$A$1+1,FALSE)/1000*$AE$4","v":78.849783918132744},{"$f":"HLOOKUP(BI361,CALCULATIONS!$IKE$6:$IKG$140,'INFORME RESUMIDO DE LOS COSTOS '!$A$1+1,FALSE)/1000*$AE$4","v":396.1533591650001},{"$f":"HLOOKUP(BJ361,CALCULATIONS!$IKE$6:$IKG$140,'INFORME RESUMIDO DE LOS COSTOS '!$A$1+1,FALSE)/1000*$AE$4","v":174.3701336702963},{"$f":"HLOOKUP(BK361,CALCULATIONS!$IKE$6:$IKG$140,'INFORME RESUMIDO DE LOS COSTOS '!$A$1+1,FALSE)/1000*$AE$4","v":152.45023723271208}]
[null,null,null,"Los costos de los servicios de agua y saneamiento para que estos sean gestionados de forma segura son típicamente adicionales a los costos para lograr acceso básico.",null,null,null,null,null,null,null,null,null,null,null,null,null,null,null,null,null,null,null,null,null,null,null,null,null,"Fondos públicos",{"$f":"AE362*'HOJA DE VERIFICACIÓN DE DATOS'!M26","v":27.683054650479662},{"$f":"AF362*'HOJA DE VERIFICACIÓN DE DATOS'!Q26","v":13.441434762443251},{"$f":"AG362*'HOJA DE VERIFICACIÓN DE DATOS'!T26","v":2.7459007100035651},{"$f":"AH362*'HOJA DE VERIFICACIÓN DE DATOS'!M28","v":33.998943785921078},{"$f":"AI362*'HOJA DE VERIFICACIÓN DE DATOS'!Q28","v":19.812648334302224},{"$f":"AJ362*'HOJA DE VERIFICACIÓN DE DATOS'!T28","v":4.1138160190888815},{"$f":"AK362*'HOJA DE VERIFICACIÓN DE DATOS'!M32","v":351.63474189235018},{"$f":"AL362*'HOJA DE VERIFICACIÓN DE DATOS'!Q32","v":159.63930215071207},{"$f":"AM362*'HOJA DE VERIFICACIÓN DE DATOS'!T32","v":50.706564039800668},{"$f":"AN362*'HOJA DE VERIFICACIÓN DE DATOS'!M34","v":75.164841266422044},{"$f":"AO362*'HOJA DE VERIFICACIÓN DE DATOS'!Q34","v":27.72141401712673},{"$f":"AP362*'HOJA DE VERIFICACIÓN DE DATOS'!T34","v":7.8958385322070574},{"$f":"AQ362*'HOJA DE VERIFICACIÓN DE DATOS'!M41","v":36.636901428079518},{"$f":"AR362*'HOJA DE VERIFICACIÓN DE DATOS'!Q41","v":9.4717539739523513},{"$f":"AS362*'HOJA DE VERIFICACIÓN DE DATOS'!T41","v":3.4589568469297749},{"$f":"AT362*'HOJA DE VERIFICACIÓN DE DATOS'!M42","v":18.973011571258919},{"$f":"AU362*'HOJA DE VERIFICACIÓN DE DATOS'!Q42","v":1.2940550841651584},{"$f":"AV362*'HOJA DE VERIFICACIÓN DE DATOS'!T42","v":5.9421316790651195},{"$f":"AW362*'HOJA DE VERIFICACIÓN DE DATOS'!M36","v":58.510423470973208},{"$f":"AX362*'HOJA DE VERIFICACIÓN DE DATOS'!Q36","v":31.45812492453274},{"$f":"AY362*'HOJA DE VERIFICACIÓN DE DATOS'!T36","v":1.6727733094791237},{"$f":"AZ362*'HOJA DE VERIFICACIÓN DE DATOS'!M30","v":82.517298073964383},{"$f":"BA362*'HOJA DE VERIFICACIÓN DE DATOS'!Q30","v":36.320662093075768},{"$f":"BB362*'HOJA DE VERIFICACIÓN DE DATOS'!T30","v":41.670194303036851},{"$f":"BC362*'HOJA DE VERIFICACIÓN DE DATOS'!M31","v":69.910914676414706},{"$f":"BD362*'HOJA DE VERIFICACIÓN DE DATOS'!Q31","v":30.771859571842597},{"$f":"BE362*'HOJA DE VERIFICACIÓN DE DATOS'!T31","v":70.025218648371961},{"$f":"BF362*'HOJA DE VERIFICACIÓN DE DATOS'!M37","v":84.291621306695532},{"$f":"BG362*'HOJA DE VERIFICACIÓN DE DATOS'!Q37","v":37.101644942540332},{"$f":"BH362*'HOJA DE VERIFICACIÓN DE DATOS'!T37","v":15.769956783626549},{"$f":"BI362*'HOJA DE VERIFICACIÓN DE DATOS'!M39","v":316.92268733200012},{"$f":"BJ362*'HOJA DE VERIFICACIÓN DE DATOS'!Q39","v":139.49610693623706},{"$f":"BK362*'HOJA DE VERIFICACIÓN DE DATOS'!T39","v":30.49004744654242}]
[null,null,null,null,null,null,null,null,null,null,null,null,null,null,null,null,null,null,null,null,null,null,null,null,null,null,null,null,null,"Consumidores",{"$f":"AE362-AE363","v":6.9207636626199118},{"$f":"AF362-AF363","v":3.3603586906108127},10.98360284001426,8.4997359464802713,4.9531620835755561,16.455264076355526,87.90868547308753,39.909825537678017,202.82625615920264,18.7912103166055,6.9303535042816797,31.583354128828226,9.1592253570198778,2.3679384934880865,13.835827387719098,4.7432528928147306,0.32351377104128942,23.768526716260475,14.627605867743299,7.864531231133185,6.6910932379164949,20.629324518491089,9.0801655232689384,166.6807772121474,17.477728669103669,7.6929648929606458,280.10087459348784,21.072905326673876,9.2754112356350831,63.079827134506196,79.230671832999974,34.874026734059242,121.96018978616966]
[null,null,null,{"$f":"\"Figura 8b. Fuentes de financiación para el gasto de capital destinado a llevar el servicio a personas que carecen de él en zonas rurales basadas en el ratio de reparto de costos en millones de \" & $H$3","v":"Figura 8b. Fuentes de financiación para el gasto de capital destinado a llevar el servicio a personas que carecen de él en zonas rurales basadas en el ratio de reparto de costos en millones de USD"}]
[null,null,null,null,null,null,null,null,null,null,null,null,null,null,null,null,null,null,null,null,null,null,null,null,null,null,null,null,null,"Cuadro para generar el gráfico",null,"Poner fin a la defecación al aire libre","Servicio básico universal",null,null,null,"Servicio seguro universal"]
[null,null,null,null,null,null,null,null,null,null,null,null,null,null,null,null,null,null,null,null,null,null,null,null,null,null,null,null,null,null,null,null,"Agua","Saneamiento","Higiene","WASH","Agua","Saneamiento","Suministro de agua y saneamiento","Metas 6.1 + 6.2"]
[null,null,null,null,null,null,null,null,null,null,null,null,null,null,null,null,null,null,null,null,null,null,null,null,null,null,null,null,null,"Zonas urbanas (capital)","Fondos públicos",null,{"$f":"AE363","v":27.683054650479662},{"$f":"+AK363","v":351.63474189235018},{"$f":"AQ363","v":36.636901428079518},{"$f":"SUM(AG368:AI368)","v":415.95469797090936},{"$f":"AZ363","v":82.517298073964383},{"$f":"BF363","v":84.291621306695532},{"$f":"AK368+AL368","v":166.80891938065992},{"$f":"AM368+AG368*0.5+AH368+AI368","v":568.92209002632956}]
[null,null,null,null,null,null,null,null,null,null,null,null,null,null,null,null,null,null,null,null,null,null,null,null,null,null,null,null,null,null,"Consumidores",null,{"$f":"AE364","v":6.9207636626199118},{"$f":"+AK364","v":87.90868547308753},{"$f":"AQ364","v":9.1592253570198778},{"$f":"SUM(AG369:AI369)","v":103.98867449272733},{"$f":"AZ364","v":20.629324518491089},{"$f":"BF364","v":21.072905326673876},{"$f":"AK369+AL369","v":41.702229845164965},{"$f":"AM369+AG369*0.5+AH369+AI369","v":142.2305225065823}]
[null,null,null,null,null,null,null,null,null,null,null,null,null,null,null,null,null,null,null,null,null,null,null,null,null,null,null,null,null,"Zonas rurales (capital)","Fondos públicos",{"$f":"AW363","v":58.510423470973208},{"$f":"AH363","v":33.998943785921078},{"$f":"AN363","v":75.164841266422044},{"$f":"AT363","v":18.973011571258919},{"$f":"SUM(AG370:AI370)","v":128.13679662360204},{"$f":"BC363","v":69.910914676414706},{"$f":"BI363","v":316.92268733200012},{"$f":"AK370+AL370","v":386.8336020084148},{"$f":"AM370+AG370*0.5+AH370+AI370","v":497.97092673905627}]
[null,null,null,null,null,null,null,null,null,null,null,null,null,null,null,null,null,null,null,null,null,null,null,null,null,null,null,null,null,null,"Consumidores",{"$f":"AW364","v":14.627605867743299},{"$f":"AH364","v":8.4997359464802713},{"$f":"AN364","v":18.7912103166055},{"$f":"AT364","v":4.7432528928147306},{"$f":"SUM(AG371:AI371)","v":32.034199155900502},{"$f":"BC364","v":17.477728669103669},{"$f":"BI364","v":79.230671832999974},{"$f":"AK371+AL371","v":96.708400502103643},{"$f":"AM371+AG371*0.5+AH371+AI371","v":124.49273168476401}]
[]
[null,null,null,null,null,null,null,null,null,null,null,null,null,null,null,null,null,null,null,null,null,null,null,null,null,null,null,null,null,"Cuadro 8. Fuentes de financiación para el gasto de capital destinado a mantener los servicios existentes en zonas urbanas y rurales basadas en el ratio de reparto de costos en millones de US$"]
[]
[null,null,null,null,null,null,null,null,null,null,null,null,null,null,null,null,null,null,null,null,null,null,null,null,null,null,null,null,null,null,"WASH básico",null,null,null,null,null,null,null,null,null,null,null,null,null,null,null,null,null,"Lugares libres de defecación al aire libre",null,null,"Servicios seguros"]
[null,null,null,null,null,null,null,null,null,null,null,null,null,null,null,null,null,null,null,null,null,null,null,null,null,null,null,null,null,null,"Suministro de agua",null,null,null,null,null,"Saneamiento",null,null,null,null,null,"Higiene",null,null,null,null,null,null,null,null,"Abastecimiento de agua seguro",null,null,null,null,null,"Saneamiento seguro"]
[null,null,null,null,null,null,null,null,null,null,null,null,null,null,null,null,null,null,null,null,null,null,null,null,null,null,null,null,null,null,"Urban",null,null,"Rural",null,null,"Urban",null,null,"Rural",null,null,"Urban",null,null,"Rural",null,null,"Rural",null,null,"Urban",null,null,"Rural",null,null,"Urban",null,null,"Rural"]
[null,null,null,null,null,null,null,null,null,null,null,null,null,null,null,null,null,null,null,null,null,null,null,null,null,null,null,null,null,null,"Capital","Capital maintenance","Operations","Capital","Capital maintenance","Operations","Capital","Capital maintenance","Operations","Capital","Capital maintenance","Operations","Capital","Capital maintenance","Operations","Capital","Capital maintenance","Operations","Capital","Capital maintenance","Operations","Capital","Capital maintenance","Operations","Capital","Capital maintenance","Operations","Capital","Capital maintenance","Operations","Capital","Capital maintenance","Operations"]
[null,null,null,null,null,null,null,null,null,null,null,null,null,null,null,null,null,null,null,null,null,null,null,null,null,null,null,null,null,"Total, del cual:",{"$f":"HLOOKUP(AE378,CALCULATIONS!$IME$6:$IMG$140,'INFORME RESUMIDO DE LOS COSTOS '!$A$1+1,FALSE)/1000*$AE$4","v":12.582970101080308},{"$f":"HLOOKUP(AF378,CALCULATIONS!$IME$6:$IMG$140,'INFORME RESUMIDO DE LOS COSTOS '!$A$1+1,FALSE)/1000*$AE$4","v":3.595134314594373},{"$f":"HLOOKUP(AG378,CALCULATIONS!$IME$6:$IMG$140,'INFORME RESUMIDO DE LOS COSTOS '!$A$1+1,FALSE)/1000*$AE$4","v":6.6075523105684359},{"$f":"HLOOKUP(AH378,CALCULATIONS!$IMH$6:$IMJ$140,'INFORME RESUMIDO DE LOS COSTOS '!$A$1+1,FALSE)/1000*$AE$4","v":17.799525358093273},{"$f":"HLOOKUP(AI378,CALCULATIONS!$IMH$6:$IMJ$140,'INFORME RESUMIDO DE LOS COSTOS '!$A$1+1,FALSE)/1000*$AE$4","v":7.426662165185725},{"$f":"HLOOKUP(AJ378,CALCULATIONS!$IMH$6:$IMJ$140,'INFORME RESUMIDO DE LOS COSTOS '!$A$1+1,FALSE)/1000*$AE$4","v":13.727978749100526},{"$f":"HLOOKUP(AK378,CALCULATIONS!$IMK$6:$IMM$140,'INFORME RESUMIDO DE LOS COSTOS '!$A$1+1,FALSE)/1000*$AE$4","v":74.739740778234065},{"$f":"HLOOKUP(AL378,CALCULATIONS!$IMK$6:$IMM$140,'INFORME RESUMIDO DE LOS COSTOS '!$A$1+1,FALSE)/1000*$AE$4","v":1.5092502609086107},{"$f":"HLOOKUP(AM378,CALCULATIONS!$IMK$6:$IMM$140,'INFORME RESUMIDO DE LOS COSTOS '!$A$1+1,FALSE)/1000*$AE$4","v":67.295411173190772},{"$f":"HLOOKUP(AN378,CALCULATIONS!$IMN$6:$IMP$140,'INFORME RESUMIDO DE LOS COSTOS '!$A$1+1,FALSE)/1000*$AE$4","v":21.010057760205164},{"$f":"HLOOKUP(AO378,CALCULATIONS!$IMN$6:$IMP$140,'INFORME RESUMIDO DE LOS COSTOS '!$A$1+1,FALSE)/1000*$AE$4","v":3.2062761369626429},{"$f":"HLOOKUP(AP378,CALCULATIONS!$IMN$6:$IMP$140,'INFORME RESUMIDO DE LOS COSTOS '!$A$1+1,FALSE)/1000*$AE$4","v":12.231753292894522},{"$f":"HLOOKUP(AQ378,CALCULATIONS!$IMQ$6:$IMS$140,'INFORME RESUMIDO DE LOS COSTOS '!$A$1+1,FALSE)/1000*$AE$4","v":4.3653990326571144},{"$f":"HLOOKUP(AR378,CALCULATIONS!$IMQ$6:$IMS$140,'INFORME RESUMIDO DE LOS COSTOS '!$A$1+1,FALSE)/1000*$AE$4","v":0.47295819054421639},{"$f":"HLOOKUP(AS378,CALCULATIONS!$IMQ$6:$IMS$140,'INFORME RESUMIDO DE LOS COSTOS '!$A$1+1,FALSE)/1000*$AE$4","v":1.5221642914066735},{"$f":"HLOOKUP(AT378,CALCULATIONS!$IMT$6:$IMV$140,'INFORME RESUMIDO DE LOS COSTOS '!$A$1+1,FALSE)/1000*$AE$4","v":1.3721620488146891},{"$f":"HLOOKUP(AU378,CALCULATIONS!$IMT$6:$IMV$140,'INFORME RESUMIDO DE LOS COSTOS '!$A$1+1,FALSE)/1000*$AE$4","v":5.2473787221187299E-2},{"$f":"HLOOKUP(AV378,CALCULATIONS!$IMT$6:$IMV$140,'INFORME RESUMIDO DE LOS COSTOS '!$A$1+1,FALSE)/1000*$AE$4","v":2.2261606699897643},{"$f":"HLOOKUP(AW378,CALCULATIONS!$IMW$6:$IMY$140,'INFORME RESUMIDO DE LOS COSTOS '!$A$1+1,FALSE)/1000*$AE$4","v":271.29394445186432},{"$f":"HLOOKUP(AX378,CALCULATIONS!$IMW$6:$IMY$140,'INFORME RESUMIDO DE LOS COSTOS '!$A$1+1,FALSE)/1000*$AE$4","v":74.709379503673134},{"$f":"HLOOKUP(AY378,CALCULATIONS!$IMW$6:$IMY$140,'INFORME RESUMIDO DE LOS COSTOS '!$A$1+1,FALSE)/1000*$AE$4","v":33.37018951164066},{"$f":"HLOOKUP(AZ378,CALCULATIONS!$IMZ$6:$INB$140,'INFORME RESUMIDO DE LOS COSTOS '!$A$1+1,FALSE)/1000*$AE$4","v":16.504120335290313},{"$f":"HLOOKUP(BA378,CALCULATIONS!$IMZ$6:$INB$140,'INFORME RESUMIDO DE LOS COSTOS '!$A$1+1,FALSE)/1000*$AE$4","v":4.5011237278064495},{"$f":"HLOOKUP(BB378,CALCULATIONS!$IMZ$6:$INB$140,'INFORME RESUMIDO DE LOS COSTOS '!$A$1+1,FALSE)/1000*$AE$4","v":53.501729064366067},{"$f":"HLOOKUP(BC378,CALCULATIONS!$INC$6:$INE$140,'INFORME RESUMIDO DE LOS COSTOS '!$A$1+1,FALSE)/1000*$AE$4","v":2.1648761067789715},{"$f":"HLOOKUP(BD378,CALCULATIONS!$INC$6:$INE$140,'INFORME RESUMIDO DE LOS COSTOS '!$A$1+1,FALSE)/1000*$AE$4","v":0.59042075639426495},{"$f":"HLOOKUP(BE378,CALCULATIONS!$INC$6:$INE$140,'INFORME RESUMIDO DE LOS COSTOS '!$A$1+1,FALSE)/1000*$AE$4","v":13.91994266214269},{"$f":"HLOOKUP(BF378,CALCULATIONS!$INF$6:$INH$140,'INFORME RESUMIDO DE LOS COSTOS '!$A$1+1,FALSE)/1000*$AE$4","v":8.1377588232594054},{"$f":"HLOOKUP(BG378,CALCULATIONS!$INF$6:$INH$140,'INFORME RESUMIDO DE LOS COSTOS '!$A$1+1,FALSE)/1000*$AE$4","v":2.7702158106560826},{"$f":"HLOOKUP(BH378,CALCULATIONS!$INF$6:$INH$140,'INFORME RESUMIDO DE LOS COSTOS '!$A$1+1,FALSE)/1000*$AE$4","v":13.204695364127328},{"$f":"HLOOKUP(BI378,CALCULATIONS!$INI$6:$INK$140,'INFORME RESUMIDO DE LOS COSTOS '!$A$1+1,FALSE)/1000*$AE$4","v":175.59588870439671},{"$f":"HLOOKUP(BJ378,CALCULATIONS!$INI$6:$INK$140,'INFORME RESUMIDO DE LOS COSTOS '!$A$1+1,FALSE)/1000*$AE$4","v":47.889787828471832},{"$f":"HLOOKUP(BK378,CALCULATIONS!$INI$6:$INK$140,'INFORME RESUMIDO DE LOS COSTOS '!$A$1+1,FALSE)/1000*$AE$4","v":22.146146978528492}]
[null,null,null,"Los costos de los servicios de agua y saneamiento para que estos sean gestionados de forma segura son típicamente adicionales a los costos para lograr acceso básico.",null,null,null,null,null,null,null,null,null,null,null,null,null,null,null,null,null,null,null,null,null,null,null,null,null,"Fondos públicos",{"$f":"AE379*'HOJA DE VERIFICACIÓN DE DATOS'!M26","v":10.066376080864247},{"$f":"AF379*'HOJA DE VERIFICACIÓN DE DATOS'!Q26","v":2.8761074516754985},{"$f":"AG379*'HOJA DE VERIFICACIÓN DE DATOS'!T26","v":1.3215104621136873},{"$f":"AH379*'HOJA DE VERIFICACIÓN DE DATOS'!M28","v":14.239620286474619},{"$f":"AI379*'HOJA DE VERIFICACIÓN DE DATOS'!Q28","v":5.9413297321485805},{"$f":"AJ379*'HOJA DE VERIFICACIÓN DE DATOS'!T28","v":2.7455957498201053},{"$f":"AK379*'HOJA DE VERIFICACIÓN DE DATOS'!M32","v":59.791792622587252},{"$f":"AL379*'HOJA DE VERIFICACIÓN DE DATOS'!Q32","v":1.2074002087268887},{"$f":"AM379*'HOJA DE VERIFICACIÓN DE DATOS'!T32","v":13.459082234638155},{"$f":"AN379*'HOJA DE VERIFICACIÓN DE DATOS'!M34","v":16.808046208164132},{"$f":"AO379*'HOJA DE VERIFICACIÓN DE DATOS'!Q34","v":2.5650209095701144},{"$f":"AP379*'HOJA DE VERIFICACIÓN DE DATOS'!T34","v":2.4463506585789045},{"$f":"AQ379*'HOJA DE VERIFICACIÓN DE DATOS'!M41","v":3.4923192261256917},{"$f":"AR379*'HOJA DE VERIFICACIÓN DE DATOS'!Q41","v":0.37836655243537315},{"$f":"AS379*'HOJA DE VERIFICACIÓN DE DATOS'!T41","v":0.30443285828133471},{"$f":"AT379*'HOJA DE VERIFICACIÓN DE DATOS'!M42","v":1.0977296390517512},{"$f":"AU379*'HOJA DE VERIFICACIÓN DE DATOS'!Q42","v":4.1979029776949839E-2},{"$f":"AV379*'HOJA DE VERIFICACIÓN DE DATOS'!T42","v":0.44523213399795286},{"$f":"AW379*'HOJA DE VERIFICACIÓN DE DATOS'!M36","v":217.03515556149148},{"$f":"AX379*'HOJA DE VERIFICACIÓN DE DATOS'!Q36","v":59.767503602938511},{"$f":"AY379*'HOJA DE VERIFICACIÓN DE DATOS'!T36","v":6.6740379023281324},{"$f":"AZ379*'HOJA DE VERIFICACIÓN DE DATOS'!M30","v":13.203296268232251},{"$f":"BA379*'HOJA DE VERIFICACIÓN DE DATOS'!Q30","v":3.6008989822451598},{"$f":"BB379*'HOJA DE VERIFICACIÓN DE DATOS'!T30","v":10.700345812873215},{"$f":"BC379*'HOJA DE VERIFICACIÓN DE DATOS'!M31","v":1.7319008854231772},{"$f":"BD379*'HOJA DE VERIFICACIÓN DE DATOS'!Q31","v":0.47233660511541198},{"$f":"BE379*'HOJA DE VERIFICACIÓN DE DATOS'!T31","v":2.7839885324285381},{"$f":"BF379*'HOJA DE VERIFICACIÓN DE DATOS'!M37","v":6.5102070586075245},{"$f":"BG379*'HOJA DE VERIFICACIÓN DE DATOS'!Q37","v":2.2161726485248661},{"$f":"BH379*'HOJA DE VERIFICACIÓN DE DATOS'!T37","v":2.640939072825466},{"$f":"BI379*'HOJA DE VERIFICACIÓN DE DATOS'!M39","v":140.47671096351738},{"$f":"BJ379*'HOJA DE VERIFICACIÓN DE DATOS'!Q39","v":38.31183026277747},{"$f":"BK379*'HOJA DE VERIFICACIÓN DE DATOS'!T39","v":4.4292293957056987}]
[null,null,null,null,null,null,null,null,null,null,null,null,null,null,null,null,null,null,null,null,null,null,null,null,null,null,null,null,null,"Consumidores",{"$f":"AE379-AE380","v":2.5165940202160613},{"$f":"AF379-AF380","v":0.71902686291887452},5.2860418484547491,3.5599050716186547,1.4853324330371445,10.982382999280421,14.947948155646813,0.30185005218172201,53.836328938552619,4.2020115520410322,0.64125522739252849,9.7854026343156182,0.8730798065314227,9.4591638108843246E-2,1.2177314331253388,0.27443240976293781,1.049475744423746E-2,1.7809285359918114,54.258788890372841,14.941875900734622,26.69615160931253,3.3008240670580626,0.90022474556128973,42.801383251492851,0.43297522135579425,0.11808415127885297,11.135954129714152,1.6275517646518809,0.55404316213121652,10.563756291301862,35.119177740879337,9.5779575656943621,17.716917582822795]
[null,null,null,{"$f":"\"Figura 8c. Fuentes de financiación para el gasto de capital destinado a mantener los servicios existentes en zonas urbanas basadas en el ratio de reparto de costos en millones de \" & $H$3","v":"Figura 8c. Fuentes de financiación para el gasto de capital destinado a mantener los servicios existentes en zonas urbanas basadas en el ratio de reparto de costos en millones de USD"},null,null,null,null,null,null,null,null,null,null,null,null,null,null,null,null,null,null,null,null,null,null,null,null,null,"Cuadro para generar el gráfico",null,"Poner fin a la defecación al aire libre","Servicio básico universal",null,null,null,"Servicio seguro universal"]
[null,null,null,null,null,null,null,null,null,null,null,null,null,null,null,null,null,null,null,null,null,null,null,null,null,null,null,null,null,null,null,null,"Agua","Saneamiento","Higiene","WASH","Agua","Saneamiento","Suministro de agua y saneamiento","Metas 6.1 + 6.2"]
[null,null,null,null,null,null,null,null,null,null,null,null,null,null,null,null,null,null,null,null,null,null,null,null,null,null,null,null,null,"Zonas urbanas (capital)","Fondos públicos",null,{"$f":"AE380","v":10.066376080864247},{"$f":"+AK380","v":59.791792622587252},{"$f":"AQ380","v":3.4923192261256917},{"$f":"SUM(AG384:AI384)","v":73.350487929577184},{"$f":"AZ380","v":13.203296268232251},{"$f":"BF380","v":6.5102070586075245},{"$f":"AK384+AL384","v":19.713503326839774},{"$f":"AM384+AG384*0.5+AH384+AI384","v":88.030803215984832}]
[null,null,null,null,null,null,null,null,null,null,null,null,null,null,null,null,null,null,null,null,null,null,null,null,null,null,null,null,null,null,"Consumidores",null,{"$f":"AE381","v":2.5165940202160613},{"$f":"+AK381","v":14.947948155646813},{"$f":"AQ381","v":0.8730798065314227},{"$f":"SUM(AG385:AI385)","v":18.337621982394296},{"$f":"AZ381","v":3.3008240670580626},{"$f":"BF381","v":1.6275517646518809},{"$f":"AK385+AL385","v":4.9283758317099435},{"$f":"AM385+AG385*0.5+AH385+AI385","v":22.007700803996208}]
[null,null,null,null,null,null,null,null,null,null,null,null,null,null,null,null,null,null,null,null,null,null,null,null,null,null,null,null,null,"Zonas rurales (capital)","Fondos públicos",{"$f":"AW380","v":217.03515556149148},{"$f":"AH380","v":14.239620286474619},{"$f":"AN380","v":16.808046208164132},{"$f":"AT380","v":1.0977296390517512},{"$f":"SUM(AG386:AI386)","v":32.145396133690504},{"$f":"BC380","v":1.7319008854231772},{"$f":"BI380","v":140.47671096351738},{"$f":"AK386+AL386","v":142.20861184894056},{"$f":"AM386+AG386*0.5+AH386+AI386","v":167.23419783939377}]
[null,null,null,null,null,null,null,null,null,null,null,null,null,null,null,null,null,null,null,null,null,null,null,null,null,null,null,null,null,null,"Consumidores",{"$f":"AW381","v":54.258788890372841},{"$f":"AH381","v":3.5599050716186547},{"$f":"AN381","v":4.2020115520410322},{"$f":"AT381","v":0.27443240976293781},{"$f":"SUM(AG387:AI387)","v":8.0363490334226242},{"$f":"BC381","v":0.43297522135579425},{"$f":"BI381","v":35.119177740879337},{"$f":"AK387+AL387","v":35.552152962235134},{"$f":"AM387+AG387*0.5+AH387+AI387","v":41.808549459848436}]
[]
[]
[]
[null,null,null,null,null,null,null,null,null,null,null,null,null,null,null,null,null,null,null,null,null,null,null,null,null,null,null,null,null,"Total (combinado) - suma de los cuadros 7 y 8"]
[]
[null,null,null,null,null,null,null,null,null,null,null,null,null,null,null,null,null,null,null,null,null,null,null,null,null,null,null,null,null,"Cuadro para generar el gráfico",null,"Poner fin a la defecación al aire libre","Servicio básico universal",null,null,null,"Servicio seguro universal"]
[null,null,null,null,null,null,null,null,null,null,null,null,null,null,null,null,null,null,null,null,null,null,null,null,null,null,null,null,null,null,null,null,"Agua","Saneamiento","Higiene","WASH","Agua","Saneamiento","Suministro de agua y saneamiento","Metas 6.1 + 6.2"]
[null,null,null,null,null,null,null,null,null,null,null,null,null,null,null,null,null,null,null,null,null,null,null,null,null,null,null,null,null,"Zonas urbanas (capital)","Fondos públicos",null,{"$f":"AG368+AG384","v":37.749430731343907},411.42653451493743,40.129220654205213,489.30518590048655,95.720594342196634,90.801828365303052,186.52242270749969,656.95289324231442]
[null,null,null,null,null,null,null,null,null,null,null,null,null,null,null,null,null,null,null,null,null,null,null,null,null,null,null,null,null,null,"Consumidores",null,9.4373576828359731,102.85663362873434,10.0323051635513,122.32629647512162,23.930148585549151,22.700457091325756,46.630605676874907,164.23822331057852]
[null,null,null,"Los costos de los servicios de agua y saneamiento para que estos sean gestionados de forma segura son típicamente adicionales a los costos para lograr acceso básico.",null,null,null,null,null,null,null,null,null,null,null,null,null,null,null,null,null,null,null,null,null,null,null,null,null,"Zonas rurales (capital)","Fondos públicos",{"$f":"AF370+AF386","v":275.54557903246467},48.238564072395697,91.972887474586173,20.070741210310672,160.28219275729253,71.642815561837878,457.39939829551747,529.04221385735536,665.20512457845007]
[null,null,null,null,null,null,null,null,null,null,null,null,null,null,null,null,null,null,null,null,null,null,null,null,null,null,null,null,null,null,"Consumidores",{"$f":"AF371+AF387","v":68.88639475811614},12.059641018098926,22.993221868646533,5.017685302577668,40.070548189323127,17.910703890459462,114.34984957387931,132.26055346433878,166.30128114461246]
[null,null,null,{"$f":"\"Figura 8d. Fuentes de financiación para el gasto de capital destinado a mantener los servicios existentes en zonas rurales basadas en el ratio de reparto de costos en millones de \" & $H$3","v":"Figura 8d. Fuentes de financiación para el gasto de capital destinado a mantener los servicios existentes en zonas rurales basadas en el ratio de reparto de costos en millones de USD"}]
[]
[]
[]
[]
[]
[]
[]
[]
[]
[]
[]
[]
[]
[]
[]
[null,null,null,"Los costos de los servicios de agua y saneamiento para que estos sean gestionados de forma segura son típicamente adicionales a los costos para lograr acceso básico."]
[]
[null,null,null,{"$f":"\"Figura 8e. Fuentes de financiación para el gasto de capital destinado a prestar servicio a toda la población urbana basadas en el ratio de reparto de costos en millones de \" & $H$3","v":"Figura 8e. Fuentes de financiación para el gasto de capital destinado a prestar servicio a toda la población urbana basadas en el ratio de reparto de costos en millones de USD"}]
[]
[]
[]
[]
[]
[]
[]
[]
[]
[]
[]
[]
[]
[]
[]
[]
[null,null,null,"Los costos de los servicios de agua y saneamiento para que estos sean gestionados de forma segura son típicamente adicionales a los costos para lograr acceso básico."]
[]
[null,null,null,{"$f":"\"Figura 8f. Fuentes de financiación para el gasto de capital destinado a prestar servicio a toda la población rural basadas en el ratio de reparto de costos en millones de \" & $H$3","v":"Figura 8f. Fuentes de financiación para el gasto de capital destinado a prestar servicio a toda la población rural basadas en el ratio de reparto de costos en millones de USD"}]
[]
[]
[]
[]
[]
[]
[]
[]
[]
[]
[]
[]
[]
[]
[]
[]
[null,null,null,"Los costos de los servicios de agua y saneamiento para que estos sean gestionados de forma segura son típicamente adicionales a los costos para lograr acceso básico."]
[]
[null,"9. DÉFICIT DE FINANCIACIÓN"]
[]
[null,null,null,{"$f":"\"Figura 9a. Déficit de financiación: financiación pública actual comparada con los costos anuales que se pretende cubrir con fondos públicos, en millones de \" & $H$3","v":"Figura 9a. Déficit de financiación: financiación pública actual comparada con los costos anuales que se pretende cubrir con fondos públicos, en millones de USD"}]
[]
[]
[]
[]
[]
[]
[]
[]
[]
[]
[]
[]
[]
[]
[]
[]
[]
[]
[]
[null,null,null,"Obsérvese que el déficit total en las columnas finales puede reducirse en comparación con el déficit por subsector, lo que se debe a la disponibilidad de fondos no adjudicados a un subsector específico",null,null,null,null,null,null,null,null,null,null,null,null,null,null,null,null,null,null,null,null,null,null,null,null,null,"Cuadro 9. Déficit de financiación: financiación pública actual comparada con los costos anuales que se pretende cubrir con fondos públicos, en millones de US$"]
[null,null,null,"Las cifras de este cuadro se centran en el déficit de financiación pública y excluyen los fondos que se prevé recaudar de los clientes a través de tarifas (basadas en las normas de recuperación de costos)",null,null,null,null,null,null,null,null,null,null,null,null,null,null,null,null,null,null,null,null,null,null,null,null,null,"Variable","Zonas urbanas",null,"Zonas rurales",null,"Total"]
[null,null,null,"Los costos de los servicios de agua y saneamiento para que estos sean gestionados de forma segura son típicamente adicionales a los costos para lograr acceso básico.",null,null,null,null,null,null,null,null,null,null,null,null,null,null,null,null,null,null,null,null,null,null,null,null,null,null,"Agua","Saneamiento","Agua","Saneamiento"]
[null,null,null,null,null,null,null,null,null,null,null,null,null,null,null,null,null,null,null,null,null,null,null,null,null,null,null,null,null,"Nuevos servicios: acceso básico",{"$f":"AG368","v":27.683054650479662},{"$f":"AH368","v":351.63474189235018},{"$f":"AG370","v":33.998943785921078},{"$f":"AH370","v":75.164841266422044},{"$f":"SUM(AE480:AH480)","v":488.481581595173}]
[null,null,null,null,null,null,null,null,null,null,null,null,null,null,null,null,null,null,null,null,null,null,null,null,null,null,null,null,null,"Nuevos servicios: gestionados de forma segura",{"$f":"AG368*0.5+AK368","v":96.358825399204221},{"$f":"AH368+AL368","v":435.92636319904568},{"$f":"0.5*AG370+AK370","v":86.910386569375248},{"$f":"AH370+AL370","v":392.08752859842218},{"$f":"SUM(AE481:AH481)","v":1011.2831037660472}]
[null,null,null,null,null,null,null,null,null,null,null,null,null,null,null,null,null,null,null,null,null,null,null,null,null,null,null,null,null,"Mantenimiento de servicios: acceso básico",{"$f":"AG384","v":10.066376080864247},{"$f":"AH384","v":59.791792622587252},{"$f":"AG386","v":14.239620286474619},{"$f":"AH386","v":16.808046208164132},{"$f":"SUM(AE482:AH482)","v":100.90583519809024}]
[null,null,null,null,null,null,null,null,null,null,null,null,null,null,null,null,null,null,null,null,null,null,null,null,null,null,null,null,null,"Mantenimiento de servicios: gestionados de forma segura",{"$f":"AG384*0.5+AK386","v":6.7650889258553004},{"$f":"AH384+AL384","v":66.301999681194772},{"$f":"AG386*0.5+AK386","v":8.8517110286604872},{"$f":"AH386+AL386","v":157.28475717168152},{"$f":"SUM(AE483:AH483)","v":239.20355680739209}]
[null,null,null,null,null,null,null,null,null,null,null,null,null,null,null,null,null,null,null,null,null,null,null,null,null,null,null,null,null,"Fondos disponibles",{"$f":"('HOJA DE VERIFICACIÓN DE DATOS'!E52+'HOJA DE VERIFICACIÓN DE DATOS'!F52+'HOJA DE VERIFICACIÓN DE DATOS'!G52+'HOJA DE VERIFICACIÓN DE DATOS'!H52)/1000000","v":0},{"$f":"('HOJA DE VERIFICACIÓN DE DATOS'!E54+'HOJA DE VERIFICACIÓN DE DATOS'!F54+'HOJA DE VERIFICACIÓN DE DATOS'!G54+'HOJA DE VERIFICACIÓN DE DATOS'!H54)/1000000","v":0},{"$f":"('HOJA DE VERIFICACIÓN DE DATOS'!E53+'HOJA DE VERIFICACIÓN DE DATOS'!F53+'HOJA DE VERIFICACIÓN DE DATOS'!G53+'HOJA DE VERIFICACIÓN DE DATOS'!H53)/1000000","v":0},{"$f":"('HOJA DE VERIFICACIÓN DE DATOS'!E55+'HOJA DE VERIFICACIÓN DE DATOS'!F55+'HOJA DE VERIFICACIÓN DE DATOS'!G55+'HOJA DE VERIFICACIÓN DE DATOS'!H55)/1000000","v":0},{"$f":"('HOJA DE VERIFICACIÓN DE DATOS'!E58+'HOJA DE VERIFICACIÓN DE DATOS'!F58+'HOJA DE VERIFICACIÓN DE DATOS'!G58+'HOJA DE VERIFICACIÓN DE DATOS'!H58+'HOJA DE VERIFICACIÓN DE DATOS'!E59+'HOJA DE VERIFICACIÓN DE DATOS'!F59+'HOJA DE VERIFICACIÓN DE DATOS'!G59+'HOJA DE VERIFICACIÓN DE DATOS'!H59)/1000000","v":0}]
[null,null,null,null,null,null,null,null,null,null,null,null,null,null,null,null,null,null,null,null,null,null,null,null,null,null,null,null,null,"Déficit de financiación",{"$f":"AE481+AE483-AE484","v":103.12391432505952},{"$f":"AF481+AF483-AF484","v":502.22836288024047},{"$f":"AG481+AG483-AG484","v":95.762097598035737},{"$f":"AH481+AH483-AH484","v":549.37228577010364},{"$f":"AI481+AI483-AI484","v":1250.4866605734394}]

{"sheet":"SOURCE","index":3,"n_rows":146,"n_cols":6427,"rows_kept":15,"cut":true,"hidden":true,"merged":[[4,6371,4,6373],[4,6374,4,6376],[4,6413,4,6415],[4,6416,4,6418],[4,6419,4,6421],[4,6422,4,6424],[4,6395,4,6397],[4,6398,4,6400],[4,6401,4,6403],[4,6404,4,6406],[4,6407,4,6409],[4,6410,4,6412],[4,5898,4,5902],[4,5903,4,5907],[4,5908,4,5912],[4,5913,4,5917],[4,5918,4,5922],[4,6235,4,6239],[4,6300,4,6304],[4,6305,4,6309],[4,6310,4,6314],[4,6270,4,6274],[4,6275,4,6279],[4,6280,4,6284],[4,6285,4,6289],[4,6290,4,6294],[4,6295,4,6299],[4,5868,4,5872],[4,5873,4,5877],[4,5878,4,5882],[4,5883,4,5887],[4,5888,4,5892],[4,5893,4,5897],[4,5838,4,5842],[4,5843,4,5847],[4,5848,4,5852],[4,5853,4,5857],[4,5858,4,5862],[4,5863,4,5867],[4,5808,4,5812],[4,5813,4,5817],[4,5818,4,5822],[4,5823,4,5827],[4,5828,4,5832],[4,5833,4,5837],[4,5750,4,5768],[4,5769,4,5787],[4,5788,4,5792],[4,5793,4,5797],[4,5798,4,5802],[4,5803,4,5807],[4,5636,4,5654],[4,5655,4,5673],[4,5674,4,5692],[4,5693,4,5711],[4,5712,4,5730],[4,5731,4,5749],[4,5522,4,5540],[4,5541,4,5559],[4,5560,4,5578],[4,5579,4,5597],[4,5598,4,5616],[4,5617,4,5635],[4,5408,4,5426],[4,5427,4,5445],[4,5446,4,5464],[4,5465,4,5483],[4,5484,4,5502],[4,5503,4,5521],[4,5294,4,5312],[4,5313,4,5331],[4,5332,4,5350],[4,5351,4,5369],[4,5370,4,5388],[4,5389,4,5407],[4,5180,4,5198],[4,5199,4,5217],[4,5218,4,5236],[4,5237,4,5255],[4,5256,4,5274],[4,5275,4,5293],[4,5066,4,5084],[4,5085,4,5103],[4,5104,4,5122],[4,5123,4,5141],[4,5142,4,5160],[4,5161,4,5179],[4,4952,4,4970],[4,4971,4,4989],[4,4990,4,5008],[4,5009,4,5027],[4,5028,4,5046],[4,5047,4,5065],[4,4838,4,4856],[4,4857,4,4875],[4,4876,4,4894],[4,4895,4,4913],[4,4914,4,4932],[4,4933,4,4951],[4,4724,4,4742],[4,4743,4,4761],[4,4762,4,4780],[4,4781,4,4799],[4,4800,4,4818],[4,4819,4,4837],[4,4610,4,4628],[4,4629,4,4647],[4,4648,4,4666],[4,4667,4,4685],[4,4686,4,4704],[4,4705,4,4723],[4,4496,4,4514],[4,4515,4,4533],[4,4534,4,4552],[4,4553,4,4571],[4,4572,4,4590],[4,4591,4,4609],[4,4382,4,4400],[4,4401,4,4419],[4,4420,4,4438],[4,4439,4,4457],[4,4458,4,4476],[4,4477,4,4495],[4,4268,4,4286],[4,4287,4,4305],[4,4306,4,4324],[4,4325,4,4343],[4,4344,4,4362],[4,4363,4,4381],[4,4154,4,4172],[4,4173,4,4191],[4,4192,4,4210],[4,4211,4,4229],[4,4230,4,4248],[4,4249,4,4267],[4,4068,4,4072],[4,4073,4,4077],[4,4078,4,4096],[4,4097,4,4115],[4,4116,4,4134],[4,4135,4,4153],[4,4038,4,4042],[4,4043,4,4047],[4,4048,4,4052],[4,4053,4,4057],[4,4058,4,4062],[4,4063,4,4067],[4,4008,4,4012],[4,4013,4,4017],[4,4018,4,4022],[4,4023,4,4027],[4,4028,4,4032],[4,4033,4,4037],[4,3978,4,3982],[4,3983,4,3987],[4,3988,4,3992],[4,3993,4,3997],[4,3998,4,4002],[4,4003,4,4007],[4,3948,4,3952],[4,3953,4,3957],[4,3958,4,3962],[4,3963,4,3967],[4,3968,4,3972],[4,3973,4,3977],[4,3918,4,3922],[4,3923,4,3927],[4,3928,4,3932],[4,3933,4,3937],[4,3938,4,3942],[4,3943,4,3947],[4,3888,4,3892],[4,3893,4,3897],[4,3898,4,3902],[4,3903,4,3907],[4,3908,4,3912],[4,3913,4,3917],[4,3858,4,3862],[4,3863,4,3867],[4,3868,4,3872],[4,3873,4,3877],[4,3878,4,3882],[4,3883,4,3887],[4,3828,4,3832],[4,3833,4,3837],[4,3838,4,3842],[4,3843,4,3847],[4,3848,4,3852],[4,3853,4,3857],[4,3798,4,3802],[4,3803,4,3807],[4,3808,4,3812],[4,3813,4,3817],[4,3818,4,3822],[4,3823,4,3827],[4,3768,4,3772],[4,3773,4,3777],[4,3778,4,3782],[4,3783,4,3787],[4,3788,4,3792],[4,3793,4,3797],[4,3738,4,3742],[4,3743,4,3747],[4,3748,4,3752],[4,3753,4,3757],[4,3758,4,3762],[4,3763,4,3767],[4,3708,4,3712],[4,3713,4,3717],[4,3718,4,3722],[4,3723,4,3727],[4,3728,4,3732],[4,3733,4,3737],[4,3678,4,3682],[4,3683,4,3687],[4,3688,4,3692],[4,3693,4,3697],[4,3698,4,3702],[4,3703,4,3707],[4,3648,4,3652],[4,3653,4,3657],[4,3658,4,3662],[4,3663,4,3667],[4,3668,4,3672],[4,3673,4,3677],[4,3618,4,3622],[4,3623,4,3627],[4,3628,4,3632],[4,3633,4,3637],[4,3638,4,3642],[4,3643,4,3647],[4,3588,4,3592],[4,3593,4,3597],[4,3598,4,3602],[4,3603,4,3607],[4,3608,4,3612],[4,3613,4,3617],[4,3558,4,3562],[4,3563,4,3567],[4,3568,4,3572],[4,3573,4,3577],[4,3578,4,3582],[4,3583,4,3587],[4,3528,4,3532],[4,3533,4,3537],[4,3538,4,3542],[4,3543,4,3547],[4,3548,4,3552],[4,3553,4,3557],[4,3498,4,3502],[4,3503,4,3507],[4,3508,4,3512],[4,3513,4,3517],[4,3518,4,3522],[4,3523,4,3527],[4,3468,4,3472],[4,3473,4,3477],[4,3478,4,3482],[4,3483,4,3487],[4,3488,4,3492],[4,3493,4,3497],[4,3438,4,3442],[4,3443,4,3447],[4,3448,4,3452],[4,3453,4,3457],[4,3458,4,3462],[4,3463,4,3467],[4,3408,4,3412],[4,3413,4,3417],[4,3418,4,3422],[4,3423,4,3427],[4,3428,4,3432],[4,3433,4,3437],[4,3378,4,3382],[4,3383,4,3387],[4,3388,4,3392],[4,3393,4,3397],[4,3398,4,3402],[4,3403,4,3407],[4,3348,4,3352],[4,3353,4,3357],[4,3358,4,3362],[4,3363,4,3367],[4,3368,4,3372],[4,3373,4,3377],[4,3318,4,3322],[4,3323,4,3327],[4,3328,4,3332],[4,3333,4,3337],[4,3338,4,3342],[4,3343,4,3347],[4,3288,4,3292],[4,3293,4,3297],[4,3298,4,3302],[4,3303,4,3307],[4,3308,4,3312],[4,3313,4,3317],[4,3258,4,3262],[4,3263,4,3267],[4,3268,4,3272],[4,3273,4,3277],[4,3278,4,3282],[4,3283,4,3287],[4,3228,4,3232],[4,3233,4,3237],[4,3238,4,3242],[4,3243,4,3247],[4,3248,4,3252],[4,3253,4,3257],[4,3198,4,3202],[4,3203,4,3207],[4,3208,4,3212],[4,3213,4,3217],[4,3218,4,3222],[4,3223,4,3227],[4,3168,4,3172],[4,3173,4,3177],[4,3178,4,3182],[4,3183,4,3187],[4,3188,4,3192],[4,3193,4,3197],[4,3138,4,3142],[4,3143,4,3147],[4,3148,4,3152],[4,3153,4,3157],[4,3158,4,3162],[4,3163,4,3167],[4,3108,4,3112],[4,3113,4,3117],[4,3118,4,3122],[4,3123,4,3127],[4,3128,4,3132],[4,3133,4,3137],[4,3046,4,3066],[4,3067,4,3087],[4,3088,4,3092],[4,3093,4,3097],[4,3098,4,3102],[4,3103,4,3107],[4,2920,4,2940],[4,2941,4,2961],[4,2962,4,2982],[4,2983,4,3003],[4,3004,4,3024],[4,3025,4,3045],[4,2794,4,2814],[4,2815,4,2835],[4,2836,4,2856],[4,2857,4,2877],[4,2878,4,2898],[4,2899,4,2919],[4,2668,4,2688],[4,2689,4,2709],[4,2710,4,2730],[4,2731,4,2751],[4,2752,4,2772],[4,2773,4,2793],[4,2542,4,2562],[4,2563,4,2583],[4,2584,4,2604],[4,2605,4,2625],[4,2626,4,2646],[4,2647,4,2667],[4,2416,4,2436],[4,2437,4,2457],[4,2458,4,2478],[4,2479,4,2499],[4,2500,4,2520],[4,2521,4,2541],[4,2290,4,2310],[4,2311,4,2331],[4,2332,4,2352],[4,2353,4,2373],[4,2374,4,2394],[4,2395,4,2415],[4,2164,4,2184],[4,2185,4,2205],[4,2206,4,2226],[4,2227,4,2247],[4,2248,4,2268],[4,2269,4,2289],[4,2038,4,2058],[4,2059,4,2079],[4,2080,4,2100],[4,2101,4,2121],[4,2122,4,2142],[4,2143,4,2163],[4,1912,4,1932],[4,1933,4,1953],[4,1954,4,1974],[4,1975,4,1995],[4,1996,4,2016],[4,2017,4,2037],[4,1786,4,1806],[4,1807,4,1827],[4,1828,4,1848],[4,1849,4,1869],[4,1870,4,1890],[4,1891,4,1911],[4,1660,4,1680],[4,1681,4,1701],[4,1702,4,1722],[4,1723,4,1743],[4,1744,4,1764],[4,1765,4,1785],[4,1534,4,1554],[4,1555,4,1575],[4,1576,4,1596],[4,1597,4,1617],[4,1618,4,1638],[4,1639,4,1659],[4,1450,4,1470],[4,1471,4,1491],[4,1492,4,1512],[4,1513,4,1533],[4,1382,5,1382],[4,1383,5,1383],[4,1384,5,1384],[4,1385,5,1385],[4,1386,5,1386],[4,1387,4,1407],[4,1381,5,1381],[4,1331,4,1335],[4,1336,4,1340],[4,1341,4,1345],[4,1346,4,1350],[4,1351,4,1355],[4,1356,4,1360],[4,1408,4,1428],[4,1429,4,1449],[4,1305,5,1305],[4,1306,4,1310],[4,1311,4,1315],[4,1316,4,1320],[4,1321,4,1325],[4,1326,4,1330],[4,1284,4,1287],[4,1288,4,1290],[4,1291,5,1291],[4,1292,4,1297],[4,1298,4,1301],[4,1302,4,1304],[4,1264,5,1264],[4,1265,4,1269],[4,1270,4,1273],[4,1274,4,1276],[4,1277,5,1277],[4,1278,4,1283],[4,1244,4,1247],[4,1248,4,1250],[4,1251,5,1251],[4,1252,4,1256],[4,1257,4,1260],[4,1261,4,1263],[4,1225,5,1225],[4,1226,4,1230],[4,1231,4,1234],[4,1235,4,1237],[4,1238,5,1238],[4,1239,4,1243],[4,1205,4,1208],[4,1209,4,1211],[4,1212,5,1212],[4,1213,4,1217],[4,1218,4,1221],[4,1222,4,1224],[4,1184,5,1184],[4,1186,4,1190],[4,1191,4,1194],[4,1195,4,1197],[4,1198,5,1198],[4,1200,4,1204],[4,1163,4,1166],[4,1167,4,1169],[4,1170,5,1170],[4,1172,4,1176],[4,1177,4,1180],[4,1181,4,1183],[4,1143,5,1143],[4,1144,4,1148],[4,1149,4,1152],[4,1153,4,1155],[4,1156,5,1156],[4,1158,4,1162],[4,1123,4,1126],[4,1127,4,1129],[4,1130,5,1130],[4,1131,4,1135],[4,1136,4,1139],[4,1140,4,1142],[4,1104,5,1104],[4,1105,4,1109],[4,1110,4,1113],[4,1114,4,1116],[4,1117,5,1117],[4,1118,4,1122],[4,1084,4,1087],[4,1088,4,1090],[4,1091,5,1091],[4,1092,4,1096],[4,1097,4,1100],[4,1101,4,1103],[4,981,4,999],[4,1000,4,1018],[4,1019,4,1037],[4,1038,4,1056],[4,1057,4,1075],[4,1079,4,1083],[4,867,4,885],[4,886,4,904],[4,905,4,923],[4,924,4,942],[4,943,4,961],[4,962,4,980],[4,753,4,771],[4,772,4,790],[4,791,4,809],[4,810,4,828],[4,829,4,847],[4,848,4,866],[4,639,4,657],[4,658,4,676],[4,677,4,695],[4,696,4,714],[4,715,4,733],[4,734,4,752],[4,525,4,543],[4,544,4,562],[4,563,4,581],[4,582,4,600],[4,601,4,619],[4,620,4,638],[4,411,4,429],[4,430,4,448],[4,449,4,467],[4,468,4,486],[4,487,4,505],[4,506,4,524],[4,290,4,308],[4,309,4,327],[4,328,4,346],[4,354,4,372],[4,373,4,391],[4,392,4,410],[4,176,4,194],[4,195,4,213],[4,214,4,232],[4,233,4,251],[4,252,4,270],[4,271,4,289],[4,111,4,116],[4,117,5,117],[4,118,5,118],[4,119,4,137],[4,138,4,156],[4,157,4,175],[4,100,5,100],[4,101,5,101],[4,102,5,102],[4,103,4,108],[4,109,5,109],[4,110,5,110],[4,94,5,94],[4,95,5,95],[4,96,5,96],[4,97,5,97],[4,98,5,98],[4,99,5,99],[4,83,4,88],[4,89,5,89],[4,90,5,90],[4,91,5,91],[4,92,5,92],[4,93,5,93],[4,67,4,72],[4,73,5,73],[4,74,5,74],[4,75,4,80],[4,81,5,81],[4,82,5,82],[4,51,4,56],[4,57,5,57],[4,58,5,58],[4,59,4,64],[4,65,5,65],[4,66,5,66],[4,35,4,40],[4,41,5,41],[4,42,5,42],[4,43,4,48],[4,49,5,49],[4,50,5,50],[3,6389,3,6394],[3,6395,3,6400],[3,6401,3,6406],[3,6190,3,6195],[3,6196,3,6201],[3,6202,3,6207],[3,6208,3,6213],[3,6214,3,6219],[3,6220,3,6225],[3,6154,3,6159],[3,6160,3,6165],[3,6166,3,6171],[3,6172,3,6177],[3,6178,3,6183],[3,6184,3,6189],[3,6109,3,6114],[3,6115,3,6120],[3,6130,3,6135],[3,6407,3,6412],[3,6413,3,6418],[3,6419,3,6424],[3,6331,4,6334],[3,6336,4,6339],[3,6340,4,6343],[3,6344,3,6349],[3,6350,3,6355],[3,6356,3,6361],[4,6347,4,6349],[4,6350,4,6352],[4,6353,4,6355],[4,6356,4,6358],[4,6344,4,6346],[4,6377,4,6379],[4,6380,4,6382],[4,6383,4,6385],[4,6386,4,6388],[4,6389,4,6391],[4,6392,4,6394],[4,6359,4,6361],[4,6362,4,6364],[4,6365,4,6367],[4,6368,4,6370],[3,6136,3,6141],[3,6142,3,6147],[3,6148,3,6153],[3,6074,3,6078],[3,6079,3,6084],[3,6085,3,6090],[3,6091,3,6096],[3,6097,3,6102],[3,6103,3,6108],[3,6040,3,6045],[3,6046,3,6051],[3,6052,3,6057],[3,6058,3,6063],[3,6064,3,6068],[3,6069,3,6073],[3,5995,3,6000],[3,6001,3,6006],[3,6007,3,6012],[3,6013,3,6018],[3,6028,3,6033],[3,6034,3,6039],[3,5959,3,5964],[3,5965,3,5970],[3,5971,3,5976],[3,5977,3,5982],[3,5983,3,5988],[3,5989,3,5994],[3,5923,3,5928],[3,5929,3,5934],[3,5935,3,5940],[3,5941,3,5946],[3,5947,3,5952],[3,5953,3,5958],[3,5818,3,5847],[3,5848,3,5877],[3,5878,3,5907],[3,5908,3,5912],[3,5913,3,5917],[3,5918,3,5922],[3,5218,3,5331],[3,5332,3,5445],[3,5446,3,5559],[3,5560,3,5673],[3,5674,3,5787],[3,5788,3,5817],[3,4534,3,4647],[3,4648,3,4761],[3,4762,3,4875],[3,4876,3,4989],[3,4990,3,5103],[3,5104,3,5217],[3,4018,3,4047],[3,4048,3,4077],[3,4078,3,4191],[3,4192,3,4305],[3,4306,3,4419],[3,4420,3,4533],[3,3838,3,3867],[3,3868,3,3897],[3,3898,3,3927],[3,3928,3,3957],[3,3958,3,3987],[3,3988,3,4017],[3,3658,3,3687],[3,3688,3,3717],[3,3718,3,3747],[3,3748,3,3777],[3,3778,3,3807],[3,3808,3,3837],[3,3478,3,3507],[3,3508,3,3537],[3,3538,3,3567],[3,3568,3,3597],[3,3598,3,3627],[3,3628,3,3657],[3,3298,3,3327],[3,3328,3,3357],[3,3358,3,3387],[3,3388,3,3417],[3,3418,3,3447],[3,3448,3,3477],[3,3118,3,3147],[3,3148,3,3177],[3,3178,3,3207],[3,3208,3,3237],[3,3238,3,3267],[3,3268,3,3297],[3,2773,3,2898],[3,2899,3,3024],[3,3025,3,3045],[3,3046,3,3066],[3,3067,3,3087],[3,3088,3,3117],[3,2017,3,2142],[3,2143,3,2268],[3,2269,3,2394],[3,2395,3,2520],[3,2521,3,2646],[3,2647,3,2772],[3,1381,3,1384],[3,1387,3,1512],[3,1513,3,1638],[3,1639,3,1764],[3,1765,3,1890],[3,1891,3,2016],[3,1346,3,1355],[3,1356,3,1365],[3,1366,3,1371],[3,1373,5,1373],[3,1374,3,1377],[3,1378,3,1380],[4,1361,4,1365],[4,1366,5,1366],[4,1367,4,1368],[4,1369,4,1370],[4,1371,5,1371],[4,1372,5,1372],[4,1378,5,1378],[4,1379,5,1379],[4,1380,5,1380],[3,1306,3,1315],[3,1316,3,1325],[3,1326,3,1335],[3,1336,3,1345],[3,1199,3,1212],[3,1213,3,1225],[3,1226,3,1238],[3,1239,3,1251],[3,1252,3,1264],[3,1265,3,1277],[3,1185,3,1198],[3,924,3,1037],[3,1038,3,1056],[3,1057,3,1075],[3,1079,3,1091],[3,1092,3,1104],[3,1105,3,1117],[3,1278,3,1291],[3,1292,3,1305],[3,103,3,110],[3,111,3,118],[3,119,3,232],[3,233,3,346],[3,1118,3,1130],[3,1131,3,1143],[3,1144,3,1156],[3,1157,3,1170],[3,1171,3,1184],[3,696,3,809],[3,810,3,923],[2,6413,2,6424],[3,1,4,17],[3,18,4,34],[3,35,3,42],[3,43,3,50],[3,51,3,58],[3,59,3,66],[3,67,3,72],[3,75,3,82],[3,83,3,90],[2,6344,2,6361],[2,6362,3,6364],[2,6365,2,6376],[2,6377,2,6388],[2,6389,2,6400],[2,6401,2,6412],[3,6365,3,6370],[3,6371,3,6376],[3,6377,3,6382],[3,6383,3,6388],[2,6229,2,6231],[2,6232,2,6234],[2,6235,2,6324],[2,6325,4,6325],[2,6326,2,6334],[2,6335,2,6343],[3,6235,3,6264],[3,6265,3,6294],[3,6295,3,6324],[3,6327,4,6330],[2,6148,2,6165],[2,6166,2,6183],[2,6184,2,6201],[2,6202,2,6207],[2,6208,2,6225],[2,6226,2,6228],[4,6240,4,6244],[4,6245,4,6249],[4,6250,4,6254],[4,6255,4,6259],[4,6260,4,6264],[4,6265,4,6269],[4,6315,4,6319],[4,6320,4,6324],[2,6097,2,6102],[2,6103,2,6120],[2,6121,2,6123],[2,6124,2,6126],[2,6127,2,6129],[2,6130,2,6147],[2,6022,2,6024],[2,6025,2,6027],[2,6028,2,6045],[2,6046,2,6063],[2,6064,2,6078],[2,6079,2,6096],[2,5941,2,5958],[2,5959,2,5976],[2,5977,2,5994],[2,5995,2,6000],[2,6001,2,6018],[2,6019,2,6021],[2,5104,2,5445],[2,5446,2,5787],[2,5788,2,5817],[2,5818,2,5907],[2,5908,2,5922],[2,5923,2,5940],[2,4078,2,4419],[2,4420,2,4761],[2,4762,2,5103],[2,3268,2,3357],[2,3358,2,3447],[2,3448,2,3537],[2,3538,2,3627],[2,3628,2,3717],[2,3718,2,3807],[2,1306,2,1325],[2,1326,2,1345],[2,1346,2,1365],[2,1366,2,1386],[2,1387,2,1764],[2,1765,2,1890],[2,3808,2,3897],[2,3898,2,3987],[2,3988,2,4077],[3,91,3,96],[3,97,3,102],[1,6377,1,6400],[1,6401,1,6424],[2,35,2,50],[2,51,2,66],[2,67,2,82],[2,83,2,90],[2,91,2,102],[2,103,2,118],[2,119,2,346],[2,347,2,352],[1,1306,1,1365],[1,1366,1,1386],[1,1387,1,3087],[1,3088,1,6324],[1,6325,1,6343],[1,6344,1,6376],[2,1891,2,2268],[2,2269,2,2646],[2,2647,2,3024],[2,3025,2,3087],[2,3088,2,3177],[2,3178,2,3267],[1,6425,1,6426],[2,6425,2,6426],[3,6425,3,6426],[4,6425,4,6426],[1,0,5,0],[1,1,2,34],[1,35,1,118],[1,119,1,1075],[1,1076,1,1078],[1,1079,1,1305],[2,354,2,581],[2,582,2,809],[2,810,2,1037],[2,1038,2,1075],[2,1079,2,1130],[2,1131,2,1156],[2,1157,2,1212],[2,1213,2,1225],[2,1226,2,1277],[2,1278,2,1305],[3,347,3,352],[3,354,3,467],[3,468,3,581],[3,582,3,695]],"bounds":{"rows_first":7,"rows_last":1,"rows_between":7,"halvings":8}}
["This sheet is where data in the Interface is taken from",null,null,null,null,null,null,null,null,null,null,null,null,null,null,null,null,null,null,null,null,null,null,null,null,null,null,null,null,null,null,null,null,null,null,null,null,null,null,null,null,null,null,null,null,null,null,null,null,null,null,null,null,null,null,null,null,null,null,null,null,null,null,null,null,null,null,null,null,null,null,null,null,null,null,null,null,null,null,null,null,null,null,null,null,null,null,null,null,null,null,null,null,null,null,null,null,null,null,null,null,null,null,null,null,null,null,null,null,null,null,null,null,null,null,null,null,null,null,null,null,null,null,null,null,null,null,null,null,null,null,null,null,null,null,null,null,null,null,null,null,null,null,null,null,null,null,null,null,null,null,null,null,null,null,null,null,null,null,null,null,null,null,null,null,null,null,null,null,null,null,null,null,null,null,null,null,null,null,null,null,null,null,null,null,null,null,null,null,null,null,null,null,null,null,null,null,null,null,null,null,null,null,null,null,null,null,null,null,null,null,null,null,null,null,null,null,null,null,null,null,null,null,null,null,null,null,null,null,null,null,null,null,null,null,null,null,null,null,null,null,null,null,null,null,null,null,null,null,null,null,null,null,null,null,null,null,null,null,null,null,null,null,null,null,null,null,null,null,null,null,null,null,null,null,null,null,null,null,null,null,null,null,null,null,null,null,null,null,null,null,null,null,null,null,null,null,null,null,null,null,null,null,null,null,null,null,null,null,null,null,null,null,null,null,null,null,null,null,null,null,null,null,null,null,null,null,null,null,null,null,null,null,null,null,null,null,null,null,null,null,null,null,null,null,null,null,null,null,null,null,null,null,null,null,null,null,null,null,null,null,null,null,null,null,null,null,null,null,null,null,null,null,null,null,null,null,null,null,null,null,null,null,null,null,null,null,null,null,null,null,null,null,null,null,null,null,null,null,null,null,null,null,null,null,null,null,null,null,null,null,null,null,null,null,null,null,null,null,null,null,null,null,null,null,null,null,null,null,null,null,null,null,null,null,null,null,null,null,null,null,null,null,null,null,null,null,null,null,null,null,null,null,null,null,null,null,null,null,null,null,null,null,null,null,null,null,null,null,null,null,null,null,null,null,null,null,null,null,null,null,null,null,null,null,null,null,null,null,null,null,null,null,null,null,null,null,null,null,null,null,null,null,null,null,null,null,null,null,null,null,null,null,null,null,null,null,null,null,null,null,null,null,null,null,null,null,null,null,null,null,null,null,null,null,null,null,null,null,null,null,null,null,null,null,null,null,null,null,null,null,null,null,null,null,null,null,null,null,null,null,null,null,null,null,null,null,null,null,null,null,null,null,null,null,null,null,null,null,null,null,null,null,null,null,null,null,null,null,null,null,null,null,null,null,null,null,null,null,null,null,null,null,null,null,null,null,null,null,null,null,null,null,null,null,null,null,null,null,null,null,null,null,null,null,null,null,null,null,null,null,null,null,null,null,null,null,null,null,null,null,null,null,null,null,null,null,null,null,null,null,null,null,null,null,null,null,null,null,null,null,null,null,null,null,null,null,null,null,null,null,null,null,null,null,null,null,null,null,null,null,null,null,null,null,null,null,null,null,null,null,null,null,null,null,null,null,null,null,null,null,null,null,null,null,null,null,null,null,null,null,null,null,null,null,null,null,null,null,null,null,null,null,null,null,null,null,null,null,null,null,null,null,null,null,null,null,null,null,null,null,null,null,null,null,null,null,null,null,null,null,null,null,null,null,null,null,null,null,null,null,null,null,null,null,null,null,null,null,null,null,null,null,null,null,null,null,null,null,null,null,null,null,null,null,null,null,null,null,null,null,null,null,null,null,null,null,null,null,null,null,null,null,null,null,null,null,null,null,null,null,null,null,null,null,null,null,null,null,null,null,null,null,null,null,null,null,null,null,null,null,null,null,null,null,null,null,null,null,null,null,null,null,null,null,null,null,null,null,null,null,null,null,null,null,null,null,null,null,null,null,null,null,null,null,null,null,null,null,null,null,null,null,null,null,null,null,null,null,null,null,null,null,null,null,null,null,null,null,null,null,null,null,null,null,null,null,null,null,null,null,null,null,null,null,null,null,null,null,null,null,null,null,null,null,null,null,null,null,null,null,null,null,null,null,null,null,null,null,null,null,null,null,null,null,null,null,null,null,null,null,null,null,null,null,null,null,null,null,null,null,null,null,null,null,null,null,null,null,null,null,null,null,null,null,null,null,null,null,null,null,null,null,null,null,null,null,null,null,null,null,null,null,null,null,null,null,null,null,null,null,null,null,null,null,null,null,null,null,null,null,null,null,null,null,null,null,null,null,null,null,null,null,null,null,null,null,null,null,null,null,null,null,null,null,null,null,null,null,null,null,null,null,null,null,null,null,null,null,null,null,null,null,null,null,null,null,null,null,null,null,null,null,null,null,null,null,null,null,null,null,null,null,null,null,null,null,null,null,null,null,null,null,null,null,null,null,null,null,null,null,null,null,null,null,null,null,null,null,null,null,null,null,null,null,null,null,null,null,null,null,null,null,null,null,null,null,null,null,null,null,null,null,null,null,null,null,null,null,null,null,null,null,null,null,null,null,null,null,null,null,null,null,null,null,null,null,null,null,null,null,null,null,null,null,null,null,null,null,null,null,null,null,null,null,null,null,null,null,null,null,null,null,null,null,null,null,null,null,null,null,null,null,null,null,null,null,null,null,null,null,null,null,null,null,null,null,null,null,null,null,null,null,null,null,null,null,null,null,null,null,null,null,null,null,null,null,null,null,null,null,null,null,null,null,null,null,null,null,null,null,null,null,null,null,null,null,null,null,null,null,null,null,null,null,null,null,null,null,null,null,null,null,null,null,null,null,null,null,null,null,null,null,null,null,null,null,null,null,null,null,null,null,null,null,null,null,null,null,null,null,null,null,null,null,null,null,null,null,null,null,null,null,null,null,null,null,null,null,null,null,null,null,null,null,null,null,null,null,null,null,null,null,null,null,null,null,null,null,null,null,null,null,null,null,null,null,null,null,null,null,null,null,null,null,null,null,null,null,null,null,null,null,null,null,null,null,null,null,null,null,null,null,null,null,null,null,null,null,null,null,null,null,null,null,null,null,null,null,null,null,null,null,null,null,null,null,null,null,null,null,null,null,"8: H: VSL - link to BOE",null,null,null,"(DALY)",null,null,"(VOSL)",null,"4. L/H: Values"]
["1. Country","2. Population Size (Thousand)",null,null,null,null,null,null,null,null,null,null,null,null,null,null,null,null,null,null,null,null,null,null,null,null,null,null,null,null,null,null,null,null,null,"3. Coverage of WASH Services",null,null,null,null,null,null,null,null,null,null,null,null,null,null,null,null,null,null,null,null,null,null,null,null,null,null,null,null,null,null,null,null,null,null,null,null,null,null,null,null,null,null,null,null,null,null,null,null,null,null,null,null,null,null,null,null,null,null,null,null,null,null,null,null,null,null,null,null,null,null,null,null,null,null,null,null,null,null,null,null,null,null,null,"4. Total Population to be Served with New Services (Thousand, Per Year)",null,null,null,null,null,null,null,null,null,null,null,null,null,null,null,null,null,null,null,null,null,null,null,null,null,null,null,null,null,null,null,null,null,null,null,null,null,null,null,null,null,null,null,null,null,null,null,null,null,null,null,null,null,null,null,null,null,null,null,null,null,null,null,null,null,null,null,null,null,null,null,null,null,null,null,null,null,null,null,null,null,null,null,null,null,null,null,null,null,null,null,null,null,null,null,null,null,null,null,null,null,null,null,null,null,null,null,null,null,null,null,null,null,null,null,null,null,null,null,null,null,null,null,null,null,null,null,null,null,null,null,null,null,null,null,null,null,null,null,null,null,null,null,null,null,null,null,null,null,null,null,null,null,null,null,null,null,null,null,null,null,null,null,null,null,null,null,null,null,null,null,null,null,null,null,null,null,null,null,null,null,null,null,null,null,null,null,null,null,null,null,null,null,null,null,null,null,null,null,null,null,null,null,null,null,null,null,null,null,null,null,null,null,null,null,null,null,null,null,null,null,null,null,null,null,null,null,null,null,null,null,null,null,null,null,null,null,null,null,null,null,null,null,null,null,null,null,null,null,null,null,null,null,null,null,null,null,null,null,null,null,null,null,null,null,null,null,null,null,null,null,null,null,null,null,null,null,null,null,null,null,null,null,null,null,null,null,null,null,null,null,null,null,null,null,null,null,null,null,null,null,null,null,null,null,null,null,null,null,null,null,null,null,null,null,null,null,null,null,null,null,null,null,null,null,null,null,null,null,null,null,null,null,null,null,null,null,null,null,null,null,null,null,null,null,null,null,null,null,null,null,null,null,null,null,null,null,null,null,null,null,null,null,null,null,null,null,null,null,null,null,null,null,null,null,null,null,null,null,null,null,null,null,null,null,null,null,null,null,null,null,null,null,null,null,null,null,null,null,null,null,null,null,null,null,null,null,null,null,null,null,null,null,null,null,null,null,null,null,null,null,null,null,null,null,null,null,null,null,null,null,null,null,null,null,null,null,null,null,null,null,null,null,null,null,null,null,null,null,null,null,null,null,null,null,null,null,null,null,null,null,null,null,null,null,null,null,null,null,null,null,null,null,null,null,null,null,null,null,null,null,null,null,null,null,null,null,null,null,null,null,null,null,null,null,null,null,null,null,null,null,null,null,null,null,null,null,null,null,null,null,null,null,null,null,null,null,null,null,null,null,null,null,null,null,null,null,null,null,null,null,null,null,null,null,null,null,null,null,null,null,null,null,null,null,null,null,null,null,null,null,null,null,null,null,null,null,null,null,null,null,null,null,null,null,null,null,null,null,null,null,null,null,null,null,null,null,null,null,null,null,null,null,null,null,null,null,null,null,null,null,null,null,null,null,null,null,null,null,null,null,null,null,null,null,null,null,null,null,null,null,null,null,null,null,null,null,null,null,null,null,null,null,null,null,null,null,null,null,null,null,null,null,null,null,null,null,null,null,null,null,null,null,null,null,null,null,null,null,null,null,null,null,null,null,null,null,null,null,null,null,null,null,null,null,null,null,null,null,null,null,null,null,null,null,null,null,null,null,null,null,null,null,null,null,null,null,null,null,null,null,null,null,null,null,null,null,null,null,null,null,null,null,null,null,null,null,null,null,null,null,null,null,null,null,null,null,null,null,null,null,null,null,null,null,null,null,null,null,null,null,null,null,null,null,null,null,null,null,null,null,null,null,null,null,null,null,null,null,null,null,null,null,null,null,null,null,null,null,null,null,null,null,null,null,null,null,null,null,null,null,null,null,null,null,null,null,null,null,null,null,null,null,null,null,null,null,null,null,null,null,null,null,null,null,null,null,null,null,null,null,null,null,null,null,null,null,null,null,null,null,null,null,null,null,null,null,null,null,null,null,null,null,null,null,null,null,null,null,null,null,null,null,null,null,null,null,null,null,null,null,null,null,null,null,null,null,null,null,null,null,null,null,null,null,null,null,null,null,null,null,null,null,null,null,null,null,null,null,null,null,null,null,null,null,null,null,null,null,null,null,null,null,null,null,null,null,null,null,null,null,null,null,null,null,null,null,null,null,null,null,null,null,null,null,null,null,null,null,null,null,null,null,null,null,null,null,null,null,null,null,null,null,null,null,null,null,null,null,null,null,null,null,null,null,null,null,null,null,null,null,null,null,null,null,null,null,null,null,null,null,null,null,null,null,null,"Proportion of global unserved",null,null,"5. Unit Costs of WASH Services (Per Capita, US$)",null,null,null,null,null,null,null,null,null,null,null,null,null,null,null,null,null,null,null,null,null,null,null,null,null,null,null,null,null,null,null,null,null,null,null,null,null,null,null,null,null,null,null,null,null,null,null,null,null,null,null,null,null,null,null,null,null,null,null,null,null,null,null,null,null,null,null,null,null,null,null,null,null,null,null,null,null,null,null,null,null,null,null,null,null,null,null,null,null,null,null,null,null,null,null,null,null,null,null,null,null,null,null,null,null,null,null,null,null,null,null,null,null,null,null,null,null,null,null,null,null,null,null,null,null,null,null,null,null,null,null,null,null,null,null,null,null,null,null,null,null,null,null,null,null,null,null,null,null,null,null,null,null,null,null,null,null,null,null,null,null,null,null,null,null,null,null,null,null,null,null,null,null,null,null,null,null,null,null,null,null,null,null,null,null,null,null,null,null,null,null,null,null,null,null,null,null,null,null,null,null,null,null,null,null,null,null,null,null,null,null,null,null,null,null,null,null,null,null,null,null,null,null,null,null,null,"6. Coverage per Technology Type",null,null,null,null,null,null,null,null,null,null,null,null,null,null,null,null,null,null,null,null,null,null,null,null,null,null,null,null,null,null,null,null,null,null,null,null,null,null,null,null,null,null,null,null,null,null,null,null,null,null,null,null,null,null,null,null,null,null,null,"7. Economic Variables",null,null,null,null,null,null,null,null,null,null,null,null,null,null,null,null,null,null,null,null,"8. Costs of Extending to Unserved Population, by Year (2015 Prices, Thousand US$)",null,null,null,null,null,null,null,null,null,null,null,null,null,null,null,null,null,null,null,null,null,null,null,null,null,null,null,null,null,null,null,null,null,null,null,null,null,null,null,null,null,null,null,null,null,null,null,null,null,null,null,null,null,null,null,null,null,null,null,null,null,null,null,null,null,null,null,null,null,null,null,null,null,null,null,null,null,null,null,null,null,null,null,null,null,null,null,null,null,null,null,null,null,null,null,null,null,null,null,null,null,null,null,null,null,null,null,null,null,null,null,null,null,null,null,null,null,null,null,null,null,null,null,null,null,null,null,null,null,null,null,null,null,null,null,null,null,null,null,null,null,null,null,null,null,null,null,null,null,null,null,null,null,null,null,null,null,null,null,null,null,null,null,null,null,null,null,null,null,null,null,null,null,null,null,null,null,null,null,null,null,null,null,null,null,null,null,null,null,null,null,null,null,null,null,null,null,null,null,null,null,null,null,null,null,null,null,null,null,null,null,null,null,null,null,null,null,null,null,null,null,null,null,null,null,null,null,null,null,null,null,null,null,null,null,null,null,null,null,null,null,null,null,null,null,null,null,null,null,null,null,null,null,null,null,null,null,null,null,null,null,null,null,null,null,null,null,null,null,null,null,null,null,null,null,null,null,null,null,null,null,null,null,null,null,null,null,null,null,null,null,null,null,null,null,null,null,null,null,null,null,null,null,null,null,null,null,null,null,null,null,null,null,null,null,null,null,null,null,null,null,null,null,null,null,null,null,null,null,null,null,null,null,null,null,null,null,null,null,null,null,null,null,null,null,null,null,null,null,null,null,null,null,null,null,null,null,null,null,null,null,null,null,null,null,null,null,null,null,null,null,null,null,null,null,null,null,null,null,null,null,null,null,null,null,null,null,null,null,null,null,null,null,null,null,null,null,null,null,null,null,null,null,null,null,null,null,null,null,null,null,null,null,null,null,null,null,null,null,null,null,null,null,null,null,null,null,null,null,null,null,null,null,null,null,null,null,null,null,null,null,null,null,null,null,null,null,null,null,null,null,null,null,null,null,null,null,null,null,null,null,null,null,null,null,null,null,null,null,null,null,null,null,null,null,null,null,null,null,null,null,null,null,null,null,null,null,null,null,null,null,null,null,null,null,null,null,null,null,null,null,null,null,null,null,null,null,null,null,null,null,null,null,null,null,null,null,null,null,null,null,null,null,null,null,null,null,null,null,null,null,null,null,null,null,null,null,null,null,null,null,null,null,null,null,null,null,null,null,null,null,null,null,null,null,null,null,null,null,null,null,null,null,null,null,null,null,null,null,null,null,null,null,null,null,null,null,null,null,null,null,null,null,null,null,null,null,null,null,null,null,null,null,null,null,null,null,null,null,null,null,null,null,null,null,null,null,null,null,null,null,null,null,null,null,null,null,null,null,null,null,null,null,null,null,null,null,null,null,null,null,null,null,null,null,null,null,null,null,null,null,null,null,null,null,null,null,null,null,null,null,null,null,null,null,null,null,null,null,null,null,null,null,null,null,null,null,null,null,null,null,null,null,null,null,null,null,null,null,null,null,null,null,null,null,null,null,null,null,null,null,null,null,null,null,null,null,null,null,null,null,null,null,null,null,null,null,null,null,null,null,null,null,null,null,null,null,null,null,null,null,null,null,null,null,null,null,null,null,null,null,null,null,null,null,null,null,null,null,null,null,null,null,null,null,null,null,null,null,null,null,null,null,null,null,null,null,null,null,null,null,null,null,null,null,null,null,null,null,null,null,null,null,null,null,null,null,null,null,null,null,null,null,null,null,null,null,null,null,null,null,null,null,null,null,null,null,null,null,null,null,null,null,null,null,null,null,null,null,null,null,null,null,null,null,null,null,null,null,null,null,null,null,null,null,null,null,null,null,null,null,null,null,null,null,null,null,null,null,null,null,null,null,null,null,null,null,null,null,null,null,null,null,null,null,null,null,null,null,null,null,null,null,null,null,null,null,null,null,null,null,null,null,null,null,null,null,null,null,null,null,null,null,null,null,null,null,null,null,null,null,null,null,null,null,null,null,null,null,null,null,null,null,null,null,null,null,null,null,null,null,null,null,null,null,null,null,null,null,null,null,null,null,null,null,null,null,null,null,null,null,null,null,null,null,null,null,null,null,null,null,null,null,null,null,null,null,null,null,null,null,null,null,null,null,null,null,null,null,null,null,null,null,null,null,null,null,null,null,null,null,null,null,null,null,null,null,null,null,null,null,null,null,null,null,null,null,null,null,null,null,null,null,null,null,null,null,null,null,null,null,null,null,null,null,null,null,null,null,null,null,null,null,null,null,null,null,null,null,null,null,null,null,null,null,null,null,null,null,null,null,null,null,null,null,null,null,null,null,null,null,null,null,null,null,null,null,null,null,null,null,null,null,null,null,null,null,null,null,null,null,null,null,null,null,null,null,null,null,null,null,null,null,null,null,null,null,null,null,null,null,null,null,null,null,null,null,null,null,null,null,null,null,null,null,null,null,null,null,null,null,null,null,null,null,null,null,null,null,null,null,null,null,null,null,null,null,null,null,null,null,null,null,null,null,null,null,null,null,null,null,null,null,null,null,null,null,null,null,null,null,null,null,null,null,null,null,null,null,null,null,null,null,null,null,null,null,null,null,null,null,null,null,null,null,null,null,null,null,null,null,null,null,null,null,null,null,null,null,null,null,null,null,null,null,null,null,null,null,null,null,null,null,null,null,null,null,null,null,null,null,null,null,null,null,null,null,null,null,null,null,null,null,null,null,null,null,null,null,null,null,null,null,null,null,null,null,null,null,null,null,null,null,null,null,null,null,null,null,null,null,null,null,null,null,null,null,null,null,null,null,null,null,null,null,null,null,null,null,null,null,null,null,null,null,null,null,null,null,null,null,null,null,null,null,null,null,null,null,null,null,null,null,null,null,null,null,null,null,null,null,null,null,null,null,null,null,null,null,null,null,null,null,null,null,null,null,null,null,null,null,null,null,null,null,null,null,null,null,null,null,null,null,null,null,null,null,null,null,null,null,null,null,null,null,null,null,null,null,null,null,null,null,null,null,null,null,null,null,null,null,null,null,null,null,null,null,null,null,null,null,null,null,null,null,null,null,null,null,null,null,null,null,null,null,null,null,null,null,null,null,null,null,null,null,null,null,null,null,null,null,null,null,null,null,null,null,null,null,null,null,null,null,null,null,null,null,null,null,null,null,null,null,null,null,null,null,null,null,null,null,null,null,null,null,null,null,null,null,null,null,null,null,null,null,null,null,null,null,null,null,null,null,null,null,null,null,null,null,null,null,null,null,null,null,null,null,null,null,null,null,null,null,null,null,null,null,null,null,null,null,null,null,null,null,null,null,null,null,null,null,null,null,null,null,null,null,null,null,null,null,null,null,null,null,null,null,null,null,null,null,null,null,null,null,null,null,null,null,null,null,null,null,null,null,null,null,null,null,null,null,null,null,null,null,null,null,null,null,null,null,null,null,null,null,null,null,null,null,null,null,null,null,null,null,null,null,null,null,null,null,null,null,null,null,null,null,null,null,null,null,null,null,null,null,null,null,null,null,null,null,null,null,null,null,null,null,null,null,null,null,null,null,null,null,null,null,null,null,null,null,null,null,null,null,null,null,null,null,null,null,null,null,null,null,null,null,null,null,null,null,null,null,null,null,null,null,null,null,null,null,null,null,null,null,null,null,null,null,null,null,null,null,null,null,null,null,null,null,null,null,null,null,null,null,null,null,null,null,null,null,null,null,null,null,null,null,null,null,null,null,null,null,null,null,null,null,null,null,null,null,null,null,null,null,null,null,null,null,null,null,null,null,null,null,null,null,null,null,null,null,null,null,null,null,null,null,null,null,null,"9. Summary WASH Costs of Extending to Unserved Population (2015 Prices, Thousands))",null,null,null,null,null,null,null,null,null,null,null,null,null,null,null,null,null,null,null,null,null,null,null,null,null,null,null,null,null,null,null,null,null,null,null,null,null,null,null,null,null,null,null,null,null,null,null,null,null,null,null,null,null,null,null,null,null,null,null,null,null,null,null,null,null,null,null,null,null,null,null,null,null,null,null,null,null,null,null,null,null,null,null,null,null,null,null,null,null,null,null,null,null,null,null,null,null,null,null,null,null,null,null,null,null,null,null,null,null,null,null,null,null,null,null,null,null,null,null,null,null,null,null,null,null,null,null,null,null,null,null,null,null,null,null,null,null,null,null,null,null,null,null,null,null,null,null,null,null,null,null,null,null,null,null,null,null,null,null,null,null,null,null,null,null,null,null,null,null,null,null,null,null,null,null,null,null,null,null,null,null,null,null,null,null,null,null,null,null,null,null,null,null,null,null,null,null,null,null,null,null,null,null,null,null,null,null,null,null,null,null,null,null,null,null,null,null,null,null,null,null,null,null,null,null,null,null,null,null,null,null,null,null,null,null,null,null,null,null,null,null,null,null,null,null,null,null,null,null,null,null,null,null,null,null,null,null,null,null,null,null,null,null,null,null,null,null,null,null,null,null,null,null,null,null,null,null,null,null,null,null,null,null,null,null,null,null,null,null,null,null,null,null,null,null,null,null,null,null,null,null,null,null,null,null,null,null,null,null,null,null,null,null,null,null,null,null,null,null,null,null,null,null,null,null,null,null,null,null,null,null,null,null,null,null,null,null,null,null,null,null,null,null,null,null,null,null,null,null,null,null,null,null,null,null,null,null,null,null,null,null,null,null,null,null,null,null,null,null,null,null,null,null,null,null,null,null,null,null,null,null,null,null,null,null,null,null,null,null,null,null,null,null,null,null,null,null,null,null,null,null,null,null,null,null,null,null,null,null,null,null,null,null,null,null,null,null,null,null,null,null,null,null,null,null,null,null,null,null,null,null,null,null,null,null,null,null,null,null,null,null,null,null,null,null,null,null,null,null,null,null,null,null,null,null,null,null,null,null,null,null,null,null,null,null,null,null,null,null,null,null,null,null,null,null,null,null,null,null,null,null,null,null,null,null,null,null,null,null,null,null,null,null,null,null,null,null,null,null,null,null,null,null,null,null,null,null,null,null,null,null,null,null,null,null,null,null,null,null,null,null,null,null,null,null,null,null,null,null,null,null,null,null,null,null,null,null,null,null,null,null,null,null,null,null,null,null,null,null,null,null,null,null,null,null,null,null,null,null,null,null,null,null,null,null,null,null,null,null,null,null,null,null,null,null,null,null,null,null,null,null,null,null,null,null,null,null,null,null,null,null,null,null,null,null,null,null,null,null,null,null,null,null,null,null,null,null,null,null,null,null,null,null,null,null,null,null,null,null,null,null,null,null,null,null,null,null,null,null,null,null,null,null,null,null,null,null,null,null,null,null,null,null,null,null,null,null,null,null,null,null,null,null,null,null,null,null,null,null,null,null,null,null,null,null,null,null,null,null,null,null,null,null,null,null,null,null,null,null,null,null,null,null,null,null,null,null,null,null,null,null,null,null,null,null,null,null,null,null,null,null,null,null,null,null,null,null,null,null,null,null,null,null,null,null,null,null,null,null,null,null,null,null,null,null,null,null,null,null,null,null,null,null,null,null,null,null,null,null,null,null,null,null,null,null,null,null,null,null,null,null,null,null,null,null,null,null,null,null,null,null,null,null,null,null,null,null,null,null,null,null,null,null,null,null,null,null,null,null,null,null,null,null,null,null,null,null,null,null,null,null,null,null,null,null,null,null,null,null,null,null,null,null,null,null,null,null,null,null,null,null,null,null,null,null,null,null,null,null,null,null,null,null,null,null,null,null,null,null,null,null,null,null,null,null,null,null,null,null,null,null,null,null,null,null,null,null,null,null,null,null,null,null,null,null,null,null,null,null,null,null,null,null,null,null,null,null,null,null,null,null,null,null,null,null,null,null,null,null,null,null,null,null,null,null,null,null,null,null,null,null,null,null,null,null,null,null,null,null,null,null,null,null,null,null,null,null,null,null,null,null,null,null,null,null,null,null,null,null,null,null,null,null,null,null,null,null,null,null,null,null,null,null,null,null,null,null,null,null,null,null,null,null,null,null,null,null,null,null,null,null,null,null,null,null,null,null,null,null,null,null,null,null,null,null,null,null,null,null,null,null,null,null,null,null,null,null,null,null,null,null,null,null,null,null,null,null,null,null,null,null,null,null,null,null,null,null,null,null,null,null,null,null,null,null,null,null,null,null,null,null,null,null,null,null,null,null,null,null,null,null,null,null,null,null,null,null,null,null,null,null,null,null,null,null,null,null,null,null,null,null,null,null,null,null,null,null,null,null,null,null,null,null,null,null,null,null,null,null,null,null,null,null,null,null,null,null,null,null,null,null,null,null,null,null,null,null,null,null,null,null,null,null,null,null,null,null,null,null,null,null,null,null,null,null,null,null,null,null,null,null,null,null,null,null,null,null,null,null,null,null,null,null,null,null,null,null,null,null,null,null,null,null,null,null,null,null,null,null,null,null,null,null,null,null,null,null,null,null,null,null,null,null,null,null,null,null,null,null,null,null,null,null,null,null,null,null,null,null,null,null,null,null,null,null,null,null,null,null,null,null,null,null,null,null,null,null,null,null,null,null,null,null,null,null,null,null,null,null,null,null,null,null,null,null,null,null,null,null,null,null,null,null,null,null,null,null,null,null,null,null,null,null,null,null,null,null,null,null,null,null,null,null,null,null,null,null,null,null,null,null,null,null,null,null,null,null,null,null,null,null,null,null,null,null,null,null,null,null,null,null,null,null,null,null,null,null,null,null,null,null,null,null,null,null,null,null,null,null,null,null,null,null,null,null,null,null,null,null,null,null,null,null,null,null,null,null,null,null,null,null,null,null,null,null,null,null,null,null,null,null,null,null,null,null,null,null,null,null,null,null,null,null,null,null,null,null,null,null,null,null,null,null,null,null,null,null,null,null,null,null,null,null,null,null,null,null,null,null,null,null,null,null,null,null,null,null,null,null,null,null,null,null,null,null,null,null,null,null,null,null,null,null,null,null,null,null,null,null,null,null,null,null,null,null,null,null,null,null,null,null,null,null,null,null,null,null,null,null,null,null,null,null,null,null,null,null,null,null,null,null,null,null,null,null,null,null,null,null,null,null,null,null,null,null,null,null,null,null,null,null,null,null,null,null,null,null,null,null,null,null,null,null,null,null,null,null,null,null,null,null,null,null,null,null,null,null,null,null,null,null,null,null,null,null,null,null,null,null,null,null,null,null,null,null,null,null,null,null,null,null,null,null,null,null,null,null,null,null,null,null,null,null,null,null,null,null,null,null,null,null,null,null,null,null,null,null,null,null,null,null,null,null,null,null,null,null,null,null,null,null,null,null,null,null,null,null,null,null,null,null,null,null,null,null,null,null,null,null,null,null,null,null,null,null,null,null,null,null,null,null,null,null,null,null,null,null,null,null,null,null,null,null,null,null,null,null,null,null,null,null,null,null,null,null,null,null,null,null,null,null,null,null,null,null,null,null,null,null,null,null,null,null,null,null,null,null,null,null,null,null,null,null,null,null,null,null,null,null,null,null,null,null,null,null,null,null,null,null,null,null,null,null,null,null,null,null,null,null,null,null,null,null,null,null,null,null,null,null,null,null,null,null,null,null,null,null,null,null,null,null,null,null,null,null,null,null,null,null,null,null,null,null,null,null,null,null,null,null,null,null,null,null,null,null,null,null,null,null,null,null,null,null,null,null,null,null,null,null,null,null,null,null,null,null,null,null,null,null,null,null,null,null,null,null,null,null,null,null,null,null,null,null,null,null,null,null,null,null,null,null,null,null,null,null,null,null,null,null,null,null,null,null,null,null,null,null,null,null,null,null,null,null,null,null,null,null,null,null,null,null,null,null,null,null,null,null,null,null,null,null,null,null,null,null,null,null,null,null,null,null,null,null,null,null,null,null,null,null,null,null,null,null,null,null,null,null,null,null,null,null,null,null,null,null,null,null,null,null,null,null,null,null,null,null,null,null,null,null,null,null,null,null,null,null,null,null,null,null,null,null,null,null,null,null,null,null,null,null,null,null,null,null,null,null,null,null,null,null,null,null,null,null,null,null,null,null,null,null,null,null,null,null,null,null,null,null,null,null,null,null,null,null,null,null,null,null,null,null,null,null,null,null,null,null,null,null,null,null,null,null,null,null,null,null,null,null,null,null,null,null,null,null,null,null,null,null,null,null,null,null,null,null,null,null,null,null,null,null,null,null,null,null,null,null,null,null,null,null,null,null,null,null,null,null,null,null,null,null,null,null,null,null,null,null,null,null,null,null,null,null,null,null,null,null,null,null,null,null,null,null,null,null,null,null,null,null,null,null,null,null,null,null,null,null,null,null,null,null,null,null,null,null,null,null,null,null,null,null,null,null,null,null,null,null,null,null,null,null,null,null,null,null,null,null,null,null,null,null,null,null,null,null,null,null,null,null,null,null,null,null,null,null,null,null,null,null,null,null,null,null,null,null,null,null,null,null,null,null,null,null,null,null,null,null,null,null,null,null,null,null,null,null,null,null,null,null,null,null,null,null,null,null,null,null,null,null,null,null,null,null,null,null,null,null,null,null,null,null,null,null,null,null,null,null,null,null,null,null,null,null,null,null,null,null,null,null,null,null,null,null,null,null,null,null,null,null,null,null,null,null,null,null,null,null,null,null,null,null,null,null,null,null,null,null,null,null,null,null,null,null,null,null,null,null,null,null,null,null,null,null,null,null,null,null,null,null,null,null,null,null,null,null,null,null,null,null,null,null,null,null,null,null,null,null,null,null,null,null,null,null,null,null,null,null,null,null,null,null,null,null,null,null,null,null,null,null,null,null,null,null,null,null,null,null,null,null,null,null,null,null,null,null,null,null,null,null,null,null,null,null,null,null,null,null,null,null,null,null,null,null,null,null,null,null,null,null,null,null,null,null,null,null,null,null,null,null,null,null,null,null,null,null,null,null,null,null,null,null,null,null,null,null,null,null,null,null,null,null,null,null,null,null,null,null,null,null,null,null,null,null,null,null,null,null,null,null,null,null,null,null,null,null,null,null,null,null,null,null,null,null,null,null,null,null,null,null,null,null,null,null,null,null,null,null,null,null,null,null,null,null,null,null,null,null,null,null,null,null,null,null,null,null,null,null,null,null,null,null,null,null,null,null,null,null,null,null,null,null,null,null,null,null,null,null,null,null,null,null,null,null,null,null,null,null,null,null,null,null,null,null,null,null,null,null,null,null,null,null,null,null,null,null,null,null,null,null,null,null,null,null,null,null,null,null,null,null,null,null,null,null,null,null,null,null,null,null,null,null,null,null,null,null,null,null,null,null,null,null,null,null,null,null,null,null,null,null,null,null,null,null,null,null,null,null,null,null,null,null,null,null,null,null,null,null,null,null,null,null,null,null,null,null,null,null,null,null,null,null,null,null,null,null,null,null,null,null,null,null,null,null,null,null,null,null,null,null,null,null,null,null,null,null,null,null,null,null,null,null,null,null,null,null,null,null,null,null,null,null,null,null,null,null,null,null,null,null,null,null,null,null,null,null,null,null,null,null,null,null,null,null,null,null,null,null,null,null,null,null,null,null,null,null,null,null,null,null,null,null,null,null,null,null,null,null,null,null,null,null,null,null,null,null,null,null,null,null,null,null,null,null,null,null,null,null,null,null,null,null,null,null,null,null,null,null,null,null,null,null,null,null,null,null,null,null,null,null,null,null,null,null,null,null,null,null,null,null,null,null,null,null,null,null,null,null,null,null,null,null,null,null,null,null,null,null,null,null,null,null,null,null,null,null,null,null,null,null,null,null,null,null,null,null,null,null,null,null,null,null,null,null,null,null,null,null,null,null,null,null,null,null,null,null,null,null,null,null,null,null,null,null,null,null,null,null,null,null,null,null,null,null,null,null,null,null,null,null,null,null,null,null,null,null,null,null,null,null,null,null,null,null,null,null,null,null,null,null,null,null,null,null,null,null,null,null,null,null,null,null,null,null,null,null,null,null,null,null,null,null,null,null,null,null,null,null,null,null,null,null,null,null,null,null,null,null,null,null,null,null,null,null,null,null,null,null,null,null,null,null,null,null,null,null,null,null,null,null,null,null,null,null,null,null,null,null,null,null,null,null,null,null,null,null,null,null,null,null,null,null,null,null,null,null,null,null,null,null,null,null,null,null,null,null,null,null,null,null,null,null,null,null,null,null,null,null,null,null,null,null,null,null,null,null,null,null,null,null,null,null,null,null,null,null,null,null,null,null,null,null,null,null,null,null,null,null,null,null,null,null,null,null,null,null,null,null,null,null,null,null,null,null,null,null,null,null,null,null,null,null,null,null,null,null,null,null,null,null,null,null,null,null,null,null,null,null,null,null,null,null,null,null,null,null,null,null,null,null,null,null,null,null,null,null,null,null,null,null,null,null,null,null,null,null,null,null,null,null,null,null,null,null,null,null,null,null,null,null,null,null,null,null,null,null,null,null,null,null,null,null,null,null,null,null,null,null,null,null,null,null,null,null,null,null,null,null,null,null,null,null,null,null,null,null,null,null,null,null,null,null,null,null,null,null,null,null,null,null,null,null,null,null,null,null,null,null,null,null,null,null,null,null,null,null,null,null,null,null,null,null,null,null,null,null,null,null,null,null,null,null,null,null,null,null,null,null,null,null,null,null,null,null,null,null,null,null,null,null,null,null,null,null,null,null,null,null,null,null,null,null,null,null,null,null,null,null,null,null,null,null,null,null,null,null,null,null,null,null,null,null,null,null,null,null,null,null,null,null,null,null,null,null,null,null,null,null,null,null,null,null,null,null,null,null,null,null,null,null,null,null,null,null,null,null,null,null,null,null,null,null,null,null,null,null,null,null,null,null,null,null,null,null,null,null,null,null,null,null,null,null,null,null,null,null,null,null,null,null,null,null,null,null,null,null,null,null,null,null,null,null,null,null,null,null,null,null,null,null,null,null,null,null,null,null,null,null,null,null,null,null,null,null,null,null,null,null,null,null,null,null,null,null,null,null,null,null,null,null,null,null,null,null,null,null,null,null,null,null,null,null,null,null,null,null,null,null,null,null,null,null,null,null,null,null,null,null,null,null,null,null,null,null,null,null,null,null,null,null,null,null,null,null,null,null,null,null,null,null,null,null,null,null,null,null,null,null,null,null,null,null,null,null,null,null,null,null,null,null,null,null,null,null,null,null,null,null,null,null,null,null,null,null,null,null,null,null,null,null,null,null,null,null,null,null,null,null,null,"10. Capital Costs as a Percent of GDP",null,null,null,null,null,null,null,null,null,null,null,null,null,null,null,null,null,null,"11. Cost Breakdown by Capital, Capital Maintenance and Operational (Annual Values, Average for 2015 to target year)",null,null,null,null,null,null,null,null,null,null,null,null,null,null,null,null,null,null,null,null,null,null,null,null,null,null,null,null,null,null,null,null,"11. Cost per person per year at PPP values",null,null,null,null,null,null,null,null,null,null,null,null,null,null,null,null,null,null,null,null,null,null,null,"12. Cost as % of $1.90 poverty income in 2011, adjusted to 2015 figure",null,null,null,null,null,null,null,null,null,null,null,null,null,null,null,null,null,null,null,null,null,null,null,"13. Adjusted GDP"]
[null,null,null,null,null,null,null,null,null,null,null,null,null,null,null,null,null,null,null,null,null,null,null,null,null,null,null,null,null,null,null,null,null,null,null,"Basic water supply within 30 minutes (no water quality)",null,null,null,null,null,null,null,null,null,null,null,null,null,null,null,"Safely managed water supply at home",null,null,null,null,null,null,null,null,null,null,null,null,null,null,null,"Current JMP improved sanitation definition (private only)",null,null,null,null,null,null,null,null,null,null,null,null,null,null,null,"Population with Any Fixed Point Defecation",null,null,null,null,null,null,null,"Safely managed fecal sludge",null,null,null,null,null,null,null,null,null,null,null,"Handwashing station, soap & water at home",null,null,null,null,null,null,null,null,null,null,null,null,null,null,null,"Basic Water",null,null,null,null,null,null,null,null,null,null,null,null,null,null,null,null,null,null,null,null,null,null,null,null,null,null,null,null,null,null,null,null,null,null,null,null,null,null,null,null,null,null,null,null,null,null,null,null,null,null,null,null,null,null,null,null,null,null,null,null,null,null,null,null,null,null,null,null,null,null,null,null,null,null,null,null,null,null,null,null,null,null,null,null,null,null,null,null,null,null,null,null,null,null,null,null,null,null,null,null,null,null,null,null,null,null,null,null,null,null,null,null,null,null,null,null,null,null,null,null,null,null,null,null,null,null,null,null,null,null,null,null,null,null,null,null,null,null,null,null,null,null,null,null,null,null,null,null,null,null,null,null,null,null,null,null,null,null,null,null,null,null,null,null,null,null,null,null,null,null,null,null,null,null,null,null,null,null,null,null,null,null,null,null,null,null,null,null,null,null,null,null,null,null,null,null,null,null,null,null,null,null,null,null,null,null,null,null,null,null,null,null,null,null,null,null,null,null,null,null,null,null,null,null,null,null,null,"Open defecation (Population to Serve)",null,null,null,null,null,null,"Basic Sanitation",null,null,null,null,null,null,null,null,null,null,null,null,null,null,null,null,null,null,null,null,null,null,null,null,null,null,null,null,null,null,null,null,null,null,null,null,null,null,null,null,null,null,null,null,null,null,null,null,null,null,null,null,null,null,null,null,null,null,null,null,null,null,null,null,null,null,null,null,null,null,null,null,null,null,null,null,null,null,null,null,null,null,null,null,null,null,null,null,null,null,null,null,null,null,null,null,null,null,null,null,null,null,null,null,null,null,null,null,null,null,null,null,null,null,null,null,null,null,null,null,null,null,null,null,null,null,null,null,null,null,null,null,null,null,null,null,null,null,null,null,null,null,null,null,null,null,null,null,null,null,null,null,null,null,null,null,null,null,null,null,null,null,null,null,null,null,null,null,null,null,null,null,null,null,null,null,null,null,null,null,null,null,null,null,null,null,null,null,null,null,null,null,null,null,null,null,null,null,null,null,null,null,null,null,null,null,null,null,null,null,null,null,null,null,null,null,null,null,null,null,null,null,null,null,null,null,null,"Basic Hygiene",null,null,null,null,null,null,null,null,null,null,null,null,null,null,null,null,null,null,null,null,null,null,null,null,null,null,null,null,null,null,null,null,null,null,null,null,null,null,null,null,null,null,null,null,null,null,null,null,null,null,null,null,null,null,null,null,null,null,null,null,null,null,null,null,null,null,null,null,null,null,null,null,null,null,null,null,null,null,null,null,null,null,null,null,null,null,null,null,null,null,null,null,null,null,null,null,null,null,null,null,null,null,null,null,null,null,null,null,null,null,null,null,null,null,null,null,null,null,null,null,null,null,null,null,null,null,null,null,null,null,null,null,null,null,null,null,null,null,null,null,null,null,null,null,null,null,null,null,null,null,null,null,null,null,null,null,null,null,null,null,null,null,null,null,null,null,null,null,null,null,null,null,null,null,null,null,null,null,null,null,null,null,null,null,null,null,null,null,null,null,null,null,null,null,null,null,null,null,null,null,null,null,null,null,null,null,null,null,null,null,null,null,null,null,null,null,null,null,null,null,null,null,null,null,null,null,null,"Safely Managed Water",null,null,null,null,null,null,null,null,null,null,null,null,null,null,null,null,null,null,null,null,null,null,null,null,null,null,null,null,null,null,null,null,null,null,null,null,null,null,null,null,null,null,null,null,null,null,null,null,null,null,null,null,null,null,null,null,null,null,null,null,null,null,null,null,null,null,null,null,null,null,null,null,null,null,null,null,null,null,null,null,null,null,null,null,null,null,null,null,null,null,null,null,null,null,null,null,null,null,null,null,null,null,null,null,null,null,null,null,null,null,null,null,null,null,null,null,null,null,null,null,null,null,null,null,null,null,null,null,null,null,null,null,null,null,null,null,null,null,null,null,null,null,null,null,null,null,null,null,null,null,null,null,null,null,null,null,null,null,null,null,null,null,null,null,null,null,null,null,null,null,null,null,null,null,null,null,null,null,null,null,null,null,null,null,null,null,null,null,null,null,null,null,null,null,null,null,null,null,null,null,null,null,null,null,null,null,null,null,null,null,null,null,null,null,null,null,null,null,null,null,null,null,null,null,null,null,null,"Safely Managed Sanitation",null,null,null,null,null,null,null,null,null,null,null,null,null,null,null,null,null,null,null,null,null,null,null,null,null,null,null,null,null,null,null,null,null,null,null,null,null,"Water","Sanitation","Wat + San","Basic Water Supply",null,null,null,null,null,null,null,null,null,null,null,null,null,null,null,null,null,null,null,null,null,null,null,null,null,null,null,null,null,null,null,null,null,null,null,null,null,null,null,null,null,null,null,null,null,null,null,null,null,null,null,"Safely managed water supply",null,null,null,null,null,null,null,null,null,null,null,null,null,null,null,null,null,null,null,null,null,null,null,null,null,"Basic Sanitation",null,null,null,null,null,null,null,null,null,null,null,null,null,null,null,null,null,null,null,null,null,null,null,null,null,null,null,null,null,null,null,null,null,null,null,null,null,null,null,null,null,null,null,null,null,null,null,null,null,null,null,null,null,null,null,"Unimproved Sanitation (ODF)",null,null,null,null,null,null,null,null,null,null,null,null,"Safely managed sanitation (incremental only)",null,null,null,null,null,null,null,null,null,null,null,null,null,null,null,null,null,null,null,null,null,null,null,null,null,null,null,null,null,null,null,null,null,null,null,null,null,null,null,null,null,null,null,null,null,null,null,null,null,null,null,"Handwashing",null,null,null,null,null,null,null,null,null,null,null,null,null,null,null,null,null,null,null,null,null,null,null,null,null,null,null,"Basic Water Supply",null,null,null,null,null,null,null,null,null,null,null,null,null,null,null,null,null,null,null,"Basic Sanitation",null,null,null,null,null,null,null,null,null,null,null,null,null,null,null,null,null,null,null,"Safely Managed Sanitation",null,null,null,null,null,null,null,null,null,null,null,null,null,null,null,null,null,null,null,null,null,null,null,null,null,null,null,null,null,null,null,null,null,null,null,null,null,null,null,null,"Basic Water",null,null,null,null,null,null,null,null,null,null,null,null,null,null,null,null,null,null,null,null,null,null,null,null,null,null,null,null,null,null,null,null,null,null,null,null,null,null,null,null,null,null,null,null,null,null,null,null,null,null,null,null,null,null,null,null,null,null,null,null,null,null,null,null,null,null,null,null,null,null,null,null,null,null,null,null,null,null,null,null,null,null,null,null,null,null,null,null,null,null,null,null,null,null,null,null,null,null,null,null,null,null,null,null,null,null,null,null,null,null,null,null,null,null,null,null,null,null,null,null,null,null,null,null,null,null,null,null,null,null,null,null,null,null,null,null,null,null,null,null,null,null,null,null,null,null,null,null,null,null,null,null,null,null,null,null,null,null,null,null,null,null,null,null,null,null,null,null,null,null,null,null,null,null,null,null,null,null,null,null,null,null,null,null,null,null,null,null,null,null,null,null,null,null,null,null,null,null,null,null,null,null,null,null,null,null,null,null,null,null,null,null,null,null,null,null,null,null,null,null,null,null,null,null,null,null,null,null,null,null,null,null,null,null,null,null,null,null,null,null,null,null,null,null,null,null,null,null,null,null,null,null,null,null,null,null,null,null,null,null,null,null,null,null,null,null,null,null,null,null,null,null,null,null,null,null,null,null,null,null,null,null,null,null,null,null,null,null,null,null,null,null,null,null,null,null,null,null,null,null,null,null,null,null,null,null,null,null,null,null,null,null,null,null,null,null,null,null,null,null,null,null,null,null,null,null,null,null,null,null,null,null,null,null,null,null,null,null,null,null,null,null,null,null,null,null,null,null,null,null,null,null,null,null,null,null,null,null,null,null,null,null,null,null,null,null,null,null,null,null,null,null,null,null,null,null,null,"Ending Open Defecation",null,null,null,null,null,null,null,null,null,null,null,null,null,null,null,null,null,null,null,null,null,null,null,null,null,null,null,null,null,null,null,null,null,null,null,null,null,null,null,null,null,null,null,null,null,null,null,null,null,null,null,null,null,null,null,null,null,null,null,null,null,null,null,null,null,null,null,null,null,null,null,null,null,null,null,null,null,null,null,null,null,null,null,null,null,null,null,null,null,null,null,null,null,null,null,null,null,null,null,null,null,null,null,null,null,null,null,null,null,null,null,null,null,null,null,null,null,null,null,null,null,null,null,null,null,"Basic Sanitation",null,null,null,null,null,null,null,null,null,null,null,null,null,null,null,null,null,null,null,null,null,null,null,null,null,null,null,null,null,null,null,null,null,null,null,null,null,null,null,null,null,null,null,null,null,null,null,null,null,null,null,null,null,null,null,null,null,null,null,null,null,null,null,null,null,null,null,null,null,null,null,null,null,null,null,null,null,null,null,null,null,null,null,null,null,null,null,null,null,null,null,null,null,null,null,null,null,null,null,null,null,null,null,null,null,null,null,null,null,null,null,null,null,null,null,null,null,null,null,null,null,null,null,null,null,null,null,null,null,null,null,null,null,null,null,null,null,null,null,null,null,null,null,null,null,null,null,null,null,null,null,null,null,null,null,null,null,null,null,null,null,null,null,null,null,null,null,null,null,null,null,null,null,null,null,null,null,null,null,null,null,null,null,null,null,null,null,null,null,null,null,null,null,null,null,null,null,null,null,null,null,null,null,null,null,null,null,null,null,null,null,null,null,null,null,null,null,null,null,null,null,null,null,null,null,null,null,null,null,null,null,null,null,null,null,null,null,null,null,null,null,null,null,null,null,null,null,null,null,null,null,null,null,null,null,null,null,null,null,null,null,null,null,null,null,null,null,null,null,null,null,null,null,null,null,null,null,null,null,null,null,null,null,null,null,null,null,null,null,null,null,null,null,null,null,null,null,null,null,null,null,null,null,null,null,null,null,null,null,null,null,null,null,null,null,null,null,null,null,null,null,null,null,null,null,null,null,null,null,null,null,null,null,null,null,null,null,null,null,null,null,null,null,null,null,null,null,null,null,null,null,null,null,null,null,null,null,null,null,null,null,null,null,null,null,null,null,null,null,null,null,null,null,null,null,null,null,"Basic Hygiene",null,null,null,null,null,null,null,null,null,null,null,null,null,null,null,null,null,null,null,null,null,null,null,null,null,null,null,null,null,null,null,null,null,null,null,null,null,null,null,null,null,null,null,null,null,null,null,null,null,null,null,null,null,null,null,null,null,null,null,null,null,null,null,null,null,null,null,null,null,null,null,null,null,null,null,null,null,null,null,null,null,null,null,null,null,null,null,null,null,null,null,null,null,null,null,null,null,null,null,null,null,null,null,null,null,null,null,null,null,null,null,null,null,null,null,null,null,null,null,null,null,null,null,null,null,null,null,null,null,null,null,null,null,null,null,null,null,null,null,null,null,null,null,null,null,null,null,null,null,null,null,null,null,null,null,null,null,null,null,null,null,null,null,null,null,null,null,null,null,null,null,null,null,null,null,null,null,null,null,null,null,null,null,null,null,null,null,null,null,null,null,null,null,null,null,null,null,null,null,null,null,null,null,null,null,null,null,null,null,null,null,null,null,null,null,null,null,null,null,null,null,null,null,null,null,null,null,null,null,null,null,null,null,null,null,null,null,null,null,null,null,null,null,null,null,null,null,null,null,null,null,null,null,null,null,null,null,null,null,null,null,null,null,null,null,null,null,null,null,null,null,null,null,null,null,null,null,null,null,null,null,null,null,null,null,null,null,null,null,null,null,null,null,null,null,null,null,null,null,null,null,null,null,null,null,null,null,null,null,null,null,null,null,null,null,null,null,null,null,null,null,null,null,null,null,null,null,null,null,null,null,null,null,null,null,null,null,null,null,null,null,null,null,null,null,null,null,null,null,null,null,null,null,null,null,null,null,null,null,null,null,null,null,null,null,null,null,null,null,null,null,null,null,null,null,null,null,"Advanced Water",null,null,null,null,null,null,null,null,null,null,null,null,null,null,null,null,null,null,null,null,null,null,null,null,null,null,null,null,null,null,null,null,null,null,null,null,null,null,null,null,null,null,null,null,null,null,null,null,null,null,null,null,null,null,null,null,null,null,null,null,null,null,null,null,null,null,null,null,null,null,null,null,null,null,null,null,null,null,null,null,null,null,null,null,null,null,null,null,null,null,null,null,null,null,null,null,null,null,null,null,null,null,null,null,null,null,null,null,null,null,null,null,null,null,null,null,null,null,null,null,null,null,null,null,null,null,null,null,null,null,null,null,null,null,null,null,null,null,null,null,null,null,null,null,null,null,null,null,null,null,null,null,null,null,null,null,null,null,null,null,null,null,null,null,null,null,null,null,null,null,null,null,null,null,null,null,null,null,null,null,null,null,null,null,null,null,null,null,null,null,null,null,null,null,null,null,null,null,null,null,null,null,null,null,null,null,null,null,null,null,null,null,null,null,null,null,null,null,null,null,null,null,null,null,null,null,null,null,null,null,null,null,null,null,null,null,null,null,null,null,null,null,null,null,null,null,null,null,null,null,null,null,null,null,null,null,null,null,null,null,null,null,null,null,null,null,null,null,null,null,null,null,null,null,null,null,null,null,null,null,null,null,null,null,null,null,null,null,null,null,null,null,null,null,null,null,null,null,null,null,null,null,null,null,null,null,null,null,null,null,null,null,null,null,null,null,null,null,null,null,null,null,null,null,null,null,null,null,null,null,null,null,null,null,null,null,null,null,null,null,null,null,null,null,null,null,null,null,null,null,null,null,null,null,null,null,null,null,null,null,null,null,null,null,null,null,null,null,null,null,null,null,null,null,null,null,null,"Safe Fecal Management",null,null,null,null,null,null,null,null,null,null,null,null,null,null,null,null,null,null,null,null,null,null,null,null,null,null,null,null,null,null,null,null,null,null,null,null,null,null,null,null,null,null,null,null,null,null,null,null,null,null,null,null,null,null,null,null,null,null,null,null,null,null,"Basic Water",null,null,null,null,null,null,null,null,null,null,null,null,null,null,null,null,null,null,null,null,null,null,null,null,null,null,null,null,null,null,null,null,null,null,null,null,null,null,null,null,null,null,null,null,null,null,null,null,null,null,null,null,null,null,null,null,null,null,null,null,null,null,null,null,null,null,null,null,null,null,null,null,null,null,null,null,null,null,null,null,null,null,null,null,null,null,null,null,null,"Basic Sanitation",null,null,null,null,null,null,null,null,null,null,null,null,null,null,null,null,null,null,null,null,null,null,null,null,null,null,null,null,null,null,null,null,null,null,null,null,null,null,null,null,null,null,null,null,null,null,null,null,null,null,null,null,null,null,null,null,null,null,null,null,null,null,null,null,null,null,null,null,null,null,null,null,null,null,null,null,null,null,null,null,null,null,null,null,null,null,null,null,null,"Basic Hygiene",null,null,null,null,null,null,null,null,null,null,null,null,null,null,null,null,null,null,null,null,null,null,null,null,null,null,null,null,null,null,null,null,null,null,null,null,null,null,null,null,null,null,null,null,null,null,null,null,null,null,null,null,null,null,null,null,null,null,null,null,null,null,null,null,null,null,null,null,null,null,null,null,null,null,null,null,null,null,null,null,null,null,null,null,null,null,null,null,null,"Basic WASH",null,null,null,null,null,null,null,null,null,null,null,null,null,null,null,null,null,null,null,null,null,null,null,null,null,null,null,null,null,null,null,null,null,null,null,null,null,null,null,null,null,null,null,null,null,null,null,null,null,null,null,null,null,null,null,null,null,null,null,null,null,null,null,null,null,null,null,null,null,null,null,null,null,null,null,null,null,null,null,null,null,null,null,null,null,null,null,null,null,"Basic & Advanced Water",null,null,null,null,null,null,null,null,null,null,null,null,null,null,null,null,null,null,null,null,null,null,null,null,null,null,null,null,null,null,null,null,null,null,null,null,null,null,null,null,null,null,null,null,null,null,null,null,null,null,null,null,null,null,null,null,null,null,null,null,null,null,null,null,null,null,null,null,null,null,null,null,null,null,null,null,null,null,null,null,null,null,null,null,null,null,null,null,null,"Basic Sanitation & Fecal Sludge Management",null,null,null,null,null,null,null,null,null,null,null,null,null,null,null,null,null,null,null,null,null,null,null,null,null,null,null,null,null,null,null,null,null,null,null,null,null,null,null,null,null,null,null,null,null,null,null,null,null,null,null,null,null,null,null,null,null,null,null,null,null,null,null,null,null,null,null,null,null,null,null,null,null,null,null,null,null,null,null,null,null,null,null,null,null,null,null,null,null,"Basic WASH and Advanced WatSan Services",null,null,null,null,null,null,null,null,null,null,null,null,null,null,null,null,null,null,null,null,null,null,null,null,null,null,null,null,null,null,null,null,null,null,null,null,null,null,null,null,null,null,null,null,null,null,null,null,null,null,null,null,null,null,null,null,null,null,null,null,null,null,null,null,null,null,null,null,null,null,null,null,null,null,null,null,null,null,null,null,null,null,null,null,null,null,null,null,null,"Basic WASH",null,null,null,null,null,null,null,null,null,null,null,null,null,null,null,null,null,null,null,null,null,null,null,null,null,null,null,null,null,null,null,null,null,null,null,null,null,null,null,null,null,null,null,null,null,null,null,null,null,null,null,null,null,null,null,null,null,null,null,null,null,null,null,null,null,null,null,null,null,null,null,null,null,null,null,null,null,null,null,null,null,null,null,null,null,null,null,null,null,"Basic & Advanced Water",null,null,null,null,null,null,null,null,null,null,null,null,null,null,null,null,null,null,null,null,null,null,null,null,null,null,null,null,null,null,null,null,null,null,null,null,null,null,null,null,null,null,null,null,null,null,null,null,null,null,null,null,null,null,null,null,null,null,null,null,null,null,null,null,null,null,null,null,null,null,null,null,null,null,null,null,null,null,null,null,null,null,null,null,null,null,null,null,null,"Basic Sanitation & Fecal Sludge Management",null,null,null,null,null,null,null,null,null,null,null,null,null,null,null,null,null,null,null,null,null,null,null,null,null,null,null,null,null,null,null,null,null,null,null,null,null,null,null,null,null,null,null,null,null,null,null,null,null,null,null,null,null,null,null,null,null,null,null,null,null,null,null,null,null,null,null,null,null,null,null,null,null,null,null,null,null,null,null,null,null,null,null,null,null,null,null,null,null,"Basic WASH and Advanced WatSan Services",null,null,null,null,null,null,null,null,null,null,null,null,null,null,null,null,null,null,null,null,null,null,null,null,null,null,null,null,null,null,null,null,null,null,null,null,null,null,null,null,null,null,null,null,null,null,null,null,null,null,null,null,null,null,null,null,null,null,null,null,null,null,null,null,null,null,null,null,null,null,null,null,null,null,null,null,null,null,null,null,null,null,null,null,null,null,null,null,null,"Basic Water",null,null,null,null,null,null,null,null,null,null,null,null,null,null,null,null,null,null,null,null,null,null,null,null,null,null,null,null,null,null,null,null,null,null,null,null,null,null,null,null,null,null,null,null,null,null,null,null,null,null,null,null,null,null,null,null,null,null,null,null,null,null,null,null,null,null,null,null,null,null,null,null,null,null,null,null,null,null,null,null,null,null,null,null,null,null,null,null,null,null,null,null,null,null,null,null,null,null,null,null,null,null,null,null,null,null,null,null,null,null,null,null,null,null,null,null,null,null,null,null,null,null,null,null,null,null,null,null,null,null,null,null,null,null,null,null,null,null,null,null,null,null,null,null,null,null,null,null,null,null,null,null,null,null,null,null,null,null,null,null,null,null,null,null,null,null,null,null,null,null,null,null,null,null,null,null,null,null,null,null,null,null,null,null,null,null,null,null,null,null,null,null,null,null,null,null,null,null,null,null,null,null,null,null,null,null,null,null,null,null,null,null,null,null,null,null,null,null,null,null,null,null,null,null,null,null,null,null,null,null,null,null,null,null,null,null,null,null,null,null,null,null,null,null,null,null,null,null,null,null,null,null,null,null,null,null,null,null,null,null,null,null,null,null,null,null,null,null,null,null,null,null,null,null,null,null,null,null,null,null,null,null,null,null,null,null,null,null,null,null,null,null,null,null,null,null,null,null,null,null,null,null,null,null,null,null,null,null,null,null,null,null,null,null,null,null,null,null,null,null,null,null,null,null,null,null,null,null,null,null,null,null,null,null,null,null,null,null,null,null,null,"Basic Sanitation",null,null,null,null,null,null,null,null,null,null,null,null,null,null,null,null,null,null,null,null,null,null,null,null,null,null,null,null,null,null,null,null,null,null,null,null,null,null,null,null,null,null,null,null,null,null,null,null,null,null,null,null,null,null,null,null,null,null,null,null,null,null,null,null,null,null,null,null,null,null,null,null,null,null,null,null,null,null,null,null,null,null,null,null,null,null,null,null,null,null,null,null,null,null,null,null,null,null,null,null,null,null,null,null,null,null,null,null,null,null,null,null,null,null,null,null,null,null,null,null,null,null,null,null,null,null,null,null,null,null,null,null,null,null,null,null,null,null,null,null,null,null,null,null,null,null,null,null,null,null,null,null,null,null,null,null,null,null,null,null,null,null,null,null,null,null,null,null,null,null,null,null,null,null,null,null,null,null,null,null,null,null,null,null,null,null,null,null,null,null,null,null,null,null,null,null,null,null,null,null,null,null,null,null,null,null,null,null,null,null,null,null,null,null,null,null,null,null,null,null,null,null,null,null,null,null,null,null,null,null,null,null,null,null,null,null,null,null,null,null,null,null,null,null,null,null,null,null,null,null,null,null,null,null,null,null,null,null,null,null,null,null,null,null,null,null,null,null,null,null,null,null,null,null,null,null,null,null,null,null,null,null,null,null,null,null,null,null,null,null,null,null,null,null,null,null,null,null,null,null,null,null,null,null,null,null,null,null,null,null,null,null,null,null,null,null,null,null,null,null,null,null,null,null,null,null,null,null,null,null,null,null,null,null,null,null,null,null,null,null,null,"Basic Hygiene",null,null,null,null,null,null,null,null,null,null,null,null,null,null,null,null,null,null,null,null,null,null,null,null,null,null,null,null,null,null,null,null,null,null,null,null,null,null,null,null,null,null,null,null,null,null,null,null,null,null,null,null,null,null,null,null,null,null,null,null,null,null,null,null,null,null,null,null,null,null,null,null,null,null,null,null,null,null,null,null,null,null,null,null,null,null,null,null,null,null,null,null,null,null,null,null,null,null,null,null,null,null,null,null,null,null,null,null,null,null,null,null,null,null,null,null,null,null,null,null,null,null,null,null,null,null,null,null,null,null,null,null,null,null,null,null,null,null,null,null,null,null,null,null,null,null,null,null,null,null,null,null,null,null,null,null,null,null,null,null,null,null,null,null,null,null,null,null,null,null,null,null,null,null,null,null,null,null,null,null,null,null,null,null,null,null,null,null,null,null,null,null,null,null,null,null,null,null,null,null,null,null,null,null,null,null,null,null,null,null,null,null,null,null,null,null,null,null,null,null,null,null,null,null,null,null,null,null,null,null,null,null,null,null,null,null,null,null,null,null,null,null,null,null,null,null,null,null,null,null,null,null,null,null,null,null,null,null,null,null,null,null,null,null,null,null,null,null,null,null,null,null,null,null,null,null,null,null,null,null,null,null,null,null,null,null,null,null,null,null,null,null,null,null,null,null,null,null,null,null,null,null,null,null,null,null,null,null,null,null,null,null,null,null,null,null,null,null,null,null,null,null,null,null,null,null,null,null,null,null,null,null,null,null,null,null,null,null,null,null,null,"Advanced Water",null,null,null,null,null,null,null,null,null,null,null,null,null,null,null,null,null,null,null,null,null,null,null,null,null,null,null,null,null,null,null,null,null,null,null,null,null,null,null,null,null,null,null,null,null,null,null,null,null,null,null,null,null,null,null,null,null,null,null,null,null,null,null,null,null,null,null,null,null,null,null,null,null,null,null,null,null,null,null,null,null,null,null,null,null,null,null,null,null,null,null,null,null,null,null,null,null,null,null,null,null,null,null,null,null,null,null,null,null,null,null,null,null,null,null,null,null,null,null,null,null,null,null,null,null,null,null,null,null,null,null,null,null,null,null,null,null,null,null,null,null,null,null,null,null,null,null,null,null,null,null,null,null,null,null,null,null,null,null,null,null,null,null,null,null,null,null,null,null,null,null,null,null,null,null,null,null,null,null,null,null,null,null,null,null,null,null,null,null,null,null,null,null,null,null,null,null,null,null,null,null,null,null,null,null,null,null,null,null,null,null,null,null,null,null,null,null,null,null,null,null,null,null,null,null,null,null,null,null,null,null,null,null,null,null,null,null,null,null,null,null,null,null,null,null,null,null,null,null,null,null,null,null,null,null,null,null,null,null,null,null,null,null,null,null,null,null,null,null,null,null,null,null,null,null,null,null,null,null,null,null,null,null,null,null,null,null,null,null,null,null,null,null,null,null,null,null,null,null,null,null,null,null,null,null,null,null,null,null,null,null,null,null,null,null,null,null,null,null,null,null,null,null,null,null,null,null,null,null,null,null,null,null,null,null,null,null,null,null,null,null,"Full Fecal Sludge Management",null,null,null,null,null,null,null,null,null,null,null,null,null,null,null,null,null,null,null,null,null,null,null,null,null,null,null,null,null,null,null,null,null,null,null,null,null,null,null,null,null,null,null,null,null,null,null,null,null,null,null,null,null,null,null,null,null,null,null,null,null,null,null,null,null,null,null,null,null,null,null,null,null,null,null,null,null,null,null,null,null,null,null,null,null,null,null,null,null,null,null,null,null,null,null,null,null,null,null,null,null,null,null,null,null,null,null,null,null,null,null,null,null,null,null,null,null,null,null,null,null,null,null,null,null,null,null,null,null,null,null,null,null,null,null,null,null,null,null,null,null,null,null,null,null,null,null,null,null,null,null,null,null,null,null,null,null,null,null,null,null,null,null,null,null,null,null,null,null,null,null,null,null,null,null,null,null,null,null,null,null,null,null,null,null,null,null,null,null,null,null,null,null,null,null,null,null,null,null,null,null,null,null,null,null,null,null,null,null,null,null,null,null,null,null,null,null,null,null,null,null,null,null,null,null,null,null,null,null,null,null,null,null,null,null,null,null,null,null,null,null,null,null,null,null,null,null,null,null,null,null,null,null,null,null,null,null,null,null,null,null,null,null,null,null,null,null,null,null,null,null,null,null,null,null,null,null,null,null,null,null,null,null,null,null,null,null,null,null,null,null,null,null,null,null,null,null,null,null,null,null,null,null,null,null,null,null,null,null,null,null,null,null,null,null,null,null,null,null,null,null,null,null,null,null,null,null,null,null,null,null,null,null,null,null,null,null,null,null,null,null,"Ending Open Defecation",null,null,null,null,null,null,null,null,null,null,null,null,null,null,null,null,null,null,null,null,null,null,null,null,null,null,null,null,null,"Safe Water 100% (Incremental)",null,null,null,null,null,null,null,null,null,null,null,null,null,null,null,null,null,null,null,null,null,null,null,null,null,null,null,null,null,null,null,null,null,null,null,null,null,null,null,null,null,null,null,null,null,null,null,null,null,null,null,null,null,null,null,null,null,null,null,null,null,null,null,null,null,null,null,null,null,null,null,null,null,null,null,null,null,null,null,null,null,null,null,null,null,null,null,null,null,"Safe Sanitation 100% (Incremental Cost)",null,null,null,null,null,null,null,null,null,null,null,null,null,null,"Basic Water",null,null,null,null,null,null,null,null,null,null,null,null,null,null,null,null,null,"Basic Sanitation",null,null,null,null,null,null,null,null,null,null,null,null,null,null,null,null,null,"Basic Hygiene",null,null,null,null,null,null,null,null,null,null,null,null,null,null,null,null,null,"Basic WASH",null,null,null,null,null,null,null,null,null,null,null,null,null,null,null,null,null,"Ending OD",null,null,null,null,null,"Safe Water",null,null,null,null,null,null,null,null,null,null,null,null,null,null,null,null,null,"Safe Sanitation",null,null,"Safe WatSan (Incr)",null,null,"Safe WASH (Total)",null,null,"Basic Water",null,null,null,null,null,null,null,null,null,null,null,null,null,null,null,null,null,"Basic Sanitation",null,null,null,null,null,null,null,null,null,null,null,null,null,null,null,null,null,"Basic Hygiene",null,null,null,null,null,null,null,null,null,null,null,null,null,null,"Basic WASH",null,null,null,null,null,null,null,null,null,null,null,null,null,null,null,null,null,"Ending OD",null,null,null,null,null,"Safe Water",null,null,null,null,null,null,null,null,null,null,null,null,null,null,null,null,null,"Safe Sanitation",null,null,"Safe WatSan (Incr)",null,null,"Safe WASH (Total)",null,null,"Basic Water",null,null,null,null,null,null,null,null,null,null,null,null,null,null,null,null,null,"Basic Sanitation",null,null,null,null,null,null,null,null,null,null,null,null,null,null,null,null,null,"Basic Hygiene",null,null,null,null,null,null,null,null,null,null,null,null,null,null,null,null,null,"Basic WASH",null,null,null,null,null,null,null,null,null,null,null,null,null,null,null,null,null,"Ending OD",null,null,null,null,null,"Safe Water",null,null,null,null,null,null,null,null,null,null,null,null,null,null,null,null,null,"Safe Sanitation (Incr)",null,null,"Safe WatSan (Incr)",null,null,"Safe WASH (Total)",null,null,"Safe Water 50% (Incremental)",null,null,null,null,null,null,null,null,null,null,null,null,null,null,null,null,null,null,null,null,null,null,null,null,null,null,null,null,null,null,null,null,null,null,null,null,null,null,null,null,null,null,null,null,null,null,null,null,null,null,null,null,null,null,null,null,null,null,null,null,null,null,null,null,null,null,null,null,null,null,null,null,null,null,null,null,null,null,null,null,null,null,null,null,null,null,null,null,null,"TOTAL GDP (US$ Million)","Total Costs",null,null,null,null,null,null,null,null,"Proportion of GDP",null,null,null,null,null,null,null,null,"Basic WASH",null,null,null,null,null,null,null,null,null,null,null,null,null,null,null,null,null,"Open Defecation Free",null,null,"Safe Services",null,null,null,null,null,null,null,null,null,null,null,"Basic WASH Cost (Annual)",null,null,null,null,null,null,null,null,null,null,null,"Safe water, adequate sanitation, FSM. Handwashing",null,null,null,null,null,null,null,null,null,null,null,"Basic WASH Cost (Annual)",null,null,null,null,null,null,null,null,null,null,null,"Safe water, adequate sanitation, FSM. Handwashing"]
[null,"Urban",null,null,null,null,null,null,null,null,null,null,null,null,null,null,null,null,"Rural",null,null,null,null,null,null,null,null,null,null,null,null,null,null,null,null,"Urban",null,null,null,null,null,null,null,"Rural",null,null,null,null,null,null,null,"Urban",null,null,null,null,null,null,null,"Rural",null,null,null,null,null,null,null,"Urban",null,null,null,null,null,null,null,"Rural",null,null,null,null,null,null,null,"Rural",null,null,null,null,null,null,null,"Urban",null,null,null,null,null,"Rural",null,null,null,null,null,"Urban",null,null,null,null,null,null,null,"Rural",null,null,null,null,null,null,null,"Basic Urban Water",null,null,null,null,null,null,null,null,null,null,null,null,null,null,null,null,null,null,null,null,null,null,null,null,null,null,null,null,null,null,null,null,null,null,null,null,null,null,null,null,null,null,null,null,null,null,null,null,null,null,null,null,null,null,null,null,null,null,null,null,null,null,null,null,null,null,null,null,null,null,null,null,null,null,null,null,null,null,null,null,null,null,null,null,null,null,null,null,null,null,null,null,null,null,null,null,null,null,null,null,null,null,null,null,null,null,null,null,null,null,null,null,null,"Basic Rural Water",null,null,null,null,null,null,null,null,null,null,null,null,null,null,null,null,null,null,null,null,null,null,null,null,null,null,null,null,null,null,null,null,null,null,null,null,null,null,null,null,null,null,null,null,null,null,null,null,null,null,null,null,null,null,null,null,null,null,null,null,null,null,null,null,null,null,null,null,null,null,null,null,null,null,null,null,null,null,null,null,null,null,null,null,null,null,null,null,null,null,null,null,null,null,null,null,null,null,null,null,null,null,null,null,null,null,null,null,null,null,null,null,null,"Rural ODF",null,null,null,null,null,null,"Basic Urban Sanitation",null,null,null,null,null,null,null,null,null,null,null,null,null,null,null,null,null,null,null,null,null,null,null,null,null,null,null,null,null,null,null,null,null,null,null,null,null,null,null,null,null,null,null,null,null,null,null,null,null,null,null,null,null,null,null,null,null,null,null,null,null,null,null,null,null,null,null,null,null,null,null,null,null,null,null,null,null,null,null,null,null,null,null,null,null,null,null,null,null,null,null,null,null,null,null,null,null,null,null,null,null,null,null,null,null,null,null,null,null,null,null,null,null,"Basic Rural Water",null,null,null,null,null,null,null,null,null,null,null,null,null,null,null,null,null,null,null,null,null,null,null,null,null,null,null,null,null,null,null,null,null,null,null,null,null,null,null,null,null,null,null,null,null,null,null,null,null,null,null,null,null,null,null,null,null,null,null,null,null,null,null,null,null,null,null,null,null,null,null,null,null,null,null,null,null,null,null,null,null,null,null,null,null,null,null,null,null,null,null,null,null,null,null,null,null,null,null,null,null,null,null,null,null,null,null,null,null,null,null,null,null,"Basic Urban Hygiene",null,null,null,null,null,null,null,null,null,null,null,null,null,null,null,null,null,null,null,null,null,null,null,null,null,null,null,null,null,null,null,null,null,null,null,null,null,null,null,null,null,null,null,null,null,null,null,null,null,null,null,null,null,null,null,null,null,null,null,null,null,null,null,null,null,null,null,null,null,null,null,null,null,null,null,null,null,null,null,null,null,null,null,null,null,null,null,null,null,null,null,null,null,null,null,null,null,null,null,null,null,null,null,null,null,null,null,null,null,null,null,null,null,"Basic Rural Hygiene",null,null,null,null,null,null,null,null,null,null,null,null,null,null,null,null,null,null,null,null,null,null,null,null,null,null,null,null,null,null,null,null,null,null,null,null,null,null,null,null,null,null,null,null,null,null,null,null,null,null,null,null,null,null,null,null,null,null,null,null,null,null,null,null,null,null,null,null,null,null,null,null,null,null,null,null,null,null,null,null,null,null,null,null,null,null,null,null,null,null,null,null,null,null,null,null,null,null,null,null,null,null,null,null,null,null,null,null,null,null,null,null,null,"Safely managed Urban Water",null,null,null,null,null,null,null,null,null,null,null,null,null,null,null,null,null,null,null,null,null,null,null,null,null,null,null,null,null,null,null,null,null,null,null,null,null,null,null,null,null,null,null,null,null,null,null,null,null,null,null,null,null,null,null,null,null,null,null,null,null,null,null,null,null,null,null,null,null,null,null,null,null,null,null,null,null,null,null,null,null,null,null,null,null,null,null,null,null,null,null,null,null,null,null,null,null,null,null,null,null,null,null,null,null,null,null,null,null,null,null,null,null,"Safely Managed Rural Water",null,null,null,null,null,null,null,null,null,null,null,null,null,null,null,null,null,null,null,null,null,null,null,null,null,null,null,null,null,null,null,null,null,null,null,null,null,null,null,null,null,null,null,null,null,null,null,null,null,null,null,null,null,null,null,null,null,null,null,null,null,null,null,null,null,null,null,null,null,null,null,null,null,null,null,null,null,null,null,null,null,null,null,null,null,null,null,null,null,null,null,null,null,null,null,null,null,null,null,null,null,null,null,null,null,null,null,null,null,null,null,null,null,"Safely Managed Urban Sanitation",null,null,null,null,null,null,null,null,null,null,null,null,null,null,null,null,null,null,"Safely Managed Rural Sanitation",null,null,null,null,null,null,null,null,null,null,null,null,null,null,null,null,null,null,"%","%","%","Urban Tubewell",null,null,null,null,null,null,null,null,null,null,null,null,"Urban Dug Well",null,null,null,null,null,null,null,null,null,null,null,null,"Rural Tubewell",null,null,null,null,null,null,null,null,null,null,null,null,"Rural Dug Well",null,null,null,null,null,null,null,null,null,null,null,null,"Urban",null,null,null,null,null,null,null,null,null,null,null,null,"Rural",null,null,null,null,null,null,null,null,null,null,null,null,"Urban - septic tank",null,null,null,null,null,null,null,null,null,null,null,null,null,"Urban - any pit latrine",null,null,null,null,null,null,null,null,null,null,null,null,null,"Rural - wet pit latrine",null,null,null,null,null,null,null,null,null,null,null,null,null,"Rural - dry pit latrine",null,null,null,null,null,null,null,null,null,null,null,null,null,"Rural Unimproved Pit Latrine",null,null,null,null,null,null,null,null,null,null,null,null,"Urban - sewerage with treatment (incremental cost only)",null,null,null,null,null,null,null,null,null,null,null,null,"Urban - septic tank with FSM (incremental cost only)",null,null,null,null,null,null,null,null,null,null,null,null,"Rural - pit latrine with FSM (incremental cost only)",null,null,null,null,null,null,null,null,null,null,null,null,"Rural - pit latrine with sewerage and treatment (incremental cost only)",null,null,null,null,null,null,null,null,null,null,null,null,"Urban",null,null,null,null,null,null,null,null,null,null,null,null,null,"Rural",null,null,null,null,null,null,null,null,null,null,null,null,null,"Urban",null,null,null,null,null,null,null,null,null,"Rural",null,null,null,null,null,null,null,null,null,"Urban",null,null,null,null,null,null,null,null,null,"Rural",null,null,null,null,null,null,null,null,null,"Urban",null,null,null,null,null,null,null,null,null,"Rural",null,null,null,null,null,null,null,null,null,"GDP Values",null,null,null,null,null,"Human Capital","Value for VSL calculation","DALY Value",null,null,null,"Value-of-statistical-life",null,null,"Value of time, as % of unit of value",null,null,null,"Poverty","Discount rate","Urban",null,null,null,null,null,null,null,null,null,null,null,null,null,null,null,null,null,null,null,null,null,null,null,null,null,null,null,null,null,null,null,null,null,null,null,null,null,null,null,null,null,null,null,null,null,null,null,null,null,null,null,null,null,null,null,null,null,null,null,null,null,null,null,null,null,null,null,null,null,null,null,null,null,null,null,null,null,null,null,null,null,null,null,null,null,null,null,null,null,null,null,null,null,null,null,null,null,null,null,null,null,null,null,null,null,null,null,null,null,null,null,null,null,null,null,null,null,null,null,null,null,null,null,null,null,"Rural",null,null,null,null,null,null,null,null,null,null,null,null,null,null,null,null,null,null,null,null,null,null,null,null,null,null,null,null,null,null,null,null,null,null,null,null,null,null,null,null,null,null,null,null,null,null,null,null,null,null,null,null,null,null,null,null,null,null,null,null,null,null,null,null,null,null,null,null,null,null,null,null,null,null,null,null,null,null,null,null,null,null,null,null,null,null,null,null,null,null,null,null,null,null,null,null,null,null,null,null,null,null,null,null,null,null,null,null,null,null,null,null,null,null,null,null,null,null,null,null,null,null,null,null,null,"Total",null,null,null,null,null,null,null,null,null,null,null,null,null,null,null,null,null,null,null,null,null,null,null,null,null,null,null,null,null,null,null,null,null,null,null,null,null,null,null,null,null,null,null,null,null,null,null,null,null,null,null,null,null,null,null,null,null,null,null,null,null,null,null,null,null,null,null,null,null,null,null,null,null,null,null,null,null,null,null,null,null,null,null,null,null,null,null,null,null,null,null,null,null,null,null,null,null,null,null,null,null,null,null,null,null,null,null,null,null,null,null,null,null,null,null,null,null,null,null,null,null,null,null,null,null,"Rural",null,null,null,null,null,null,null,null,null,null,null,null,null,null,null,null,null,null,null,null,null,null,null,null,null,null,null,null,null,null,null,null,null,null,null,null,null,null,null,null,null,null,null,null,null,null,null,null,null,null,null,null,null,null,null,null,null,null,null,null,null,null,null,null,null,null,null,null,null,null,null,null,null,null,null,null,null,null,null,null,null,null,null,null,null,null,null,null,null,null,null,null,null,null,null,null,null,null,null,null,null,null,null,null,null,null,null,null,null,null,null,null,null,null,null,null,null,null,null,null,null,null,null,null,null,"Urban",null,null,null,null,null,null,null,null,null,null,null,null,null,null,null,null,null,null,null,null,null,null,null,null,null,null,null,null,null,null,null,null,null,null,null,null,null,null,null,null,null,null,null,null,null,null,null,null,null,null,null,null,null,null,null,null,null,null,null,null,null,null,null,null,null,null,null,null,null,null,null,null,null,null,null,null,null,null,null,null,null,null,null,null,null,null,null,null,null,null,null,null,null,null,null,null,null,null,null,null,null,null,null,null,null,null,null,null,null,null,null,null,null,null,null,null,null,null,null,null,null,null,null,null,null,"Rural",null,null,null,null,null,null,null,null,null,null,null,null,null,null,null,null,null,null,null,null,null,null,null,null,null,null,null,null,null,null,null,null,null,null,null,null,null,null,null,null,null,null,null,null,null,null,null,null,null,null,null,null,null,null,null,null,null,null,null,null,null,null,null,null,null,null,null,null,null,null,null,null,null,null,null,null,null,null,null,null,null,null,null,null,null,null,null,null,null,null,null,null,null,null,null,null,null,null,null,null,null,null,null,null,null,null,null,null,null,null,null,null,null,null,null,null,null,null,null,null,null,null,null,null,null,"Total",null,null,null,null,null,null,null,null,null,null,null,null,null,null,null,null,null,null,null,null,null,null,null,null,null,null,null,null,null,null,null,null,null,null,null,null,null,null,null,null,null,null,null,null,null,null,null,null,null,null,null,null,null,null,null,null,null,null,null,null,null,null,null,null,null,null,null,null,null,null,null,null,null,null,null,null,null,null,null,null,null,null,null,null,null,null,null,null,null,null,null,null,null,null,null,null,null,null,null,null,null,null,null,null,null,null,null,null,null,null,null,null,null,null,null,null,null,null,null,null,null,null,null,null,null,"Urban",null,null,null,null,null,null,null,null,null,null,null,null,null,null,null,null,null,null,null,null,null,null,null,null,null,null,null,null,null,null,null,null,null,null,null,null,null,null,null,null,null,null,null,null,null,null,null,null,null,null,null,null,null,null,null,null,null,null,null,null,null,null,null,null,null,null,null,null,null,null,null,null,null,null,null,null,null,null,null,null,null,null,null,null,null,null,null,null,null,null,null,null,null,null,null,null,null,null,null,null,null,null,null,null,null,null,null,null,null,null,null,null,null,null,null,null,null,null,null,null,null,null,null,null,null,"Rural",null,null,null,null,null,null,null,null,null,null,null,null,null,null,null,null,null,null,null,null,null,null,null,null,null,null,null,null,null,null,null,null,null,null,null,null,null,null,null,null,null,null,null,null,null,null,null,null,null,null,null,null,null,null,null,null,null,null,null,null,null,null,null,null,null,null,null,null,null,null,null,null,null,null,null,null,null,null,null,null,null,null,null,null,null,null,null,null,null,null,null,null,null,null,null,null,null,null,null,null,null,null,null,null,null,null,null,null,null,null,null,null,null,null,null,null,null,null,null,null,null,null,null,null,null,"Total",null,null,null,null,null,null,null,null,null,null,null,null,null,null,null,null,null,null,null,null,null,null,null,null,null,null,null,null,null,null,null,null,null,null,null,null,null,null,null,null,null,null,null,null,null,null,null,null,null,null,null,null,null,null,null,null,null,null,null,null,null,null,null,null,null,null,null,null,null,null,null,null,null,null,null,null,null,null,null,null,null,null,null,null,null,null,null,null,null,null,null,null,null,null,null,null,null,null,null,null,null,null,null,null,null,null,null,null,null,null,null,null,null,null,null,null,null,null,null,null,null,null,null,null,null,"Urban",null,null,null,null,null,null,null,null,null,null,null,null,null,null,null,null,null,null,null,null,null,null,null,null,null,null,null,null,null,null,null,null,null,null,null,null,null,null,null,null,null,null,null,null,null,null,null,null,null,null,null,null,null,null,null,null,null,null,null,null,null,null,null,null,null,null,null,null,null,null,null,null,null,null,null,null,null,null,null,null,null,null,null,null,null,null,null,null,null,null,null,null,null,null,null,null,null,null,null,null,null,null,null,null,null,null,null,null,null,null,null,null,null,null,null,null,null,null,null,null,null,null,null,null,null,"Rural",null,null,null,null,null,null,null,null,null,null,null,null,null,null,null,null,null,null,null,null,null,null,null,null,null,null,null,null,null,null,null,null,null,null,null,null,null,null,null,null,null,null,null,null,null,null,null,null,null,null,null,null,null,null,null,null,null,null,null,null,null,null,null,null,null,null,null,null,null,null,null,null,null,null,null,null,null,null,null,null,null,null,null,null,null,null,null,null,null,null,null,null,null,null,null,null,null,null,null,null,null,null,null,null,null,null,null,null,null,null,null,null,null,null,null,null,null,null,null,null,null,null,null,null,null,"Total",null,null,null,null,null,null,null,null,null,null,null,null,null,null,null,null,null,null,null,null,null,null,null,null,null,null,null,null,null,null,null,null,null,null,null,null,null,null,null,null,null,null,null,null,null,null,null,null,null,null,null,null,null,null,null,null,null,null,null,null,null,null,null,null,null,null,null,null,null,null,null,null,null,null,null,null,null,null,null,null,null,null,null,null,null,null,null,null,null,null,null,null,null,null,null,null,null,null,null,null,null,null,null,null,null,null,null,null,null,null,null,null,null,null,null,null,null,null,null,null,null,null,null,null,null,"Urban",null,null,null,null,null,null,null,null,null,null,null,null,null,null,null,null,null,null,null,null,"Rural",null,null,null,null,null,null,null,null,null,null,null,null,null,null,null,null,null,null,null,null,"Total",null,null,null,null,null,null,null,null,null,null,null,null,null,null,null,null,null,null,null,null,"Urban",null,null,null,null,null,null,null,null,null,null,null,null,null,null,null,null,null,null,null,null,null,null,null,null,null,null,null,null,null,"Rural",null,null,null,null,null,null,null,null,null,null,null,null,null,null,null,null,null,null,null,null,null,null,null,null,null,null,null,null,null,"Total",null,null,null,null,null,null,null,null,null,null,null,null,null,null,null,null,null,null,null,null,null,null,null,null,null,null,null,null,null,"Urban",null,null,null,null,null,null,null,null,null,null,null,null,null,null,null,null,null,null,null,null,null,null,null,null,null,null,null,null,null,"Rural",null,null,null,null,null,null,null,null,null,null,null,null,null,null,null,null,null,null,null,null,null,null,null,null,null,null,null,null,null,"Total",null,null,null,null,null,null,null,null,null,null,null,null,null,null,null,null,null,null,null,null,null,null,null,null,null,null,null,null,null,"Urban",null,null,null,null,null,null,null,null,null,null,null,null,null,null,null,null,null,null,null,null,null,null,null,null,null,null,null,null,null,"Rural",null,null,null,null,null,null,null,null,null,null,null,null,null,null,null,null,null,null,null,null,null,null,null,null,null,null,null,null,null,"Total",null,null,null,null,null,null,null,null,null,null,null,null,null,null,null,null,null,null,null,null,null,null,null,null,null,null,null,null,null,"Urban",null,null,null,null,null,null,null,null,null,null,null,null,null,null,null,null,null,null,null,null,null,null,null,null,null,null,null,null,null,"Rural",null,null,null,null,null,null,null,null,null,null,null,null,null,null,null,null,null,null,null,null,null,null,null,null,null,null,null,null,null,"Total",null,null,null,null,null,null,null,null,null,null,null,null,null,null,null,null,null,null,null,null,null,null,null,null,null,null,null,null,null,"Urban",null,null,null,null,null,null,null,null,null,null,null,null,null,null,null,null,null,null,null,null,null,null,null,null,null,null,null,null,null,"Rural",null,null,null,null,null,null,null,null,null,null,null,null,null,null,null,null,null,null,null,null,null,null,null,null,null,null,null,null,null,"Total",null,null,null,null,null,null,null,null,null,null,null,null,null,null,null,null,null,null,null,null,null,null,null,null,null,null,null,null,null,"Urban",null,null,null,null,null,null,null,null,null,null,null,null,null,null,null,null,null,null,null,null,null,null,null,null,null,null,null,null,null,"Rural",null,null,null,null,null,null,null,null,null,null,null,null,null,null,null,null,null,null,null,null,null,null,null,null,null,null,null,null,null,"Total",null,null,null,null,null,null,null,null,null,null,null,null,null,null,null,null,null,null,null,null,null,null,null,null,null,null,null,null,null,"Urban",null,null,null,null,null,null,null,null,null,null,null,null,null,null,null,null,null,null,null,null,null,null,null,null,null,null,null,null,null,"Rural",null,null,null,null,null,null,null,null,null,null,null,null,null,null,null,null,null,null,null,null,null,null,null,null,null,null,null,null,null,"Total",null,null,null,null,null,null,null,null,null,null,null,null,null,null,null,null,null,null,null,null,null,null,null,null,null,null,null,null,null,"Urban",null,null,null,null,null,null,null,null,null,null,null,null,null,null,null,null,null,null,null,null,null,null,null,null,null,null,null,null,null,"Rural",null,null,null,null,null,null,null,null,null,null,null,null,null,null,null,null,null,null,null,null,null,null,null,null,null,null,null,null,null,"Total",null,null,null,null,null,null,null,null,null,null,null,null,null,null,null,null,null,null,null,null,null,null,null,null,null,null,null,null,null,"Urban",null,null,null,null,null,null,null,null,null,null,null,null,null,null,null,null,null,null,null,null,null,null,null,null,null,null,null,null,null,"Rural",null,null,null,null,null,null,null,null,null,null,null,null,null,null,null,null,null,null,null,null,null,null,null,null,null,null,null,null,null,"Total",null,null,null,null,null,null,null,null,null,null,null,null,null,null,null,null,null,null,null,null,null,null,null,null,null,null,null,null,null,"Urban",null,null,null,null,null,null,null,null,null,null,null,null,null,null,null,null,null,null,null,null,null,null,null,null,null,null,null,null,null,"Rural",null,null,null,null,null,null,null,null,null,null,null,null,null,null,null,null,null,null,null,null,null,null,null,null,null,null,null,null,null,"Total",null,null,null,null,null,null,null,null,null,null,null,null,null,null,null,null,null,null,null,null,null,null,null,null,null,null,null,null,null,"Urban",null,null,null,null,null,null,null,null,null,null,null,null,null,null,null,null,null,null,null,null,null,null,null,null,null,null,null,null,null,"Rural",null,null,null,null,null,null,null,null,null,null,null,null,null,null,null,null,null,null,null,null,null,null,null,null,null,null,null,null,null,"Total",null,null,null,null,null,null,null,null,null,null,null,null,null,null,null,null,null,null,null,null,null,null,null,null,null,null,null,null,null,"Urban",null,null,null,null,null,null,null,null,null,null,null,null,null,null,null,null,null,null,null,null,null,null,null,null,null,null,null,null,null,null,null,null,null,null,null,null,null,null,null,null,null,null,null,null,null,null,null,null,null,null,null,null,null,null,null,null,null,null,null,null,null,null,null,null,null,null,null,null,null,null,null,null,null,null,null,null,null,null,null,null,null,null,null,null,null,null,null,null,null,null,null,null,null,null,null,null,null,null,null,null,null,null,null,null,null,null,null,null,null,null,null,null,null,"Rural",null,null,null,null,null,null,null,null,null,null,null,null,null,null,null,null,null,null,null,null,null,null,null,null,null,null,null,null,null,null,null,null,null,null,null,null,null,null,null,null,null,null,null,null,null,null,null,null,null,null,null,null,null,null,null,null,null,null,null,null,null,null,null,null,null,null,null,null,null,null,null,null,null,null,null,null,null,null,null,null,null,null,null,null,null,null,null,null,null,null,null,null,null,null,null,null,null,null,null,null,null,null,null,null,null,null,null,null,null,null,null,null,null,"Total",null,null,null,null,null,null,null,null,null,null,null,null,null,null,null,null,null,null,null,null,null,null,null,null,null,null,null,null,null,null,null,null,null,null,null,null,null,null,null,null,null,null,null,null,null,null,null,null,null,null,null,null,null,null,null,null,null,null,null,null,null,null,null,null,null,null,null,null,null,null,null,null,null,null,null,null,null,null,null,null,null,null,null,null,null,null,null,null,null,null,null,null,null,null,null,null,null,null,null,null,null,null,null,null,null,null,null,null,null,null,null,null,null,"Urban",null,null,null,null,null,null,null,null,null,null,null,null,null,null,null,null,null,null,null,null,null,null,null,null,null,null,null,null,null,null,null,null,null,null,null,null,null,null,null,null,null,null,null,null,null,null,null,null,null,null,null,null,null,null,null,null,null,null,null,null,null,null,null,null,null,null,null,null,null,null,null,null,null,null,null,null,null,null,null,null,null,null,null,null,null,null,null,null,null,null,null,null,null,null,null,null,null,null,null,null,null,null,null,null,null,null,null,null,null,null,null,null,null,"Rural",null,null,null,null,null,null,null,null,null,null,null,null,null,null,null,null,null,null,null,null,null,null,null,null,null,null,null,null,null,null,null,null,null,null,null,null,null,null,null,null,null,null,null,null,null,null,null,null,null,null,null,null,null,null,null,null,null,null,null,null,null,null,null,null,null,null,null,null,null,null,null,null,null,null,null,null,null,null,null,null,null,null,null,null,null,null,null,null,null,null,null,null,null,null,null,null,null,null,null,null,null,null,null,null,null,null,null,null,null,null,null,null,null,"Total",null,null,null,null,null,null,null,null,null,null,null,null,null,null,null,null,null,null,null,null,null,null,null,null,null,null,null,null,null,null,null,null,null,null,null,null,null,null,null,null,null,null,null,null,null,null,null,null,null,null,null,null,null,null,null,null,null,null,null,null,null,null,null,null,null,null,null,null,null,null,null,null,null,null,null,null,null,null,null,null,null,null,null,null,null,null,null,null,null,null,null,null,null,null,null,null,null,null,null,null,null,null,null,null,null,null,null,null,null,null,null,null,null,"Urban",null,null,null,null,null,null,null,null,null,null,null,null,null,null,null,null,null,null,null,null,null,null,null,null,null,null,null,null,null,null,null,null,null,null,null,null,null,null,null,null,null,null,null,null,null,null,null,null,null,null,null,null,null,null,null,null,null,null,null,null,null,null,null,null,null,null,null,null,null,null,null,null,null,null,null,null,null,null,null,null,null,null,null,null,null,null,null,null,null,null,null,null,null,null,null,null,null,null,null,null,null,null,null,null,null,null,null,null,null,null,null,null,null,"Rural",null,null,null,null,null,null,null,null,null,null,null,null,null,null,null,null,null,null,null,null,null,null,null,null,null,null,null,null,null,null,null,null,null,null,null,null,null,null,null,null,null,null,null,null,null,null,null,null,null,null,null,null,null,null,null,null,null,null,null,null,null,null,null,null,null,null,null,null,null,null,null,null,null,null,null,null,null,null,null,null,null,null,null,null,null,null,null,null,null,null,null,null,null,null,null,null,null,null,null,null,null,null,null,null,null,null,null,null,null,null,null,null,null,"Total",null,null,null,null,null,null,null,null,null,null,null,null,null,null,null,null,null,null,null,null,null,null,null,null,null,null,null,null,null,null,null,null,null,null,null,null,null,null,null,null,null,null,null,null,null,null,null,null,null,null,null,null,null,null,null,null,null,null,null,null,null,null,null,null,null,null,null,null,null,null,null,null,null,null,null,null,null,null,null,null,null,null,null,null,null,null,null,null,null,null,null,null,null,null,null,null,null,null,null,null,null,null,null,null,null,null,null,null,null,null,null,null,null,"Urban",null,null,null,null,null,null,null,null,null,null,null,null,null,null,null,null,null,null,null,null,null,null,null,null,null,null,null,null,null,null,null,null,null,null,null,null,null,null,null,null,null,null,null,null,null,null,null,null,null,null,null,null,null,null,null,null,null,null,null,null,null,null,null,null,null,null,null,null,null,null,null,null,null,null,null,null,null,null,null,null,null,null,null,null,null,null,null,null,null,null,null,null,null,null,null,null,null,null,null,null,null,null,null,null,null,null,null,null,null,null,null,null,null,"Rural",null,null,null,null,null,null,null,null,null,null,null,null,null,null,null,null,null,null,null,null,null,null,null,null,null,null,null,null,null,null,null,null,null,null,null,null,null,null,null,null,null,null,null,null,null,null,null,null,null,null,null,null,null,null,null,null,null,null,null,null,null,null,null,null,null,null,null,null,null,null,null,null,null,null,null,null,null,null,null,null,null,null,null,null,null,null,null,null,null,null,null,null,null,null,null,null,null,null,null,null,null,null,null,null,null,null,null,null,null,null,null,null,null,"Total",null,null,null,null,null,null,null,null,null,null,null,null,null,null,null,null,null,null,null,null,null,null,null,null,null,null,null,null,null,null,null,null,null,null,null,null,null,null,null,null,null,null,null,null,null,null,null,null,null,null,null,null,null,null,null,null,null,null,null,null,null,null,null,null,null,null,null,null,null,null,null,null,null,null,null,null,null,null,null,null,null,null,null,null,null,null,null,null,null,null,null,null,null,null,null,null,null,null,null,null,null,null,null,null,null,null,null,null,null,null,null,null,null,"Urban",null,null,null,null,null,null,null,null,null,null,null,null,null,null,null,null,null,null,null,null,null,null,null,null,null,null,null,null,null,null,null,null,null,null,null,null,null,null,null,null,null,null,null,null,null,null,null,null,null,null,null,null,null,null,null,null,null,null,null,null,null,null,null,null,null,null,null,null,null,null,null,null,null,null,null,null,null,null,null,null,null,null,null,null,null,null,null,null,null,null,null,null,null,null,null,null,null,null,null,null,null,null,null,null,null,null,null,null,null,null,null,null,null,"Rural",null,null,null,null,null,null,null,null,null,null,null,null,null,null,null,null,null,null,null,null,null,null,null,null,null,null,null,null,null,null,null,null,null,null,null,null,null,null,null,null,null,null,null,null,null,null,null,null,null,null,null,null,null,null,null,null,null,null,null,null,null,null,null,null,null,null,null,null,null,null,null,null,null,null,null,null,null,null,null,null,null,null,null,null,null,null,null,null,null,null,null,null,null,null,null,null,null,null,null,null,null,null,null,null,null,null,null,null,null,null,null,null,null,"Total",null,null,null,null,null,null,null,null,null,null,null,null,null,null,null,null,null,null,null,null,null,null,null,null,null,null,null,null,null,null,null,null,null,null,null,null,null,null,null,null,null,null,null,null,null,null,null,null,null,null,null,null,null,null,null,null,null,null,null,null,null,null,null,null,null,null,null,null,null,null,null,null,null,null,null,null,null,null,null,null,null,null,null,null,null,null,null,null,null,null,null,null,null,null,null,null,null,null,null,null,null,null,null,null,null,null,null,null,null,null,null,null,null,"Rural",null,null,null,null,null,null,null,null,null,null,null,null,null,null,null,null,null,null,null,null,null,null,null,null,null,null,null,null,null,"Urban",null,null,null,null,null,null,null,null,null,null,null,null,null,null,null,null,null,null,null,null,null,null,null,null,null,null,null,null,null,"Rural",null,null,null,null,null,null,null,null,null,null,null,null,null,null,null,null,null,null,null,null,null,null,null,null,null,null,null,null,null,"Total",null,null,null,null,null,null,null,null,null,null,null,null,null,null,null,null,null,null,null,null,null,null,null,null,null,null,null,null,null,"Urban",null,null,null,null,"Rural",null,null,null,null,"Total",null,null,null,null,"Urban",null,null,null,null,null,"Rural",null,null,null,null,null,"Total",null,null,null,null,null,"Urban",null,null,null,null,null,"Rural",null,null,null,null,null,"Total",null,null,null,null,null,"Urban",null,null,null,null,null,"Rural",null,null,null,null,null,"Total",null,null,null,null,null,"Urban",null,null,null,null,null,"Rural",null,null,null,null,null,"Total",null,null,null,null,null,"Rural",null,null,null,null,null,"Urban",null,null,null,null,null,"Rural",null,null,null,null,null,"Total",null,null,null,null,null,"Urban","Rural","Total","Urban","Rural","Total","Urban","Rural","Total","Urban",null,null,null,null,null,"Rural",null,null,null,null,null,"Total",null,null,null,null,null,"Urban",null,null,null,null,null,"Rural",null,null,null,null,null,"Total",null,null,null,null,null,"Urban",null,null,null,null,"Rural",null,null,null,null,"Total",null,null,null,null,"Urban",null,null,null,null,null,"Rural",null,null,null,null,null,"Total",null,null,null,null,null,"Rural",null,null,null,null,null,"Urban",null,null,null,null,null,"Rural",null,null,null,null,null,"Total",null,null,null,null,null,"Urban","Rural","Total","Urban","Rural","Total","Urban","Rural","Total","Urban",null,null,null,null,null,"Rural",null,null,null,null,null,"Total",null,null,null,null,null,"Urban",null,null,null,null,null,"Rural",null,null,null,null,null,"Total",null,null,null,null,null,"Urban",null,null,null,null,null,"Rural",null,null,null,null,null,"Total",null,null,null,null,null,"Urban",null,null,null,null,null,"Rural",null,null,null,null,null,"Total",null,null,null,null,null,"Rural",null,null,null,null,null,"Urban",null,null,null,null,null,"Rural",null,null,null,null,null,"Total",null,null,null,null,null,"Urban","Rural","Total","Urban","Rural","Total","Urban","Rural","Total","Urban",null,null,null,null,null,null,null,null,null,null,null,null,null,null,null,null,null,null,null,null,null,null,null,null,null,null,null,null,null,"Rural",null,null,null,null,null,null,null,null,null,null,null,null,null,null,null,null,null,null,null,null,null,null,null,null,null,null,null,null,null,"Total",null,null,null,null,null,null,null,null,null,null,null,null,null,null,null,null,null,null,null,null,null,null,null,null,null,null,null,null,null,null,null,"Universal Basic (USD Millions)",null,null,null,"Universal Safe (USD Millions)",null,null,null,null,"Universal Basic (%)",null,null,null,"Universal Safe (%)",null,null,null,"Water",null,null,null,null,null,"Sanitation",null,null,null,null,null,"Hygiene",null,null,null,null,null,null,null,null,"Safe Water",null,null,null,null,null,"Safe Sanitation",null,null,null,null,null,"Urban",null,null,null,null,null,"Rural",null,null,null,null,null,"Urban",null,null,null,null,null,"Rural",null,null,null,null,null,"Urban",null,null,null,null,null,"Rural",null,null,null,null,null,"Urban",null,null,null,null,null,"Rural"]
[null,null,null,null,null,null,null,null,null,null,null,null,null,null,null,null,null,null,null,null,null,null,null,null,null,null,null,null,null,null,null,null,null,null,null,"Coverage in 2015",null,null,null,null,null,"Target Year","Coverage in target year","Coverage in 2015",null,null,null,null,null,"Target Year","Coverage in target year","Coverage in 2015",null,null,null,null,null,"Target Year","Coverage in target year","Coverage in 2015",null,null,null,null,null,"Target Year","Coverage in target year","Coverage in 2015",null,null,null,null,null,"Target Year","Coverage in target year","Coverage in 2015",null,null,null,null,null,"Target Year","Coverage in target year","Coverage in 2015",null,null,null,null,null,"Target Year","Coverage in target year","Households Connected in 2015","Proportion of Collected Sewage Treated 2015","Non-connected households with safely managed fecal sludge","Effective treatment (either sewerage or FSM)","Target Year","Coverage in target year","Households Connected in 2015","Proportion of Collected Sewage Treated 2015","Non-connected households with safely managed fecal sludge","Effective treatment (either sewerage or FSM)","Target Year","Coverage in target year","Forecast for 2015",null,null,null,null,null,"Target Year","Coverage in target year","Forecast for 2015",null,null,null,null,null,"Target Year","Coverage in target year","Q5 (Richest)",null,null,null,null,null,null,null,null,null,null,null,null,null,null,null,null,null,null,"Q4",null,null,null,null,null,null,null,null,null,null,null,null,null,null,null,null,null,null,"Q3",null,null,null,null,null,null,null,null,null,null,null,null,null,null,null,null,null,null,"Q2",null,null,null,null,null,null,null,null,null,null,null,null,null,null,null,null,null,null,"Q1 (Poorest)",null,null,null,null,null,null,null,null,null,null,null,null,null,null,null,null,null,null,"Total",null,null,null,null,null,null,null,null,null,null,null,null,null,null,null,null,null,null,"Q5 (Richest)",null,null,null,null,null,null,null,null,null,null,null,null,null,null,null,null,null,null,"Q4",null,null,null,null,null,null,null,null,null,null,null,null,null,null,null,null,null,null,"Q3",null,null,null,null,null,null,null,null,null,null,null,null,null,null,null,null,null,null,"Q2",null,null,null,null,null,null,null,null,null,null,null,null,null,null,null,null,null,null,"Q1 (Poorest)",null,null,null,null,null,null,null,null,null,null,null,null,null,null,null,null,null,null,"Total",null,null,null,null,null,null,null,null,null,null,null,null,null,null,null,null,null,null,"Q5 (Rich)","Q4","Q3","Q2","Q1 (Poor)","Annual Total","Total","Q5 (Richest)",null,null,null,null,null,null,null,null,null,null,null,null,null,null,null,null,null,null,"Q4",null,null,null,null,null,null,null,null,null,null,null,null,null,null,null,null,null,null,"Q3",null,null,null,null,null,null,null,null,null,null,null,null,null,null,null,null,null,null,"Q2",null,null,null,null,null,null,null,null,null,null,null,null,null,null,null,null,null,null,"Q1 (Poorest)",null,null,null,null,null,null,null,null,null,null,null,null,null,null,null,null,null,null,"Total",null,null,null,null,null,null,null,null,null,null,null,null,null,null,null,null,null,null,"Q5 (Richest)",null,null,null,null,null,null,null,null,null,null,null,null,null,null,null,null,null,null,"Q4",null,null,null,null,null,null,null,null,null,null,null,null,null,null,null,null,null,null,"Q3",null,null,null,null,null,null,null,null,null,null,null,null,null,null,null,null,null,null,"Q2",null,null,null,null,null,null,null,null,null,null,null,null,null,null,null,null,null,null,"Q1 (Poorest)",null,null,null,null,null,null,null,null,null,null,null,null,null,null,null,null,null,null,"Total",null,null,null,null,null,null,null,null,null,null,null,null,null,null,null,null,null,null,"Q5 (Richest)",null,null,null,null,null,null,null,null,null,null,null,null,null,null,null,null,null,null,"Q4",null,null,null,null,null,null,null,null,null,null,null,null,null,null,null,null,null,null,"Q3",null,null,null,null,null,null,null,null,null,null,null,null,null,null,null,null,null,null,"Q2",null,null,null,null,null,null,null,null,null,null,null,null,null,null,null,null,null,null,"Q1 (Poorest)",null,null,null,null,null,null,null,null,null,null,null,null,null,null,null,null,null,null,"Total",null,null,null,null,null,null,null,null,null,null,null,null,null,null,null,null,null,null,"Q5 (Richest)",null,null,null,null,null,null,null,null,null,null,null,null,null,null,null,null,null,null,"Q4",null,null,null,null,null,null,null,null,null,null,null,null,null,null,null,null,null,null,"Q3",null,null,null,null,null,null,null,null,null,null,null,null,null,null,null,null,null,null,"Q2",null,null,null,null,null,null,null,null,null,null,null,null,null,null,null,null,null,null,"Q1 (Poorest)",null,null,null,null,null,null,null,null,null,null,null,null,null,null,null,null,null,null,"Total",null,null,null,null,null,null,null,null,null,null,null,null,null,null,null,null,null,null,"Q5 (Richest)",null,null,null,null,null,null,null,null,null,null,null,null,null,null,null,null,null,null,"Q4",null,null,null,null,null,null,null,null,null,null,null,null,null,null,null,null,null,null,"Q3",null,null,null,null,null,null,null,null,null,null,null,null,null,null,null,null,null,null,"Q2",null,null,null,null,null,null,null,null,null,null,null,null,null,null,null,null,null,null,"Q1 (Poorest)",null,null,null,null,null,null,null,null,null,null,null,null,null,null,null,null,null,null,"Total",null,null,null,null,null,null,null,null,null,null,null,null,null,null,null,null,null,null,"Q5 (Richest)",null,null,null,null,null,null,null,null,null,null,null,null,null,null,null,null,null,null,"Q4",null,null,null,null,null,null,null,null,null,null,null,null,null,null,null,null,null,null,"Q3",null,null,null,null,null,null,null,null,null,null,null,null,null,null,null,null,null,null,"Q2",null,null,null,null,null,null,null,null,null,null,null,null,null,null,null,null,null,null,"Q1 (Poorest)",null,null,null,null,null,null,null,null,null,null,null,null,null,null,null,null,null,null,"Total",null,null,null,null,null,null,null,null,null,null,null,null,null,null,null,null,null,null,"All Quintiles",null,null,null,null,null,null,null,null,null,null,null,null,null,null,null,null,null,null,"All Quintiles",null,null,null,null,null,null,null,null,null,null,null,null,null,null,null,null,null,null,"Total","Total","Total","New facility / replacement",null,null,null,null,"Maintenance",null,null,null,"Annual",null,null,"Total Annualized","New facility / replacement",null,null,null,null,"Maintenance",null,null,null,"Annual",null,null,"Total Annualized","New facility / replacement",null,null,null,null,"Maintenance",null,null,null,"Annual",null,null,"Total Annualized","New facility / replacement",null,null,null,null,"Maintenance",null,null,null,"Annual",null,null,"Total Annualized","New facility / replacement",null,null,null,null,"Maintenance",null,null,null,"Annual",null,null,"Total Annualized","New facility / replacement",null,null,null,null,"Maintenance",null,null,null,"Annual",null,null,"Total Annualized",1,"New facility / replacement",null,null,null,null,"Maintenance",null,null,null,"Annual",null,null,"Total Annualized",1,"New facility / replacement",null,null,null,null,"Maintenance",null,null,null,"Annual",null,null,"Total Annualized",1,"New facility / replacement",null,null,null,null,"Maintenance",null,null,null,"Annual",null,null,"Total Annualized",1,"New facility / replacement",null,null,null,null,"Maintenance",null,null,null,"Annual",null,null,"Total Annualized","New facility / replacement",null,null,null,null,"Maintenance",null,null,null,"Annual",null,null,"Total Annualized","New facility / replacement",null,null,null,null,"Maintenance",null,null,null,"Annual",null,null,"Total Annualized","New facility / replacement",null,null,null,null,"Maintenance",null,null,null,"Annual",null,null,"Total Annualized","New facility / replacement",null,null,null,null,"Maintenance",null,null,null,"Annual",null,null,"Total Annualized","New facility / replacement",null,null,null,null,"Maintenance",null,null,null,"Annual",null,null,"Total Annualized","New facility / replacement",null,null,null,null,null,"Maintenance",null,null,null,"Annual",null,null,"Total Annualized","New facility / replacement",null,null,null,null,null,"Maintenance",null,null,null,"Annual",null,null,"Total Annualized","Tubewell or Borehole",null,null,null,null,"Dug well",null,null,null,null,"Tubewell or Borehole",null,null,null,null,"Dug well",null,null,null,null,"Septic tank",null,null,null,null,"Any pit latrine",null,null,null,null,"Wet pit latrine",null,null,null,null,"Dry pit latrine",null,null,null,null,"Sewerage with treatment",null,null,null,null,"Septic tank with FSM",null,null,null,null,"Septic tank with FSM",null,null,null,null,"(Dry) pit latrine with FSM",null,null,null,null,"Actual (US$)","Average wage",null,"Minimum wage",null,"PPP Value (I$)","Adult (40 years productive life)",null,"VSL DALY 1000, 3%","VSL DALY 1000, 5%","VSL DALY 5000, 3%","VSL DALY 5000, 5%","VSL to be used for benefits transfer (in US$)","GDP per capita of VSL source country, US$","VSL Value (US$) in 2015","0-4 yrs","5-14 yrs","15+ yrs","Working days per year","Poverty Line, US$ 1.9 per day PPP at 2015 prices",0.05,"Q5 (Richest)",null,null,null,null,null,null,null,null,null,null,null,null,null,null,null,null,null,null,null,null,"Q4",null,null,null,null,null,null,null,null,null,null,null,null,null,null,null,null,null,null,null,null,"Q3",null,null,null,null,null,null,null,null,null,null,null,null,null,null,null,null,null,null,null,null,"Q2",null,null,null,null,null,null,null,null,null,null,null,null,null,null,null,null,null,null,null,null,"Q1 (Poorest)",null,null,null,null,null,null,null,null,null,null,null,null,null,null,null,null,null,null,null,null,"Total",null,null,null,null,null,null,null,null,null,null,null,null,null,null,null,null,null,null,null,null,"Q5 (Richest)",null,null,null,null,null,null,null,null,null,null,null,null,null,null,null,null,null,null,null,null,"Q4",null,null,null,null,null,null,null,null,null,null,null,null,null,null,null,null,null,null,null,null,"Q3",null,null,null,null,null,null,null,null,null,null,null,null,null,null,null,null,null,null,null,null,"Q2",null,null,null,null,null,null,null,null,null,null,null,null,null,null,null,null,null,null,null,null,"Q1 (Poorest)",null,null,null,null,null,null,null,null,null,null,null,null,null,null,null,null,null,null,null,null,"Total",null,null,null,null,null,null,null,null,null,null,null,null,null,null,null,null,null,null,null,null,"Q5 (Richest)",null,null,null,null,null,null,null,null,null,null,null,null,null,null,null,null,null,null,null,null,"Q4",null,null,null,null,null,null,null,null,null,null,null,null,null,null,null,null,null,null,null,null,"Q3",null,null,null,null,null,null,null,null,null,null,null,null,null,null,null,null,null,null,null,null,"Q2",null,null,null,null,null,null,null,null,null,null,null,null,null,null,null,null,null,null,null,null,"Q1 (Poorest)",null,null,null,null,null,null,null,null,null,null,null,null,null,null,null,null,null,null,null,null,"Total",null,null,null,null,null,null,null,null,null,null,null,null,null,null,null,null,null,null,null,null,"Q5 (Richest)",null,null,null,null,null,null,null,null,null,null,null,null,null,null,null,null,null,null,null,null,"Q4",null,null,null,null,null,null,null,null,null,null,null,null,null,null,null,null,null,null,null,null,"Q3",null,null,null,null,null,null,null,null,null,null,null,null,null,null,null,null,null,null,null,null,"Q2",null,null,null,null,null,null,null,null,null,null,null,null,null,null,null,null,null,null,null,null,"Q1 (Poorest)",null,null,null,null,null,null,null,null,null,null,null,null,null,null,null,null,null,null,null,null,"Total",null,null,null,null,null,null,null,null,null,null,null,null,null,null,null,null,null,null,null,null,"Q5 (Richest)",null,null,null,null,null,null,null,null,null,null,null,null,null,null,null,null,null,null,null,null,"Q4",null,null,null,null,null,null,null,null,null,null,null,null,null,null,null,null,null,null,null,null,"Q3",null,null,null,null,null,null,null,null,null,null,null,null,null,null,null,null,null,null,null,null,"Q2",null,null,null,null,null,null,null,null,null,null,null,null,null,null,null,null,null,null,null,null,"Q1 (Poorest)",null,null,null,null,null,null,null,null,null,null,null,null,null,null,null,null,null,null,null,null,"Total",null,null,null,null,null,null,null,null,null,null,null,null,null,null,null,null,null,null,null,null,"Q5 (Richest)",null,null,null,null,null,null,null,null,null,null,null,null,null,null,null,null,null,null,null,null,"Q4",null,null,null,null,null,null,null,null,null,null,null,null,null,null,null,null,null,null,null,null,"Q3",null,null,null,null,null,null,null,null,null,null,null,null,null,null,null,null,null,null,null,null,"Q2",null,null,null,null,null,null,null,null,null,null,null,null,null,null,null,null,null,null,null,null,"Q1 (Poorest)",null,null,null,null,null,null,null,null,null,null,null,null,null,null,null,null,null,null,null,null,"Total",null,null,null,null,null,null,null,null,null,null,null,null,null,null,null,null,null,null,null,null,"Q5 (Richest)",null,null,null,null,null,null,null,null,null,null,null,null,null,null,null,null,null,null,null,null,"Q4",null,null,null,null,null,null,null,null,null,null,null,null,null,null,null,null,null,null,null,null,"Q3",null,null,null,null,null,null,null,null,null,null,null,null,null,null,null,null,null,null,null,null,"Q2",null,null,null,null,null,null,null,null,null,null,null,null,null,null,null,null,null,null,null,null,"Q1 (Poorest)",null,null,null,null,null,null,null,null,null,null,null,null,null,null,null,null,null,null,null,null,"Total",null,null,null,null,null,null,null,null,null,null,null,null,null,null,null,null,null,null,null,null,"Q5 (Richest)",null,null,null,null,null,null,null,null,null,null,null,null,null,null,null,null,null,null,null,null,"Q4",null,null,null,null,null,null,null,null,null,null,null,null,null,null,null,null,null,null,null,null,"Q3",null,null,null,null,null,null,null,null,null,null,null,null,null,null,null,null,null,null,null,null,"Q2",null,null,null,null,null,null,null,null,null,null,null,null,null,null,null,null,null,null,null,null,"Q1 (Poorest)",null,null,null,null,null,null,null,null,null,null,null,null,null,null,null,null,null,null,null,null,"Total",null,null,null,null,null,null,null,null,null,null,null,null,null,null,null,null,null,null,null,null,"Q5 (Richest)",null,null,null,null,null,null,null,null,null,null,null,null,null,null,null,null,null,null,null,null,"Q4",null,null,null,null,null,null,null,null,null,null,null,null,null,null,null,null,null,null,null,null,"Q3",null,null,null,null,null,null,null,null,null,null,null,null,null,null,null,null,null,null,null,null,"Q2",null,null,null,null,null,null,null,null,null,null,null,null,null,null,null,null,null,null,null,null,"Q1 (Poorest)",null,null,null,null,null,null,null,null,null,null,null,null,null,null,null,null,null,null,null,null,"Total",null,null,null,null,null,null,null,null,null,null,null,null,null,null,null,null,null,null,null,null,"Q5 (Richest)",null,null,null,null,null,null,null,null,null,null,null,null,null,null,null,null,null,null,null,null,"Q4",null,null,null,null,null,null,null,null,null,null,null,null,null,null,null,null,null,null,null,null,"Q3",null,null,null,null,null,null,null,null,null,null,null,null,null,null,null,null,null,null,null,null,"Q2",null,null,null,null,null,null,null,null,null,null,null,null,null,null,null,null,null,null,null,null,"Q1 (Poorest)",null,null,null,null,null,null,null,null,null,null,null,null,null,null,null,null,null,null,null,null,"Total",null,null,null,null,null,null,null,null,null,null,null,null,null,null,null,null,null,null,null,null,"Q5 (Richest)",null,null,null,null,null,null,null,null,null,null,null,null,null,null,null,null,null,null,null,null,"Q4",null,null,null,null,null,null,null,null,null,null,null,null,null,null,null,null,null,null,null,null,"Q3",null,null,null,null,null,null,null,null,null,null,null,null,null,null,null,null,null,null,null,null,"Q2",null,null,null,null,null,null,null,null,null,null,null,null,null,null,null,null,null,null,null,null,"Q1 (Poorest)",null,null,null,null,null,null,null,null,null,null,null,null,null,null,null,null,null,null,null,null,"Total",null,null,null,null,null,null,null,null,null,null,null,null,null,null,null,null,null,null,null,null,"Q5 (Richest)",null,null,null,null,null,null,null,null,null,null,null,null,null,null,null,null,null,null,null,null,"Q4",null,null,null,null,null,null,null,null,null,null,null,null,null,null,null,null,null,null,null,null,"Q3",null,null,null,null,null,null,null,null,null,null,null,null,null,null,null,null,null,null,null,null,"Q2",null,null,null,null,null,null,null,null,null,null,null,null,null,null,null,null,null,null,null,null,"Q1 (Poorest)",null,null,null,null,null,null,null,null,null,null,null,null,null,null,null,null,null,null,null,null,"Total",null,null,null,null,null,null,null,null,null,null,null,null,null,null,null,null,null,null,null,null,"Q5 (Richest)",null,null,null,null,null,null,null,null,null,null,null,null,null,null,null,null,null,null,null,null,"Q4",null,null,null,null,null,null,null,null,null,null,null,null,null,null,null,null,null,null,null,null,"Q3",null,null,null,null,null,null,null,null,null,null,null,null,null,null,null,null,null,null,null,null,"Q2",null,null,null,null,null,null,null,null,null,null,null,null,null,null,null,null,null,null,null,null,"Q1 (Poorest)",null,null,null,null,null,null,null,null,null,null,null,null,null,null,null,null,null,null,null,null,"Total",null,null,null,null,null,null,null,null,null,null,null,null,null,null,null,null,null,null,null,null,"All Wealth Quintiles",null,null,null,null,null,null,null,null,null,null,null,null,null,null,null,null,null,null,null,null,"All Wealth Quintiles",null,null,null,null,null,null,null,null,null,null,null,null,null,null,null,null,null,null,null,null,"All Wealth Quintiles",null,null,null,null,null,null,null,null,null,null,null,null,null,null,null,null,null,null,null,null,"Q5 (Richest)",null,null,null,null,"Q4",null,null,null,null,"Q3",null,null,null,null,"Q2",null,null,null,null,"Q1 (Poorest)",null,null,null,null,"Total",null,null,null,null,"Q5 (Richest)",null,null,null,null,"Q4",null,null,null,null,"Q3",null,null,null,null,"Q2",null,null,null,null,"Q1 (Poorest)",null,null,null,null,"Total",null,null,null,null,"Q5 (Richest)",null,null,null,null,"Q4",null,null,null,null,"Q3",null,null,null,null,"Q2",null,null,null,null,"Q1 (Poorest)",null,null,null,null,"Total",null,null,null,null,"Q5 (Richest)",null,null,null,null,"Q4",null,null,null,null,"Q3",null,null,null,null,"Q2",null,null,null,null,"Q1 (Poorest)",null,null,null,null,"Total",null,null,null,null,"Q5 (Richest)",null,null,null,null,"Q4",null,null,null,null,"Q3",null,null,null,null,"Q2",null,null,null,null,"Q1 (Poorest)",null,null,null,null,"Total",null,null,null,null,"Q5 (Richest)",null,null,null,null,"Q4",null,null,null,null,"Q3",null,null,null,null,"Q2",null,null,null,null,"Q1 (Poorest)",null,null,null,null,"Total",null,null,null,null,"Q5 (Richest)",null,null,null,null,"Q4",null,null,null,null,"Q3",null,null,null,null,"Q2",null,null,null,null,"Q1 (Poorest)",null,null,null,null,"Total",null,null,null,null,"Q5 (Richest)",null,null,null,null,"Q4",null,null,null,null,"Q3",null,null,null,null,"Q2",null,null,null,null,"Q1 (Poorest)",null,null,null,null,"Total",null,null,null,null,"Q5 (Richest)",null,null,null,null,"Q4",null,null,null,null,"Q3",null,null,null,null,"Q2",null,null,null,null,"Q1 (Poorest)",null,null,null,null,"Total",null,null,null,null,"Q5 (Richest)",null,null,null,null,"Q4",null,null,null,null,"Q3",null,null,null,null,"Q2",null,null,null,null,"Q1 (Poorest)",null,null,null,null,"Total",null,null,null,null,"Q5 (Richest)",null,null,null,null,"Q4",null,null,null,null,"Q3",null,null,null,null,"Q2",null,null,null,null,"Q1 (Poorest)",null,null,null,null,"Total",null,null,null,null,"Q5 (Richest)",null,null,null,null,"Q4",null,null,null,null,"Q3",null,null,null,null,"Q2",null,null,null,null,"Q1 (Poorest)",null,null,null,null,"Total",null,null,null,null,"Q5 (Richest)",null,null,null,null,"Q4",null,null,null,null,"Q3",null,null,null,null,"Q2",null,null,null,null,"Q1 (Poorest)",null,null,null,null,"Total",null,null,null,null,"Q5 (Richest)",null,null,null,null,"Q4",null,null,null,null,"Q3",null,null,null,null,"Q2",null,null,null,null,"Q1 (Poorest)",null,null,null,null,"Total",null,null,null,null,"Q5 (Richest)",null,null,null,null,"Q4",null,null,null,null,"Q3",null,null,null,null,"Q2",null,null,null,null,"Q1 (Poorest)",null,null,null,null,"Total",null,null,null,null,"Q5 (Richest)",null,null,null,null,"Q4",null,null,null,null,"Q3",null,null,null,null,"Q2",null,null,null,null,"Q1 (Poorest)",null,null,null,null,"Total",null,null,null,null,"Q5 (Richest)",null,null,null,null,"Q4",null,null,null,null,"Q3",null,null,null,null,"Q2",null,null,null,null,"Q1 (Poorest)",null,null,null,null,"Total",null,null,null,null,"Q5 (Richest)",null,null,null,null,"Q4",null,null,null,null,"Q3",null,null,null,null,"Q2",null,null,null,null,"Q1 (Poorest)",null,null,null,null,"Total",null,null,null,null,"Q5 (Richest)",null,null,null,null,"Q4",null,null,null,null,"Q3",null,null,null,null,"Q2",null,null,null,null,"Q1 (Poorest)",null,null,null,null,"Total",null,null,null,null,"Q5 (Richest)",null,null,null,null,"Q4",null,null,null,null,"Q3",null,null,null,null,"Q2",null,null,null,null,"Q1 (Poorest)",null,null,null,null,"Total",null,null,null,null,"Q5 (Richest)",null,null,null,null,"Q4",null,null,null,null,"Q3",null,null,null,null,"Q2",null,null,null,null,"Q1 (Poorest)",null,null,null,null,"Total",null,null,null,null,"Q5 (Richest)",null,null,null,null,"Q4",null,null,null,null,"Q3",null,null,null,null,"Q2",null,null,null,null,"Q1 (Poorest)",null,null,null,null,"Total",null,null,null,null,"Q5 (Richest)",null,null,null,null,"Q4",null,null,null,null,"Q3",null,null,null,null,"Q2",null,null,null,null,"Q1 (Poorest)",null,null,null,null,"Total",null,null,null,null,"Q5 (Richest)",null,null,null,null,"Q4",null,null,null,null,"Q3",null,null,null,null,"Q2",null,null,null,null,"Q1 (Poorest)",null,null,null,null,"Total",null,null,null,null,"Q5 (Richest)",null,null,null,null,"Q4",null,null,null,null,"Q3",null,null,null,null,"Q2",null,null,null,null,"Q1 (Poorest)",null,null,null,null,"Total",null,null,null,null,"Q5 (Richest)",null,null,null,null,"Q4",null,null,null,null,"Q3",null,null,null,null,"Q2",null,null,null,null,"Q1 (Poorest)",null,null,null,null,"Total",null,null,null,null,"Q5 (Richest)",null,null,null,null,"Q4",null,null,null,null,"Q3",null,null,null,null,"Q2",null,null,null,null,"Q1 (Poorest)",null,null,null,null,"Total",null,null,null,null,"Q5 (Richest)",null,null,null,null,"Q4",null,null,null,null,"Q3",null,null,null,null,"Q2",null,null,null,null,"Q1 (Poorest)",null,null,null,null,"Total",null,null,null,null,"Q5 (Richest)",null,null,null,null,"Q4",null,null,null,null,"Q3",null,null,null,null,"Q2",null,null,null,null,"Q1 (Poorest)",null,null,null,null,"Total",null,null,null,null,"Q5 (Richest)",null,null,null,null,"Q4",null,null,null,null,"Q3",null,null,null,null,"Q2",null,null,null,null,"Q1 (Poorest)",null,null,null,null,"Total",null,null,null,null,"Q5 (Richest)",null,null,null,null,"Q4",null,null,null,null,"Q3",null,null,null,null,"Q2",null,null,null,null,"Q1 (Poorest)",null,null,null,null,"Total",null,null,null,null,"Q5 (Richest)",null,null,null,null,"Q4",null,null,null,null,"Q3",null,null,null,null,"Q2",null,null,null,null,"Q1 (Poorest)",null,null,null,null,"Total",null,null,null,null,"Q5 (Richest)",null,null,null,null,"Q4",null,null,null,null,"Q3",null,null,null,null,"Q2",null,null,null,null,"Q1 (Poorest)",null,null,null,null,"Total",null,null,null,null,"Q5 (Richest)",null,null,null,null,null,null,null,null,null,null,null,null,null,null,null,null,null,null,"Q4",null,null,null,null,null,null,null,null,null,null,null,null,null,null,null,null,null,null,"Q3",null,null,null,null,null,null,null,null,null,null,null,null,null,null,null,null,null,null,"Q2",null,null,null,null,null,null,null,null,null,null,null,null,null,null,null,null,null,null,"Q1 (Poorest)",null,null,null,null,null,null,null,null,null,null,null,null,null,null,null,null,null,null,"Total",null,null,null,null,null,null,null,null,null,null,null,null,null,null,null,null,null,null,"Q5 (Richest)",null,null,null,null,null,null,null,null,null,null,null,null,null,null,null,null,null,null,"Q4",null,null,null,null,null,null,null,null,null,null,null,null,null,null,null,null,null,null,"Q3",null,null,null,null,null,null,null,null,null,null,null,null,null,null,null,null,null,null,"Q2",null,null,null,null,null,null,null,null,null,null,null,null,null,null,null,null,null,null,"Q1 (Poorest)",null,null,null,null,null,null,null,null,null,null,null,null,null,null,null,null,null,null,"Total",null,null,null,null,null,null,null,null,null,null,null,null,null,null,null,null,null,null,"Q5 (Richest)",null,null,null,null,null,null,null,null,null,null,null,null,null,null,null,null,null,null,"Q4",null,null,null,null,null,null,null,null,null,null,null,null,null,null,null,null,null,null,"Q3",null,null,null,null,null,null,null,null,null,null,null,null,null,null,null,null,null,null,"Q2",null,null,null,null,null,null,null,null,null,null,null,null,null,null,null,null,null,null,"Q1 (Poorest)",null,null,null,null,null,null,null,null,null,null,null,null,null,null,null,null,null,null,"Total",null,null,null,null,null,null,null,null,null,null,null,null,null,null,null,null,null,null,"Q5 (Richest)",null,null,null,null,null,null,null,null,null,null,null,null,null,null,null,null,null,null,"Q4",null,null,null,null,null,null,null,null,null,null,null,null,null,null,null,null,null,null,"Q3",null,null,null,null,null,null,null,null,null,null,null,null,null,null,null,null,null,null,"Q2",null,null,null,null,null,null,null,null,null,null,null,null,null,null,null,null,null,null,"Q1 (Poorest)",null,null,null,null,null,null,null,null,null,null,null,null,null,null,null,null,null,null,"Total",null,null,null,null,null,null,null,null,null,null,null,null,null,null,null,null,null,null,"Q5 (Richest)",null,null,null,null,null,null,null,null,null,null,null,null,null,null,null,null,null,null,"Q4",null,null,null,null,null,null,null,null,null,null,null,null,null,null,null,null,null,null,"Q3",null,null,null,null,null,null,null,null,null,null,null,null,null,null,null,null,null,null,"Q2",null,null,null,null,null,null,null,null,null,null,null,null,null,null,null,null,null,null,"Q1 (Poorest)",null,null,null,null,null,null,null,null,null,null,null,null,null,null,null,null,null,null,"Total",null,null,null,null,null,null,null,null,null,null,null,null,null,null,null,null,null,null,"Q5 (Richest)",null,null,null,null,null,null,null,null,null,null,null,null,null,null,null,null,null,null,"Q4",null,null,null,null,null,null,null,null,null,null,null,null,null,null,null,null,null,null,"Q3",null,null,null,null,null,null,null,null,null,null,null,null,null,null,null,null,null,null,"Q2",null,null,null,null,null,null,null,null,null,null,null,null,null,null,null,null,null,null,"Q1 (Poorest)",null,null,null,null,null,null,null,null,null,null,null,null,null,null,null,null,null,null,"Total",null,null,null,null,null,null,null,null,null,null,null,null,null,null,null,null,null,null,"Q5 (Richest)",null,null,null,null,null,null,null,null,null,null,null,null,null,null,null,null,null,null,"Q4",null,null,null,null,null,null,null,null,null,null,null,null,null,null,null,null,null,null,"Q3",null,null,null,null,null,null,null,null,null,null,null,null,null,null,null,null,null,null,"Q2",null,null,null,null,null,null,null,null,null,null,null,null,null,null,null,null,null,null,"Q1 (Poorest)",null,null,null,null,null,null,null,null,null,null,null,null,null,null,null,null,null,null,"Total",null,null,null,null,null,null,null,null,null,null,null,null,null,null,null,null,null,null,"Q5 (Richest)",null,null,null,null,null,null,null,null,null,null,null,null,null,null,null,null,null,null,"Q4",null,null,null,null,null,null,null,null,null,null,null,null,null,null,null,null,null,null,"Q3",null,null,null,null,null,null,null,null,null,null,null,null,null,null,null,null,null,null,"Q2",null,null,null,null,null,null,null,null,null,null,null,null,null,null,null,null,null,null,"Q1 (Poorest)",null,null,null,null,null,null,null,null,null,null,null,null,null,null,null,null,null,null,"Total",null,null,null,null,null,null,null,null,null,null,null,null,null,null,null,null,null,null,"Q5 (Richest)",null,null,null,null,null,null,null,null,null,null,null,null,null,null,null,null,null,null,"Q4",null,null,null,null,null,null,null,null,null,null,null,null,null,null,null,null,null,null,"Q3",null,null,null,null,null,null,null,null,null,null,null,null,null,null,null,null,null,null,"Q2",null,null,null,null,null,null,null,null,null,null,null,null,null,null,null,null,null,null,"Q1 (Poorest)",null,null,null,null,null,null,null,null,null,null,null,null,null,null,null,null,null,null,"Total",null,null,null,null,null,null,null,null,null,null,null,null,null,null,null,null,null,null,"Q5 (Richest)",null,null,null,null,null,null,null,null,null,null,null,null,null,null,null,null,null,null,"Q4",null,null,null,null,null,null,null,null,null,null,null,null,null,null,null,null,null,null,"Q3",null,null,null,null,null,null,null,null,null,null,null,null,null,null,null,null,null,null,"Q2",null,null,null,null,null,null,null,null,null,null,null,null,null,null,null,null,null,null,"Q1 (Poorest)",null,null,null,null,null,null,null,null,null,null,null,null,null,null,null,null,null,null,"Total",null,null,null,null,null,null,null,null,null,null,null,null,null,null,null,null,null,null,"Q5 (Richest)",null,null,null,null,null,null,null,null,null,null,null,null,null,null,null,null,null,null,"Q4",null,null,null,null,null,null,null,null,null,null,null,null,null,null,null,null,null,null,"Q3",null,null,null,null,null,null,null,null,null,null,null,null,null,null,null,null,null,null,"Q2",null,null,null,null,null,null,null,null,null,null,null,null,null,null,null,null,null,null,"Q1 (Poorest)",null,null,null,null,null,null,null,null,null,null,null,null,null,null,null,null,null,null,"Total",null,null,null,null,null,null,null,null,null,null,null,null,null,null,null,null,null,null,"Q5 (Richest)",null,null,null,null,null,null,null,null,null,null,null,null,null,null,null,null,null,null,"Q4",null,null,null,null,null,null,null,null,null,null,null,null,null,null,null,null,null,null,"Q3",null,null,null,null,null,null,null,null,null,null,null,null,null,null,null,null,null,null,"Q2",null,null,null,null,null,null,null,null,null,null,null,null,null,null,null,null,null,null,"Q1 (Poorest)",null,null,null,null,null,null,null,null,null,null,null,null,null,null,null,null,null,null,"Total",null,null,null,null,null,null,null,null,null,null,null,null,null,null,null,null,null,null,"Q5 (Richest)",null,null,null,null,null,null,null,null,null,null,null,null,null,null,null,null,null,null,"Q4",null,null,null,null,null,null,null,null,null,null,null,null,null,null,null,null,null,null,"Q3",null,null,null,null,null,null,null,null,null,null,null,null,null,null,null,null,null,null,"Q2",null,null,null,null,null,null,null,null,null,null,null,null,null,null,null,null,null,null,"Q1 (Poorest)",null,null,null,null,null,null,null,null,null,null,null,null,null,null,null,null,null,null,"Total",null,null,null,null,null,null,null,null,null,null,null,null,null,null,null,null,null,null,"Q5 (Richest)",null,null,null,null,null,null,null,null,null,null,null,null,null,null,null,null,null,null,"Q4",null,null,null,null,null,null,null,null,null,null,null,null,null,null,null,null,null,null,"Q3",null,null,null,null,null,null,null,null,null,null,null,null,null,null,null,null,null,null,"Q2",null,null,null,null,null,null,null,null,null,null,null,null,null,null,null,null,null,null,"Q1 (Poorest)",null,null,null,null,null,null,null,null,null,null,null,null,null,null,null,null,null,null,"Total",null,null,null,null,null,null,null,null,null,null,null,null,null,null,null,null,null,null,"Q5 (Richest)",null,null,null,null,null,null,null,null,null,null,null,null,null,null,null,null,null,null,"Q4",null,null,null,null,null,null,null,null,null,null,null,null,null,null,null,null,null,null,"Q3",null,null,null,null,null,null,null,null,null,null,null,null,null,null,null,null,null,null,"Q2",null,null,null,null,null,null,null,null,null,null,null,null,null,null,null,null,null,null,"Q1 (Poorest)",null,null,null,null,null,null,null,null,null,null,null,null,null,null,null,null,null,null,"Total",null,null,null,null,null,null,null,null,null,null,null,null,null,null,null,null,null,null,"Q5 (Richest)",null,null,null,null,"Q4",null,null,null,null,"Q3",null,null,null,null,"Q2",null,null,null,null,"Q1 (Poorest)",null,null,null,null,"Total",null,null,null,null,"Q5 (Richest)",null,null,null,null,"Q4",null,null,null,null,"Q3",null,null,null,null,"Q2",null,null,null,null,"Q1 (Poorest)",null,null,null,null,"Total",null,null,null,null,"Q5 (Richest)",null,null,null,null,"Q4",null,null,null,null,"Q3",null,null,null,null,"Q2",null,null,null,null,"Q1 (Poorest)",null,null,null,null,"Total",null,null,null,null,"Q5 (Richest)",null,null,null,null,"Q4",null,null,null,null,"Q3",null,null,null,null,"Q2",null,null,null,null,"Q1 (Poorest)",null,null,null,null,"Total",null,null,null,null,"Total",null,null,null,null,"Total",null,null,null,null,"Total",null,null,null,null,"Q5 (Rich)","Q4","Q3","Q2","Q1 (Poor)","Total","Q5 (Rich)","Q4","Q3","Q2","Q1 (Poor)","Total","Q5 (Rich)","Q4","Q3","Q2","Q1 (Poor)","Total","Q5 (Rich)","Q4","Q3","Q2","Q1 (Poor)","Total","Q5 (Rich)","Q4","Q3","Q2","Q1 (Poor)","Total","Q5 (Rich)","Q4","Q3","Q2","Q1 (Poor)","Total","Q5 (Rich)","Q4","Q3","Q2","Q1 (Poor)","Total","Q5 (Rich)","Q4","Q3","Q2","Q1 (Poor)","Total","Q5 (Rich)","Q4","Q3","Q2","Q1 (Poor)","Total","Q5 (Rich)","Q4","Q3","Q2","Q1 (Poor)","Total","Q5 (Rich)","Q4","Q3","Q2","Q1 (Poor)","Total","Q5 (Rich)","Q4","Q3","Q2","Q1 (Poor)","Total","Q5 (Rich)","Q4","Q3","Q2","Q1 (Poor)","Total","Q5 (Rich)","Q4","Q3","Q2","Q1 (Poor)","Total","Q5 (Rich)","Q4","Q3","Q2","Q1 (Poor)","Total","Q5 (Rich)","Q4","Q3","Q2","Q1 (Poor)","Total","Total","Total","Total","Total","Total","Total","Total","Total","Total","Q5 (Rich)","Q4","Q3","Q2","Q1 (Poor)","Total","Q5 (Rich)","Q4","Q3","Q2","Q1 (Poor)","Total","Q5 (Rich)","Q4","Q3","Q2","Q1 (Poor)","Total","Q5 (Rich)","Q4","Q3","Q2","Q1 (Poor)","Total","Q5 (Rich)","Q4","Q3","Q2","Q1 (Poor)","Total","Q5 (Rich)","Q4","Q3","Q2","Q1 (Poor)","Total","Q5 (Rich)","Q4","Q3","Q2","Q1 (Poor)","Q5 (Rich)","Q4","Q3","Q2","Q1 (Poor)","Q5 (Rich)","Q4","Q3","Q2","Q1 (Poor)","Q5 (Rich)","Q4","Q3","Q2","Q1 (Poor)","Total","Q5 (Rich)","Q4","Q3","Q2","Q1 (Poor)","Total","Q5 (Rich)","Q4","Q3","Q2","Q1 (Poor)","Total","Q5 (Rich)","Q4","Q3","Q2","Q1 (Poor)","Total","Q5 (Rich)","Q4","Q3","Q2","Q1 (Poor)","Total","Q5 (Rich)","Q4","Q3","Q2","Q1 (Poor)","Total","Q5 (Rich)","Q4","Q3","Q2","Q1 (Poor)","Total","Total","Total","Total","Total","Total","Total","Total","Total","Total","Q5 (Rich)","Q4","Q3","Q2","Q1 (Poor)","Total","Q5 (Rich)","Q4","Q3","Q2","Q1 (Poor)","Total","Q5 (Rich)","Q4","Q3","Q2","Q1 (Poor)","Total","Q5 (Rich)","Q4","Q3","Q2","Q1 (Poor)","Total","Q5 (Rich)","Q4","Q3","Q2","Q1 (Poor)","Total","Q5 (Rich)","Q4","Q3","Q2","Q1 (Poor)","Total","Q5 (Rich)","Q4","Q3","Q2","Q1 (Poor)","Total","Q5 (Rich)","Q4","Q3","Q2","Q1 (Poor)","Total","Q5 (Rich)","Q4","Q3","Q2","Q1 (Poor)","Total","Q5 (Rich)","Q4","Q3","Q2","Q1 (Poor)","Total","Q5 (Rich)","Q4","Q3","Q2","Q1 (Poor)","Total","Q5 (Rich)","Q4","Q3","Q2","Q1 (Poor)","Total","Q5 (Rich)","Q4","Q3","Q2","Q1 (Poor)","Total","Q5 (Rich)","Q4","Q3","Q2","Q1 (Poor)","Total","Q5 (Rich)","Q4","Q3","Q2","Q1 (Poor)","Total","Q5 (Rich)","Q4","Q3","Q2","Q1 (Poor)","Total","Total","Total","Total","Total","Total","Total","Total","Total","Total","Q5 (Richest)",null,null,null,null,"Q4",null,null,null,null,"Q3",null,null,null,null,"Q2",null,null,null,null,"Q1 (Poorest)",null,null,null,null,"Total",null,null,null,null,"Q5 (Richest)",null,null,null,null,"Q4",null,null,null,null,"Q3",null,null,null,null,"Q2",null,null,null,null,"Q1 (Poorest)",null,null,null,null,"Total",null,null,null,null,"Q5 (Richest)",null,null,null,null,"Q4",null,null,null,null,"Q3",null,null,null,null,"Q2",null,null,null,null,"Q1 (Poorest)",null,null,null,null,"Total",null,null,null,null,null,null,null,null,null,null,null,null,null,null,null,null,null,null,null,null,null,null,null,"Urban",null,null,"Rural",null,null,"Urban",null,null,"Rural",null,null,"Urban",null,null,"Rural",null,null,"Rural",null,null,"Urban",null,null,"Rural",null,null,"Urban",null,null,"Rural",null,null,"Low technology",null,null,"High technology",null,null,"Low technology",null,null,"High technology",null,null,"Low technology",null,null,"High technology",null,null,"Low technology",null,null,"High technology",null,null,"Low technology",null,null,"High technology",null,null,"Low technology",null,null,"High technology",null,null,"Low technology",null,null,"High technology",null,null,"Low technology",null,null,"High technology",null,null,2018]
[null,2015,2016,2017,2018,2019,2020,2021,2022,2023,2024,2025,2026,2027,2028,2029,2030,"2030 data",2015,2016,2017,2018,2019,2020,2021,2022,2023,2024,2025,2026,2027,2028,2029,2030,"2030 data","All population","Q5 (Rich)","Q4","Q3","Q2","Q1 (Poor)",null,null,"All population","Q5 (Rich)","Q4","Q3","Q2","Q1 (Poor)",null,null,"All population","Q5 (Rich)","Q4","Q3","Q2","Q1 (Poor)",null,null,"All population","Q5 (Rich)","Q4","Q3","Q2","Q1 (Poor)",null,null,"All population","Q5 (Rich)","Q4","Q3","Q2","Q1 (Poor)",null,null,"All population","Q5 (Rich)","Q4","Q3","Q2","Q1 (Poor)",null,null,"All population","Q5 (Rich)","Q4","Q3","Q2","Q1 (Poor)",null,null,null,null,null,null,null,null,null,null,null,null,null,null,"All population","Q5 (Rich)","Q4","Q3","Q2","Q1 (Poor)",null,null,"All population","Q5 (Rich)","Q4","Q3","Q2","Q1 (Poor)",null,null,2015,2016,2017,2018,2019,2020,2021,2022,2023,2024,2025,2026,2027,2028,2029,"2015-2019","2020-2024","2025-2029","2015-2029",2015,2016,2017,2018,2019,2020,2021,2022,2023,2024,2025,2026,2027,2028,2029,"2015-2019","2020-2024","2025-2029","2015-2029",2015,2016,2017,2018,2019,2020,2021,2022,2023,2024,2025,2026,2027,2028,2029,"2015-2019","2020-2024","2025-2029","2015-2029",2015,2016,2017,2018,2019,2020,2021,2022,2023,2024,2025,2026,2027,2028,2029,"2015-2019","2020-2024","2025-2029","2015-2029",2015,2016,2017,2018,2019,2020,2021,2022,2023,2024,2025,2026,2027,2028,2029,"2015-2019","2020-2024","2025-2029","2015-2029",2015,2016,2017,2018,2019,2020,2021,2022,2023,2024,2025,2026,2027,2028,2029,"2015-2019","2020-2024","2025-2029","2015-2029",2015,2016,2017,2018,2019,2020,2021,2022,2023,2024,2025,2026,2027,2028,2029,"2015-2019","2020-2024","2025-2029","2015-2029",2015,2016,2017,2018,2019,2020,2021,2022,2023,2024,2025,2026,2027,2028,2029,"2015-2019","2020-2024","2025-2029","2015-2029",2015,2016,2017,2018,2019,2020,2021,2022,2023,2024,2025,2026,2027,2028,2029,"2015-2019","2020-2024","2025-2029","2015-2029",2015,2016,2017,2018,2019,2020,2021,2022,2023,2024,2025,2026,2027,2028,2029,"2015-2019","2020-2024","2025-2029","2015-2029",2015,2016,2017,2018,2019,2020,2021,2022,2023,2024,2025,2026,2027,2028,2029,"2015-2019","2020-2024","2025-2029","2015-2029",2015,2016,2017,2018,2019,2020,2021,2022,2023,2024,2025,2026,2027,2028,2029,"2015-2019","2020-2024","2025-2029","2015-2029","Annual until target year","Annual until target year","Annual until target year","Annual until target year","Annual until target year","Annual until target year","Total",2015,2016,2017,2018,2019,2020,2021,2022,2023,2024,2025,2026,2027,2028,2029,"2015-2019","2020-2024","2025-2029","2015-2029",2015,2016,2017,2018,2019,2020,2021,2022,2023,2024,2025,2026,2027,2028,2029,"2015-2019","2020-2024","2025-2029","2015-2029",2015,2016,2017,2018,2019,2020,2021,2022,2023,2024,2025,2026,2027,2028,2029,"2015-2019","2020-2024","2025-2029","2015-2029",2015,2016,2017,2018,2019,2020,2021,2022,2023,2024,2025,2026,2027,2028,2029,"2015-2019","2020-2024","2025-2029","2015-2029",2015,2016,2017,2018,2019,2020,2021,2022,2023,2024,2025,2026,2027,2028,2029,"2015-2019","2020-2024","2025-2029","2015-2029",2015,2016,2017,2018,2019,2020,2021,2022,2023,2024,2025,2026,2027,2028,2029,"2015-2019","2020-2024","2025-2029","2015-2029",2015,2016,2017,2018,2019,2020,2021,2022,2023,2024,2025,2026,2027,2028,2029,"2015-2019","2020-2024","2025-2029","2015-2029",2015,2016,2017,2018,2019,2020,2021,2022,2023,2024,2025,2026,2027,2028,2029,"2015-2019","2020-2024","2025-2029","2015-2029",2015,2016,2017,2018,2019,2020,2021,2022,2023,2024,2025,2026,2027,2028,2029,"2015-2019","2020-2024","2025-2029","2015-2029",2015,2016,2017,2018,2019,2020,2021,2022,2023,2024,2025,2026,2027,2028,2029,"2015-2019","2020-2024","2025-2029","2015-2029",2015,2016,2017,2018,2019,2020,2021,2022,2023,2024,2025,2026,2027,2028,2029,"2015-2019","2020-2024","2025-2029","2015-2029",2015,2016,2017,2018,2019,2020,2021,2022,2023,2024,2025,2026,2027,2028,2029,"2015-2019","2020-2024","2025-2029","2015-2029",2015,2016,2017,2018,2019,2020,2021,2022,2023,2024,2025,2026,2027,2028,2029,"2015-2019","2020-2024","2025-2029","2015-2029",2015,2016,2017,2018,2019,2020,2021,2022,2023,2024,2025,2026,2027,2028,2029,"2015-2019","2020-2024","2025-2029","2015-2029",2015,2016,2017,2018,2019,2020,2021,2022,2023,2024,2025,2026,2027,2028,2029,"2015-2019","2020-2024","2025-2029","2015-2029",2015,2016,2017,2018,2019,2020,2021,2022,2023,2024,2025,2026,2027,2028,2029,"2015-2019","2020-2024","2025-2029","2015-2029",2015,2016,2017,2018,2019,2020,2021,2022,2023,2024,2025,2026,2027,2028,2029,"2015-2019","2020-2024","2025-2029","2015-2029",2015,2016,2017,2018,2019,2020,2021,2022,2023,2024,2025,2026,2027,2028,2029,"2015-2019","2020-2024","2025-2029","2015-2029",2015,2016,2017,2018,2019,2020,2021,2022,2023,2024,2025,2026,2027,2028,2029,"2015-2019","2020-2024","2025-2029","2015-2029",2015,2016,2017,2018,2019,2020,2021,2022,2023,2024,2025,2026,2027,2028,2029,"2015-2019","2020-2024","2025-2029","2015-2029",2015,2016,2017,2018,2019,2020,2021,2022,2023,2024,2025,2026,2027,2028,2029,"2015-2019","2020-2024","2025-2029","2015-2029",2015,2016,2017,2018,2019,2020,2021,2022,2023,2024,2025,2026,2027,2028,2029,"2015-2019","2020-2024","2025-2029","2015-2029",2015,2016,2017,2018,2019,2020,2021,2022,2023,2024,2025,2026,2027,2028,2029,"2015-2019","2020-2024","2025-2029","2015-2029",2015,2016,2017,2018,2019,2020,2021,2022,2023,2024,2025,2026,2027,2028,2029,"2015-2019","2020-2024","2025-2029","2015-2029",2015,2016,2017,2018,2019,2020,2021,2022,2023,2024,2025,2026,2027,2028,2029,"2015-2019","2020-2024","2025-2029","2015-2029",2015,2016,2017,2018,2019,2020,2021,2022,2023,2024,2025,2026,2027,2028,2029,"2015-2019","2020-2024","2025-2029","2015-2029",2015,2016,2017,2018,2019,2020,2021,2022,2023,2024,2025,2026,2027,2028,2029,"2015-2019","2020-2024","2025-2029","2015-2029",2015,2016,2017,2018,2019,2020,2021,2022,2023,2024,2025,2026,2027,2028,2029,"2015-2019","2020-2024","2025-2029","2015-2029",2015,2016,2017,2018,2019,2020,2021,2022,2023,2024,2025,2026,2027,2028,2029,"2015-2019","2020-2024","2025-2029","2015-2029",2015,2016,2017,2018,2019,2020,2021,2022,2023,2024,2025,2026,2027,2028,2029,"2015-2019","2020-2024","2025-2029","2015-2029",2015,2016,2017,2018,2019,2020,2021,2022,2023,2024,2025,2026,2027,2028,2029,"2015-2019","2020-2024","2025-2029","2015-2029",2015,2016,2017,2018,2019,2020,2021,2022,2023,2024,2025,2026,2027,2028,2029,"2015-2019","2020-2024","2025-2029","2015-2029",2015,2016,2017,2018,2019,2020,2021,2022,2023,2024,2025,2026,2027,2028,2029,"2015-2019","2020-2024","2025-2029","2015-2029",2015,2016,2017,2018,2019,2020,2021,2022,2023,2024,2025,2026,2027,2028,2029,"2015-2019","2020-2024","2025-2029","2015-2029",2015,2016,2017,2018,2019,2020,2021,2022,2023,2024,2025,2026,2027,2028,2029,"2015-2019","2020-2024","2025-2029","2015-2029",2015,2016,2017,2018,2019,2020,2021,2022,2023,2024,2025,2026,2027,2028,2029,"2015-2019","2020-2024","2025-2029","2015-2029",2015,2016,2017,2018,2019,2020,2021,2022,2023,2024,2025,2026,2027,2028,2029,"2015-2019","2020-2024","2025-2029","2015-2029",2015,2016,2017,2018,2019,2020,2021,2022,2023,2024,2025,2026,2027,2028,2029,"2015-2019","2020-2024","2025-2029","2015-2029",2015,2015,2015,"CapEx","Software","Software (% of Capex)","Duration","Annualized","CapManEx %","CapManEx","Duration","Annualized","OpEx","Software","Software %",null,"CapEx","Software","Software (% of Capex)","Duration","Annualized","CapManEx %","CapManEx","Duration","Annualized","OpEx","Software","Software %",null,"CapEx","Software","Software (% of Capex)","Duration","Annualized","CapManEx %","CapManEx","Duration","Annualized","OpEx","Software","Software %",null,"CapEx","Software","Software (% of Capex)","Duration","Annualized","CapManEx %","CapManEx","Duration","Annualized","OpEx","Software","Software %",null,"CapEx","Software","Software (% of Capex)","Duration","Annualized","CapManEx %","CapManEx","Duration","Annualized","OpEx","Software","Software %",null,"CapEx","Software","Software (% of Capex)","Duration","Annualized","CapManEx %","CapManEx","Duration","Annualized","OpEx","Software","Software %",null,"Av. No. of HHs Sharing","CapEx","Software","Software (% of Capex)","Duration","Annualized","CapManEx %","CapManEx","Duration","Annualized","OpEx","Software","Software %",null,"Av. No. of HHs Sharing","CapEx","Software","Software (% of Capex)","Duration","Annualized","CapManEx %","CapManEx","Duration","Annualized","OpEx","Software","Software %",null,"Av. No. of HHs Sharing","CapEx","Software","Software (% of Capex)","Duration","Annualized","CapManEx %","CapManEx","Duration","Annualized","OpEx","Software","Software %",null,"Av. No. of HHs Sharing","CapEx","Software","Software (% of Capex)","Duration","Annualized","CapManEx %","CapManEx","Duration","Annualized","OpEx","Software","Software %",null,"CapEx","Software","Software (% of Capex)","Duration","Annualized","CapManEx %","CapManEx","Duration","Annualized","OpEx","Software","Software %",null,"CapEx","Software","Software (% of Capex)","Duration","Annualized","CapManEx %","CapManEx","Duration","Annualized","OpEx","Software","Software",null,"CapEx","Software","Software (% of Capex)","Duration","Annualized","CapManEx %","CapManEx","Duration","Annualized","OpEx","Software","Software",null,"CapEx","Software","Software (% of Capex)","Duration","Annualized","CapManEx %","CapManEx","Duration","Annualized","OpEx","Software","Software",null,"CapEx","Software","Software (% of Capex)","Duration","Annualized","CapManEx %","CapManEx","Duration","Annualized","OpEx","Software","Software",null,"CapEx","Software","Software (% of Capex)","Duration Hardware","Duration Software","Annualized","CapManEx %","CapManEx","Duration","Annualized","OpEx","Software","Software %",null,"CapEx","Software","Software (% of Capex)","Duration Hardware","Duration Software","Annualized","CapManEx %","CapManEx","Duration","Annualized","OpEx","Software","Software %",null,"Q5 (Rich)","Q4","Q3","Q2","Q1 (Poor)","Q5 (Rich)","Q4","Q3","Q2","Q1 (Poor)","Q5 (Rich)","Q4","Q3","Q2","Q1 (Poor)","Q5 (Rich)","Q4","Q3","Q2","Q1 (Poor)","Q5 (Rich)","Q4","Q3","Q2","Q1 (Poor)","Q5 (Rich)","Q4","Q3","Q2","Q1 (Poor)","Q5 (Rich)","Q4","Q3","Q2","Q1 (Poor)","Q5 (Rich)","Q4","Q3","Q2","Q1 (Poor)","Q5 (Rich)","Q4","Q3","Q2","Q1 (Poor)","Q5 (Rich)","Q4","Q3","Q2","Q1 (Poor)","Q5 (Rich)","Q4","Q3","Q2","Q1 (Poor)","Q5 (Rich)","Q4","Q3","Q2","Q1 (Poor)",null,"Urban","Rural","Urban","Rural",null,null,null,{"$f":"50*1000*0.74","v":37000},{"$f":"50*1000*0.62","v":31000},{"$f":"50*5000*0.74","v":185000},{"$f":"50*5000*0.62","v":155000},null,null,null,null,null,null,null,null,null,"Capital","Cap. Replace (10)",2015,2016,2017,2018,2019,2020,2021,2022,2023,2024,2025,2026,2027,2028,2029,"2015-2019","2020-2024","2025-2029","2015-2029","Capital","Cap. Replace (10)",2015,2016,2017,2018,2019,2020,2021,2022,2023,2024,2025,2026,2027,2028,2029,"2015-2019","2020-2024","2025-2029","2015-2029","Capital","Cap. Replace (10)",2015,2016,2017,2018,2019,2020,2021,2022,2023,2024,2025,2026,2027,2028,2029,"2015-2019","2020-2024","2025-2029","2015-2029","Capital","Cap. Replace (10)",2015,2016,2017,2018,2019,2020,2021,2022,2023,2024,2025,2026,2027,2028,2029,"2015-2019","2020-2024","2025-2029","2015-2029","Capital","Cap. Replace (10)",2015,2016,2017,2018,2019,2020,2021,2022,2023,2024,2025,2026,2027,2028,2029,"2015-2019","2020-2024","2025-2029","2015-2029","Capital","Cap. Replace (10)",2015,2016,2017,2018,2019,2020,2021,2022,2023,2024,2025,2026,2027,2028,2029,"2015-2019","2020-2024","2025-2029","2015-2029","Capital","Cap. Replace (10)",2015,2016,2017,2018,2019,2020,2021,2022,2023,2024,2025,2026,2027,2028,2029,"2015-2019","2020-2024","2025-2029","2015-2029","Capital","Cap. Replace (10)",2015,2016,2017,2018,2019,2020,2021,2022,2023,2024,2025,2026,2027,2028,2029,"2015-2019","2020-2024","2025-2029","2015-2029","Capital","Cap. Replace (10)",2015,2016,2017,2018,2019,2020,2021,2022,2023,2024,2025,2026,2027,2028,2029,"2015-2019","2020-2024","2025-2029","2015-2029","Capital","Cap. Replace (10)",2015,2016,2017,2018,2019,2020,2021,2022,2023,2024,2025,2026,2027,2028,2029,"2015-2019","2020-2024","2025-2029","2015-2029","Capital","Cap. Replace (10)",2015,2016,2017,2018,2019,2020,2021,2022,2023,2024,2025,2026,2027,2028,2029,"2015-2019","2020-2024","2025-2029","2015-2029","Capital","Cap. Replace (10)",2015,2016,2017,2018,2019,2020,2021,2022,2023,2024,2025,2026,2027,2028,2029,"2015-2019","2020-2024","2025-2029","2015-2029","Capital","Cap. Replace (10)",2015,2016,2017,2018,2019,2020,2021,2022,2023,2024,2025,2026,2027,2028,2029,"2015-2019","2020-2024","2025-2029","2015-2029","Capital","Cap. Replace (10)",2015,2016,2017,2018,2019,2020,2021,2022,2023,2024,2025,2026,2027,2028,2029,"2015-2019","2020-2024","2025-2029","2015-2029","Capital","Cap. Replace (10)",2015,2016,2017,2018,2019,2020,2021,2022,2023,2024,2025,2026,2027,2028,2029,"2015-2019","2020-2024","2025-2029","2015-2029","Capital","Cap. Replace (10)",2015,2016,2017,2018,2019,2020,2021,2022,2023,2024,2025,2026,2027,2028,2029,"2015-2019","2020-2024","2025-2029","2015-2029","Capital","Cap. Replace (10)",2015,2016,2017,2018,2019,2020,2021,2022,2023,2024,2025,2026,2027,2028,2029,"2015-2019","2020-2024","2025-2029","2015-2029","Capital","Cap. Replace (10)",2015,2016,2017,2018,2019,2020,2021,2022,2023,2024,2025,2026,2027,2028,2029,"2015-2019","2020-2024","2025-2029","2015-2029","Capital","Cap. Replace (10)",2015,2016,2017,2018,2019,2020,2021,2022,2023,2024,2025,2026,2027,2028,2029,"2015-2019","2020-2024","2025-2029","2015-2029","Capital",null,2015,2016,2017,2018,2019,2020,2021,2022,2023,2024,2025,2026,2027,2028,2029,"2015-2019","2020-2024","2025-2029","2015-2029","Capital",null,2015,2016,2017,2018,2019,2020,2021,2022,2023,2024,2025,2026,2027,2028,2029,"2015-2019","2020-2024","2025-2029","2015-2029","Capital",null,2015,2016,2017,2018,2019,2020,2021,2022,2023,2024,2025,2026,2027,2028,2029,"2015-2019","2020-2024","2025-2029","2015-2029","Capital",null,2015,2016,2017,2018,2019,2020,2021,2022,2023,2024,2025,2026,2027,2028,2029,"2015-2019","2020-2024","2025-2029","2015-2029","Capital",null,2015,2016,2017,2018,2019,2020,2021,2022,2023,2024,2025,2026,2027,2028,2029,"2015-2019","2020-2024","2025-2029","2015-2029","Capital","Cap Replace (8)",2015,2016,2017,2018,2019,2020,2021,2022,2023,2024,2025,2026,2027,2028,2029,"2015-2019","2020-2024","2025-2029","2015-2029","Capital","Cap Replace (8)",2015,2016,2017,2018,2019,2020,2021,2022,2023,2024,2025,2026,2027,2028,2029,"2015-2019","2020-2024","2025-2029","2015-2029","Capital","Cap Replace (8)",2015,2016,2017,2018,2019,2020,2021,2022,2023,2024,2025,2026,2027,2028,2029,"2015-2019","2020-2024","2025-2029","2015-2029","Capital","Cap Replace (8)",2015,2016,2017,2018,2019,2020,2021,2022,2023,2024,2025,2026,2027,2028,2029,"2015-2019","2020-2024","2025-2029","2015-2029","Capital","Cap Replace (8)",2015,2016,2017,2018,2019,2020,2021,2022,2023,2024,2025,2026,2027,2028,2029,"2015-2019","2020-2024","2025-2029","2015-2029","Capital","Cap Replace (8)",2015,2016,2017,2018,2019,2020,2021,2022,2023,2024,2025,2026,2027,2028,2029,"2015-2019","2020-2024","2025-2029","2015-2029","Capital","Cap Replace (8)",2015,2016,2017,2018,2019,2020,2021,2022,2023,2024,2025,2026,2027,2028,2029,"2015-2019","2020-2024","2025-2029","2015-2029","Capital","Cap Replace (8)",2015,2016,2017,2018,2019,2020,2021,2022,2023,2024,2025,2026,2027,2028,2029,"2015-2019","2020-2024","2025-2029","2015-2029","Capital","Cap Replace (8)",2015,2016,2017,2018,2019,2020,2021,2022,2023,2024,2025,2026,2027,2028,2029,"2015-2019","2020-2024","2025-2029","2015-2029","Capital","Cap Replace (8)",2015,2016,2017,2018,2019,2020,2021,2022,2023,2024,2025,2026,2027,2028,2029,"2015-2019","2020-2024","2025-2029","2015-2029","Capital","Cap Replace (8)",2015,2016,2017,2018,2019,2020,2021,2022,2023,2024,2025,2026,2027,2028,2029,"2015-2019","2020-2024","2025-2029","2015-2029","Capital","Cap Replace (8)",2015,2016,2017,2018,2019,2020,2021,2022,2023,2024,2025,2026,2027,2028,2029,"2015-2019","2020-2024","2025-2029","2015-2029","Capital","Cap Replace (8)",2015,2016,2017,2018,2019,2020,2021,2022,2023,2024,2025,2026,2027,2028,2029,"2015-2019","2020-2024","2025-2029","2015-2029","Capital","Cap Replace (8)",2015,2016,2017,2018,2019,2020,2021,2022,2023,2024,2025,2026,2027,2028,2029,"2015-2019","2020-2024","2025-2029","2015-2029","Capital","Cap Replace (8)",2015,2016,2017,2018,2019,2020,2021,2022,2023,2024,2025,2026,2027,2028,2029,"2015-2019","2020-2024","2025-2029","2015-2029","Capital","Cap Replace (8)",2015,2016,2017,2018,2019,2020,2021,2022,2023,2024,2025,2026,2027,2028,2029,"2015-2019","2020-2024","2025-2029","2015-2029","Capital","Cap Replace (8)",2015,2016,2017,2018,2019,2020,2021,2022,2023,2024,2025,2026,2027,2028,2029,"2015-2019","2020-2024","2025-2029","2015-2029","Capital","Cap Replace (8)",2015,2016,2017,2018,2019,2020,2021,2022,2023,2024,2025,2026,2027,2028,2029,"2015-2019","2020-2024","2025-2029","2015-2029","Capital",null,2015,2016,2017,2018,2019,2020,2021,2022,2023,2024,2025,2026,2027,2028,2029,"2015-2019","2020-2024","2025-2029","2015-2029","Capital",null,2015,2016,2017,2018,2019,2020,2021,2022,2023,2024,2025,2026,2027,2028,2029,"2015-2019","2020-2024","2025-2029","2015-2029","Capital",null,2015,2016,2017,2018,2019,2020,2021,2022,2023,2024,2025,2026,2027,2028,2029,"2015-2019","2020-2024","2025-2029","2015-2029","Capital",null,2015,2016,2017,2018,2019,2020,2021,2022,2023,2024,2025,2026,2027,2028,2029,"2015-2019","2020-2024","2025-2029","2015-2029","Capital",null,2015,2016,2017,2018,2019,2020,2021,2022,2023,2024,2025,2026,2027,2028,2029,"2015-2019","2020-2024","2025-2029","2015-2029","Capital",null,2015,2016,2017,2018,2019,2020,2021,2022,2023,2024,2025,2026,2027,2028,2029,"2015-2019","2020-2024","2025-2029","2015-2029","Capital",null,2015,2016,2017,2018,2019,2020,2021,2022,2023,2024,2025,2026,2027,2028,2029,"2015-2019","2020-2024","2025-2029","2015-2029","Capital",null,2015,2016,2017,2018,2019,2020,2021,2022,2023,2024,2025,2026,2027,2028,2029,"2015-2019","2020-2024","2025-2029","2015-2029","Capital",null,2015,2016,2017,2018,2019,2020,2021,2022,2023,2024,2025,2026,2027,2028,2029,"2015-2019","2020-2024","2025-2029","2015-2029","Capital",null,2015,2016,2017,2018,2019,2020,2021,2022,2023,2024,2025,2026,2027,2028,2029,"2015-2019","2020-2024","2025-2029","2015-2029","Capital",null,2015,2016,2017,2018,2019,2020,2021,2022,2023,2024,2025,2026,2027,2028,2029,"2015-2019","2020-2024","2025-2029","2015-2029","Capital",null,2015,2016,2017,2018,2019,2020,2021,2022,2023,2024,2025,2026,2027,2028,2029,"2015-2019","2020-2024","2025-2029","2015-2029","Capital",null,2015,2016,2017,2018,2019,2020,2021,2022,2023,2024,2025,2026,2027,2028,2029,"2015-2019","2020-2024","2025-2029","2015-2029","Capital",null,2015,2016,2017,2018,2019,2020,2021,2022,2023,2024,2025,2026,2027,2028,2029,"2015-2019","2020-2024","2025-2029","2015-2029","Capital",null,2015,2016,2017,2018,2019,2020,2021,2022,2023,2024,2025,2026,2027,2028,2029,"2015-2019","2020-2024","2025-2029","2015-2029","Capital",null,2015,2016,2017,2018,2019,2020,2021,2022,2023,2024,2025,2026,2027,2028,2029,"2015-2019","2020-2024","2025-2029","2015-2029","Capital",null,2015,2016,2017,2018,2019,2020,2021,2022,2023,2024,2025,2026,2027,2028,2029,"2015-2019","2020-2024","2025-2029","2015-2029","Capital",null,2015,2016,2017,2018,2019,2020,2021,2022,2023,2024,2025,2026,2027,2028,2029,"2015-2019","2020-2024","2025-2029","2015-2029","Capital",null,2015,2016,2017,2018,2019,2020,2021,2022,2023,2024,2025,2026,2027,2028,2029,"2015-2019","2020-2024","2025-2029","2015-2029","Capital",null,2015,2016,2017,2018,2019,2020,2021,2022,2023,2024,2025,2026,2027,2028,2029,"2015-2019","2020-2024","2025-2029","2015-2029","Capital",null,2015,2016,2017,2018,2019,2020,2021,2022,2023,2024,2025,2026,2027,2028,2029,"2015-2019","2020-2024","2025-2029","2015-2029","Capital",null,2015,2016,2017,2018,2019,2020,2021,2022,2023,2024,2025,2026,2027,2028,2029,"2015-2019","2020-2024","2025-2029","2015-2029","Capital",null,2015,2016,2017,2018,2019,2020,2021,2022,2023,2024,2025,2026,2027,2028,2029,"2015-2019","2020-2024","2025-2029","2015-2029","Capital",null,2015,2016,2017,2018,2019,2020,2021,2022,2023,2024,2025,2026,2027,2028,2029,"2015-2019","2020-2024","2025-2029","2015-2029","Capital",null,2015,2016,2017,2018,2019,2020,2021,2022,2023,2024,2025,2026,2027,2028,2029,"2015-2019","2020-2024","2025-2029","2015-2029","Capital",null,2015,2016,2017,2018,2019,2020,2021,2022,2023,2024,2025,2026,2027,2028,2029,"2015-2019","2020-2024","2025-2029","2015-2029","Capital",null,2015,2016,2017,2018,2019,2020,2021,2022,2023,2024,2025,2026,2027,2028,2029,"2015-2019","2020-2024","2025-2029","2015-2029","Capital",null,2015,2016,2017,2018,2019,2020,2021,2022,2023,2024,2025,2026,2027,2028,2029,"2015-2019","2020-2024","2025-2029","2015-2029","Capital",null,2015,2016,2017,2018,2019,2020,2021,2022,2023,2024,2025,2026,2027,2028,2029,"2015-2019","2020-2024","2025-2029","2015-2029","Capital",null,2015,2016,2017,2018,2019,2020,2021,2022,2023,2024,2025,2026,2027,2028,2029,"2015-2019","2020-2024","2025-2029","2015-2029","Capital",null,2015,2016,2017,2018,2019,2020,2021,2022,2023,2024,2025,2026,2027,2028,2029,"2015-2019","2020-2024","2025-2029","2015-2029","Capital",null,2015,2016,2017,2018,2019,2020,2021,2022,2023,2024,2025,2026,2027,2028,2029,"2015-2019","2020-2024","2025-2029","2015-2029","Capital",null,2015,2016,2017,2018,2019,2020,2021,2022,2023,2024,2025,2026,2027,2028,2029,"2015-2019","2020-2024","2025-2029","2015-2029","Capital",null,2015,2016,2017,2018,2019,2020,2021,2022,2023,2024,2025,2026,2027,2028,2029,"2015-2019","2020-2024","2025-2029","2015-2029","Capital",null,2015,2016,2017,2018,2019,2020,2021,2022,2023,2024,2025,2026,2027,2028,2029,"2015-2019","2020-2024","2025-2029","2015-2029","Capital",null,2015,2016,2017,2018,2019,2020,2021,2022,2023,2024,2025,2026,2027,2028,2029,"2015-2019","2020-2024","2025-2029","2015-2029","Capital",null,2015,2016,2017,2018,2019,2020,2021,2022,2023,2024,2025,2026,2027,2028,2029,"2015-2019","2020-2024","2025-2029","2015-2029","Capital",null,2015,2016,2017,2018,2019,2020,2021,2022,2023,2024,2025,2026,2027,2028,2029,"2015-2019","2020-2024","2025-2029","2015-2029","Capital",null,2015,2016,2017,2018,2019,2020,2021,2022,2023,2024,2025,2026,2027,2028,2029,"2015-2019","2020-2024","2025-2029","2015-2029","2015-2019","2020-2024","2025-2029","2015-2029","Av. Annual","2015-2019","2020-2024","2025-2029","2015-2029","Av. Annual","2015-2019","2020-2024","2025-2029","2015-2029","Av. Annual","2015-2019","2020-2024","2025-2029","2015-2029","Av. Annual","2015-2019","2020-2024","2025-2029","2015-2029","Av. Annual","2015-2019","2020-2024","2025-2029","2015-2029","Av. Annual","2015-2019","2020-2024","2025-2029","2015-2029","Av. Annual","2015-2019","2020-2024","2025-2029","2015-2029","Av. Annual","2015-2019","2020-2024","2025-2029","2015-2029","Av. Annual","2015-2019","2020-2024","2025-2029","2015-2029","Av. Annual","2015-2019","2020-2024","2025-2029","2015-2029","Av. Annual","2015-2019","2020-2024","2025-2029","2015-2029","Av. Annual","2015-2019","2020-2024","2025-2029","2015-2029","Av. Annual","2015-2019","2020-2024","2025-2029","2015-2029","Av. Annual","2015-2019","2020-2024","2025-2029","2015-2029","Av. Annual","2015-2019","2020-2024","2025-2029","2015-2029","Av. Annual","2015-2019","2020-2024","2025-2029","2015-2029","Av. Annual","2015-2019","2020-2024","2025-2029","2015-2029","Av. Annual","2015-2019","2020-2024","2025-2029","2015-2029","Av. Annual","2015-2019","2020-2024","2025-2029","2015-2029","Av. Annual","2015-2019","2020-2024","2025-2029","2015-2029","Av. Annual","2015-2019","2020-2024","2025-2029","2015-2029","Av. Annual","2015-2019","2020-2024","2025-2029","2015-2029","Av. Annual","2015-2019","2020-2024","2025-2029","2015-2029","Av. Annual","2015-2019","2020-2024","2025-2029","2015-2029","Av. Annual","2015-2019","2020-2024","2025-2029","2015-2029","Av. Annual","2015-2019","2020-2024","2025-2029","2015-2029","Av. Annual","2015-2019","2020-2024","2025-2029","2015-2029","Av. Annual","2015-2019","2020-2024","2025-2029","2015-2029","Av. Annual","2015-2019","2020-2024","2025-2029","2015-2029","Av. Annual","2015-2019","2020-2024","2025-2029","2015-2029","Av. Annual","2015-2019","2020-2024","2025-2029","2015-2029","Av. Annual","2015-2019","2020-2024","2025-2029","2015-2029","Av. Annual","2015-2019","2020-2024","2025-2029","2015-2029","Av. Annual","2015-2019","2020-2024","2025-2029","2015-2029","Av. Annual","2015-2019","2020-2024","2025-2029","2015-2029","Av. Annual","2015-2019","2020-2024","2025-2029","2015-2029","Av. Annual","2015-2019","2020-2024","2025-2029","2015-2029","Av. Annual","2015-2019","2020-2024","2025-2029","2015-2029","Av. Annual","2015-2019","2020-2024","2025-2029","2015-2029","Av. Annual","2015-2019","2020-2024","2025-2029","2015-2029","Av. Annual","2015-2019","2020-2024","2025-2029","2015-2029","Av. Annual","2015-2019","2020-2024","2025-2029","2015-2029","Av. Annual","2015-2019","2020-2024","2025-2029","2015-2029","Av. Annual","2015-2019","2020-2024","2025-2029","2015-2029","Av. Annual","2015-2019","2020-2024","2025-2029","2015-2029","Av. Annual","2015-2019","2020-2024","2025-2029","2015-2029","Av. Annual","2015-2019","2020-2024","2025-2029","2015-2029","Av. Annual","2015-2019","2020-2024","2025-2029","2015-2029","Av. Annual","2015-2019","2020-2024","2025-2029","2015-2029","Av. Annual","2015-2019","2020-2024","2025-2029","2015-2029","Av. Annual","2015-2019","2020-2024","2025-2029","2015-2029","Av. Annual","2015-2019","2020-2024","2025-2029","2015-2029","Av. Annual","2015-2019","2020-2024","2025-2029","2015-2029","Av. Annual","2015-2019","2020-2024","2025-2029","2015-2029","Av. Annual","2015-2019","2020-2024","2025-2029","2015-2029","Av. Annual","2015-2019","2020-2024","2025-2029","2015-2029","Av. Annual","2015-2019","2020-2024","2025-2029","2015-2029","Av. Annual","2015-2019","2020-2024","2025-2029","2015-2029","Av. Annual","2015-2019","2020-2024","2025-2029","2015-2029","Av. Annual","2015-2019","2020-2024","2025-2029","2015-2029","Av. Annual","2015-2019","2020-2024","2025-2029","2015-2029","Av. Annual","2015-2019","2020-2024","2025-2029","2015-2029","Av. Annual","2015-2019","2020-2024","2025-2029","2015-2029","Av. Annual","2015-2019","2020-2024","2025-2029","2015-2029","Av. Annual","2015-2019","2020-2024","2025-2029","2015-2029","Av. Annual","2015-2019","2020-2024","2025-2029","2015-2029","Av. Annual","2015-2019","2020-2024","2025-2029","2015-2029","Av. Annual","2015-2019","2020-2024","2025-2029","2015-2029","Av. Annual","2015-2019","2020-2024","2025-2029","2015-2029","Av. Annual","2015-2019","2020-2024","2025-2029","2015-2029","Av. Annual","2015-2019","2020-2024","2025-2029","2015-2029","Av. Annual","2015-2019","2020-2024","2025-2029","2015-2029","Av. Annual","2015-2019","2020-2024","2025-2029","2015-2029","Av. Annual","2015-2019","2020-2024","2025-2029","2015-2029","Av. Annual","2015-2019","2020-2024","2025-2029","2015-2029","Av. Annual","2015-2019","2020-2024","2025-2029","2015-2029","Av. Annual","2015-2019","2020-2024","2025-2029","2015-2029","Av. Annual","2015-2019","2020-2024","2025-2029","2015-2029","Av. Annual","2015-2019","2020-2024","2025-2029","2015-2029","Av. Annual","2015-2019","2020-2024","2025-2029","2015-2029","Av. Annual","2015-2019","2020-2024","2025-2029","2015-2029","Av. Annual","2015-2019","2020-2024","2025-2029","2015-2029","Av. Annual","2015-2019","2020-2024","2025-2029","2015-2029","Av. Annual","2015-2019","2020-2024","2025-2029","2015-2029","Av. Annual","2015-2019","2020-2024","2025-2029","2015-2029","Av. Annual","2015-2019","2020-2024","2025-2029","2015-2029","Av. Annual","2015-2019","2020-2024","2025-2029","2015-2029","Av. Annual","2015-2019","2020-2024","2025-2029","2015-2029","Av. Annual","2015-2019","2020-2024","2025-2029","2015-2029","Av. Annual","2015-2019","2020-2024","2025-2029","2015-2029","Av. Annual","2015-2019","2020-2024","2025-2029","2015-2029","Av. Annual","2015-2019","2020-2024","2025-2029","2015-2029","Av. Annual","2015-2019","2020-2024","2025-2029","2015-2029","Av. Annual","2015-2019","2020-2024","2025-2029","2015-2029","Av. Annual","2015-2019","2020-2024","2025-2029","2015-2029","Av. Annual","2015-2019","2020-2024","2025-2029","2015-2029","Av. Annual","2015-2019","2020-2024","2025-2029","2015-2029","Av. Annual","2015-2019","2020-2024","2025-2029","2015-2029","Av. Annual","2015-2019","2020-2024","2025-2029","2015-2029","Av. Annual","2015-2019","2020-2024","2025-2029","2015-2029","Av. Annual","2015-2019","2020-2024","2025-2029","2015-2029","Av. Annual","2015-2019","2020-2024","2025-2029","2015-2029","Av. Annual","2015-2019","2020-2024","2025-2029","2015-2029","Av. Annual","2015-2019","2020-2024","2025-2029","2015-2029","Av. Annual","2015-2019","2020-2024","2025-2029","2015-2029","Av. Annual","2015-2019","2020-2024","2025-2029","2015-2029","Av. Annual","2015-2019","2020-2024","2025-2029","2015-2029","Av. Annual","2015-2019","2020-2024","2025-2029","2015-2029","Av. Annual","2015-2019","2020-2024","2025-2029","2015-2029","Av. Annual","2015-2019","2020-2024","2025-2029","2015-2029","Av. Annual","2015-2019","2020-2024","2025-2029","2015-2029","Av. Annual","2015-2019","2020-2024","2025-2029","2015-2029","Av. Annual","2015-2019","2020-2024","2025-2029","2015-2029","Av. Annual","2015-2019","2020-2024","2025-2029","2015-2029","Av. Annual","2015-2019","2020-2024","2025-2029","2015-2029","Av. Annual","2015-2019","2020-2024","2025-2029","2015-2029","Av. Annual","2015-2019","2020-2024","2025-2029","2015-2029","Av. Annual","2015-2019","2020-2024","2025-2029","2015-2029","Av. Annual","2015-2019","2020-2024","2025-2029","2015-2029","Av. Annual","2015-2019","2020-2024","2025-2029","2015-2029","Av. Annual","2015-2019","2020-2024","2025-2029","2015-2029","Av. Annual","2015-2019","2020-2024","2025-2029","2015-2029","Av. Annual","2015-2019","2020-2024","2025-2029","2015-2029","Av. Annual","2015-2019","2020-2024","2025-2029","2015-2029","Av. Annual","2015-2019","2020-2024","2025-2029","2015-2029","Av. Annual","2015-2019","2020-2024","2025-2029","2015-2029","Av. Annual","2015-2019","2020-2024","2025-2029","2015-2029","Av. Annual","2015-2019","2020-2024","2025-2029","2015-2029","Av. Annual","2015-2019","2020-2024","2025-2029","2015-2029","Av. Annual","2015-2019","2020-2024","2025-2029","2015-2029","Av. Annual","2015-2019","2020-2024","2025-2029","2015-2029","Av. Annual","2015-2019","2020-2024","2025-2029","2015-2029","Av. Annual","2015-2019","2020-2024","2025-2029","2015-2029","Av. Annual","2015-2019","2020-2024","2025-2029","2015-2029","Av. Annual","2015-2019","2020-2024","2025-2029","2015-2029","Av. Annual","2015-2019","2020-2024","2025-2029","2015-2029","Av. Annual","2015-2019","2020-2024","2025-2029","2015-2029","Av. Annual","2015-2019","2020-2024","2025-2029","2015-2029","Av. Annual","2015-2019","2020-2024","2025-2029","2015-2029","Av. Annual","2015-2019","2020-2024","2025-2029","2015-2029","Av. Annual","2015-2019","2020-2024","2025-2029","2015-2029","Av. Annual","2015-2019","2020-2024","2025-2029","2015-2029","Av. Annual","2015-2019","2020-2024","2025-2029","2015-2029","Av. Annual","2015-2019","2020-2024","2025-2029","2015-2029","Av. Annual","2015-2019","2020-2024","2025-2029","2015-2029","Av. Annual","2015-2019","2020-2024","2025-2029","2015-2029","Av. Annual","2015-2019","2020-2024","2025-2029","2015-2029","Av. Annual","2015-2019","2020-2024","2025-2029","2015-2029","Av. Annual","2015-2019","2020-2024","2025-2029","2015-2029","Av. Annual","2015-2019","2020-2024","2025-2029","2015-2029","Av. Annual","2015-2019","2020-2024","2025-2029","2015-2029","Av. Annual","2015-2019","2020-2024","2025-2029","2015-2029","Av. Annual","2015-2019","2020-2024","2025-2029","2015-2029","Av. Annual","2015-2019","2020-2024","2025-2029","2015-2029","Av. Annual","2015-2019","2020-2024","2025-2029","2015-2029","Av. Annual","2015-2019","2020-2024","2025-2029","2015-2029","Av. Annual","2015-2019","2020-2024","2025-2029","2015-2029","Av. Annual","2015-2019","2020-2024","2025-2029","2015-2029","Av. Annual","2015-2019","2020-2024","2025-2029","2015-2029","Av. Annual","2015-2019","2020-2024","2025-2029","2015-2029","Av. Annual","2015-2019","2020-2024","2025-2029","2015-2029","Av. Annual","2015-2019","2020-2024","2025-2029","2015-2029","Av. Annual","2015-2019","2020-2024","2025-2029","2015-2029","Av. Annual","2015-2019","2020-2024","2025-2029","2015-2029","Av. Annual","2015-2019","2020-2024","2025-2029","2015-2029","Av. Annual","2015-2019","2020-2024","2025-2029","2015-2029","Av. Annual","2015-2019","2020-2024","2025-2029","2015-2029","Av. Annual","2015-2019","2020-2024","2025-2029","2015-2029","Av. Annual","2015-2019","2020-2024","2025-2029","2015-2029","Av. Annual","2015-2019","2020-2024","2025-2029","2015-2029","Av. Annual","2015-2019","2020-2024","2025-2029","2015-2029","Av. Annual","2015-2019","2020-2024","2025-2029","2015-2029","Av. Annual","2015-2019","2020-2024","2025-2029","2015-2029","Av. Annual","2015-2019","2020-2024","2025-2029","2015-2029","Av. Annual","2015-2019","2020-2024","2025-2029","2015-2029","Av. Annual","2015-2019","2020-2024","2025-2029","2015-2029","Av. Annual","2015-2019","2020-2024","2025-2029","2015-2029","Av. Annual","2015-2019","2020-2024","2025-2029","2015-2029","Av. Annual","2015-2019","2020-2024","2025-2029","2015-2029","Av. Annual","2015-2019","2020-2024","2025-2029","2015-2029","Av. Annual","2015-2019","2020-2024","2025-2029","2015-2029","Av. Annual","2015-2019","2020-2024","2025-2029","2015-2029","Av. Annual","2015-2019","2020-2024","2025-2029","2015-2029","Av. Annual","2015-2019","2020-2024","2025-2029","2015-2029","Av. Annual","2015-2019","2020-2024","2025-2029","2015-2029","Av. Annual","2015-2019","2020-2024","2025-2029","2015-2029","Av. Annual","2015-2019","2020-2024","2025-2029","2015-2029","Av. Annual","2015-2019","2020-2024","2025-2029","2015-2029","Av. Annual","2015-2019","2020-2024","2025-2029","2015-2029","Av. Annual","2015-2019","2020-2024","2025-2029","2015-2029","Av. Annual","2015-2019","2020-2024","2025-2029","2015-2029","Av. Annual","2015-2019","2020-2024","2025-2029","2015-2029","Av. Annual","2015-2019","2020-2024","2025-2029","2015-2029","Av. Annual","2015-2019","2020-2024","2025-2029","2015-2029","Av. Annual","2015-2019","2020-2024","2025-2029","2015-2029","Av. Annual","2015-2019","2020-2024","2025-2029","2015-2029","Av. Annual","2015-2019","2020-2024","2025-2029","2015-2029","Av. Annual",2015,2016,2017,2018,2019,2020,2021,2022,2023,2024,2025,2026,2027,2028,2029,"2015-2019","2020-2024","2025-2029","2015-2029",2015,2016,2017,2018,2019,2020,2021,2022,2023,2024,2025,2026,2027,2028,2029,"2015-2019","2020-2024","2025-2029","2015-2029",2015,2016,2017,2018,2019,2020,2021,2022,2023,2024,2025,2026,2027,2028,2029,"2015-2019","2020-2024","2025-2029","2015-2029",2015,2016,2017,2018,2019,2020,2021,2022,2023,2024,2025,2026,2027,2028,2029,"2015-2019","2020-2024","2025-2029","2015-2029",2015,2016,2017,2018,2019,2020,2021,2022,2023,2024,2025,2026,2027,2028,2029,"2015-2019","2020-2024","2025-2029","2015-2029",2015,2016,2017,2018,2019,2020,2021,2022,2023,2024,2025,2026,2027,2028,2029,"2015-2019","2020-2024","2025-2029","2015-2029",2015,2016,2017,2018,2019,2020,2021,2022,2023,2024,2025,2026,2027,2028,2029,"2015-2019","2020-2024","2025-2029","2015-2029",2015,2016,2017,2018,2019,2020,2021,2022,2023,2024,2025,2026,2027,2028,2029,"2015-2019","2020-2024","2025-2029","2015-2029",2015,2016,2017,2018,2019,2020,2021,2022,2023,2024,2025,2026,2027,2028,2029,"2015-2019","2020-2024","2025-2029","2015-2029",2015,2016,2017,2018,2019,2020,2021,2022,2023,2024,2025,2026,2027,2028,2029,"2015-2019","2020-2024","2025-2029","2015-2029",2015,2016,2017,2018,2019,2020,2021,2022,2023,2024,2025,2026,2027,2028,2029,"2015-2019","2020-2024","2025-2029","2015-2029",2015,2016,2017,2018,2019,2020,2021,2022,2023,2024,2025,2026,2027,2028,2029,"2015-2019","2020-2024","2025-2029","2015-2029",2015,2016,2017,2018,2019,2020,2021,2022,2023,2024,2025,2026,2027,2028,2029,"2015-2019","2020-2024","2025-2029","2015-2029",2015,2016,2017,2018,2019,2020,2021,2022,2023,2024,2025,2026,2027,2028,2029,"2015-2019","2020-2024","2025-2029","2015-2029",2015,2016,2017,2018,2019,2020,2021,2022,2023,2024,2025,2026,2027,2028,2029,"2015-2019","2020-2024","2025-2029","2015-2029",2015,2016,2017,2018,2019,2020,2021,2022,2023,2024,2025,2026,2027,2028,2029,"2015-2019","2020-2024","2025-2029","2015-2029",2015,2016,2017,2018,2019,2020,2021,2022,2023,2024,2025,2026,2027,2028,2029,"2015-2019","2020-2024","2025-2029","2015-2029",2015,2016,2017,2018,2019,2020,2021,2022,2023,2024,2025,2026,2027,2028,2029,"2015-2019","2020-2024","2025-2029","2015-2029",2015,2016,2017,2018,2019,2020,2021,2022,2023,2024,2025,2026,2027,2028,2029,"2015-2019","2020-2024","2025-2029","2015-2029",2015,2016,2017,2018,2019,2020,2021,2022,2023,2024,2025,2026,2027,2028,2029,"2015-2019","2020-2024","2025-2029","2015-2029",2015,2016,2017,2018,2019,2020,2021,2022,2023,2024,2025,2026,2027,2028,2029,"2015-2019","2020-2024","2025-2029","2015-2029",2015,2016,2017,2018,2019,2020,2021,2022,2023,2024,2025,2026,2027,2028,2029,"2015-2019","2020-2024","2025-2029","2015-2029",2015,2016,2017,2018,2019,2020,2021,2022,2023,2024,2025,2026,2027,2028,2029,"2015-2019","2020-2024","2025-2029","2015-2029",2015,2016,2017,2018,2019,2020,2021,2022,2023,2024,2025,2026,2027,2028,2029,"2015-2019","2020-2024","2025-2029","2015-2029",2015,2016,2017,2018,2019,2020,2021,2022,2023,2024,2025,2026,2027,2028,2029,"2015-2019","2020-2024","2025-2029","2015-2029",2015,2016,2017,2018,2019,2020,2021,2022,2023,2024,2025,2026,2027,2028,2029,"2015-2019","2020-2024","2025-2029","2015-2029",2015,2016,2017,2018,2019,2020,2021,2022,2023,2024,2025,2026,2027,2028,2029,"2015-2019","2020-2024","2025-2029","2015-2029",2015,2016,2017,2018,2019,2020,2021,2022,2023,2024,2025,2026,2027,2028,2029,"2015-2019","2020-2024","2025-2029","2015-2029",2015,2016,2017,2018,2019,2020,2021,2022,2023,2024,2025,2026,2027,2028,2029,"2015-2019","2020-2024","2025-2029","2015-2029",2015,2016,2017,2018,2019,2020,2021,2022,2023,2024,2025,2026,2027,2028,2029,"2015-2019","2020-2024","2025-2029","2015-2029",2015,2016,2017,2018,2019,2020,2021,2022,2023,2024,2025,2026,2027,2028,2029,"2015-2019","2020-2024","2025-2029","2015-2029",2015,2016,2017,2018,2019,2020,2021,2022,2023,2024,2025,2026,2027,2028,2029,"2015-2019","2020-2024","2025-2029","2015-2029",2015,2016,2017,2018,2019,2020,2021,2022,2023,2024,2025,2026,2027,2028,2029,"2015-2019","2020-2024","2025-2029","2015-2029",2015,2016,2017,2018,2019,2020,2021,2022,2023,2024,2025,2026,2027,2028,2029,"2015-2019","2020-2024","2025-2029","2015-2029",2015,2016,2017,2018,2019,2020,2021,2022,2023,2024,2025,2026,2027,2028,2029,"2015-2019","2020-2024","2025-2029","2015-2029",2015,2016,2017,2018,2019,2020,2021,2022,2023,2024,2025,2026,2027,2028,2029,"2015-2019","2020-2024","2025-2029","2015-2029",2015,2016,2017,2018,2019,2020,2021,2022,2023,2024,2025,2026,2027,2028,2029,"2015-2019","2020-2024","2025-2029","2015-2029",2015,2016,2017,2018,2019,2020,2021,2022,2023,2024,2025,2026,2027,2028,2029,"2015-2019","2020-2024","2025-2029","2015-2029",2015,2016,2017,2018,2019,2020,2021,2022,2023,2024,2025,2026,2027,2028,2029,"2015-2019","2020-2024","2025-2029","2015-2029",2015,2016,2017,2018,2019,2020,2021,2022,2023,2024,2025,2026,2027,2028,2029,"2015-2019","2020-2024","2025-2029","2015-2029",2015,2016,2017,2018,2019,2020,2021,2022,2023,2024,2025,2026,2027,2028,2029,"2015-2019","2020-2024","2025-2029","2015-2029",2015,2016,2017,2018,2019,2020,2021,2022,2023,2024,2025,2026,2027,2028,2029,"2015-2019","2020-2024","2025-2029","2015-2029",2015,2016,2017,2018,2019,2020,2021,2022,2023,2024,2025,2026,2027,2028,2029,"2015-2019","2020-2024","2025-2029","2015-2029",2015,2016,2017,2018,2019,2020,2021,2022,2023,2024,2025,2026,2027,2028,2029,"2015-2019","2020-2024","2025-2029","2015-2029",2015,2016,2017,2018,2019,2020,2021,2022,2023,2024,2025,2026,2027,2028,2029,"2015-2019","2020-2024","2025-2029","2015-2029",2015,2016,2017,2018,2019,2020,2021,2022,2023,2024,2025,2026,2027,2028,2029,"2015-2019","2020-2024","2025-2029","2015-2029",2015,2016,2017,2018,2019,2020,2021,2022,2023,2024,2025,2026,2027,2028,2029,"2015-2019","2020-2024","2025-2029","2015-2029",2015,2016,2017,2018,2019,2020,2021,2022,2023,2024,2025,2026,2027,2028,2029,"2015-2019","2020-2024","2025-2029","2015-2029",2015,2016,2017,2018,2019,2020,2021,2022,2023,2024,2025,2026,2027,2028,2029,"2015-2019","2020-2024","2025-2029","2015-2029",2015,2016,2017,2018,2019,2020,2021,2022,2023,2024,2025,2026,2027,2028,2029,"2015-2019","2020-2024","2025-2029","2015-2029",2015,2016,2017,2018,2019,2020,2021,2022,2023,2024,2025,2026,2027,2028,2029,"2015-2019","2020-2024","2025-2029","2015-2029",2015,2016,2017,2018,2019,2020,2021,2022,2023,2024,2025,2026,2027,2028,2029,"2015-2019","2020-2024","2025-2029","2015-2029",2015,2016,2017,2018,2019,2020,2021,2022,2023,2024,2025,2026,2027,2028,2029,"2015-2019","2020-2024","2025-2029","2015-2029",2015,2016,2017,2018,2019,2020,2021,2022,2023,2024,2025,2026,2027,2028,2029,"2015-2019","2020-2024","2025-2029","2015-2029",2015,2016,2017,2018,2019,2020,2021,2022,2023,2024,2025,2026,2027,2028,2029,"2015-2019","2020-2024","2025-2029","2015-2029",2015,2016,2017,2018,2019,2020,2021,2022,2023,2024,2025,2026,2027,2028,2029,"2015-2019","2020-2024","2025-2029","2015-2029",2015,2016,2017,2018,2019,2020,2021,2022,2023,2024,2025,2026,2027,2028,2029,"2015-2019","2020-2024","2025-2029","2015-2029",2015,2016,2017,2018,2019,2020,2021,2022,2023,2024,2025,2026,2027,2028,2029,"2015-2019","2020-2024","2025-2029","2015-2029",2015,2016,2017,2018,2019,2020,2021,2022,2023,2024,2025,2026,2027,2028,2029,"2015-2019","2020-2024","2025-2029","2015-2029",2015,2016,2017,2018,2019,2020,2021,2022,2023,2024,2025,2026,2027,2028,2029,"2015-2019","2020-2024","2025-2029","2015-2029",2015,2016,2017,2018,2019,2020,2021,2022,2023,2024,2025,2026,2027,2028,2029,"2015-2019","2020-2024","2025-2029","2015-2029",2015,2016,2017,2018,2019,2020,2021,2022,2023,2024,2025,2026,2027,2028,2029,"2015-2019","2020-2024","2025-2029","2015-2029",2015,2016,2017,2018,2019,2020,2021,2022,2023,2024,2025,2026,2027,2028,2029,"2015-2019","2020-2024","2025-2029","2015-2029",2015,2016,2017,2018,2019,2020,2021,2022,2023,2024,2025,2026,2027,2028,2029,"2015-2019","2020-2024","2025-2029","2015-2029",2015,2016,2017,2018,2019,2020,2021,2022,2023,2024,2025,2026,2027,2028,2029,"2015-2019","2020-2024","2025-2029","2015-2029",2015,2016,2017,2018,2019,2020,2021,2022,2023,2024,2025,2026,2027,2028,2029,"2015-2019","2020-2024","2025-2029","2015-2029",2015,2016,2017,2018,2019,2020,2021,2022,2023,2024,2025,2026,2027,2028,2029,"2015-2019","2020-2024","2025-2029","2015-2029",2015,2016,2017,2018,2019,2020,2021,2022,2023,2024,2025,2026,2027,2028,2029,"2015-2019","2020-2024","2025-2029","2015-2029",2015,2016,2017,2018,2019,2020,2021,2022,2023,2024,2025,2026,2027,2028,2029,"2015-2019","2020-2024","2025-2029","2015-2029",2015,2016,2017,2018,2019,2020,2021,2022,2023,2024,2025,2026,2027,2028,2029,"2015-2019","2020-2024","2025-2029","2015-2029",2015,2016,2017,2018,2019,2020,2021,2022,2023,2024,2025,2026,2027,2028,2029,"2015-2019","2020-2024","2025-2029","2015-2029",2015,2016,2017,2018,2019,2020,2021,2022,2023,2024,2025,2026,2027,2028,2029,"2015-2019","2020-2024","2025-2029","2015-2029",2015,2016,2017,2018,2019,2020,2021,2022,2023,2024,2025,2026,2027,2028,2029,"2015-2019","2020-2024","2025-2029","2015-2029",2015,2016,2017,2018,2019,2020,2021,2022,2023,2024,2025,2026,2027,2028,2029,"2015-2019","2020-2024","2025-2029","2015-2029",2015,2016,2017,2018,2019,2020,2021,2022,2023,2024,2025,2026,2027,2028,2029,"2015-2019","2020-2024","2025-2029","2015-2029",2015,2016,2017,2018,2019,2020,2021,2022,2023,2024,2025,2026,2027,2028,2029,"2015-2019","2020-2024","2025-2029","2015-2029",2015,2016,2017,2018,2019,2020,2021,2022,2023,2024,2025,2026,2027,2028,2029,"2015-2019","2020-2024","2025-2029","2015-2029",2015,2016,2017,2018,2019,2020,2021,2022,2023,2024,2025,2026,2027,2028,2029,"2015-2019","2020-2024","2025-2029","2015-2029",2015,2016,2017,2018,2019,2020,2021,2022,2023,2024,2025,2026,2027,2028,2029,"2015-2019","2020-2024","2025-2029","2015-2029",2015,2016,2017,2018,2019,2020,2021,2022,2023,2024,2025,2026,2027,2028,2029,"2015-2019","2020-2024","2025-2029","2015-2029",2015,2016,2017,2018,2019,2020,2021,2022,2023,2024,2025,2026,2027,2028,2029,"2015-2019","2020-2024","2025-2029","2015-2029",2015,2016,2017,2018,2019,2020,2021,2022,2023,2024,2025,2026,2027,2028,2029,"2015-2019","2020-2024","2025-2029","2015-2029",2015,2016,2017,2018,2019,2020,2021,2022,2023,2024,2025,2026,2027,2028,2029,"2015-2019","2020-2024","2025-2029","2015-2029",2015,2016,2017,2018,2019,2020,2021,2022,2023,2024,2025,2026,2027,2028,2029,"2015-2019","2020-2024","2025-2029","2015-2029",2015,2016,2017,2018,2019,2020,2021,2022,2023,2024,2025,2026,2027,2028,2029,"2015-2019","2020-2024","2025-2029","2015-2029",2015,2016,2017,2018,2019,2020,2021,2022,2023,2024,2025,2026,2027,2028,2029,"2015-2019","2020-2024","2025-2029","2015-2029",2015,2016,2017,2018,2019,2020,2021,2022,2023,2024,2025,2026,2027,2028,2029,"2015-2019","2020-2024","2025-2029","2015-2029",2015,2016,2017,2018,2019,2020,2021,2022,2023,2024,2025,2026,2027,2028,2029,"2015-2019","2020-2024","2025-2029","2015-2029",2015,2016,2017,2018,2019,2020,2021,2022,2023,2024,2025,2026,2027,2028,2029,"2015-2019","2020-2024","2025-2029","2015-2029",2015,2016,2017,2018,2019,2020,2021,2022,2023,2024,2025,2026,2027,2028,2029,"2015-2019","2020-2024","2025-2029","2015-2029","2015-2019","2020-2024","2025-2029","2015-2019","Av. Annual","2015-2019","2020-2024","2025-2029","2015-2019","Av. Annual","2015-2019","2020-2024","2025-2029","2015-2029","Av. Annual","2015-2019","2020-2024","2025-2029","2015-2029","Av. Annual","2015-2019","2020-2024","2025-2029","2015-2029","Av. Annual","2015-2019","2020-2024","2025-2029","2015-2029","Av. Annual","2015-2019","2020-2024","2025-2029","2015-2029","Av. Annual","2015-2019","2020-2024","2025-2029","2015-2029","Av. Annual","2015-2019","2020-2024","2025-2029","2015-2029","Av. Annual","2015-2019","2020-2024","2025-2029","2015-2029","Av. Annual","2015-2019","2020-2024","2025-2029","2015-2029","Av. Annual","2015-2019","2020-2024","2025-2029","2015-2029","Av. Annual","2015-2019","2020-2024","2025-2029","2015-2029","Av. Annual","2015-2019","2020-2024","2025-2029","2015-2029","Av. Annual","2015-2019","2020-2024","2025-2029","2015-2029","Av. Annual","2015-2019","2020-2024","2025-2029","2015-2029","Av. Annual","2015-2019","2020-2024","2025-2029","2015-2029","Av. Annual","2015-2019","2020-2024","2025-2029","2015-2029","Av. Annual","2015-2019","2020-2024","2025-2029","2015-2029","Av. Annual","2015-2019","2020-2024","2025-2029","2015-2029","Av. Annual","2015-2019","2020-2024","2025-2029","2015-2029","Av. Annual","2015-2019","2020-2024","2025-2029","2015-2029","Av. Annual","2015-2019","2020-2024","2025-2029","2015-2029","Av. Annual","2015-2019","2020-2024","2025-2029","2015-2029","Av. Annual","2015-2019","2020-2024","2025-2029","2015-2029","Av. Annual","2015-2019","2020-2024","2025-2029","2015-2029","Av. Annual","2015-2019","2020-2024","2025-2029","2015-2029","Av. Annual",null,null,null,null,null,null,null,null,null,null,null,null,null,null,null,null,null,null,null,null,null,null,null,null,null,null,null,null,null,null,null,null,null,null,null,null,null,null,null,null,null,null,null,null,null,null,null,null,null,null,null,null,null,null,null,null,null,null,null,null,null,null,null,null,null,null,null,null,null,null,null,null,null,null,null,null,null,null,null,null,null,null,null,null,null,null,null,null,null,null,null,null,null,null,null,null,null,null,null,null,null,null,null,null,null,null,null,null,null,null,null,null,null,null,null,null,null,null,null,null,null,null,null,null,null,null,null,null,null,null,null,null,null,null,null,null,null,null,null,null,null,null,null,null,null,null,null,null,null,null,null,null,null,null,null,null,null,null,null,null,null,null,null,null,null,null,null,null,null,null,null,null,null,null,null,null,null,null,null,null,null,null,null,null,null,null,null,null,null,null,null,null,null,null,null,null,null,null,null,null,null,null,null,null,null,null,null,null,null,null,null,null,null,null,null,null,null,null,null,null,null,null,null,null,null,null,null,null,null,null,null,null,null,null,null,null,null,null,null,null,null,null,null,null,null,null,null,null,null,null,null,null,null,null,null,null,null,null,null,null,null,null,null,null,null,null,null,null,null,null,null,null,null,null,null,null,null,null,null,null,null,null,null,null,null,null,null,null,null,null,null,null,null,null,null,null,null,null,null,null,null,null,null,null,null,null,null,null,null,null,null,null,"2015-2019","2020-2024","2025-2029","2015-2029","Av. Annual","2015-2019","2020-2024","2025-2029","2015-2029","Av. Annual","2015-2019","2020-2024","2025-2029","2015-2029","Av. Annual","2015-2019","2020-2024","2025-2029","2015-2029","Av. Annual","2015-2019","2020-2024","2025-2029","2015-2029","Av. Annual","2015-2019","2020-2024","2025-2029","2015-2029","Av. Annual","2015-2019","2020-2024","2025-2029","2015-2029","Av. Annual","2015-2019","2020-2024","2025-2029","2015-2029","Av. Annual","2015-2019","2020-2024","2025-2029","2015-2029","Av. Annual","2015-2019","2020-2024","2025-2029","2015-2029","Av. Annual","2015-2019","2020-2024","2025-2029","2015-2029","Av. Annual","2015-2019","2020-2024","2025-2029","2015-2029","Av. Annual","2015-2019","2020-2024","2025-2029","2015-2029","Av. Annual","2015-2019","2020-2024","2025-2029","2015-2029","Av. Annual","2015-2019","2020-2024","2025-2029","2015-2029","Av. Annual","2015-2019","2020-2024","2025-2029","2015-2029","Av. Annual","2015-2019","2020-2024","2025-2029","2015-2029","Av. Annual","2015-2019","2020-2024","2025-2029","2015-2029","Av. Annual","Year 2015","Ending OD","Water","Sanitation","Hygiene","WASH","Water","Sanitation","WatSan","Targets 6.1 + 6.2","Ending OD","Water","Sanitation","Hygiene","WASH","Water","Sanitation","WatSan","Targets 6.1 + 6.2","Capital","Capital maintenance","Operations","Capital","Capital maintenance","Operations","Capital","Capital maintenance","Operations","Capital","Capital maintenance","Operations","Capital","Capital maintenance","Operations","Capital","Capital maintenance","Operations","Capital","Capital maintenance","Operations","Capital","Capital maintenance","Operations","Capital","Capital maintenance","Operations","Capital","Capital maintenance","Operations","Capital","Capital maintenance","Operations","Capital / SW","O&M","Total","Capital / SW","O&M","Total","Capital / SW","O&M","Total","Capital / SW","O&M","Total","Capital / SW","O&M","Total","Capital / SW","O&M","Total","Capital / SW","O&M","Total","Capital / SW","O&M","Total","Capital / SW","O&M","Total","Capital / SW","O&M","Total","Capital / SW","O&M","Total","Capital / SW","O&M","Total","Capital / SW","O&M","Total","Capital / SW","O&M","Total","Capital / SW","O&M","Total","Capital / SW","O&M","Total",{"$f":"\"GDP (US$ m) - \" & IMD5","v":"GDP (US$ m) - 2018"},{"$f":"\"GDP Growth Rate (%) - \" & IMD5","v":"GDP Growth Rate (%) - 2018"}]
["Afghanistan",8546.6350000000002,8880.2340000000004,9223.0509999999995,9576.3590000000004,9941.8880000000008,10320.963,10714.259,11121.565000000001,11542.184999999999,11974.869000000001,12418.55,12872.727000000001,13337.28,13811.812,14295.83,14788.124,14788.124,23460.152999999998,23849.7,24230.181000000004,24604.219999999998,24975.389000000003,25345.941000000003,25716.393000000004,26085.127999999997,26449.599000000002,26806.306000000004,27152.55,27487.252,27810.445,28121.953000000001,28422.081999999995,28711.507999999998,28711.507999999998,0.5568185424804688,0.56307412810106905,0.56302761528896994,0.56160184939553615,0.55377777878967005,0.54261134082709828,2030,1,0.47657936096191406,0.55985509206496042,0.51533918843176263,0.48972545152994812,0.44716834941893419,0.37080872336396481,2030,1,0.12514114462628145,0.13042958698148599,0.1305438716090318,0.12792912929322953,0.12328394266430021,0.11351919258335967,2030,1,4.9993706534522085E-3,9.6793049499582264E-3,7.439841877702553E-3,3.0426283754867067E-3,3.1692566448693104E-3,1.6658214192442422E-3,2030,1,0.48006632151068951,0.49830528980691829,0.4913550518024109,0.48495677767538903,0.47737010996271723,0.44834437830601198,2030,1,0.23657988603019697,0.27153511883536141,0.2606553361799932,0.2453770516087474,0.23423616341232428,0.17109576011455835,2030,1,0.82623079089885321,0.92270917728721713,0.90166681062231124,0.85314531360933488,0.81052941793570676,0.64310323503969591,2025,1,0.25600000000000001,1.2E-2,0.25147200000000003,0.25454400000000005,2030,1,0,0,0.33800000000000002,0.33800000000000002,2030,1,0.82200000000000006,0.99470110272780066,0.86589088798607095,0.80983459082994813,0.71322692977365065,0.72634648868253071,2030,1,0.66900000000000004,0.80955600696459695,0.704721416134649,0.65909895531050522,0.58047301218804426,0.59115060940220554,2030,1,133.00979932235893,133.00979932235893,133.00979932235893,133.00979932235893,133.00979932235893,133.00979932235893,133.00979932235893,133.00979932235893,133.00979932235893,133.00979932235893,133.00979932235893,133.00979932235893,133.00979932235893,133.00979932235893,133.00979932235893,665.04899661179468,665.04899661179468,665.04899661179468,1995.1469898353841,133.0150996960634,133.0150996960634,133.0150996960634,133.0150996960634,133.0150996960634,133.0150996960634,133.0150996960634,133.0150996960634,133.0150996960634,133.0150996960634,133.0150996960634,133.0150996960634,133.0150996960634,133.0150996960634,133.0150996960634,665.07549848031704,665.07549848031704,665.07549848031704,1995.2264954409504,133.17757303855177,133.17757303855177,133.17757303855177,133.17757303855177,133.17757303855177,133.17757303855177,133.17757303855177,133.17757303855177,133.17757303855177,133.17757303855177,133.17757303855177,133.17757303855177,133.17757303855177,133.17757303855177,133.17757303855177,665.88786519275891,665.88786519275891,665.88786519275891,1997.6635955782772,134.06916604765266,134.06916604765266,134.06916604765266,134.06916604765266,134.06916604765266,134.06916604765266,134.06916604765266,134.06916604765266,134.06916604765266,134.06916604765266,134.06916604765266,134.06916604765266,134.06916604765266,134.06916604765266,134.06916604765266,670.34583023826326,670.34583023826326,670.34583023826326,2011.0374907147905,135.3416389745359,135.3416389745359,135.3416389745359,135.3416389745359,135.3416389745359,135.3416389745359,135.3416389745359,135.3416389745359,135.3416389745359,135.3416389745359,135.3416389745359,135.3416389745359,135.3416389745359,135.3416389745359,135.3416389745359,676.70819487267954,676.70819487267954,676.70819487267954,2030.1245846180391,668.61327707916257,668.61327707916257,668.61327707916257,668.61327707916257,668.61327707916257,668.61327707916257,668.61327707916257,668.61327707916257,668.61327707916257,668.61327707916257,668.61327707916257,668.61327707916257,668.61327707916257,668.61327707916257,668.61327707916257,3343.0663853958135,3343.0663853958135,3343.0663853958135,10029.199156187442,207.69629176435922,207.69629176435922,207.69629176435922,207.69629176435922,207.69629176435922,207.69629176435922,207.69629176435922,207.69629176435922,207.69629176435922,207.69629176435922,207.69629176435922,207.69629176435922,207.69629176435922,207.69629176435922,207.69629176435922,1038.481458821796,1038.481458821796,1038.481458821796,3115.444376465387,221.62095723326689,221.62095723326689,221.62095723326689,221.62095723326689,221.62095723326689,221.62095723326689,221.62095723326689,221.62095723326689,221.62095723326689,221.62095723326689,221.62095723326689,221.62095723326689,221.62095723326689,221.62095723326689,221.62095723326689,1108.1047861663344,1108.1047861663344,1108.1047861663344,3324.314358499003,229.63298638817778,229.63298638817778,229.63298638817778,229.63298638817778,229.63298638817778,229.63298638817778,229.63298638817778,229.63298638817778,229.63298638817778,229.63298638817778,229.63298638817778,229.63298638817778,229.63298638817778,229.63298638817778,229.63298638817778,1148.1649319408889,1148.1649319408889,1148.1649319408889,3444.4947958226676,242.94493474499123,242.94493474499123,242.94493474499123,242.94493474499123,242.94493474499123,242.94493474499123,242.94493474499123,242.94493474499123,242.94493474499123,242.94493474499123,242.94493474499123,242.94493474499123,242.94493474499123,242.94493474499123,242.94493474499123,1214.7246737249561,1214.7246737249561,1214.7246737249561,3644.1740211748693,266.83038154862282,266.83038154862282,266.83038154862282,266.83038154862282,266.83038154862282,266.83038154862282,266.83038154862282,266.83038154862282,266.83038154862282,266.83038154862282,266.83038154862282,266.83038154862282,266.83038154862282,266.83038154862282,266.83038154862282,1334.1519077431142,1334.1519077431142,1334.1519077431142,4002.4557232293428,1168.725551679418,1168.725551679418,1168.725551679418,1168.725551679418,1168.725551679418,1168.725551679418,1168.725551679418,1168.725551679418,1168.725551679418,1168.725551679418,1168.725551679418,1168.725551679418,1168.725551679418,1168.725551679418,1168.725551679418,5843.6277583970896,5843.6277583970896,5843.6277583970896,17530.883275191271,110.1130305267553,119.9861733555711,142.75260822984052,162.74811688454753,241.30499422347552,776.90492322018997,7769.0492322018999,140.39054092601401,140.39054092601401,140.39054092601401,140.39054092601401,140.39054092601401,140.39054092601401,140.39054092601401,140.39054092601401,140.39054092601401,140.39054092601401,140.39054092601401,140.39054092601401,140.39054092601401,140.39054092601401,140.39054092601401,701.95270463007,701.95270463007,701.95270463007,2105.8581138902096,141.18255622451605,141.18255622451605,141.18255622451605,141.18255622451605,141.18255622451605,141.18255622451605,141.18255622451605,141.18255622451605,141.18255622451605,141.18255622451605,141.18255622451605,141.18255622451605,141.18255622451605,141.18255622451605,141.18255622451605,705.91278112258021,705.91278112258021,705.91278112258021,2117.7383433677405,141.91167240576402,141.91167240576402,141.91167240576402,141.91167240576402,141.91167240576402,141.91167240576402,141.91167240576402,141.91167240576402,141.91167240576402,141.91167240576402,141.91167240576402,141.91167240576402,141.91167240576402,141.91167240576402,141.91167240576402,709.55836202882006,709.55836202882006,709.55836202882006,2128.6750860864599,142.77621213651722,142.77621213651722,142.77621213651722,142.77621213651722,142.77621213651722,142.77621213651722,142.77621213651722,142.77621213651722,142.77621213651722,142.77621213651722,142.77621213651722,142.77621213651722,142.77621213651722,142.77621213651722,142.77621213651722,713.88106068258605,713.88106068258605,713.88106068258605,2141.6431820477583,146.08384325755463,146.08384325755463,146.08384325755463,146.08384325755463,146.08384325755463,146.08384325755463,146.08384325755463,146.08384325755463,146.08384325755463,146.08384325755463,146.08384325755463,146.08384325755463,146.08384325755463,146.08384325755463,146.08384325755463,730.41921628777322,730.41921628777322,730.41921628777322,2191.2576488633199,712.34482495036605,712.34482495036605,712.34482495036605,712.34482495036605,712.34482495036605,712.34482495036605,712.34482495036605,712.34482495036605,712.34482495036605,712.34482495036605,712.34482495036605,712.34482495036605,712.34482495036605,712.34482495036605,712.34482495036605,3561.7241247518295,3561.7241247518295,3561.7241247518295,10685.17237425549,297.88336756332319,297.88336756332319,297.88336756332319,297.88336756332319,297.88336756332319,297.88336756332319,297.88336756332319,297.88336756332319,297.88336756332319,297.88336756332319,297.88336756332319,297.88336756332319,297.88336756332319,297.88336756332319,297.88336756332319,1489.416837816616,1489.416837816616,1489.416837816616,4468.2505134498479,301.28658577267902,301.28658577267902,301.28658577267902,301.28658577267902,301.28658577267902,301.28658577267902,301.28658577267902,301.28658577267902,301.28658577267902,301.28658577267902,301.28658577267902,301.28658577267902,301.28658577267902,301.28658577267902,301.28658577267902,1506.4329288633951,1506.4329288633951,1506.4329288633951,4519.2987865901869,306.06566435426515,306.06566435426515,306.06566435426515,306.06566435426515,306.06566435426515,306.06566435426515,306.06566435426515,306.06566435426515,306.06566435426515,306.06566435426515,306.06566435426515,306.06566435426515,306.06566435426515,306.06566435426515,306.06566435426515,1530.3283217713258,1530.3283217713258,1530.3283217713258,4590.9849653139772,309.55055690951826,309.55055690951826,309.55055690951826,309.55055690951826,309.55055690951826,309.55055690951826,309.55055690951826,309.55055690951826,309.55055690951826,309.55055690951826,309.55055690951826,309.55055690951826,309.55055690951826,309.55055690951826,309.55055690951826,1547.7527845475913,1547.7527845475913,1547.7527845475913,4643.2583536427755,329.30100386748217,329.30100386748217,329.30100386748217,329.30100386748217,329.30100386748217,329.30100386748217,329.30100386748217,329.30100386748217,329.30100386748217,329.30100386748217,329.30100386748217,329.30100386748217,329.30100386748217,329.30100386748217,329.30100386748217,1646.5050193374109,1646.5050193374109,1646.5050193374109,4939.5150580122317,1544.0871784672679,1544.0871784672679,1544.0871784672679,1544.0871784672679,1544.0871784672679,1544.0871784672679,1544.0871784672679,1544.0871784672679,1544.0871784672679,1544.0871784672679,1544.0871784672679,1544.0871784672679,1544.0871784672679,1544.0871784672679,1544.0871784672679,7720.4358923363397,7720.4358923363397,7720.4358923363397,23161.307677009019,83.823689878506443,83.823689878506443,83.823689878506443,83.823689878506443,83.823689878506443,83.823689878506443,83.823689878506443,83.823689878506443,83.823689878506443,83.823689878506443,83.823689878506443,83.823689878506443,83.823689878506443,83.823689878506443,83.823689878506443,419.11844939253223,419.11844939253223,419.11844939253223,1257.3553481775966,98.50227507409555,98.50227507409555,98.50227507409555,98.50227507409555,98.50227507409555,98.50227507409555,98.50227507409555,98.50227507409555,98.50227507409555,98.50227507409555,98.50227507409555,98.50227507409555,98.50227507409555,98.50227507409555,98.50227507409555,492.51137537047777,492.51137537047777,492.51137537047777,1477.5341261114329,104.89017789069449,104.89017789069449,104.89017789069449,104.89017789069449,104.89017789069449,104.89017789069449,104.89017789069449,104.89017789069449,104.89017789069449,104.89017789069449,104.89017789069449,104.89017789069449,104.89017789069449,104.89017789069449,104.89017789069449,524.45088945347243,524.45088945347243,524.45088945347243,1573.3526683604177,115.89911678738635,115.89911678738635,115.89911678738635,115.89911678738635,115.89911678738635,115.89911678738635,115.89911678738635,115.89911678738635,115.89911678738635,115.89911678738635,115.89911678738635,115.89911678738635,115.89911678738635,115.89911678738635,115.89911678738635,579.49558393693178,579.49558393693178,579.49558393693178,1738.4867518107958,114.40407570265039,114.40407570265039,114.40407570265039,114.40407570265039,114.40407570265039,114.40407570265039,114.40407570265039,114.40407570265039,114.40407570265039,114.40407570265039,114.40407570265039,114.40407570265039,114.40407570265039,114.40407570265039,114.40407570265039,572.0203785132519,572.0203785132519,572.0203785132519,1716.0611355397552,517.51933533333317,517.51933533333317,517.51933533333317,517.51933533333317,517.51933533333317,517.51933533333317,517.51933533333317,517.51933533333317,517.51933533333317,517.51933533333317,517.51933533333317,517.51933533333317,517.51933533333317,517.51933533333317,517.51933533333317,2587.5966766666661,2587.5966766666661,2587.5966766666661,7762.7900299999983,129.58933619388651,129.58933619388651,129.58933619388651,129.58933619388651,129.58933619388651,129.58933619388651,129.58933619388651,129.58933619388651,129.58933619388651,129.58933619388651,129.58933619388651,129.58933619388651,129.58933619388651,129.58933619388651,129.58933619388651,647.94668096943258,647.94668096943258,647.94668096943258,1943.8400429082978,162.38181006805954,162.38181006805954,162.38181006805954,162.38181006805954,162.38181006805954,162.38181006805954,162.38181006805954,162.38181006805954,162.38181006805954,162.38181006805954,162.38181006805954,162.38181006805954,162.38181006805954,162.38181006805954,162.38181006805954,811.90905034029765,811.90905034029765,811.90905034029765,2435.7271510208934,176.6526088836718,176.6526088836718,176.6526088836718,176.6526088836718,176.6526088836718,176.6526088836718,176.6526088836718,176.6526088836718,176.6526088836718,176.6526088836718,176.6526088836718,176.6526088836718,176.6526088836718,176.6526088836718,176.6526088836718,883.26304441835896,883.26304441835896,883.26304441835896,2649.7891332550766,201.24696428930156,201.24696428930156,201.24696428930156,201.24696428930156,201.24696428930156,201.24696428930156,201.24696428930156,201.24696428930156,201.24696428930156,201.24696428930156,201.24696428930156,201.24696428930156,201.24696428930156,201.24696428930156,201.24696428930156,1006.2348214465078,1006.2348214465078,1006.2348214465078,3018.7044643395234,197.90699009841362,197.90699009841362,197.90699009841362,197.90699009841362,197.90699009841362,197.90699009841362,197.90699009841362,197.90699009841362,197.90699009841362,197.90699009841362,197.90699009841362,197.90699009841362,197.90699009841362,197.90699009841362,197.90699009841362,989.53495049206811,989.53495049206811,989.53495049206811,2968.6048514762042,867.77770953333311,867.77770953333311,867.77770953333311,867.77770953333311,867.77770953333311,867.77770953333311,867.77770953333311,867.77770953333311,867.77770953333311,867.77770953333311,867.77770953333311,867.77770953333311,867.77770953333311,867.77770953333311,867.77770953333311,4338.8885476666655,4338.8885476666655,4338.8885476666655,13016.665642999997,182.31186569157984,182.31186569157984,182.31186569157984,182.31186569157984,182.31186569157984,182.31186569157984,182.31186569157984,182.31186569157984,182.31186569157984,182.31186569157984,182.31186569157984,182.31186569157984,182.31186569157984,182.31186569157984,182.31186569157984,911.55932845789926,911.55932845789926,911.55932845789926,2734.677985373698,182.29884237160988,182.29884237160988,182.29884237160988,182.29884237160988,182.29884237160988,182.29884237160988,182.29884237160988,182.29884237160988,182.29884237160988,182.29884237160988,182.29884237160988,182.29884237160988,182.29884237160988,182.29884237160988,182.29884237160988,911.49421185804943,911.49421185804943,911.49421185804943,2734.4826355741475,182.59680568083948,182.59680568083948,182.59680568083948,182.59680568083948,182.59680568083948,182.59680568083948,182.59680568083948,182.59680568083948,182.59680568083948,182.59680568083948,182.59680568083948,182.59680568083948,182.59680568083948,182.59680568083948,182.59680568083948,912.98402840419737,912.98402840419737,912.98402840419737,2738.9520852125929,183.12614854249733,183.12614854249733,183.12614854249733,183.12614854249733,183.12614854249733,183.12614854249733,183.12614854249733,183.12614854249733,183.12614854249733,183.12614854249733,183.12614854249733,183.12614854249733,183.12614854249733,183.12614854249733,183.12614854249733,915.63074271248661,915.63074271248661,915.63074271248661,2746.8922281374603,184.23889193993759,184.23889193993759,184.23889193993759,184.23889193993759,184.23889193993759,184.23889193993759,184.23889193993759,184.23889193993759,184.23889193993759,184.23889193993759,184.23889193993759,184.23889193993759,184.23889193993759,184.23889193993759,184.23889193993759,921.19445969968797,921.19445969968797,921.19445969968797,2763.5833790990637,914.57255422646415,914.57255422646415,914.57255422646415,914.57255422646415,914.57255422646415,914.57255422646415,914.57255422646415,914.57255422646415,914.57255422646415,914.57255422646415,914.57255422646415,914.57255422646415,914.57255422646415,914.57255422646415,914.57255422646415,4572.8627711323206,4572.8627711323206,4572.8627711323206,13718.588313396962,379.79240033253762,379.79240033253762,379.79240033253762,379.79240033253762,379.79240033253762,379.79240033253762,379.79240033253762,379.79240033253762,379.79240033253762,379.79240033253762,379.79240033253762,379.79240033253762,379.79240033253762,379.79240033253762,379.79240033253762,1898.9620016626882,1898.9620016626882,1898.9620016626882,5696.886004988065,380.49290895004384,380.49290895004384,380.49290895004384,380.49290895004384,380.49290895004384,380.49290895004384,380.49290895004384,380.49290895004384,380.49290895004384,380.49290895004384,380.49290895004384,380.49290895004384,380.49290895004384,380.49290895004384,380.49290895004384,1902.4645447502191,1902.4645447502191,1902.4645447502191,5707.3936342506577,381.86836630385255,381.86836630385255,381.86836630385255,381.86836630385255,381.86836630385255,381.86836630385255,381.86836630385255,381.86836630385255,381.86836630385255,381.86836630385255,381.86836630385255,381.86836630385255,381.86836630385255,381.86836630385255,381.86836630385255,1909.3418315192628,1909.3418315192628,1909.3418315192628,5728.0254945577899,381.82875672286798,381.82875672286798,381.82875672286798,381.82875672286798,381.82875672286798,381.82875672286798,381.82875672286798,381.82875672286798,381.82875672286798,381.82875672286798,381.82875672286798,381.82875672286798,381.82875672286798,381.82875672286798,381.82875672286798,1909.14378361434,1909.14378361434,1909.14378361434,5727.4313508430205,382.29903432845134,382.29903432845134,382.29903432845134,382.29903432845134,382.29903432845134,382.29903432845134,382.29903432845134,382.29903432845134,382.29903432845134,382.29903432845134,382.29903432845134,382.29903432845134,382.29903432845134,382.29903432845134,382.29903432845134,1911.4951716422568,1911.4951716422568,1911.4951716422568,5734.4855149267687,1906.2814666377535,1906.2814666377535,1906.2814666377535,1906.2814666377535,1906.2814666377535,1906.2814666377535,1906.2814666377535,1906.2814666377535,1906.2814666377535,1906.2814666377535,1906.2814666377535,1906.2814666377535,1906.2814666377535,1906.2814666377535,1906.2814666377535,9531.4073331887666,9531.4073331887666,9531.4073331887666,28594.2219995663,840.84195603733326,840.84195603733326,840.84195603733326,840.84195603733326,840.84195603733326,840.84195603733326,840.84195603733326,840.84195603733326,840.84195603733326,840.84195603733326,840.84195603733326,840.84195603733326,840.84195603733326,840.84195603733326,840.84195603733326,4204.2097801866666,4204.2097801866666,4204.2097801866666,12612.629340560001,1385.4650857333331,1385.4650857333331,1385.4650857333331,1385.4650857333331,1385.4650857333331,1385.4650857333331,1385.4650857333331,1385.4650857333331,1385.4650857333331,1385.4650857333331,1385.4650857333331,1385.4650857333331,1385.4650857333331,1385.4650857333331,1385.4650857333331,6927.3254286666652,6927.3254286666652,6927.3254286666652,20781.976285999997,{"$error":"#REF!"},{"$error":"#REF!"},{"$error":"#REF!"},30.228721984564771,1.5114360992282387,0.05,-20,2.5469124024850864,0.3,9.0686165953694307,-10,1.174427337708005,1.1124169690319836,0,0,4.8337567092250744,8.7133874893089214,0.43566937446544607,0.05,-10,1.1848447204778936,0.3,2.6140162467926764,-5,0.60377187490695139,0.42347063198041363,0,0,2.2120872273652585,18.982737030280152,0.94913685151400762,0.05,-20,1.599385127833731,0.3,5.694821109084045,-10,0.73750538723623993,1.0250677996351283,0,0,3.3619583147050993,11.773445001716103,0.58867225008580515,0.05,-10,1.6009507403677457,0.3,3.5320335005148311,-5,0.81581072476369321,0.5721894270834027,0,0,2.9889508922148416,214.95615743714779,21.495615743714779,0.1,-20,18.973502025858931,0.3,64.486847231144338,-10,8.3513417415316855,5.3690917393509201,0.53690917393509208,0.1,33.230844680676633,76.951486324954999,7.6951486324955001,0.1,-20,6.7922649859718414,0.3,23.085445897486498,-10,2.9896708588420347,4.0268188045131899,0.40268188045131903,0.1,14.211436529778386,1,29.7,5.94,0.2,-20,2.8598458074762387,0.3,8.91,-10,1.153885762942219,2.29284,0,0,6.3065715704184573,1,20.493629096845126,2.0493629096845125,0.1,-8,3.4878926078445849,0.3,6.148088729053538,-4,1.7338337694890824,1.3423327058433556,0,0,6.5640590831770229,1,20.493629096845126,2.0493629096845125,0.1,-8,3.4878926078445849,0.3,6.148088729053538,-4,1.7338337694890824,1.6415396906572945,0,0,6.8632660679909616,1,8.605256623343255,2.0493629096845125,0.1,-8,1.6485020576629736,0.3,2.5815769870029763,-4,0.72803525711163508,0.57655219376399813,0,0,2.9530895085386071,4.4344918472375765,1.0246814548422563,0.05,-2,2.9359700319722006,0.3,1.3303475541712728,-1,1.396864931879835,0.57655219376399813,0,0,4.9093871576160337,50.417977908562406,5.0417977908562408,0.1,-20,4.4502358871367846,0.3,15.125393372568722,-10,1.9588076398998477,3.0704548546314503,0,0,9.4794983816680833,13.45950394933176,1.3459503949331761,0.1,-20,1.1880279611174787,0.3,4.0378511847995275,-10,0.52292020146122853,0.96235453237722079,0,0,2.673302694955928,49.466118740775265,4.9466118740775267,0.1,-20,4.3662182806459242,0.3,14.839835622232579,-10,1.9218266048144736,2.3892135351794455,0,0,8.6772584206398431,63.178764439759462,6.3178764439759467,0.1,-20,5.5765902655733015,0.3,18.953629331927839,-10,2.4545817106841277,1.3772970647867564,0,0,9.4084690410441851,1.7115582568285386,1.633760154245423,0.48837209302325579,-5,-10,0.6069062372267946,0.3,0.51346747704856155,-2.5,0.22357749590799603,0.80904122099808395,0,0,1.6395249541328747,0.62238482066492307,1.633760154245423,0.72413793103448276,-10,-10,0.29218109603621534,0.3,0.18671544619947691,-5,4.3126562493353678E-2,1.7115582568285386,0,0,2.0468659153581075,0.5,0.5,0.5,0.5,0.5,0.5,0.5,0.5,0.5,0.5,0.5,0.5,0.5,0.5,0.5,0.5,0.5,0.5,0.5,0.5,0.5,0.5,0.5,0.5,0.5,0.5,0.5,0.5,0.5,0.5,0.5,0.5,0.5,0.5,0.5,0.5,0.5,0.5,0.5,0.5,0.5,0.5,0.5,0.5,0.5,0.5,0.5,0.5,0.5,0.5,0.5,0.5,0.5,0.5,0.5,0.5,0.5,0.5,0.5,0.5,702.33896547966503,null,null,null,null,1989.613292,{"$error":"#REF!"},{"$error":"#REF!"},37000,31000,185000,155000,2000000,53400,{"$error":"#REF!"},0.15,0.15,0.3,230,851.66666666666652,0.05,2719.3331373123679,608.45710871973961,2939.736148321093,3009.6563422188742,3066.2514016676128,3110.6318378985147,3143.8326148927604,2994.1262998978668,3180.4850976051539,3185.6697313189861,3183.1486060450966,3173.6438470528033,3531.3661624067836,3492.070944747933,3448.5104957495478,3401.1801327221006,3350.5376716252745,15270.108344998855,15717.073581919907,17223.665407251639,48210.847334170401,2719.44150137222,608.48135542995033,2939.8532953302461,3009.7762755126396,3066.3735902460744,3110.7557950150722,3143.9578950436071,3166.9440222916123,3180.6118383390294,3185.7966786579123,3183.2754529184463,3173.7703151662809,3531.5068855748768,3492.2101020213363,3448.6479171609349,3401.3156680422912,3350.6711888688237,15270.716851147641,15890.398307373282,17224.351761668262,48385.466920189181,2722.7632050843486,609.22459435458711,2943.4442244233278,3013.4526131069583,3070.1190595022999,3114.555475598976,3147.7981308440362,3170.8123348512468,3184.4968456631141,3189.6880190850716,3187.163713755589,3177.6469658064993,3535.8204990595946,3496.4757158444554,3452.8603212823245,3405.4702574588887,3354.7639178062068,15289.369503475598,15909.807879161523,17245.39071145147,48444.568094088587,2740.9914741817856,613.30321192439101,2963.1499018380568,3033.6269804707877,3090.6727956014497,3135.4067032129306,3168.8719103362409,3192.0401891094548,3205.8163145520321,3211.0422416778333,3208.5010367087707,3198.9205763361301,3559.4919984454905,3519.8838110185247,3475.9764214906231,3428.2690921648827,3377.22328531123,15391.728291459465,16016.320358384221,17360.844608430751,48768.893258274438,2767.00668369293,619.124175507225,2991.2736542230418,3062.4196426220506,3120.0068891458186,3165.1653737724878,3198.9482047858564,3222.336377576245,3236.2432545344745,3241.5187818105674,3238.9534578392008,3229.2820677113405,3593.2757336249088,3553.2916182521708,3508.9674963307489,3460.8073687459409,3409.2770775834279,15537.813764549255,16168.333939471828,17525.619294537199,49231.766998558283,13669.536001643653,3058.5904459358935,14777.457224135764,15128.93185393131,15413.423736163255,15636.515185497981,15803.408755902501,15746.259223726425,15987.653350693805,16013.71545255037,16001.042267267105,15953.263772073053,17751.461279111652,17553.932191884418,17334.962652014179,17097.042519134106,16842.473141194965,76759.736755630816,79701.934066310758,86579.871783339317,243041.54260528088,3353.6711023594989,1283.7829557777338,3680.8523020512398,3817.1747635647434,3932.1675296460053,4027.5528786320792,4104.9374290080386,4165.8192492379158,4211.59455273613,4243.5640013677612,4262.9386395792917,4270.8454800442187,5056.4641317782061,5006.9761967412687,4950.7354933137931,4888.497359834646,4820.9605100580184,19562.684902902107,21154.761922965321,24723.633691725936,65441.080517593356,3578.5126139550971,1369.8521293871108,3927.6291535352948,4073.0911363004693,4195.7934083407617,4297.5737153878745,4380.1463890918594,4445.1099335193003,4493.9541689783882,4528.0669581272678,4548.7405379490938,4557.1774798783026,5395.4666767558756,5342.6609023185192,5282.6496309415124,5216.2388414137449,5144.174091634789,20874.233802656261,22573.04907845235,26381.190143064439,69828.473024173043,3707.8828132004996,1419.3749513060427,4069.6205955029463,4220.3413121956119,4347.4795103018942,4452.9393736402417,4538.4972102880856,4605.8093133467,4656.4193630294649,4691.7653959321315,4713.1863659210994,4721.9283197298664,5590.5233034313842,5535.8084974221883,5473.6277017280845,5404.8160328406211,5330.1460020292288,21628.878001928781,23389.108757959264,27334.921537451504,72352.908297339556,3922.8307843034108,1501.6568845244726,4305.5387013955442,4464.9967795120738,4599.5052476914379,4711.0786763174119,4801.5963470069173,4872.8105690676784,4926.3545106895299,4963.7495722270596,4986.4123274261192,4995.6610570229395,5914.6089614780813,5856.722308586589,5790.9368585521624,5718.1361400208152,5639.1374471578702,22882.715751923384,24744.988036433326,28919.54171579552,76547.245504152233,4308.5089879526404,1649.294231523558,4728.8433309862239,4903.9787371617203,5051.7115800937781,5174.2544952700327,5273.6715283204476,5351.8872691182823,5410.6954529051654,5451.7670584875868,5476.6579318991098,5486.815962358769,6496.1114235975556,6432.5335692421131,6360.2803372434337,6280.3221215139165,6193.5565695562773,25132.459671832203,27177.823674768915,31762.804021153297,84073.08736775443,18871.406301771145,7223.9611525189184,20712.484083471249,21479.582728734618,22126.657276073878,22663.399139247642,23098.848903715349,23441.43633428988,23699.018048338679,23878.912986141811,23987.935802774715,24032.428299034094,28453.174497041102,28174.701474310677,27858.230021778989,27508.010495623745,27127.974620436184,110080.97213124274,119039.73147057919,139122.09110919069,368242.79471101257,6073.0042396718673,1892.2400644974734,6620.5884503723328,6826.8311057836181,6998.4189313136176,7138.1847165305935,7248.7700439007986,7159.9455491357821,7392.0796503412839,7429.2337326867473,7446.0872456243887,7444.4893270970224,8587.8302941849906,8499.0471414892017,8399.2459890633399,8289.6774925567461,8171.4981816832933,34832.793247900961,36871.835504885225,41947.299098977572,113651.92785176374,6297.9541153273167,1978.3334848170612,6867.4824488655413,7082.8674118131094,7262.1669985868357,7408.3295104029467,7524.1042841354665,7612.0539558109122,7674.5660073174176,7713.8636367851796,7732.0159908675396,7730.9477950445835,8926.9735623307533,8834.8710043398551,8731.2975481024478,8617.5545094560366,8494.8452805036122,36144.950653803899,38463.447385825639,43605.541904732709,118213.93994436224,6430.6460182848477,2028.5995456606297,7013.0648199262741,7233.7939253025706,7417.5985698041941,7567.4948492392177,7686.2953411321214,7776.6216481979463,7840.9162086925789,7881.453415017203,7900.3500796766884,7899.5752855363662,9126.3438024909792,9032.2842132666447,8926.48802301041,8810.2862902995093,8684.9099198354361,36918.247505404375,39298.916637120783,44580.312248902985,120797.47639142815,6663.8222584851965,2114.9600964488636,7268.6886032336006,7498.6237599828619,7690.1780432928881,7846.4853795303425,7970.4682573431583,8064.8507581771337,8132.1708252415619,8174.7918139048925,8194.913364134889,8194.5816333590701,9474.1009599235713,9376.6061196051141,9266.9132800427851,9146.405232185698,9016.3607324691002,38274.444043382849,40761.308394817548,46280.38632422626,125316.13876242668,7075.5156716455704,2268.4184070307829,7720.1169852092662,7966.3983797837709,8171.7184692395967,8339.4198690425201,8472.6197331063049,8574.2236466945269,8646.93870743964,8693.2858402981547,8715.6113897383111,8716.0980300701085,10089.387157222463,9985.8251874942835,9869.2478335741835,9741.1294902598565,9602.8336471397051,40670.273436381452,43346.157614240743,49288.423315690496,133304.85436631268,32540.942303414799,10282.551598454811,35489.941307607012,36608.514582665928,37540.081012237133,38299.914324745623,38902.257659617848,39187.695558016305,39686.671399032486,39892.628438692183,39988.97807004182,39985.692071107143,46204.635776152754,45728.633666195092,45193.192673793164,44605.053014757854,43970.447761631149,186840.70888687353,198741.66553688998,225701.96289253002,611284.3373162935,601.12611646276412,601.12611646276412,818.42505666080524,779.45243491505255,1681.767848997416,1789.3946603759355,2377.5057103807553,2434.5505583346057,2929.3409576397889,2944.2788309413222,3358.0173703055657,3725.6758700230071,null,null,null,null,null,7446.5457113299653,15391.86358724429,0,22838.409298574254,655.02531420145635,655.02531420145635,891.80808354181011,1074.8484313163467,1832.561393581836,1949.8384241566378,2590.6816927565269,2652.8413934103914,3191.9965355557042,3208.2737939959379,3659.1096657411686,3637.4986326484559,null,null,null,null,null,8339.7380253531574,16349.720021351657,0,24689.458046704814,779.31122765060718,779.31122765060718,1061.0216694616993,1278.792486926468,2180.2755380811705,2319.8049649459736,3082.2432151272624,3156.1972312190114,3797.652830887906,3817.0185713910946,4353.3970121343027,4327.6854550919443,null,null,null,null,null,9922.1378745425736,19451.951100724258,0,29374.088975266837,888.47017465988995,888.47017465988995,1209.6400956861403,1457.9143016308483,2485.6690361891438,2644.7424972895205,3513.9762786994488,3598.2891119585315,4329.5940751790795,4351.672395414701,4963.1819310434812,4933.8689290416114,null,null,null,null,null,11311.942209495102,22176.606442637403,0,33488.548652132507,1317.3257821233258,1317.3257821233258,1793.5211902273186,2161.6348555536301,3685.4764522073742,3921.3330712991019,5210.1372468384607,5335.1470357810913,6419.4455413712858,6452.1808444820444,7358.8598757803384,7315.3977828594607,null,null,null,null,null,16772.102816125887,32881.031080274217,0,49653.133896400104,4241.2586150980433,null,5774.4160955777734,6752.6425103423462,11865.75026905694,12625.113618067167,16774.544143802454,17177.025330703633,20668.029940633765,20773.424436225101,23692.565855004854,23940.126669664482,0,0,0,0,0,53792.466636846686,106251.17223223182,0,160043.63886907851,4084.1708602453227,1582.4114209437528,4542.04704511206,4761.8316475988568,4950.3849567759989,5110.1830037467025,5243.5368263873725,5352.6025684052411,5439.3909907153156,5505.7764282058224,6624.5435597630703,6604.2401758251444,6570.8488067752714,6525.6619668053718,6469.8787514884452,6404.6108039186947,6330.8879244814661,24607.983479620991,29526.553722914596,32301.888253469249,86436.425456004828,4107.2117701362195,1591.3386182153431,4567.6710702245537,4788.6955907741813,4978.3126262142641,5139.0121762138524,5273.118316403471,5382.7993544067449,5470.0773948759143,5536.8373467870033,6661.9160195478835,6641.4980937712826,6607.9183468225046,6562.476584631273,6506.3786674858657,6440.7425098313333,6366.6037216870172,24746.809779830321,29693.128209388829,32484.119830457996,86924.057819677153,4128.4228506089103,1599.5568483381953,4591.2601238369762,4813.4260924429,5004.0223766830941,5165.5518354572314,5300.3505467365922,5410.598016044999,5498.3267908915259,5565.4315145824967,6696.320487761669,6675.7971166632869,6642.0439521371727,6596.3675127662364,6539.979886323742,6474.0047605565705,6399.4830937370152,24874.610975156793,29846.473925943981,32651.879205520738,87372.964106621483,4153.573604730781,1609.3015044580436,4619.2305277085516,4842.7499530345949,5034.5073684028093,5197.0208803730648,5332.6407985311807,5443.55990616092,5531.8231332487549,5599.3366654525753,6737.1151244070152,6716.4667229328879,6682.5079308408604,6636.5532261523076,6579.8220807972675,6513.4450281378231,6438.4693680654564,25026.149528050202,30028.301552202156,32850.797633993716,87905.248714246074,4249.797542268715,1646.5834554190913,4726.2421259297316,4954.9397234197613,5151.1394950129397,5317.4178830906239,5456.1796457844639,5569.6683655843526,5659.9763464332682,5729.0539337192813,6893.1907851774076,6872.0640316424324,6837.3185317657135,6790.2992154789717,6732.2538056599815,6664.3390262194889,6587.6264393659394,25605.918873237522,30723.953462556743,33611.837018490092,89941.709354284365,20723.176627989949,8029.1918473744254,23046.450892811874,24161.643007270293,25118.366823089105,25929.185778881474,26605.826133843082,27159.228210602258,27599.59465616478,27936.435888747179,33613.08597665705,33510.066140835028,33340.637568341524,33111.358505834156,32828.313191755304,32497.142128663909,32123.070547336894,124861.47263589583,149818.41087300627,163900.5219419318,438580.40545083396,4944.5081602311993,4944.5081602311993,5641.5494183511764,6036.7530252106226,6381.5255642549937,6679.7738410202846,6935.1469404876234,7151.0519129285485,7330.6685502606151,7476.9633039625769,10939.340141515435,10867.73819235146,10778.149716483113,10672.450079150183,10552.37682515399,10419.538552084525,10275.423250996391,31674.748789324698,43765.762101018641,52697.938423868196,128138.44931421152,5000.997518280471,5000.997518280471,5706.0022404961792,6105.7209168684658,6454.4323672812679,6756.088031221946,7014.3786832515389,7232.7502980555855,7414.4189956146865,7562.3851181272157,11064.318457265234,10991.898479692311,10901.28648534115,10794.379264874471,10672.934213963939,10538.57830789097,10392.816537512113,32036.622239119399,44265.771348755028,53299.994809582655,129602.38839745706,5080.324515414728,5080.324515414728,5796.5121881066998,6202.571295998735,6556.8140893339169,6863.2546862607614,7125.6424052731818,7347.4778819164812,7532.0282510217057,7682.341446919816,11239.823275122808,11166.254554857571,11074.205251771515,10965.602243866311,10842.2308030365,10705.743712027515,10557.669834214319,32544.794664973298,44967.925409838383,54145.451844916162,131658.17191972784,5138.1695700679229,5138.1695700679229,5862.5118232287423,6273.1943584662495,6631.470593696492,6941.400352196265,7206.7756425538919,7431.1369588815496,7617.7886359159738,7769.8133120562306,11367.800964278093,11293.394583617031,11200.297198474082,11090.457626465795,10965.68146676108,10827.640320845776,10677.880459877601,32915.352770141639,45479.934454748873,54761.957072424339,133157.24429731484,5466.0034029894823,5466.0034029894823,6236.5613160195435,6673.4468848091483,7054.5824417956173,7384.2868416885694,7666.5940369617947,7905.2704180781857,8103.8311483014922,8265.5555495282952,12093.107848604885,12013.954071301245,11914.916735716764,11798.069001092024,11665.331670364163,11518.482999249627,11359.167916607763,35015.471521274674,48381.719035814109,58255.968323030349,141653.1588801191,25630.003166983803,25630.003166983803,29243.136986202338,31291.686481353223,33078.825056362286,34624.80375238783,35948.537708528034,37067.68746986035,37998.735581114473,38757.05873059413,56704.39068678645,56333.239881819623,55868.855387786622,55320.958215448787,54698.554979279674,54009.983892098418,53262.957999208185,164186.98998483369,226861.11235017504,273161.31047382171,664209.41280883038,9028.6790204765221,6526.9195811749523,10183.596463463236,10798.58467280948,11331.910521030994,11789.956844766988,12178.683766874996,12503.65448133379,12770.05954097593,12982.7397321684,17563.883701278504,17471.978368176606,17348.998523258386,17198.112045955553,17022.255576642434,16824.149356003218,16606.311175477858,56282.732268945692,73292.315823933226,84999.826677337463,214574.87477021638,9108.2092884166905,6592.3361364958146,10273.673310720733,10894.416507642647,11432.744993495533,11895.100207435798,12287.49699965501,12615.54965246233,12884.4963904906,13099.222464914219,17726.234476813115,17633.396573463593,17509.204832163654,17356.855849505744,17179.312881449805,16979.320817722302,16759.420259199131,56783.432018949723,73958.899558143865,85784.114640040643,216526.44621713422,9208.7473660236392,6679.8813637529238,10387.772311943676,11015.997388441636,11560.836466017012,12028.806521717994,12425.992952009774,12758.07589796148,13030.355041913232,13247.772961502313,17936.143762884476,17842.051671520858,17716.249203908686,17561.969756632549,17382.210689360243,17179.748472584084,16957.152927951334,57419.405640130084,74814.399335782364,86797.331050436886,219031.13602634936,9291.743174798703,6747.4710745259663,10481.742350937293,11115.944311500843,11665.977962099301,12138.42123256933,12539.416441085072,12874.69686504247,13149.611769164729,13369.149977508805,18104.91608868511,18009.861306549919,17882.80512931494,17727.010852618103,17545.503547558346,17341.085348983601,17116.349827943057,57941.502298191837,75508.236006951032,87612.754706418054,221062.49301156096,9715.8009452581973,7112.5868584085738,10962.803441949276,11628.38660822891,12205.721936808557,12701.704724779192,13122.773682746258,13474.938783662539,13763.80749473476,13994.609483247576,18986.298633782291,18886.018102943679,18752.23526748248,18588.368216570998,18397.585476024145,18182.822025469115,17946.794355973703,60621.390394512193,79105.672498370841,91867.805341520434,231594.86823440343,46353.179794973752,33659.195014358229,52289.587879014216,55453.329488623516,58197.191879451391,60553.989531269304,62554.363842371116,64226.915680462611,65598.330237279253,66693.494619341305,90317.476663443493,89843.306022654651,89209.492956128146,88432.316721282943,87526.868171034977,86507.126020762327,85386.028546545072,289048.46262072952,376679.52322318131,437061.83241575345,1102789.8182596643,280.41693303472169,null,366.97484412339821,431.93595734483301,489.8781553748309,541.32260221524893,586.75674310856414,626.6363340705085,661.38735459365432,691.40781004640837,717.06942993542282,738.71926786211282,756.68120868482004,771.25738809615325,782.72952953932179,791.36020311693619,797.39401089001774,2416.8683021668753,3435.2201965081067,3899.422340327249,9751.5108390022306,329.52147433804362,null,431.23676723738595,507.57339060640788,575.66199821865803,636.11501646510112,689.50524839732839,736.36825865695073,777.20462111770382,812.4820369072354,842.63733005668098,868.07832762974556,889.18563080796798,906.3142830539565,919.79534113863144,929.93735450083352,937.02775810713797,2840.0924209248815,4036.7705743683168,4582.2603676085273,11459.123362901726,350.89104323856321,null,459.20260414810269,540.48968100727814,612.99385575254564,677.36727081457366,734.21987569891996,784.12196657882839,827.60657969761417,865.17174674481726,897.28261992426542,924.37347401010402,946.84959228748585,965.0890428967042,979.44435174203443,990.24407778827015,997.79429624792135,3024.2732874214203,4298.5563869556299,4879.4213609624157,12202.251035339466,387.71944921605478,null,507.39904648359362,597.21775595345946,677.33173788541603,748.46158150196311,811.28125466549341,866.42091001866027,914.46952959065163,955.97741689043789,991.4585450152091,1021.3927688358289,1046.2279088798471,1066.3817141150566,1082.2437104415167,1094.1769413261934,1102.5196066607616,3341.6913764899255,4749.7191703507879,5391.5498814233752,13482.96042826409,382.71806074997556,null,500.85385061087254,589.513943306447,668.59449463280373,738.8067985691074,800.81612912682272,855.24451029226304,902.67332651875734,943.64578267313107,978.66922185471037,1008.2173090446809,1032.7320881080448,1052.6259192582431,1068.2833037045498,1080.0626018333887,1088.2976509256844,3298.5852162460533,4688.4501503835427,5322.0015638299101,13309.036930459508,1731.266960577359,null,2265.667112603353,2666.7307282184252,3024.4602418642544,3342.073269565994,3622.5792509971288,3868.7919796172109,4083.3414115183814,4268.6847932620303,4427.1171467862887,4560.7811473824722,4671.6764287681663,4761.6683474201136,4832.496236566054,4885.7811785656222,4923.033322831523,14921.510603249155,21208.716478566384,24074.655514151476,60204.882595967014,292.37232965580449,null,519.76077062121817,711.57067770155425,883.93437873201401,1038.2689502364403,1175.9006047750665,1298.0701313298853,1405.9380235988149,1500.5893135851479,1583.0381269206314,1654.2319754631999,1715.0558018613044,1766.3357899732782,1808.8429542699143,1843.2965206290623,1870.3671102504466,4329.4353820662927,7441.8675708976798,9003.8981769840066,20775.201129947975,366.35690480189879,null,651.28580186233364,891.63304659311291,1107.6132389870324,1301.0020456051295,1473.4612759943216,1626.5456997577742,1761.709472559641,1880.3121928503142,1983.6246099102218,2072.8340026858509,2149.0492478277242,2213.3055943332151,2266.5691612444698,2309.7411739502681,2343.6619537878405,5424.9954090419305,9325.0259777638021,11282.327131143516,26032.348517949249,398.55389583769892,null,708.52354693948541,969.99352194406856,1204.9549652091234,1415.3395963674291,1602.9552718027007,1769.493400832873,1916.5359364592589,2045.5619643823763,2157.9539126927275,2255.0034034216337,2337.9167659797763,2407.8202314157793,2465.7648253908033,2512.7309767844954,2549.6328579198539,5901.766902262807,10144.548617788869,12273.865657490709,28320.181177542381,454.04232719726957,null,807.16732037032205,1105.0402986127374,1372.714110400387,1612.3894178939458,1826.1257752171425,2015.8500771537892,2183.3645231798778,2330.3541238312509,2458.3937749349202,2568.9549238386221,2663.4118504545909,2743.0475846857312,2809.0594806217191,2862.5644667753991,2904.6039905728985,6723.4369224945349,11556.917422938461,13982.687373110337,32263.041718543333,446.50686121016753,null,793.77125237354187,1086.7006128923013,1349.9320042633021,1585.629565587876,1795.8186698151817,1982.3942322213195,2147.1285422672022,2291.678645387577,2417.5932998156109,2526.3195321770568,2619.2088142913453,2697.5228823898124,2762.4392188002375,2815.0562150482401,2856.3980342866835,6611.8521049322026,11365.114251868767,13750.625164816318,31727.591521617287,1957.8323187028393,null,3480.5086921669008,4764.9381577437744,5919.1486975918597,6952.6295756908212,7874.2615976044126,8692.3535412956408,9414.6764980647949,10048.496240036666,10600.603724274113,11077.343837586362,11484.642480414741,11828.032082797816,12112.675640327143,12343.389353187466,12524.663946817722,28991.486720797766,49833.473841257575,60293.403503544883,139118.36406560021,572.78926269052613,null,886.73561474461644,1143.5066350463871,1373.8125341068449,1579.5915524516893,1762.6573478836308,1924.7064654003939,2067.3253781924691,2191.9971236315564,2300.1075568560541,2392.9512433253126,2471.7370105461246,2537.5931780694314,2591.572483809236,2634.6567237459985,2667.7611211404642,6746.3036842331685,10877.087767405787,12903.320517311255,30526.711968950207,695.87837913994235,null,1082.5225690997195,1399.2064371995207,1683.2752372056905,1937.1170620702305,2162.9665243916497,2362.9139584147251,2538.9140936773447,2692.7942297575496,2826.2619399669029,2940.9123303155966,3038.2348786356924,3119.6198773871715,3186.3645023831014,3239.6785284511016,3280.6897118949782,8265.0878299668111,13361.79655213212,15864.587498752044,37491.471880850979,749.44493907626213,null,1167.7261510875881,1510.4832029513468,1817.9488209616691,2092.7068671820025,2337.1751475016208,2553.6153674117013,2744.1425161568732,2910.7337111271936,3055.2365326169929,3179.3768774317377,3284.7663582672621,3372.9092743124834,3445.2091771328378,3502.9750545727657,3547.4271541677754,8926.0401896842268,14443.105004744499,17153.287018453124,40522.432212881846,841.76177641332436,null,1314.5663668539157,1702.2580545661967,2050.045848285803,2360.8509993959087,2637.4070298826359,2882.2709871724496,3097.8340527705295,3286.3315407216887,3449.8523199501292,3590.3476926744511,3709.6397593344382,3809.4292988007878,3891.3031910632358,3956.7414081015922,4007.1235972336599,10065.12829898446,16306.636593289248,19374.237254533713,45746.002146807426,829.22492196014309,null,1294.6251029844143,1676.2145561987481,2018.5264988961057,2324.4363641569835,2596.6347989420046,2837.6387425135827,3049.8018687859594,3235.3244280607082,3396.2625216703213,3534.5368412217376,3651.9409023993903,3750.1488016480553,3830.7225225047873,3895.1188168816288,3944.6956852123676,9910.4373211782568,16053.56440225231,19072.626728646232,45036.628452076795,3689.0992792801981,null,5746.1758047702533,7431.6688859621991,8943.6089394561131,10294.702845256816,11496.840848601541,12561.145520912851,13498.017909583177,14317.181033298697,15027.720871060403,15638.124984968836,16156.318909182908,16589.70043021793,16945.171876893197,17229.170531753087,17447.697269649245,43912.997324046926,71042.19031982396,84368.05901769636,199323.24666156725,43107.963914685315,null,45707.246653889277,46006.218469612591,46173.072228840982,46219.712662996339,46157.210306985333,45995.853951630714,45745.199992235073,45414.118849943705,45010.838632786137,44542.986194020108,44017.625736649527,43441.295104711004,42820.039894098503,42159.445508295546,41464.667277389715,230263.46032232454,226708.99762061573,213903.07352114428,670875.5314640844,43104.884527585717,null,45703.98158885436,46002.932047736183,46169.773887883573,46216.410990312303,46153.913099113168,45992.568270136362,45741.932216030116,45410.874724287409,45007.623315168668,44539.804297112729,44014.481368497116,43438.191906332162,42816.981074648924,42156.433877941548,41461.705278030247,230247.01161389955,226692.80282273528,213887.79350545001,670827.6079420849,43175.338480395898,null,45778.683706662785,46078.122793266361,46245.2373326046,46291.95066231591,46229.350619735895,46067.742076307899,45816.696363275012,45485.097765596023,45081.187251225987,44612.603593631327,44086.422036643809,43509.190642467736,42886.964455817179,42225.337609749055,41529.473491751334,230623.34511458554,227063.32705003626,214237.38823642911,671924.06040105084,43300.502538655528,null,45911.394787482954,46211.70193934322,46379.300938900509,46426.149689204394,46363.368170910406,46201.291128986355,45949.517641687933,45616.957749259214,45211.876309983163,44741.934241909687,44214.227299797887,43635.322528495119,43011.292526115081,42347.747642944705,41649.866234983063,231291.91552584147,227721.57707182635,214858.45623233586,673871.94883000362,43563.612688075569,null,46190.369700807198,46492.501631941726,46661.119026095628,46708.252447037718,46645.089444610981,46482.027561583054,46228.724203821723,45894.143552328838,45486.600685776735,45013.803072836563,44482.889584743803,43900.467170181786,43272.645326655736,42605.068495052386,41902.946497010693,232697.33225049326,229105.29907634691,216164.01707364444,677966.64840048447,216252.30214939805,null,229291.67643769659,230791.4768819001,231628.5034143253,231862.47645186668,231548.9316413558,230739.48298864436,229482.07041704986,227821.1926414152,225798.12619494071,223451.13139951043,220815.64602633214,217924.46735218784,214807.92327733542,211494.03313398326,208008.65877916507,1155123.0648271444,1137292.0036415604,1073050.7285690038,3365465.7970377081,32148.148670562216,null,34965.893639663358,35984.417722632861,36826.651771306708,37507.075734341255,38039.190268308324,38435.57716925734,36605.311589768899,38867.238999282134,38923.57880180038,38886.418580044134,38764.535343575786,38566.082214480732,38298.627942706371,37969.194072746148,37584.28989574653,183323.22913625251,191718.12514015287,191182.72946925557,566224.08374566084,32207.44436779281,null,35030.386530495147,36050.789231616654,36894.576740045195,37576.255711998412,38109.351705352819,38506.469722668931,36672.828307303746,38938.927731952484,38995.371450497325,38958.142688518725,38836.03464434648,38637.215478103295,38369.267899927843,38039.226405211033,37653.612291170371,183661.35991950822,192071.7399009412,191535.35671875902,567268.45653920854,32323.8722043202,null,35157.019121081634,36181.110512231498,37027.948258144679,37712.091455666508,38247.114556693872,38645.668130059516,36805.398219104303,39079.689447186902,39136.337206138072,39098.973864583262,38976.424407697756,38776.886522976893,38507.970331568009,38176.735758109666,37789.727673888716,184325.2839038182,192766.06686707208,192227.74469424103,569319.09546513134,32320.51938657778,null,35153.372433063116,36177.35759956995,37024.107506606604,37708.179740865227,38243.147346222569,38641.659579321691,36801.580551734944,39075.635877264387,39132.277760384532,39094.918294370174,38972.38154901845,38772.864361513435,38503.976063636983,38172.775847731718,37785.807906212824,184306.16462632746,192746.07206307573,192207.8057281134,569260.04241751658,32360.326803386259,null,35196.668920100623,36221.91527315713,37069.708075763592,37754.622844395832,38290.249340106719,38689.252398937213,36846.907046606873,39123.763201761176,39180.474847592217,39143.069367965967,39020.381700803911,38820.61877888639,38551.399305993218,38219.791168888296,37832.34662011086,184533.16445352393,192983.46686286345,192444.53757468268,569961.16889107018,161360.31143263928,null,175503.34064440388,180615.59033920808,184842.99235186679,188258.22548726725,190929.05321668432,192918.62700024468,183732.02571451876,195085.25525744708,195368.0400664125,195181.52279548228,194569.75764544235,193573.66735596073,192231.24154383244,190577.72325268685,188645.7843871293,920149.20203943038,962285.47083410539,959598.17418505182,2842032.8470585872,75256.112585247523,null,80673.140293552628,81990.636192245453,82999.724000147689,83726.788397337601,84196.400575293665,84431.431120888054,82350.511582003965,84281.357849225838,83934.417434586518,83429.404774064242,82782.161080225313,82007.377319191728,81118.667836804874,80128.639581041702,79048.957173136238,413586.68945857708,418427.12276076863,405085.80299039982,1237099.6152097457,75312.328895378523,null,80734.368119349499,82053.721279352845,83064.350627928769,83792.666702310715,84263.264804465987,84499.037992805301,82414.760523333855,84349.802456239893,84002.994765665993,83497.946985631454,82850.516012843596,82075.407384435457,81186.248974576767,80195.660283152582,79115.317569200619,413908.37153340783,418764.54272367654,405423.15022420906,1238096.0644812933,75499.21068471609,null,80935.702827744419,82259.233305497852,83273.185590749286,84004.042117982419,84476.465176429774,84713.410206367407,82622.094582379315,84564.787212782918,84217.524457364052,83711.577458214597,83062.846444341558,82286.077165444629,81394.934787385195,80402.073367858713,79319.201165640057,414948.62901840376,419829.3939171083,406465.13293067017,1241243.1558661824,75621.021925233305,null,81064.767220546069,82389.059538913163,83403.408445507113,84134.329430069629,84606.515517132968,84842.950708308053,82751.098193422877,84692.593626523594,84344.154070367687,83836.852536279854,83186.608848816337,82408.186890008554,81515.268589752057,80520.523490676424,79435.674141195894,415598.08015216887,420467.64913490205,407066.26196044922,1243131.9912475201,75923.939491461831,null,81387.038620907813,82714.416905098857,83730.82710185922,84462.875291433549,84935.338784717693,85171.279960520274,83075.631250428589,85017.906754090014,84667.075533368945,84156.87244080253,83503.271285547715,82721.085949068176,81824.044632648962,80824.859663940675,79735.29311712156,417230.49670401716,422088.76593921031,408608.55464832706,1247927.8172915548,377612.61358203733,null,404795.0170821005,411407.06722110818,416471.49576619209,420120.70193913393,422477.98485804012,423658.10998888907,413214.09613156866,422906.4478988623,421166.16626135318,418632.65419499273,415385.40367177449,411498.13470814854,407039.16482116783,402071.75638667011,396654.44316629437,2075272.266866575,2099577.4744756659,2032648.9027540553,6207498.6440962953,29540.976735672051,null,32279.824848562275,31337.395718846714,34247.184647929898,34982.286307943366,35569.720270976119,36021.88323002855,36350.326088057911,36565.806398995956,36678.337732275388,36697.236134949984,36631.163855890773,36488.170487456358,36275.731671444519,36000.785508006462,35669.766798520694,168416.4117942584,182313.5895843078,181065.61832131882,531795.6196998849,85836.054003227458,null,91476.918929894469,89254.330091741926,88578.270197623409,87764.206188904514,86826.814330227746,85779.686081245993,84635.398131872003,83405.57822737885,82100.967025508944,80731.47621423121,79306.24310601053,77833.681912372704,76321.531891131206,74776.902547848338,73206.316062902813,443900.53973839205,416653.105680237,381444.67552026559,1241998.3209388948,115377.03073889951,null,123756.74377845674,120591.72581058864,122825.45484555331,122746.49249684787,122396.53460120386,121801.56931127454,120985.72421992992,119971.38462637481,118779.30475778432,117428.71234918119,115937.4069619013,114321.85239982906,112597.26356257572,110777.6880558548,108876.08286142351,612316.95153265051,598966.6952645448,562510.29384158447,1773793.9406387797,15270.108344998855,15717.073581919907,17223.665407251639,48210.847334170401,3214.0564889446932,15270.716851147641,15890.398307373282,17224.351761668262,48385.466920189181,3225.6977946792786,15289.369503475598,15909.807879161523,17245.39071145147,48444.568094088587,3229.6378729392391,15391.728291459465,16016.320358384221,17360.844608430751,48768.893258274438,3251.2595505516292,15537.813764549255,16168.333939471828,17525.619294537199,49231.766998558283,3282.1177999038855,76759.736755630816,79701.934066310758,86579.871783339317,243041.54260528088,16202.769507018726,19562.684902902107,21154.761922965321,24723.633691725936,65441.080517593356,4362.7387011728906,20874.233802656261,22573.04907845235,26381.190143064439,69828.473024173043,4655.23153494487,21628.878001928781,23389.108757959264,27334.921537451504,72352.908297339556,4823.5272198226367,22882.715751923384,24744.988036433326,28919.54171579552,76547.245504152233,5103.1497002768156,25132.459671832203,27177.823674768915,31762.804021153297,84073.08736775443,5604.8724911836289,110080.97213124274,119039.73147057919,139122.09110919069,368242.79471101257,24549.519647400837,34832.793247900961,36871.835504885225,41947.299098977572,113651.92785176376,7576.7951901175838,36144.950653803899,38463.447385825631,43605.541904732701,118213.93994436222,7880.9293296241485,36918.247505404375,39298.916637120783,44580.312248902977,120797.47639142815,8053.1650927618757,38274.444043382849,40761.308394817548,46280.386324226274,125316.13876242668,8354.4092508284448,40670.27343638146,43346.157614240743,49288.423315690496,133304.85436631271,8886.9902910875135,186840.70888687356,198741.66553688995,225701.96289253002,611284.3373162935,40752.289154419559,24607.983479620991,29526.553722914596,32301.888253469249,86436.425456004828,5762.4283637336548,24746.809779830321,29693.128209388829,32484.119830457996,86924.057819677153,5794.9371879784767,24874.610975156793,29846.473925943981,32651.879205520738,87372.964106621483,5824.8642737747659,25026.149528050202,30028.301552202156,32850.797633993716,87905.248714246074,5860.3499142830715,25605.918873237522,30723.953462556743,33611.837018490092,89941.709354284365,5996.1139569522911,124861.47263589583,149818.41087300627,163900.5219419318,438580.40545083396,29238.693696722265,31674.748789324698,43765.762101018641,52697.938423868196,128138.44931421152,8542.5632876141008,32036.622239119399,44265.771348755028,53299.994809582655,129602.38839745706,8640.1592264971368,32544.794664973298,44967.925409838383,54145.451844916162,131658.17191972784,8777.2114613151898,32915.352770141639,45479.934454748873,54761.957072424339,133157.24429731484,8877.1496198209898,35015.471521274674,48381.719035814109,58255.968323030349,141653.1588801191,9443.5439253412733,164186.98998483369,226861.11235017504,273161.31047382171,664209.41280883038,44280.627520588692,56282.732268945692,73292.315823933241,84999.826677337449,214574.87477021635,14304.991651347755,56783.432018949723,73958.899558143865,85784.114640040643,216526.44621713422,14435.096414475614,57419.405640130091,74814.399335782364,86797.3310504369,219031.13602634933,14602.075735089955,57941.502298191845,75508.236006951032,87612.754706418054,221062.49301156093,14737.499534104061,60621.3903945122,79105.672498370855,91867.805341520434,231594.86823440346,15439.657882293564,289048.46262072952,376679.52322318131,437061.83241575351,1102789.8182596643,73519.321217310964,2416.8683021668753,3435.2201965081067,3899.422340327249,9751.5108390022306,650.10072260014874,2840.0924209248815,4036.7705743683168,4582.2603676085273,11459.123362901726,763.94155752678171,3024.2732874214203,4298.5563869556299,4879.4213609624157,12202.251035339466,813.48340235596447,3341.6913764899255,4749.7191703507879,5391.5498814233752,13482.96042826409,898.86402855093934,3298.5852162460533,4688.4501503835427,5322.0015638299101,13309.036930459508,887.26912869730052,14921.510603249155,21208.716478566384,24074.655514151476,60204.882595967014,4013.6588397311343,4329.4353820662927,7441.8675708976798,9003.8981769840066,20775.201129947975,1385.0134086631983,5424.9954090419305,9325.0259777638021,11282.327131143516,26032.348517949249,1735.4899011966165,5901.766902262807,10144.548617788869,12273.865657490709,28320.181177542381,1888.0120785028255,6723.4369224945349,11556.917422938461,13982.687373110337,32263.041718543333,2150.8694479028886,6611.8521049322026,11365.114251868767,13750.625164816318,31727.591521617287,2115.1727681078191,28991.486720797766,49833.473841257575,60293.403503544883,139118.36406560021,9274.5576043733472,6746.3036842331676,10877.087767405787,12903.320517311255,30526.711968950207,2035.1141312633472,8265.0878299668111,13361.796552132118,15864.587498752044,37491.471880850979,2499.4314587233985,8926.0401896842268,14443.105004744499,17153.287018453124,40522.432212881846,2701.49548085879,10065.12829898446,16306.636593289248,19374.237254533713,45746.002146807426,3049.7334764538282,9910.4373211782549,16053.564402252308,19072.626728646228,45036.628452076795,3002.4418968051195,43912.997324046919,71042.19031982396,84368.05901769636,199323.24666156722,13288.216444104481,42294.960126786718,48678.847501342607,53424.97600104814,144398.78362917746,9626.5855752784973,42857.619051902846,49620.297091130429,54290.731959734781,146768.64810276806,9784.5765401845365,43188.253766053815,50054.838192061135,54776.691277934617,148019.78323604952,9867.9855490699701,43759.569195999589,50794.341080937163,55603.192123847839,150157.10240078458,10010.47349338564,44442.31785403283,51580.737552412109,56459.457876857196,152482.51328330213,10165.500885553478,216542.71999477581,250729.06141788341,274555.0492394226,741826.83065208187,49455.122043472125,55566.869074293099,72362.391594881643,86425.470292578131,214354.73096175285,14290.315397450191,58335.851450817587,76163.846404971177,90963.512083790614,225463.20993957936,15030.880662638625,60075.439569164882,78501.582785586521,93754.239039858367,232331.26139460976,15488.75075964065,62521.505444559552,81781.839914120661,97664.186161330203,241967.53152001041,16131.168768000694,66759.783298039081,86924.656962451787,103769.39750899996,257453.83776949081,17163.589184632721,303259.44883687422,395734.31766201177,472576.80508655729,1171570.5715854433,78104.704772362878,97861.829201079818,121041.23909622425,139850.44629362627,358753.51459093031,23916.90097272869,101193.47050272043,125784.14349610161,145254.2440435254,372231.85804234742,24815.457202823163,103263.6933352187,128556.42097764765,148530.93031779298,380351.04463065928,25356.736308710621,106281.07464055915,132576.18099505783,153267.37828517804,392124.63392079499,26141.642261386332,111202.1011520719,138505.3945148639,160228.85538585717,409936.35105279298,27329.090070186197,519802.16883165005,646463.37907989521,747131.85432597995,1913397.4022375252,127559.826815835,null,null,null,null,0,null,null,null,null,0,null,null,null,null,0,null,null,null,null,0,null,null,null,null,0,null,null,null,null,0,null,null,null,null,0,null,null,null,null,0,null,null,null,null,0,null,null,null,null,0,null,null,null,null,0,null,null,null,null,0,null,null,null,null,0,null,null,null,null,0,null,null,null,null,0,null,null,null,null,0,null,null,null,null,0,null,null,null,null,0,null,null,null,null,0,null,null,null,null,0,null,null,null,null,0,null,null,null,null,0,null,null,null,null,0,null,null,null,null,0,null,null,null,null,0,null,null,null,null,0,null,null,null,null,0,null,null,null,null,0,null,null,null,null,0,null,null,null,null,0,null,null,null,null,0,null,null,null,null,0,null,null,null,null,0,null,null,null,null,0,null,null,null,null,0,null,null,null,null,0,null,null,null,null,0,null,null,null,null,0,null,null,null,null,0,null,null,null,null,0,null,null,null,null,0,null,null,null,null,0,null,null,null,null,0,null,null,null,null,0,null,null,null,null,0,null,null,null,null,0,null,null,null,null,0,null,null,null,null,0,null,null,null,null,0,null,null,null,null,0,null,null,null,null,0,null,null,null,null,0,null,null,null,null,0,null,null,null,null,0,null,null,null,null,0,null,null,null,null,0,null,null,null,null,0,null,null,null,null,0,null,null,null,null,0,null,null,null,null,0,null,null,null,null,0,null,null,null,null,0,null,null,null,null,0,null,null,null,null,0,null,null,null,null,0,null,null,null,null,0,null,null,null,null,0,null,null,null,null,0,null,null,null,null,0,null,null,null,null,0,null,null,null,null,0,null,null,null,null,0,null,null,null,null,0,null,null,null,null,0,null,null,null,null,0,null,null,null,null,0,null,null,null,null,0,null,null,null,null,0,null,null,null,null,0,null,null,null,null,0,null,null,null,null,0,null,null,null,null,0,null,null,null,null,0,null,null,null,null,0,null,null,null,null,0,null,null,null,null,0,null,null,null,null,0,null,null,null,null,0,null,null,null,null,0,null,null,null,null,0,null,null,null,null,0,null,null,null,null,0,null,null,null,null,0,null,null,null,null,0,null,null,null,null,0,null,null,null,null,0,null,null,null,null,0,null,null,null,null,0,null,null,null,null,0,null,null,null,null,0,null,null,null,null,0,null,null,null,null,0,null,null,null,null,0,null,null,null,null,0,null,null,null,null,0,null,null,null,null,0,null,null,null,null,0,null,null,null,null,0,null,null,null,null,0,null,null,null,null,0,null,null,null,null,0,null,null,null,null,0,null,null,null,null,0,null,null,null,null,0,null,null,null,null,0,null,null,null,null,0,null,null,null,null,0,null,null,null,null,0,null,null,null,null,0,null,null,null,null,0,null,null,null,null,0,null,null,null,null,0,null,null,null,null,0,null,null,null,null,0,null,null,null,null,0,null,null,null,null,0,null,null,null,null,null,null,null,null,null,null,null,null,null,null,null,0,0,0,0,null,null,null,null,null,null,null,null,null,null,null,null,null,null,null,0,0,0,0,null,null,null,null,null,null,null,null,null,null,null,null,null,null,null,0,0,0,0,null,null,null,null,null,null,null,null,null,null,null,null,null,null,null,0,0,0,0,null,null,null,null,null,null,null,null,null,null,null,null,null,null,null,0,0,0,0,0,0,0,0,0,0,0,0,0,0,0,0,0,0,0,0,0,0,0,null,null,null,null,null,null,null,null,null,null,null,null,null,null,null,0,0,0,0,null,null,null,null,null,null,null,null,null,null,null,null,null,null,null,0,0,0,0,null,null,null,null,null,null,null,null,null,null,null,null,null,null,null,0,0,0,0,null,null,null,null,null,null,null,null,null,null,null,null,null,null,null,0,0,0,0,null,null,null,null,null,null,null,null,null,null,null,null,null,null,null,0,0,0,0,0,0,0,0,0,0,0,0,0,0,0,0,0,0,0,0,0,0,0,null,null,null,null,null,null,null,null,null,null,null,null,null,null,null,0,0,0,0,null,null,null,null,null,null,null,null,null,null,null,null,null,null,null,0,0,0,0,null,null,null,null,null,null,null,null,null,null,null,null,null,null,null,0,0,0,0,null,null,null,null,null,null,null,null,null,null,null,null,null,null,null,0,0,0,0,null,null,null,null,null,null,null,null,null,null,null,null,null,null,null,0,0,0,0,null,null,null,null,null,null,null,null,null,null,null,null,null,null,null,0,0,0,0,null,null,null,null,null,null,null,null,null,null,null,null,null,null,null,0,0,0,0,null,null,null,null,null,null,null,null,null,null,null,null,null,null,null,0,0,0,0,null,null,null,null,null,null,null,null,null,null,null,null,null,null,null,0,0,0,0,null,null,null,null,null,null,null,null,null,null,null,null,null,null,null,0,0,0,0,null,null,null,null,null,null,null,null,null,null,null,null,null,null,null,0,0,0,0,0,0,0,0,0,0,0,0,0,0,0,0,0,0,0,0,0,0,0,null,null,null,null,null,null,null,null,null,null,null,null,null,null,null,0,0,0,0,null,null,null,null,null,null,null,null,null,null,null,null,null,null,null,0,0,0,0,null,null,null,null,null,null,null,null,null,null,null,null,null,null,null,0,0,0,0,null,null,null,null,null,null,null,null,null,null,null,null,null,null,null,0,0,0,0,null,null,null,null,null,null,null,null,null,null,null,null,null,null,null,0,0,0,0,0,0,0,0,0,0,0,0,0,0,0,0,0,0,0,0,0,0,0,0,0,0,0,0,0,0,0,0,0,0,0,0,0,0,0,0,0,0,0,0,0,0,0,0,0,0,0,0,0,0,0,0,0,0,0,0,0,0,0,0,0,0,0,0,0,0,0,0,0,0,0,0,0,0,0,0,0,0,0,0,0,0,0,0,0,0,0,0,0,0,0,0,0,0,0,0,0,0,0,0,0,0,0,0,0,0,0,0,0,0,0,0,0,0,0,0,0,0,0,0,0,0,0,0,0,0,0,0,0,0,0,0,0,null,null,null,null,null,null,null,null,null,null,null,null,null,null,null,0,0,0,0,null,null,null,null,null,null,null,null,null,null,null,null,null,null,null,0,0,0,0,null,null,null,null,null,null,null,null,null,null,null,null,null,null,null,0,0,0,0,null,null,null,null,null,null,null,null,null,null,null,null,null,null,null,0,0,0,0,null,null,null,null,null,null,null,null,null,null,null,null,null,null,null,0,0,0,0,0,0,0,0,0,0,0,0,0,0,0,0,0,0,0,0,0,0,0,null,null,null,null,null,null,null,null,null,null,null,null,null,null,null,0,0,0,0,null,null,null,null,null,null,null,null,null,null,null,null,null,null,null,0,0,0,0,null,null,null,null,null,null,null,null,null,null,null,null,null,null,null,0,0,0,0,null,null,null,null,null,null,null,null,null,null,null,null,null,null,null,0,0,0,0,null,null,null,null,null,null,null,null,null,null,null,null,null,null,null,0,0,0,0,0,0,0,0,0,0,0,0,0,0,0,0,0,0,0,0,0,0,0,0,0,0,0,0,0,0,0,0,0,0,0,0,0,0,0,0,0,0,0,0,0,0,0,0,0,0,0,0,0,0,0,0,0,0,0,0,0,0,0,0,0,0,0,0,0,0,0,0,0,0,0,0,0,0,0,0,0,0,0,0,0,0,0,0,0,0,0,0,0,0,0,0,0,0,0,0,0,0,0,0,0,0,0,0,0,0,0,0,0,0,0,0,0,0,0,0,0,0,0,0,0,0,0,0,0,0,0,0,0,0,0,0,0,null,null,null,null,null,null,null,null,null,null,null,null,null,null,null,0,0,0,0,null,null,null,null,null,null,null,null,null,null,null,null,null,null,null,0,0,0,0,null,null,null,null,null,null,null,null,null,null,null,null,null,null,null,0,0,0,0,null,null,null,null,null,null,null,null,null,null,null,null,null,null,null,0,0,0,0,null,null,null,null,null,null,null,null,null,null,null,null,null,null,null,0,0,0,0,0,0,0,0,0,0,0,0,0,0,0,0,0,0,0,0,0,0,0,null,null,null,null,null,null,null,null,null,null,null,null,null,null,null,0,0,0,0,null,null,null,null,null,null,null,null,null,null,null,null,null,null,null,0,0,0,0,null,null,null,null,null,null,null,null,null,null,null,null,null,null,null,0,0,0,0,null,null,null,null,null,null,null,null,null,null,null,null,null,null,null,0,0,0,0,null,null,null,null,null,null,null,null,null,null,null,null,null,null,null,0,0,0,0,0,0,0,0,0,0,0,0,0,0,0,0,0,0,0,0,0,0,0,0,0,0,0,0,0,0,0,0,0,0,0,0,0,0,0,0,0,0,0,0,0,0,0,0,0,0,0,0,0,0,0,0,0,0,0,0,0,0,0,0,0,0,0,0,0,0,0,0,0,0,0,0,0,0,0,0,0,0,0,0,0,0,0,0,0,0,0,0,0,0,0,0,0,0,0,0,0,0,0,0,0,0,0,0,0,0,0,0,0,0,0,0,0,0,0,0,0,0,0,0,0,0,0,0,0,0,0,0,0,0,0,0,0,null,null,null,null,null,null,null,null,null,null,null,null,null,null,null,0,0,0,0,null,null,null,null,null,null,null,null,null,null,null,null,null,null,null,0,0,0,0,null,null,null,null,null,null,null,null,null,null,null,null,null,null,null,0,0,0,0,null,null,null,null,null,null,null,null,null,null,null,null,null,null,null,0,0,0,0,null,null,null,null,null,null,null,null,null,null,null,null,null,null,null,0,0,0,0,0,0,0,0,0,0,0,0,0,0,0,0,0,0,0,0,0,0,0,null,null,null,null,null,null,null,null,null,null,null,null,null,null,null,0,0,0,0,null,null,null,null,null,null,null,null,null,null,null,null,null,null,null,0,0,0,0,null,null,null,null,null,null,null,null,null,null,null,null,null,null,null,0,0,0,0,null,null,null,null,null,null,null,null,null,null,null,null,null,null,null,0,0,0,0,null,null,null,null,null,null,null,null,null,null,null,null,null,null,null,0,0,0,0,0,0,0,0,0,0,0,0,0,0,0,0,0,0,0,null,null,null,null,0,0,0,0,0,0,0,0,0,0,0,0,0,0,0,0,0,0,0,0,0,0,0,0,0,0,0,0,0,0,0,0,0,0,0,0,0,0,0,0,0,0,0,0,0,0,0,0,0,0,0,0,0,0,0,0,0,0,0,0,0,0,0,0,0,0,0,0,0,0,0,0,0,0,0,0,0,0,0,0,0,0,0,0,0,0,0,0,0,0,0,0,0,0,0,0,0,0,0,0,0,0,0,0,0,0,0,0,0,0,0,0,0,0,7446.5457113299653,15391.86358724429,0,22838.409298574254,2283.8409298574252,8339.7380253531574,16349.720021351657,0,24689.458046704814,2468.9458046704813,9922.1378745425736,19451.951100724258,0,29374.08897526683,2937.4088975266832,11311.942209495102,22176.606442637403,0,33488.548652132507,3348.8548652132508,16772.102816125887,32881.031080274217,0,49653.133896400104,4965.3133896400104,53792.466636846686,106251.17223223182,0,160043.63886907851,16004.363886907851,230263.46032232454,226708.99762061573,213903.07352114428,670875.53146408452,44725.035430938966,230247.01161389955,226692.80282273528,213887.79350545001,670827.60794208478,44721.84052947232,230623.34511458554,227063.32705003626,214237.38823642911,671924.06040105084,44794.937360070056,231291.91552584147,227721.57707182635,214858.45623233586,673871.94883000373,44924.796588666919,232697.33225049326,229105.29907634691,216164.01707364444,677966.64840048458,45197.776560032304,1155123.0648271444,1137292.0036415604,1073050.7285690038,3365465.7970377086,224364.38646918058,183323.22913625251,191718.12514015287,191182.72946925557,566224.08374566096,37748.272249710732,183661.35991950822,192071.7399009412,191535.35671875902,567268.45653920842,37817.897102613897,184325.2839038182,192766.06686707208,192227.74469424103,569319.09546513134,37954.606364342086,184306.16462632746,192746.07206307573,192207.8057281134,569260.04241751658,37950.669494501104,184533.16445352393,192983.46686286345,192444.53757468268,569961.16889107006,37997.411259404667,920149.20203943038,962285.47083410539,959598.17418505182,2842032.8470585877,189468.8564705725,413586.68945857708,418427.12276076863,405085.80299039988,1237099.6152097455,82473.307680649697,413908.37153340777,418764.54272367648,405423.15022420906,1238096.0644812933,82539.737632086209,414948.62901840371,419829.3939171083,406465.13293067017,1241243.1558661822,82749.543724412142,415598.08015216893,420467.64913490205,407066.26196044928,1243131.9912475203,82875.466083168023,417230.49670401716,422088.76593921037,408608.55464832712,1247927.8172915545,83195.187819436978,2075272.2668665748,2099577.4744756659,2032648.9027540556,6207498.6440962963,413833.24293975311,168416.4117942584,182313.5895843078,181065.61832131882,531795.61969988502,35453.041313325666,443900.53973839205,416653.105680237,381444.67552026559,1241998.3209388945,82799.888062592974,612316.95153265051,598966.6952645448,562510.29384158435,1773793.9406387797,118252.92937591864,{"$error":"#REF!"},{"$error":"#REF!"},{"$error":"#REF!"},{"$error":"#REF!"},{"$error":"#REF!"},{"$error":"#REF!"},{"$error":"#REF!"},{"$error":"#REF!"},{"$error":"#REF!"},{"$error":"#REF!"},{"$error":"#REF!"},{"$error":"#REF!"},{"$error":"#REF!"},{"$error":"#REF!"},{"$error":"#REF!"},{"$error":"#REF!"},{"$error":"#REF!"},{"$error":"#REF!"},{"$error":"#REF!"},{"$error":"#REF!"},{"$error":"#REF!"},{"$error":"#REF!"},{"$error":"#REF!"},{"$error":"#REF!"},{"$error":"#REF!"},{"$error":"#REF!"},{"$error":"#REF!"},{"$error":"#REF!"},{"$error":"#REF!"},{"$error":"#REF!"},{"$error":"#REF!"},{"$error":"#REF!"},{"$error":"#REF!"},{"$error":"#REF!"},{"$error":"#REF!"},{"$error":"#REF!"},{"$error":"#REF!"},{"$error":"#REF!"},{"$error":"#REF!"},{"$error":"#REF!"},{"$error":"#REF!"},{"$error":"#REF!"},{"$error":"#REF!"},{"$error":"#REF!"},{"$error":"#REF!"},{"$error":"#REF!"},{"$error":"#REF!"},{"$error":"#REF!"},{"$error":"#REF!"},{"$error":"#REF!"},{"$error":"#REF!"},{"$error":"#REF!"},{"$error":"#REF!"},{"$error":"#REF!"},{"$error":"#REF!"},{"$error":"#REF!"},{"$error":"#REF!"},{"$error":"#REF!"},{"$error":"#REF!"},{"$error":"#REF!"},{"$error":"#REF!"},{"$error":"#REF!"},{"$error":"#REF!"},{"$error":"#REF!"},{"$error":"#REF!"},{"$error":"#REF!"},{"$error":"#REF!"},{"$error":"#REF!"},{"$error":"#REF!"},{"$error":"#REF!"},{"$error":"#REF!"},{"$error":"#REF!"},{"$error":"#REF!"},{"$error":"#REF!"},{"$error":"#REF!"},{"$error":"#REF!"},{"$error":"#REF!"},{"$error":"#REF!"},{"$error":"#REF!"},{"$error":"#REF!"},{"$error":"#REF!"},{"$error":"#REF!"},{"$error":"#REF!"},{"$error":"#REF!"},{"$error":"#REF!"},{"$error":"#REF!"},{"$error":"#REF!"},{"$error":"#REF!"},{"$error":"#REF!"},{"$error":"#REF!"},{"$error":"#REF!"},{"$error":"#REF!"},{"$error":"#REF!"},{"$error":"#REF!"},{"$error":"#REF!"},{"$error":"#REF!"},{"$error":"#REF!"},{"$error":"#REF!"},{"$error":"#REF!"},null,null,null,null,null,null,{"$error":"#REF!"},{"$error":"#REF!"},{"$error":"#REF!"},{"$error":"#REF!"},{"$error":"#REF!"},{"$error":"#REF!"},{"$error":"#REF!"},{"$error":"#REF!"},{"$error":"#REF!"},{"$error":"#REF!"},{"$error":"#REF!"},{"$error":"#REF!"},{"$error":"#REF!"},{"$error":"#REF!"},{"$error":"#REF!"},{"$error":"#REF!"},{"$error":"#REF!"},{"$error":"#REF!"},{"$error":"#REF!"},{"$error":"#REF!"},{"$error":"#REF!"},{"$error":"#REF!"},{"$error":"#REF!"},{"$error":"#REF!"},{"$error":"#REF!"},{"$error":"#REF!"},{"$error":"#REF!"},{"$error":"#REF!"},{"$error":"#REF!"},{"$error":"#REF!"},{"$error":"#REF!"},{"$error":"#REF!"},{"$error":"#REF!"},{"$error":"#REF!"},{"$error":"#REF!"},{"$error":"#REF!"},{"$error":"#REF!"},{"$error":"#REF!"},{"$error":"#REF!"},{"$error":"#REF!"},{"$error":"#REF!"},{"$error":"#REF!"},{"$error":"#REF!"},{"$error":"#REF!"},{"$error":"#REF!"},{"$error":"#REF!"},{"$error":"#REF!"},{"$error":"#REF!"},{"$error":"#REF!"},{"$error":"#REF!"},{"$error":"#REF!"},{"$error":"#REF!"},{"$error":"#REF!"},{"$error":"#REF!"},{"$error":"#REF!"},{"$error":"#REF!"},{"$error":"#REF!"},{"$error":"#REF!"},{"$error":"#REF!"},{"$error":"#REF!"},{"$error":"#REF!"},{"$error":"#REF!"},{"$error":"#REF!"},{"$error":"#REF!"},{"$error":"#REF!"},{"$error":"#REF!"},{"$error":"#REF!"},{"$error":"#REF!"},{"$error":"#REF!"},{"$error":"#REF!"},{"$error":"#REF!"},{"$error":"#REF!"},{"$error":"#REF!"},{"$error":"#REF!"},{"$error":"#REF!"},{"$error":"#REF!"},{"$error":"#REF!"},{"$error":"#REF!"},{"$error":"#REF!"},{"$error":"#REF!"},{"$error":"#REF!"},{"$error":"#REF!"},{"$error":"#REF!"},{"$error":"#REF!"},{"$error":"#REF!"},{"$error":"#REF!"},{"$error":"#REF!"},{"$error":"#REF!"},{"$error":"#REF!"},{"$error":"#REF!"},{"$error":"#REF!"},{"$error":"#REF!"},{"$error":"#REF!"},{"$error":"#REF!"},{"$error":"#REF!"},{"$error":"#REF!"},0,0,0,0,0,0,{"$error":"#REF!"},{"$error":"#REF!"},{"$error":"#REF!"},{"$error":"#REF!"},{"$error":"#REF!"},{"$error":"#REF!"},{"$error":"#REF!"},{"$error":"#REF!"},{"$error":"#REF!"},{"$error":"#REF!"},{"$error":"#REF!"},{"$error":"#REF!"},{"$error":"#REF!"},{"$error":"#REF!"},{"$error":"#REF!"},{"$error":"#REF!"},{"$error":"#REF!"},{"$error":"#REF!"},{"$error":"#REF!"},{"$error":"#REF!"},{"$error":"#REF!"},{"$error":"#REF!"},{"$error":"#REF!"},{"$error":"#REF!"},{"$error":"#REF!"},{"$error":"#REF!"},{"$error":"#REF!"},{"$error":"#REF!"},{"$error":"#REF!"},{"$error":"#REF!"},{"$error":"#REF!"},{"$error":"#REF!"},{"$error":"#REF!"},{"$error":"#REF!"},{"$error":"#REF!"},{"$error":"#REF!"},{"$error":"#REF!"},{"$error":"#REF!"},{"$error":"#REF!"},{"$error":"#REF!"},{"$error":"#REF!"},{"$error":"#REF!"},{"$error":"#REF!"},{"$error":"#REF!"},{"$error":"#REF!"},{"$error":"#REF!"},{"$error":"#REF!"},{"$error":"#REF!"},{"$error":"#REF!"},{"$error":"#REF!"},{"$error":"#REF!"},{"$error":"#REF!"},{"$error":"#REF!"},{"$error":"#REF!"},{"$error":"#REF!"},{"$error":"#REF!"},{"$error":"#REF!"},{"$error":"#REF!"},{"$error":"#REF!"},{"$error":"#REF!"},{"$error":"#REF!"},{"$error":"#REF!"},{"$error":"#REF!"},{"$error":"#REF!"},{"$error":"#REF!"},{"$error":"#REF!"},{"$error":"#REF!"},{"$error":"#REF!"},{"$error":"#REF!"},{"$error":"#REF!"},{"$error":"#REF!"},{"$error":"#REF!"},{"$error":"#REF!"},{"$error":"#REF!"},{"$error":"#REF!"},{"$error":"#REF!"},{"$error":"#REF!"},{"$error":"#REF!"},{"$error":"#REF!"},{"$error":"#REF!"},{"$error":"#REF!"},{"$error":"#REF!"},{"$error":"#REF!"},{"$error":"#REF!"},{"$error":"#REF!"},{"$error":"#REF!"},{"$error":"#REF!"},{"$error":"#REF!"},{"$error":"#REF!"},{"$error":"#REF!"},{"$error":"#REF!"},{"$error":"#REF!"},{"$error":"#REF!"},{"$error":"#REF!"},{"$error":"#REF!"},{"$error":"#REF!"},{"$error":"#REF!"},{"$error":"#REF!"},{"$error":"#REF!"},0,0,0,0,0,0,121327.84071102222,119454.9630782336,112707.4091366607,353490.21292591654,23566.014195061103,121311.39200259731,119438.76828035319,112692.12912096645,353442.28940391692,23562.819293594461,121687.72550328322,119809.29250765409,113041.72385194548,354538.7418628828,23635.916124192187,122356.29591453917,120467.54252944418,113662.79184785223,356486.63029183558,23765.775352789038,123761.71263919093,121851.26453396477,114968.35268916079,360581.32986231649,24038.755324154434,610444.96677063289,601021.83092964988,567072.40664658567,1778539.2043468682,118569.28028979122,82416.193526017625,87465.14816246026,88034.745012946383,257916.08670142427,17194.405780094952,82721.113111441126,87788.747634550469,88360.45185287387,258870.31259886545,17258.020839924364,83319.826497129485,88424.139209260204,88999.981270454577,260743.94697684428,17382.929798456284,83302.585114638554,88405.841590678509,88981.564492800549,260689.99119811761,17379.332746541175,83507.289023976497,88623.08600580701,89200.223662688455,261330.59869247198,17422.039912831464,415267.00727320334,440706.96260275651,443576.96629176382,1299550.9361677237,86636.729077848242,203744.03423703986,206920.11124069386,200742.15414960709,611406.29962734075,40760.419975156052,204032.50511403842,207227.51591490366,201052.58097384032,612312.6020027824,40820.840133518825,205007.55200041272,208233.43171691429,202041.70512240008,615282.68883972708,41018.84592264847,205658.88102917772,208873.3841201227,202644.3563406528,617176.62148995325,41145.108099330217,207269.00166316744,210474.35053977178,204168.57635184925,621911.92855478846,41460.795236985898,1025711.9740438362,1041728.7935324064,1010649.3729383495,3078090.1405145922,205206.00936763949,22479.614372246957,4.2412586150980429,32.540942303414802,46.353179794973755,3.6890992792801982,82.58322137766875,377.61261358203734,115.37703073889951,492.98964432093686,561.42302385444725,1.8867132437708746E-4,1.4475756462970927E-3,2.0620095624149493E-3,1.6410865498808167E-4,3.6736938637001236E-3,1.6798002284604714E-2,5.1325182375611617E-3,2.1930520522165875E-2,2.4974762224905998E-2,8607.9173955297101,4179.5517717734328,3415.3003397155849,12414.117298749956,6042.9865239034543,6092.4158247474261,14397.614044419652,6536.3992372235134,8304.6804150790995,23611.024603067941,11051.52784598803,9618.0750715327213,1485.7441344780332,547.33158562425467,1980.5831196288461,1323.9022574777307,195.41084011516097,7755.2445067804565,9571.1198249756308,4553.7118896773909,1879.5321722548301,128103.21802259151,56385.676742149612,39875.491704439431,90555.425346382093,39858.709403603687,59054.72172058672,16199.621732026806,7130.395695181357,12123.023886117502,45370.187643466168,19970.058314569429,17459.642104557381,14.956380795226211,14.549540151573574,29.505920946799783,16.77104688399314,19.167524240639867,35.938571124633008,10.032879019065774,12.598407263367477,22.631286282433251,15.239141385294406,19.525716009392973,34.764857394687382,77.955587260986306,66.275376823726333,144.23096408471264,76.17643172010365,67.325111667355515,143.50154338745915,42.318528477918747,40.755495625040012,83.074024102958759,45.747317578109516,46.405045152949839,92.152362731059355,1.7561308174433909E-2,1.7083608788540403E-2,3.4644916962974309E-2,1.9692031566332459E-2,2.2505899304078127E-2,4.2197930870410585E-2,1.1780288476398171E-2,1.4792650407085103E-2,2.6572938883483273E-2,1.7893316695061928E-2,2.2926476723357701E-2,4.0819793418419625E-2,9.153297917141251E-2,7.781844636836753E-2,0.16935142553978005,8.9443951139064962E-2,7.9051011742491809E-2,0.16849496288155677,4.9689074533759793E-2,4.7853810910027418E-2,9.7542885443787211E-2,5.3715049993866372E-2,5.4487332860606474E-2,0.10820238285447284,520.9,-1.4E-2]
["Brazil",174508.25200000001,176361.649,178168.85800000001,179930.745,181649.42800000001,183326.155,184960.41699999999,186550.231,188093.66500000001,189588.272,191032.03899999999,192423.992,193763.66899999999,195050.196,196282.80499999999,197460.86,197460.86,29148.957999999984,28869.266000000003,28591.547999999981,28316.289000000019,28044.130999999994,27775.530999999988,27510.651000000013,27249.421000000002,26991.783999999985,26737.610000000015,26486.834000000003,26239.53899999999,25995.866999999998,25755.898000000016,25519.719000000012,25287.434000000008,25287.434000000008,0.98135589599609374,0.98229089293342131,0.98229089293342131,0.98229089293342131,0.95884483885649874,0.95195404140199225,2030,1,0.84146179199218751,0.97752725188811396,0.90638892585802322,0.90563831498384306,0.79476450392444309,0.6173146679168624,2030,1,0.92659029632358769,0.95639876648783684,0.95639876648783684,0.94156730651909459,0.93734556695100946,0.81745860429052097,2030,1,0.5393661423026499,0.79433582723140717,0.78028577681780487,0.42506213828546668,0.42339915797525585,0.20103560096607637,2030,1,0.87403111098634001,1,0.80202174769350576,0.85700785974380977,0.82795395673779226,0.83248576445766531,2030,1,0.49989008265984114,0.60762934562482518,0.5833324365252891,0.55487479794550376,0.52708827520001067,0.22652555800357654,2030,1,0.8674018697869087,1,1,0.85,0.62,0.25,2025,1,0.53,0.29499999999999998,0.15886,0.31520999999999999,2030,1,0,0,0.33800000000000002,0.33800000000000002,2030,1,0.92,0.98774878372401587,0.95926581158779312,0.93892083149049099,0.88805838124723568,0.82600619195046443,2030,1,0.88200000000000001,0.94695046439628483,0.9196439628482973,0.90013931888544885,0.85137770897832821,0.79188854489164084,2030,1,347.23991091559293,347.23991091559293,347.23991091559293,347.23991091559293,347.23991091559293,347.23991091559293,347.23991091559293,347.23991091559293,347.23991091559293,347.23991091559293,347.23991091559293,347.23991091559293,347.23991091559293,347.23991091559293,347.23991091559293,1736.1995545779646,1736.1995545779646,1736.1995545779646,5208.5986637338956,347.23991091559293,347.23991091559293,347.23991091559293,347.23991091559293,347.23991091559293,347.23991091559293,347.23991091559293,347.23991091559293,347.23991091559293,347.23991091559293,347.23991091559293,347.23991091559293,347.23991091559293,347.23991091559293,347.23991091559293,1736.1995545779646,1736.1995545779646,1736.1995545779646,5208.5986637338956,347.23991091559293,347.23991091559293,347.23991091559293,347.23991091559293,347.23991091559293,347.23991091559293,347.23991091559293,347.23991091559293,347.23991091559293,347.23991091559293,347.23991091559293,347.23991091559293,347.23991091559293,347.23991091559293,347.23991091559293,1736.1995545779646,1736.1995545779646,1736.1995545779646,5208.5986637338956,401.7936430924097,401.7936430924097,401.7936430924097,401.7936430924097,401.7936430924097,401.7936430924097,401.7936430924097,401.7936430924097,401.7936430924097,401.7936430924097,401.7936430924097,401.7936430924097,401.7936430924097,401.7936430924097,401.7936430924097,2008.9682154620484,2008.9682154620484,2008.9682154620484,6026.9046463861469,417.82699000803552,417.82699000803552,417.82699000803552,417.82699000803552,417.82699000803552,417.82699000803552,417.82699000803552,417.82699000803552,417.82699000803552,417.82699000803552,417.82699000803552,417.82699000803552,417.82699000803552,417.82699000803552,417.82699000803552,2089.1349500401775,2089.1349500401775,2089.1349500401775,6267.4048501205343,1861.3403658472239,1861.3403658472239,1861.3403658472239,1861.3403658472239,1861.3403658472239,1861.3403658472239,1861.3403658472239,1861.3403658472239,1861.3403658472239,1861.3403658472239,1861.3403658472239,1861.3403658472239,1861.3403658472239,1861.3403658472239,1861.3403658472239,9306.7018292361208,9306.7018292361208,9306.7018292361208,27920.105487708366,0,0,0,0,0,0,0,0,0,0,0,0,0,0,0,0,0,0,0,0,0,0,0,0,0,0,0,0,0,0,0,0,0,0,0,0,0,0,0,0,0,0,0,0,0,0,0,0,0,0,0,0,0,0,0,0,0,28.278358069541234,28.278358069541234,28.278358069541234,28.278358069541234,28.278358069541234,28.278358069541234,28.278358069541234,28.278358069541234,28.278358069541234,28.278358069541234,28.278358069541234,28.278358069541234,28.278358069541234,28.278358069541234,28.278358069541234,141.39179034770618,141.39179034770618,141.39179034770618,424.17537104311856,97.244728961432642,97.244728961432642,97.244728961432642,97.244728961432642,97.244728961432642,97.244728961432642,97.244728961432642,97.244728961432642,97.244728961432642,97.244728961432642,97.244728961432642,97.244728961432642,97.244728961432642,97.244728961432642,97.244728961432642,486.22364480716323,486.22364480716323,486.22364480716323,1458.6709344214896,125.52308703097387,125.52308703097387,125.52308703097387,125.52308703097387,125.52308703097387,125.52308703097387,125.52308703097387,125.52308703097387,125.52308703097387,125.52308703097387,125.52308703097387,125.52308703097387,125.52308703097387,125.52308703097387,125.52308703097387,627.61543515486937,627.61543515486937,627.61543515486937,1882.8463054646081,0,0,34.20439400000032,168.2896008000003,383.99189000000013,586.4858848000008,5864.858848000008,306.03477333333336,306.03477333333336,306.03477333333336,306.03477333333336,306.03477333333336,306.03477333333336,306.03477333333336,306.03477333333336,306.03477333333336,306.03477333333336,306.03477333333336,306.03477333333336,306.03477333333336,306.03477333333336,306.03477333333336,1530.1738666666668,1530.1738666666668,1530.1738666666668,4590.5216000000009,766.68595658695028,766.68595658695028,766.68595658695028,766.68595658695028,766.68595658695028,766.68595658695028,766.68595658695028,766.68595658695028,766.68595658695028,766.68595658695028,766.68595658695028,766.68595658695028,766.68595658695028,766.68595658695028,766.68595658695028,3833.4297829347515,3833.4297829347515,3833.4297829347515,11500.289348804255,638.74555261128796,638.74555261128796,638.74555261128796,638.74555261128796,638.74555261128796,638.74555261128796,638.74555261128796,638.74555261128796,638.74555261128796,638.74555261128796,638.74555261128796,638.74555261128796,638.74555261128796,638.74555261128796,638.74555261128796,3193.7277630564399,3193.7277630564399,3193.7277630564399,9581.1832891693193,706.34749697605662,706.34749697605662,706.34749697605662,706.34749697605662,706.34749697605662,706.34749697605662,706.34749697605662,706.34749697605662,706.34749697605662,706.34749697605662,706.34749697605662,706.34749697605662,706.34749697605662,706.34749697605662,706.34749697605662,3531.7374848802829,3531.7374848802829,3531.7374848802829,10595.21245464085,695.80299239478768,695.80299239478768,695.80299239478768,695.80299239478768,695.80299239478768,695.80299239478768,695.80299239478768,695.80299239478768,695.80299239478768,695.80299239478768,695.80299239478768,695.80299239478768,695.80299239478768,695.80299239478768,695.80299239478768,3479.0149619739386,3479.0149619739386,3479.0149619739386,10437.044885921814,3113.6167719024161,3113.6167719024161,3113.6167719024161,3113.6167719024161,3113.6167719024161,3113.6167719024161,3113.6167719024161,3113.6167719024161,3113.6167719024161,3113.6167719024161,3113.6167719024161,3113.6167719024161,3113.6167719024161,3113.6167719024161,3113.6167719024161,15568.08385951208,15568.08385951208,15568.08385951208,46704.251578536241,101.00895633086007,101.00895633086007,101.00895633086007,101.00895633086007,101.00895633086007,101.00895633086007,101.00895633086007,101.00895633086007,101.00895633086007,101.00895633086007,101.00895633086007,101.00895633086007,101.00895633086007,101.00895633086007,101.00895633086007,505.04478165430038,505.04478165430038,505.04478165430038,1515.1343449629007,110.45201743582268,110.45201743582268,110.45201743582268,110.45201743582268,110.45201743582268,110.45201743582268,110.45201743582268,110.45201743582268,110.45201743582268,110.45201743582268,110.45201743582268,110.45201743582268,110.45201743582268,110.45201743582268,110.45201743582268,552.26008717911338,552.26008717911338,552.26008717911338,1656.78026153734,121.51215759237387,121.51215759237387,121.51215759237387,121.51215759237387,121.51215759237387,121.51215759237387,121.51215759237387,121.51215759237387,121.51215759237387,121.51215759237387,121.51215759237387,121.51215759237387,121.51215759237387,121.51215759237387,121.51215759237387,607.56078796186932,607.56078796186932,607.56078796186932,1822.6823638856076,132.31146671869951,132.31146671869951,132.31146671869951,132.31146671869951,132.31146671869951,132.31146671869951,132.31146671869951,132.31146671869951,132.31146671869951,132.31146671869951,132.31146671869951,132.31146671869951,132.31146671869951,132.31146671869951,132.31146671869951,661.55733359349756,661.55733359349756,661.55733359349756,1984.672000780492,249.12600031769591,249.12600031769591,249.12600031769591,249.12600031769591,249.12600031769591,249.12600031769591,249.12600031769591,249.12600031769591,249.12600031769591,249.12600031769591,249.12600031769591,249.12600031769591,249.12600031769591,249.12600031769591,249.12600031769591,1245.6300015884794,1245.6300015884794,1245.6300015884794,3736.8900047654374,714.41059839545198,714.41059839545198,714.41059839545198,714.41059839545198,714.41059839545198,714.41059839545198,714.41059839545198,714.41059839545198,714.41059839545198,714.41059839545198,714.41059839545198,714.41059839545198,714.41059839545198,714.41059839545198,714.41059839545198,3572.0529919772603,3572.0529919772603,3572.0529919772603,10716.158975931778,334.54061782927891,334.54061782927891,334.54061782927891,334.54061782927891,334.54061782927891,334.54061782927891,334.54061782927891,334.54061782927891,334.54061782927891,334.54061782927891,334.54061782927891,334.54061782927891,334.54061782927891,334.54061782927891,334.54061782927891,1672.7030891463946,1672.7030891463946,1672.7030891463946,5018.109267439183,400.8141335527049,400.8141335527049,400.8141335527049,400.8141335527049,400.8141335527049,400.8141335527049,400.8141335527049,400.8141335527049,400.8141335527049,400.8141335527049,400.8141335527049,400.8141335527049,400.8141335527049,400.8141335527049,400.8141335527049,2004.0706677635244,2004.0706677635244,2004.0706677635244,6012.2120032905741,448.15235906943803,448.15235906943803,448.15235906943803,448.15235906943803,448.15235906943803,448.15235906943803,448.15235906943803,448.15235906943803,448.15235906943803,448.15235906943803,448.15235906943803,448.15235906943803,448.15235906943803,448.15235906943803,448.15235906943803,2240.7617953471899,2240.7617953471899,2240.7617953471899,6722.285386041568,566.49792286127069,566.49792286127069,566.49792286127069,566.49792286127069,566.49792286127069,566.49792286127069,566.49792286127069,566.49792286127069,566.49792286127069,566.49792286127069,566.49792286127069,566.49792286127069,566.49792286127069,566.49792286127069,566.49792286127069,2832.4896143063534,2832.4896143063534,2832.4896143063534,8497.4688429190628,710.87951068730615,710.87951068730615,710.87951068730615,710.87951068730615,710.87951068730615,710.87951068730615,710.87951068730615,710.87951068730615,710.87951068730615,710.87951068730615,710.87951068730615,710.87951068730615,710.87951068730615,710.87951068730615,710.87951068730615,3554.3975534365309,3554.3975534365309,3554.3975534365309,10663.192660309589,2460.8845439999986,2460.8845439999986,2460.8845439999986,2460.8845439999986,2460.8845439999986,2460.8845439999986,2460.8845439999986,2460.8845439999986,2460.8845439999986,2460.8845439999986,2460.8845439999986,2460.8845439999986,2460.8845439999986,2460.8845439999986,2460.8845439999986,12304.422719999993,12304.422719999993,12304.422719999993,36913.268159999978,0,0,0,0,0,0,0,0,0,0,0,0,0,0,0,0,0,0,0,0,0,0,0,0,0,0,0,0,0,0,0,0,0,0,0,0,0,0,0,0,0,0,0,0,0,0,0,0,0,0,0,0,0,0,0,0,0,6.2754789180601316,6.2754789180601316,6.2754789180601316,6.2754789180601316,6.2754789180601316,6.2754789180601316,6.2754789180601316,6.2754789180601316,6.2754789180601316,6.2754789180601316,6.2754789180601316,6.2754789180601316,6.2754789180601316,6.2754789180601316,6.2754789180601316,31.377394590300657,31.377394590300657,31.377394590300657,94.132183770901975,29.396107523632903,29.396107523632903,29.396107523632903,29.396107523632903,29.396107523632903,29.396107523632903,29.396107523632903,29.396107523632903,29.396107523632903,29.396107523632903,29.396107523632903,29.396107523632903,29.396107523632903,29.396107523632903,29.396107523632903,146.9805376181645,146.9805376181645,146.9805376181645,440.94161285449354,35.671586441693037,35.671586441693037,35.671586441693037,35.671586441693037,35.671586441693037,35.671586441693037,35.671586441693037,35.671586441693037,35.671586441693037,35.671586441693037,35.671586441693037,35.671586441693037,35.671586441693037,35.671586441693037,35.671586441693037,178.35793220846517,178.35793220846517,178.35793220846517,535.07379662539552,407.48510727001849,407.48510727001849,407.48510727001849,407.48510727001849,407.48510727001849,407.48510727001849,407.48510727001849,407.48510727001849,407.48510727001849,407.48510727001849,407.48510727001849,407.48510727001849,407.48510727001849,407.48510727001849,407.48510727001849,2037.4255363500924,2037.4255363500924,2037.4255363500924,6112.2766090502773,407.48510727001849,407.48510727001849,407.48510727001849,407.48510727001849,407.48510727001849,407.48510727001849,407.48510727001849,407.48510727001849,407.48510727001849,407.48510727001849,407.48510727001849,407.48510727001849,407.48510727001849,407.48510727001849,407.48510727001849,2037.4255363500924,2037.4255363500924,2037.4255363500924,6112.2766090502773,441.9946026533944,441.9946026533944,441.9946026533944,441.9946026533944,441.9946026533944,441.9946026533944,441.9946026533944,441.9946026533944,441.9946026533944,441.9946026533944,441.9946026533944,441.9946026533944,441.9946026533944,441.9946026533944,441.9946026533944,2209.973013266972,2209.973013266972,2209.973013266972,6629.9190398009159,451.81764788573804,451.81764788573804,451.81764788573804,451.81764788573804,451.81764788573804,451.81764788573804,451.81764788573804,451.81764788573804,451.81764788573804,451.81764788573804,451.81764788573804,451.81764788573804,451.81764788573804,451.81764788573804,451.81764788573804,2259.08823942869,2259.08823942869,2259.08823942869,6777.2647182860683,730.76783843868611,730.76783843868611,730.76783843868611,730.76783843868611,730.76783843868611,730.76783843868611,730.76783843868611,730.76783843868611,730.76783843868611,730.76783843868611,730.76783843868611,730.76783843868611,730.76783843868611,730.76783843868611,730.76783843868611,3653.8391921934308,3653.8391921934308,3653.8391921934308,10961.517576580291,2439.5503035178554,2439.5503035178554,2439.5503035178554,2439.5503035178554,2439.5503035178554,2439.5503035178554,2439.5503035178554,2439.5503035178554,2439.5503035178554,2439.5503035178554,2439.5503035178554,2439.5503035178554,2439.5503035178554,2439.5503035178554,2439.5503035178554,12197.751517589277,12197.751517589277,12197.751517589277,36593.25455276783,28.444964455153059,28.444964455153059,28.444964455153059,28.444964455153059,28.444964455153059,28.444964455153059,28.444964455153059,28.444964455153059,28.444964455153059,28.444964455153059,28.444964455153059,28.444964455153059,28.444964455153059,28.444964455153059,28.444964455153059,142.22482227576529,142.22482227576529,142.22482227576529,426.67446682729599,33.905555513872727,33.905555513872727,33.905555513872727,33.905555513872727,33.905555513872727,33.905555513872727,33.905555513872727,33.905555513872727,33.905555513872727,33.905555513872727,33.905555513872727,33.905555513872727,33.905555513872727,33.905555513872727,33.905555513872727,169.52777756936365,169.52777756936365,169.52777756936365,508.58333270809106,171.9642077830234,171.9642077830234,171.9642077830234,171.9642077830234,171.9642077830234,171.9642077830234,171.9642077830234,171.9642077830234,171.9642077830234,171.9642077830234,171.9642077830234,171.9642077830234,171.9642077830234,171.9642077830234,171.9642077830234,859.82103891511701,859.82103891511701,859.82103891511701,2579.4631167453508,172.61052969258557,172.61052969258557,172.61052969258557,172.61052969258557,172.61052969258557,172.61052969258557,172.61052969258557,172.61052969258557,172.61052969258557,172.61052969258557,172.61052969258557,172.61052969258557,172.61052969258557,172.61052969258557,172.61052969258557,863.05264846292789,863.05264846292789,863.05264846292789,2589.1579453887834,259.03274281246792,259.03274281246792,259.03274281246792,259.03274281246792,259.03274281246792,259.03274281246792,259.03274281246792,259.03274281246792,259.03274281246792,259.03274281246792,259.03274281246792,259.03274281246792,259.03274281246792,259.03274281246792,259.03274281246792,1295.1637140623395,1295.1637140623395,1295.1637140623395,3885.4911421870183,665.95800025710264,665.95800025710264,665.95800025710264,665.95800025710264,665.95800025710264,665.95800025710264,665.95800025710264,665.95800025710264,665.95800025710264,665.95800025710264,665.95800025710264,665.95800025710264,665.95800025710264,665.95800025710264,665.95800025710264,3329.7900012855134,3329.7900012855134,3329.7900012855134,9989.3700038565403,9496.9409258053329,9496.9409258053329,9496.9409258053329,9496.9409258053329,9496.9409258053329,9496.9409258053329,9496.9409258053329,9496.9409258053329,9496.9409258053329,9496.9409258053329,9496.9409258053329,9496.9409258053329,9496.9409258053329,9496.9409258053329,9496.9409258053329,47484.704629026666,47484.704629026666,47484.704629026666,142454.11388707999,1029.0057464000008,1029.0057464000008,1029.0057464000008,1029.0057464000008,1029.0057464000008,1029.0057464000008,1029.0057464000008,1029.0057464000008,1029.0057464000008,1029.0057464000008,1029.0057464000008,1029.0057464000008,1029.0057464000008,1029.0057464000008,1029.0057464000008,5145.0287320000043,5145.0287320000043,5145.0287320000043,15435.086196000013,{"$error":"#REF!"},{"$error":"#REF!"},{"$error":"#REF!"},251.19204634244255,12.559602317122128,0.05,-20,21.164114664253702,0.3,75.357613902732766,-10,9.7591557588843969,9.2438673054018867,0,0,40.167137728539984,89.490641406853584,4.4745320703426792,0.05,-10,12.168919852719705,0.3,26.847192422056075,-5,6.2010248499951706,4.3492451723730845,0,0,22.71918987508796,55.990629773005061,2.7995314886502531,0.05,-20,4.7174746409931796,0.3,16.797188931901516,-10,2.1753128132403794,3.0234940077422738,0,0,9.9162814619758333,19.449603220164303,0.97248016100821522,0.05,-10,2.6447532281878634,0.3,5.8348809660492904,-5,1.3477104532357087,0.94525071649998527,0,0,4.9377143979235569,346,34.6,0.1,-20,30.540328684777119,0.3,103.8,-10,13.442574881414403,115,11.5,0.1,170.48290356619151,346,34.6,0.1,-20,30.540328684777119,0.3,103.8,-10,13.442574881414403,86.25,8.625,0.1,138.85790356619151,1,425.09423227182589,85.018846454365189,0.2,-20,40.932793196798372,0.3,127.52826968154775,-10,16.515494361188978,32.817274731384963,0,0,90.265562289372312,1,103.28619010096531,10.328619010096531,0.1,-8,17.578689320626282,0.3,30.985857030289594,-4,8.7383783259008592,6.7652454516132279,0,0,33.082313098140368,1,103.28619010096531,10.328619010096531,0.1,-8,17.578689320626282,0.3,30.985857030289594,-4,8.7383783259008592,8.2732238270873211,0,0,34.590291473614464,1,25.321605037791613,10.328619010096531,0.1,-8,5.5158673209224265,0.3,7.5964815113374833,-4,2.142297672350606,1.696547537532038,0,0,9.3547125308050703,33.507606255910098,5.1643095050482657,0.05,-2,20.797944939734911,0.3,10.052281876773028,-1,10.554895970611668,1.696547537532038,0,0,33.04938844787862,574.79999999999995,57.48,0.1,-20,50.735783028930307,0.3,172.43999999999997,-10,22.331768907043347,35.005319999999998,0,0,108.07287193597365,148.94136627819043,14.894136627819044,0.1,-20,13.146584626866227,0.3,44.682409883457126,-10,5.7865765003894358,10.649307688890618,0,0,29.582468816146282,95.47987035353384,9.5479870353533851,0.1,-20,8.4277070039792772,0.3,28.64396110606015,-10,3.7095240083673922,4.6116777380756844,0,0,16.748908750422352,145.10077568112067,14.510077568112067,0.1,-20,12.807587808432194,0.3,43.5302327043362,-10,5.6373642845224818,3.1631969098484309,0,0,21.608149002803106,1.887324599090058,3.0913347407986671,0.62091710433591529,-2.5,-10,1.2221336857852774,0.3,0.56619737972701734,-1.25,0.47848857722226912,3.5,0,0,5.2006222630075465,1.5727704992417151,5.106857359751066,0.76454219719377114,-10,-10,0.86504236680628366,0.3,0.4718311497725145,-5,0.10898110456933516,6.383571699688833,0,0,7.3575951710644514,0.5,0.5,0.5,0.5,0.5,0.5,0.5,0.5,0.5,0.5,0.5,0.5,0.5,0.5,0.5,0.5,0.5,0.5,0.5,0.5,0.5,0.5,0.5,0.5,0.5,0.5,0.5,0.5,0.5,0.5,0.5,0.5,0.5,0.5,0.5,0.5,0.5,0.5,0.5,0.5,0.5,0.5,0.5,0.5,0.5,0.5,0.5,0.5,0.5,0.5,0.5,0.5,0.5,0.5,0.5,0.5,0.5,0.5,0.5,0.5,11574.025345126782,null,null,null,null,15033.78089,{"$error":"#REF!"},{"$error":"#REF!"},37000,31000,185000,155000,2000000,53400,{"$error":"#REF!"},0.15,0.15,0.3,230,851.66666666666652,0.05,62106.778725888929,16314.229233694932,67237.820155225098,68922.725318629775,70294.696611244828,71379.71661223071,72202.002970013316,68763.812352393637,73147.069328219863,73310.410898638947,73292.329758659384,73109.733872603843,82793.85385971205,81851.30304537926,80810.777810053914,79683.74635440718,78480.806833742579,350036.96166734368,361623.35621051572,403620.48790329497,1115280.8057811542,62106.778725888929,16314.229233694932,67237.820155225098,68922.725318629775,70294.696611244828,71379.71661223071,72202.002970013316,72784.117573512238,73147.069328219863,73310.410898638947,73292.329758659384,73109.733872603843,82793.85385971205,81851.30304537926,80810.777810053914,79683.74635440718,78480.806833742579,350036.96166734368,365643.66143163433,403620.48790329497,1119301.1110022729,62106.778725888929,16314.229233694932,67237.820155225098,68922.725318629775,70294.696611244828,71379.71661223071,72202.002970013316,72784.117573512238,73147.069328219863,73310.410898638947,73292.329758659384,73109.733872603843,82793.85385971205,81851.30304537926,80810.777810053914,79683.74635440718,78480.806833742579,350036.96166734368,365643.66143163433,403620.48790329497,1119301.1110022729,71864.172580884362,18877.304687606476,77801.335228216689,79750.95035766573,81338.467594450194,82593.951556172047,83545.424647175605,84218.993381312219,84638.967304834528,84827.970937723585,84807.049128693921,84595.766197309407,95801.326754863083,94710.694849988125,93506.696081734233,92202.60038245238,90810.67094912997,405030.12938368029,423088.74694987369,467031.98901816778,1295150.8653517216,74731.871534321312,19630.592799779904,80905.953281932394,82933.366694803291,84584.232904448567,85889.816239944368,86879.257323750237,87579.70443531168,88016.437179505025,88212.98289491958,88191.226212994225,87971.512156343102,99624.224237799805,98490.071286764127,97238.02763211327,95881.892735304937,94434.419149230976,421192.62644487887,439971.8628790736,485668.63504121313,1346833.1243651656,332916.38029287243,87450.585188471174,360420.74897582433,369452.49300835835,376806.79033263325,382622.91763280856,387030.69088096579,386130.74531604204,392096.61246899911,392972.18652856001,392875.26461766625,391896.47997146402,443807.11257179902,438754.67527289002,433177.05714400922,427135.73218097887,420687.51059958868,1876333.6408305904,1955971.2889027314,2163562.0877692658,5995867.0175025892,0,0,0,0,0,0,0,0,0,0,0,0,0,0,0,0,0,0,0,0,0,0,0,0,0,0,0,0,0,0,0,0,0,0,0,0,0,0,0,0,0,0,0,0,0,0,0,0,0,0,0,0,0,0,0,0,0,0,0,0,0,0,0,1119.9961087509923,288.75149318941186,1225.9235576587228,1268.4295300632887,1304.1074426069692,1333.5112012801328,1357.1574422506217,1375.5278253480017,1389.0711936328187,1398.2056066040063,1403.3202541819455,1404.7772582114096,1580.1817365053669,1566.8685726700803,1551.2401506592307,1533.547159831568,1514.0216643873584,6489.1291738597356,6970.9021379781816,7745.8592840536039,21205.89059589152,3851.4866303592435,992.96998161494969,4215.7541042089142,4361.9253124367478,4484.6159200981929,4585.7307208793245,4667.0463435359543,4730.219138817396,4776.7926058780749,4808.2043841510758,4825.7928352282852,4830.8032379395218,5433.9910506254982,5388.2092196720223,5334.4655879235816,5273.6222357981842,5206.477194786944,22315.072401159137,23971.812202014356,26636.765288806229,72923.64989197973,4971.4827391102353,1281.7214748043616,5441.6776618676367,5630.3548425000363,5788.7233627051619,5919.2419221594573,6024.2037857865762,6105.7469641653979,6165.8637995108938,6206.4099907550826,6229.1130894102307,6235.5804961509311,7014.1727871308649,6955.0777923421028,6885.705738582812,6807.1693956297522,6720.4988591743022,28804.201575018869,30942.714339992537,34382.624572859837,94129.540487871243,62106.778725888929,16314.229233694932,67237.820155225098,68922.725318629775,70294.696611244828,71379.71661223071,72202.002970013316,68763.812352393637,73147.069328219863,73310.410898638947,73292.329758659384,73109.733872603843,82793.85385971205,81851.30304537926,80810.777810053914,79683.74635440718,78480.806833742579,350036.96166734368,361623.35621051572,403620.48790329497,1115280.8057811542,62106.778725888929,16314.229233694932,67237.820155225098,68922.725318629775,70294.696611244828,71379.71661223071,72202.002970013316,72784.117573512238,73147.069328219863,73310.410898638947,73292.329758659384,73109.733872603843,82793.85385971205,81851.30304537926,80810.777810053914,79683.74635440718,78480.806833742579,350036.96166734368,365643.66143163433,403620.48790329497,1119301.1110022729,62106.778725888929,16314.229233694932,67237.820155225098,68922.725318629775,70294.696611244828,71379.71661223071,72202.002970013316,72784.117573512238,73147.069328219863,73310.410898638947,73292.329758659384,73109.733872603843,82793.85385971205,81851.30304537926,80810.777810053914,79683.74635440718,78480.806833742579,350036.96166734368,365643.66143163433,403620.48790329497,1119301.1110022729,72984.168689635349,19166.056180795887,79027.258785875412,81019.379887729025,82642.575037057162,83927.462757452187,84902.582089426229,85594.521206660225,86028.038498467344,86226.176544327594,86210.36938287587,86000.543455520819,97381.508491368455,96277.563422658204,95057.936232393462,93736.147542283943,92324.692613517327,411519.25855754002,430059.64908785181,474777.84830222139,1316356.7559476132,78583.358164680554,20623.562781394856,85121.707386141308,87295.292007240045,89068.84882454676,90475.546960823689,91546.303667286193,92309.923574129076,92793.229785383097,93021.187279070655,93017.019048222515,92802.315394282617,105058.2152884253,103878.28050643615,102572.49322003685,101155.51497110313,99640.896344017921,443507.69884603797,463943.67508108797,512305.40033001936,1419756.7742571454,337887.86303198268,88732.306663275536,365862.42663769197,375082.84785085841,382595.51369533839,388542.15955496801,393054.89466675237,392236.49228020746,398262.47626850998,399178.59651931509,399104.37770707649,398132.06046761497,450821.28535892989,445709.75306523213,440062.76288259204,433942.90157660859,427408.009458763,1905137.8424056093,1986914.0032427241,2197944.7123421254,6089996.5579904588,0,0,0,0,0,0,0,0,0,0,0,0,null,null,null,null,null,0,0,0,0,0,0,0,0,0,0,0,0,0,0,0,0,null,null,null,null,null,0,0,0,0,1322.7494434226421,1322.7494434226421,1741.8026442439357,2057.9579476811705,3539.8262941579724,3733.2570479477013,4988.4682488258641,5079.2612897247636,6137.1516555369899,6142.7196247616184,7029.1297569495828,6964.5347219519472,null,null,null,null,null,16061.312182856644,31352.797048924902,0,47414.109231781542,6508.0812655829232,6508.0812655829232,8569.8718027921823,10125.392704763277,17416.35749913254,18368.059328368756,24543.844577347969,24990.55690934525,30195.500676298238,30222.895733146175,34584.136785713476,34266.3216929095,null,null,null,null,null,79023.52591240473,154259.41179741264,0,233282.93770981734,14849.702022971194,14849.702022971194,19554.15697089153,23103.439922677961,39739.472915830738,41911.002127306958,56002.493453666124,57021.771601778171,68898.062144479336,68960.570342286519,78911.75678850754,78186.587689667271,null,null,null,null,null,180310.56539037332,351978.74856671877,0,532289.31395709212,22680.53273197676,null,29865.831417927649,35286.79057512241,60695.656709121249,64012.318503623414,85534.806279839948,87091.589800848189,105230.71447631456,105326.18570019431,120525.0233311706,119417.44410452872,0,0,0,0,0,275395.40348563471,537590.9574130564,0,812986.360898691,95441.211387976233,17385.041176806873,105362.30678585041,109793.71636545197,113564.17014203967,116726.56773952955,119330.26948841034,121421.31354751217,123042.62037312037,124234.18524810937,136800.13972354142,136681.07390787077,136263.1432952265,135575.08119011778,134643.56208981483,133493.33260634317,132147.33458821394,564777.03052128188,642179.33280015411,672122.4537697162,1879078.8170911525,239101.70616823112,43553.439302879102,263956.28211285651,275057.96005474462,284503.79501324921,292426.31244723691,298949.17108929553,304187.70688461099,308249.4452320977,311234.58331319183,342715.12626747618,342416.83961269521,341369.82940515538,339646.07903685345,337312.41412447806,334430.83049845841,331058.80265059829,1414893.5207173827,1608803.7013100719,1683817.9557155436,4707515.1777429981,199201.70719783875,36285.4770152356,219908.68599440224,229157.7759913959,237027.34112247542,243627.79171501359,249062.15100140875,253426.50828838526,256810.44571809555,259297.4401084946,285524.68039257737,285276.17020074755,284403.87939137639,282967.7791574992,281023.543618478,278622.82307601318,275813.50098970497,1178783.7458246958,1340335.2447083001,1402831.5262330719,3921950.5167660676,220284.31618400308,40125.768017505507,243182.82809237455,253410.80000071047,262113.24436201132,269412.25683402555,275421.76416275965,280248.0253131697,283990.10339673184,286740.3100407864,315743.32298000174,315468.51159187627,314503.90146298282,312915.81086656475,310765.80621932255,308111.00425760774,305004.35621011688,1303540.8934518816,1482190.2733225659,1551300.879016595,4337032.045791042,216995.86539862052,39526.76207991971,239552.54348616619,249627.83007020174,258200.36250454196,265390.41377717583,271310.20991158934,276064.42361647327,279750.63916825812,282459.79014681972,311029.83998484566,310759.13103914901,309808.9208139386,308244.53756927175,306126.62864538055,303511.45812791598,300451.18677845178,1284081.359749675,1460063.8239555457,1528142.7319349586,4272287.9156401791,971024.80633666972,176876.48759234679,1071962.6464716501,1117048.0824825047,1155408.9131443175,1187583.3425129815,1214073.5656534636,1235347.9776501514,1251843.2538883034,1263966.3088574018,1391813.1093484424,1390601.7263523387,1386349.6743686798,1379349.2878203071,1369871.9546974739,1358169.4485663385,1344475.181217086,5746076.5502649173,6533572.3760966379,6838215.5466698855,19117864.473031439,7538.5526080383797,7538.5526080383797,8591.5935716159383,9185.3662239938039,9703.1070283637655,10150.710689859505,10533.682920944397,10857.16412165417,11125.951686647952,11344.521016151039,16619.434441489961,16506.832395683683,16367.268561855579,16203.566062778258,16018.340290230177,15814.012287260866,15592.821327000136,48164.460434777415,66453.903661626799,79996.008529125014,194614.37262552921,8243.312022515498,8243.312022515498,9394.7990103497541,10044.081903032389,10610.224930628812,11099.673878719377,11518.449174314632,11872.171779901451,12166.087585921467,12405.09038597154,18173.141564716247,18050.012650425058,17897.401361611235,17718.39474735468,17515.852705517998,17292.422616084452,17050.553095926858,52667.228897044959,72666.503966935765,87474.62452649523,212808.35739047593,9068.7581161206217,9068.7581161206217,10335.54953903495,11049.848535189787,11672.682435250435,12211.142475134808,12671.851938805137,13060.994645220841,13384.341783363836,13647.277188066406,19992.913601993841,19857.455143335796,19689.562085271049,19492.630599304677,19269.806959880978,19024.003643034343,18757.914458495383,57941.074923415115,79942.982361980728,96233.91774598643,234117.97503138229,9874.7377335379952,9874.7377335379952,11254.114369699235,12031.896196057594,12710.084029044638,13296.399333275414,13798.054032502254,14221.78152832591,14573.865920165224,14860.169527456741,21769.76999728677,21622.272761622302,21439.458323918432,21225.024688078363,20982.397751515771,20714.748834562135,20425.011157428318,63090.547960579126,87047.859734856946,104786.64075550303,254925.04845093907,18592.900349088733,18592.900349088733,21190.094627262064,22654.56086231942,23931.504021413806,25035.462659999608,25980.015931596714,26777.841992157359,27440.77301762698,27979.847024815681,40989.763485810887,40712.044575346925,40367.827775435529,39964.075966501288,39507.239686364795,39003.290135931777,38457.750203258001,118791.63810259162,163900.27009575782,197300.1837674914,479992.0919658409,53318.260829301231,53318.260829301231,60766.151117961941,64965.753720592991,68627.60244470145,71793.389036988723,74502.05399816313,76789.954067259736,78691.019993725466,80236.905142461415,117545.02309129771,116748.61752641376,115761.51810809181,114603.69206401726,113293.63739350974,111848.47751687358,110284.0502421087,340654.95031840826,470011.51982115809,565791.37532460107,1376457.8454641674,102979.76399601462,24923.593784845252,113953.90035746635,118979.08258944577,123267.27717040344,126877.27842938906,129863.95240935474,132278.47766916634,134168.57205976831,135578.7062642604,153419.57416503137,153187.90630355445,152630.41185708207,151778.64725289604,150661.90238004501,149307.34489360405,147740.15591521407,612941.49095605942,708633.23646178085,752118.46229884133,2073693.1897166816,247345.0181907466,51796.751325394602,273351.08112320624,285102.04195777699,295114.019943878,303525.9863259563,310467.62026361015,316059.87866451242,320415.53281801916,323639.67369916337,360888.26783219242,360466.85226312029,359267.23076676659,357364.47378420812,354828.26682999608,351723.25311454287,348109.35574652517,1467560.7496144278,1681470.2052770075,1771292.5802420389,4920323.5351334754,208270.46531395937,45354.235131356225,230244.2355334372,240207.62452658569,248700.02355772586,255838.9341901484,261734.00294021389,266487.5029336061,270194.78750145936,272944.71729656099,305517.59399457119,305133.62534408335,304093.44147664745,302460.40975680389,300293.35057835898,297646.8267190475,294571.41544820037,1236724.820748111,1420278.227070281,1499065.4439790584,4156068.4917974495,230159.05391754108,50000.5057510435,254436.94246207378,265442.69619676808,274823.32839105598,282708.65616730094,289219.81819526188,294469.80684149562,298563.96931689704,301600.47956824314,337513.09297728853,337090.7843534986,335943.35978690127,334140.83555464313,331748.20397083834,328825.75309216988,325429.3673675452,1366631.4414124605,1569238.1330574229,1656087.5197720979,4591957.0942419814,235588.76574770926,58119.662429008444,260742.63811342826,272282.39093252114,282131.86652595579,290425.87643717544,297290.22584318602,302842.26560863061,307191.41218588507,310439.6371716354,352019.60347065656,351471.17561449594,350176.74858937413,348208.61353577301,345633.86833174533,342514.74826384778,338908.93698170979,1402872.9978522668,1623964.0940513036,1725442.9157024501,4752280.0076060202,1024343.0671659709,230194.74842164802,1132728.797589612,1182013.8362030976,1224036.5155890188,1259376.7315499703,1288575.6196516268,1312137.9317174111,1330534.2738820289,1344203.2139998632,1509358.13243974,1507350.3438787526,1502111.1924767715,1493952.9798843244,1483165.5920909836,1470017.926083212,1454759.2314591948,6086731.5005833255,7003583.8959177965,7404006.9219944859,20494322.318495609,1665.5637715278842,null,2996.5297981785507,4121.4245950754457,5132.3917020225699,6037.7305933532452,6845.208656706799,7562.0930482821122,8195.1807208033042,8750.8267259907661,9234.970887779873,9653.1629372761581,10010.586195464908,10312.079884988794,10562.160147856292,10765.039841731899,10924.647183474555,25133.285345336611,43396.234320132215,52574.513253516445,121104.03291898526,1995.5170295715814,null,3590.1514815002588,4937.8913651704152,6149.1341363787888,7233.8234206122788,8201.2653486684812,9060.1667225320016,9818.6709919716304,10484.392163817158,11064.446759223953,11565.483927939355,11993.713822629199,12354.93433068659,12654.556255612373,12897.627035010784,13088.853077469639,30112.265752330226,51993.160565484097,62989.684521408592,145095.11083922291,2231.1979281742233,null,4014.1669695871951,5521.0819152382546,6875.378732347519,8088.1754400830241,9169.8772714982588,10130.219346996213,10978.306899949013,11722.653190836016,12371.215238826873,12931.427492698787,13410.233556317991,13814.116077613597,14149.124904009581,14420.903601638571,14634.714430323282,33668.680328754257,58133.822169306906,70429.092569903019,162231.59506796417,2820.4001746808281,null,5074.2056898045357,6979.0582904078501,8690.9902222693436,10224.055488759881,11591.407078572707,12805.350908156735,13877.396669892465,14818.30575838316,15638.136437834173,16346.286404597369,16951.532890539958,17462.070444931105,17885.546525002599,18229.095018208023,18499.367812457378,42559.716769814317,73485.476178863901,89027.612691139075,205072.80563981726,3539.2269154188839,null,6367.4529284696873,8757.7894681147536,10906.036239973962,12829.82914814564,14545.673443203523,16069.011412772565,17414.286189223465,18595.00189079066,19623.780300623064,20512.414277113625,21271.91807829075,21912.574773058452,22443.980902614065,22875.08854642275,23214.244938660966,53406.781227907566,92214.494070523389,111717.80723904699,257339.08253747792,12251.9058193734,null,22042.506867540229,30317.245634006722,37753.931032992179,44413.61409095407,50353.43179864977,55626.841438739633,60283.841471839878,64371.179729817755,67932.549624287931,71008.775039625296,73637.984543242812,75855.775511278538,77695.368735094904,79187.754043012028,80361.827442385824,184880.72942414298,319223.1873043105,386738.71027501411,890842.62700346764,0,null,0,0,0,0,0,0,0,0,0,0,0,0,0,0,0,0,0,0,0,0,null,0,0,0,0,0,0,0,0,0,0,0,0,0,0,0,0,0,0,0,0,null,0,0,0,0,0,0,0,0,0,0,0,0,0,0,0,0,0,0,0,41.917863809596327,null,82.661742057110644,117.52916219488093,148.88843406089734,176.99460256961763,202.08637762838976,224.38711151927515,244.10572023772164,261.43755190924281,276.56520523509147,289.65930075687004,300.87920757762873,310.3737280327893,318.28174266778137,324.73281775015994,329.84777742181842,728.16031851089633,1296.1548896582012,1584.1152734501777,3608.4304816192753,196.35505876080563,null,387.21083909764303,550.53963755664813,697.43528323929058,829.09247822753946,946.62940683768011,1051.0923139515542,1143.4598208259265,1224.6469930003548,1295.5091741268197,1356.8455987899927,1409.4027966731649,1453.877799749346,1490.921163537834,1521.139812861773,1545.0997219699682,3410.907644958801,6071.5539006946474,7420.4412947920864,16902.902840445535,238.27292257040196,null,469.87258115475368,668.06879975152901,846.32371730018792,1006.0870807971571,1148.7157844660699,1275.4794254708293,1387.5655410636482,1486.0845449095975,1572.0743793619113,1646.5048995468628,1710.2820042507935,1764.2515277821353,1809.2029062056154,1845.8726306119329,1874.9474993917866,4139.0679634696971,7367.70879035285,9004.5565682422639,20511.333322064806,1665.5637715278842,null,2996.5297981785507,4121.4245950754457,5132.3917020225699,6037.7305933532452,6845.208656706799,7562.0930482821122,8195.1807208033042,8750.8267259907661,9234.970887779873,9653.1629372761581,10010.586195464908,10312.079884988794,10562.160147856292,10765.039841731899,10924.647183474555,25133.285345336611,43396.234320132215,52574.513253516445,121104.03291898526,1995.5170295715814,null,3590.1514815002588,4937.8913651704152,6149.1341363787888,7233.8234206122788,8201.2653486684812,9060.1667225320016,9818.6709919716304,10484.392163817158,11064.446759223953,11565.483927939355,11993.713822629199,12354.93433068659,12654.556255612373,12897.627035010784,13088.853077469639,30112.265752330226,51993.160565484097,62989.684521408592,145095.11083922291,2231.1979281742233,null,4014.1669695871951,5521.0819152382546,6875.378732347519,8088.1754400830241,9169.8772714982588,10130.219346996213,10978.306899949013,11722.653190836016,12371.215238826873,12931.427492698787,13410.233556317991,13814.116077613597,14149.124904009581,14420.903601638571,14634.714430323282,33668.680328754257,58133.822169306906,70429.092569903019,162231.59506796417,2862.3180384904244,null,5156.8674318616468,7096.587452602731,8839.8786563302401,10401.050091329498,11793.493456201097,13029.738019676011,14121.502390130187,15079.743310292402,15914.701643069264,16635.945705354239,17252.412098117587,17772.444172963893,18203.828267670382,18553.827835958182,18829.215589879197,43287.877088325215,74781.631068522111,90611.727964589241,208681.23612143658,3735.5819741796895,null,6754.6637675673301,9308.3291056714024,11603.471523213253,13658.92162637318,15492.302850041204,17120.103726724119,18557.746010049392,19819.648883791015,20919.289474749883,21869.259875903619,22681.320874963916,23366.452572807797,23934.902066151899,24396.228359284523,24759.344660630934,56817.688872866369,98286.047971218024,119138.24853383907,274241.98537792347,12490.178741943802,null,22512.379448694981,30985.314433758253,38600.25475029237,45419.701171751229,51502.147583115839,56902.320864210466,61671.407012903524,65857.264274727349,69504.624003649835,72655.279939172164,75348.266547493608,77620.027039060675,79504.571641300514,81033.626673623963,82236.774941777607,189019.79738761266,326590.89609466336,395743.26684325642,911353.96032553236,155088.83182696905,null,212113.34696416481,256321.77342986714,295838.89091932541,331011.24489860871,362163.01439251978,389597.35630447412,413597.6724234703,434428.80343293713,452338.15400063311,467556.75280579797,480300.25114879152,490769.86358881107,499153.25386640523,505625.36918878899,510349.22578689503,1457448.2706044859,2157518.738967313,2486197.9635796919,6101164.9731514901,155088.83182696905,null,212113.34696416481,256321.77342986714,295838.89091932541,331011.24489860871,362163.01439251978,389597.35630447412,413597.6724234703,434428.80343293713,452338.15400063311,467556.75280579797,480300.25114879152,490769.86358881107,499153.25386640523,505625.36918878899,510349.22578689503,1457448.2706044859,2157518.738967313,2486197.9635796919,6101164.9731514901,168223.14576988193,null,230077.00854888558,278029.40126465639,320893.18286339485,359044.24739090505,392834.22826077626,422591.95642333326,448624.83467412589,471220.13278215961,490646.20786250278,507153.65417605103,520976.3863103895,532332.65947915346,541426.03047241096,548446.26259674318,553570.17776031734,1580878.0683286183,2340236.7859181724,2696751.5166190146,6617866.3708658041,171961.79678531192,null,235190.32180730635,284208.42555171496,328024.8270760047,367023.77442892955,401564.71585011098,431983.79034585354,458595.23254075419,481692.69658932445,501550.50367059157,518424.81734142196,532554.75079038064,544163.4098125872,553458.875116601,560635.12737621285,565872.91825255891,1616012.0647140667,2392247.040487946,2756685.0813483405,6764944.1865503527,278130.23930976394,null,380395.77226139914,459677.43353622308,530545.88495661633,593622.60759425943,649488.97142070625,698688.64615802583,741729.8734794996,779087.60829834279,811205.53645988274,838497.97575275344,861351.66677632602,880127.45984356571,895161.90375978453,906768.74199726188,915240.32148250879,2613730.6697692042,3869209.6401485046,4458650.0938594472,10941590.403777156,928492.84551889589,null,1269889.7965459207,1534558.8072123288,1771141.6767346668,1981713.1192113115,2168213.944316633,2332459.105536161,2476145.2855413202,2600858.0445357012,2708078.5559942434,2799189.9528818224,2875483.3061746792,2938163.2563129286,2988353.3170816069,3027100.870347796,3055381.8690691753,8725517.3440208621,12916730.944489248,14884482.618986186,36526730.907496296,10826.153471631254,null,13907.243039001469,16179.364387020649,18203.557527203531,19998.282467217017,21580.80331424237,22967.260310831709,21873.581248411152,25211.327805321354,26096.19108315244,26839.613124080515,27453.058029402844,27947.218809673886,28332.064826224327,28616.886462945298,28810.337184544955,89869.250734685033,122987.97357179718,141159.56531279132,354016.78961927356,12904.45442857996,null,16577.021976849825,19285.323357256842,21698.101653868067,23837.360649311653,25723.678648241646,27376.294341946297,26072.661278044099,30051.156359483899,31105.887190172427,31992.02425385777,32723.232419890144,33312.257440282578,33770.98249859707,34110.481457388902,34341.068990403299,107121.48628552804,146598.02342350449,168258.02280656199,421977.5325155945,65449.577482218709,null,84076.323435679456,97812.447037276361,110049.71913161081,120899.73980871323,130466.87933486349,138848.71364580505,132236.87013886197,152415.23750312833,157764.68389840922,162259.04642497146,165967.63137780575,168955.08341806853,171281.67238107781,173003.56333985919,174173.0708685955,543305.10874814342,743524.55161117599,853381.02138540684,2140210.6817447264,65695.567600998067,null,84392.321576295319,98180.071953897655,110463.33743935582,121354.13756802681,130957.23487845849,139370.57204239091,132733.87813561043,152988.08524056964,158357.63735699956,162868.89179966389,166591.41534902004,169590.09563109127,171925.4290034211,173653.79163364437,174827.69471857793,545347.10341603402,746319.06457523443,856588.42633575469,2148254.5943270237,98587.861914425288,null,126645.66043075295,147336.62756864817,165769.84803937256,182113.42704220786,196524.57936441177,209150.28537238718,199190.74797370209,229585.78140088197,237643.74759141778,244413.68575156041,249999.99318535969,254500.04529496146,258004.62760458898,260598.34256206377,262359.99254035833,818390.14244539337,1119984.2480899494,1285463.0011873322,3223837.3917226745,253463.61489785329,null,325598.57045857905,378793.83430409967,426184.56379141076,468202.94753547659,505253.17554021778,537713.12571336108,512107.73877462972,590251.58830938512,610968.14712015144,628373.26135413407,642735.3303614785,654304.7005940777,663314.77631390933,669983.06545590155,674512.16430248006,2104033.0916297841,2879413.8612716612,3304850.037027847,8288296.9899292942,165914.98529860031,null,226020.59000316629,272501.13781688781,314042.44844652893,351009.52736582572,383743.81770676217,412564.61661530583,435471.25367188145,459640.1312382585,478434.34508378553,494396.36592987849,507753.30917819438,518717.08239848498,527485.31869262957,534242.2556517343,539159.56297144003,1547317.5213391709,2280506.7125391099,2627357.5288924836,6455181.7627707636,167993.286255549,null,228690.36894101463,275607.096787124,317536.99257319345,354848.60554792034,387886.6930407614,416973.65064642043,439670.33370151441,464479.95979242102,483444.04119080555,499548.77705965575,513023.48356868164,524082.12102909363,532924.23636500235,539735.85064617789,544690.29477729835,1564569.7568900138,2304116.762390817,2654455.986386254,6523142.5056670858,233672.72325210064,null,314153.33198456501,375841.84830193274,430942.90199500567,479943.98719961825,523301.10759563977,561440.67006913829,580861.70481298782,623635.37028528797,648410.89176091203,669412.70060102246,686944.01768819522,701287.74289722205,712707.70285348874,721449.82593660243,727743.24862891284,2124183.1770767616,3083761.3375293491,3550132.5380044212,8758077.0526105314,237657.36438630999,null,319582.64338360168,382388.49750561261,438488.16451536049,488377.91199695633,532521.95072856941,571354.36238824448,591329.11067636462,634680.78182989405,659908.14102759119,681293.70914108586,699146.16613940068,713753.50544367847,725384.30412002211,734288.91900985723,740700.61297113681,2161359.1681301007,3138566.1050631804,3613273.5076840958,8913198.7808773741,376718.10122418922,null,507041.4326921521,607014.06110487122,696315.73299598892,775736.03463646723,846013.55078511802,907838.93153041299,940920.62145320163,1008673.3896992247,1048849.2840513005,1082911.6615043138,1111351.6599616858,1134627.5051385271,1153166.5313643734,1167367.0845593256,1177600.314022867,3432120.8122145971,4989193.8882384542,5744113.0950467791,14165427.79549983,1181956.4604167491,null,1595488.3670044998,1913352.6415164284,2197326.2405260773,2449916.0667467881,2673467.1198568507,2870172.231249522,2988253.02431595,3191109.632845086,3319046.703114395,3427563.2142359563,3518218.6365361577,3592467.9569070064,3651668.0933955163,3697083.9358036974,3729894.0333716553,10829550.435650645,15796144.805760907,18189332.656014033,44815027.897425592,3780330.9506080877,null,4130639.7343164929,4008271.4713533116,4382092.7906878022,4476031.6038801046,4551087.1450888151,4608844.8079876695,4650781.8155875672,4678273.927207455,4692601.7519710567,4694956.6910945699,4686446.5300023044,4668100.7001453685,4640875.2292997465,4605657.3980808137,4563270.1194285387,21548122.745326526,23325458.993848316,23164349.97695677,68037931.716131613,136157.37698325622,null,144966.57321055431,140928.46589955108,139577.00253983206,138034.68429396482,136322.75236053887,134460.85774436896,132467.16453753831,130358.44697003304,128150.18058914387,125856.62790672931,123490.91883445597,121065.12620918658,118590.33669372868,116076.71732212571,113533.57794352419,699829.47830444109,651293.2777478135,592756.67700302112,1943879.4330552756,3916488.3275913438,null,4275606.3075270476,4149199.9372528628,4521669.7932276344,4614066.2881740695,4687409.8974493537,4743305.6657320382,4783248.980125105,4808632.3741774885,4820751.9325602008,4820813.3190012993,4809937.4488367606,4789165.8263545549,4759465.5659934748,4721734.1154029397,4676803.6973720631,22247952.223630972,23976752.271596134,23757106.653959792,69981811.149186879,350036.96166734368,361623.35621051572,403620.48790329497,1115280.8057811542,74352.053718743613,350036.96166734368,365643.66143163433,403620.48790329497,1119301.1110022729,74620.074066818197,350036.96166734368,365643.66143163433,403620.48790329497,1119301.1110022729,74620.074066818197,405030.12938368029,423088.74694987369,467031.98901816778,1295150.8653517216,86343.391023448115,421192.62644487887,439971.8628790736,485668.63504121313,1346833.1243651656,89788.874957677705,1876333.6408305904,1955971.2889027314,2163562.0877692658,5995867.0175025892,399724.46783350594,0,0,0,0,0,0,0,0,0,0,0,0,0,0,0,6489.1291738597356,6970.9021379781816,7745.8592840536039,21205.89059589152,1413.7260397261014,22315.072401159137,23971.812202014356,26636.765288806229,72923.64989197973,4861.5766594653151,28804.201575018869,30942.714339992537,34382.624572859837,94129.540487871243,6275.3026991914167,350036.96166734368,361623.35621051572,403620.48790329497,1115280.8057811542,74352.053718743613,350036.96166734368,365643.66143163433,403620.48790329497,1119301.1110022729,74620.074066818197,350036.96166734368,365643.66143163433,403620.48790329497,1119301.1110022729,74620.074066818197,411519.25855754002,430059.64908785187,474777.84830222139,1316356.7559476132,87757.117063174213,443507.69884603802,463943.67508108797,512305.40033001936,1419756.7742571454,94650.451617143015,1905137.8424056093,1986914.0032427239,2197944.7123421254,6089996.5579904607,405999.77053269738,564777.03052128188,642179.33280015411,672122.4537697162,1879078.8170911525,125271.92113941017,1414893.5207173827,1608803.7013100719,1683817.9557155436,4707515.1777429981,313834.34518286656,1178783.7458246958,1340335.2447083001,1402831.5262330719,3921950.5167660676,261463.36778440452,1303540.8934518816,1482190.2733225659,1551300.879016595,4337032.045791042,289135.46971940278,1284081.359749675,1460063.8239555457,1528142.7319349586,4272287.9156401791,284819.19437601196,5746076.5502649173,6533572.3760966379,6838215.5466698855,19117864.473031439,1274524.298202096,48164.460434777415,66453.903661626799,79996.008529125014,194614.37262552921,12974.291508368615,52667.228897044959,72666.503966935765,87474.62452649523,212808.35739047593,14187.223826031728,57941.074923415115,79942.982361980728,96233.91774598643,234117.97503138229,15607.865002092152,63090.547960579126,87047.859734856946,104786.64075550303,254925.04845093907,16995.003230062604,118791.63810259162,163900.27009575782,197300.1837674914,479992.0919658409,31999.472797722727,340654.95031840826,470011.51982115809,565791.37532460107,1376457.8454641674,91763.856364277832,612941.49095605931,708633.23646178097,752118.46229884122,2073693.1897166818,138246.2126477788,1467560.7496144276,1681470.2052770075,1771292.5802420387,4920323.5351334736,328021.56900889828,1236724.820748111,1420278.2270702808,1499065.4439790584,4156068.49179745,277071.23278649669,1366631.4414124608,1569238.1330574229,1656087.5197720979,4591957.0942419814,306130.47294946539,1402872.9978522668,1623964.0940513036,1725442.9157024501,4752280.0076060202,316818.66717373469,6086731.5005833255,7003583.8959177956,7404006.9219944868,20494322.318495605,1366288.1545663739,25133.285345336611,43396.234320132215,52574.513253516445,121104.03291898526,8073.6021945990178,30112.265752330226,51993.160565484097,62989.684521408592,145095.11083922291,9673.0073892815271,33668.680328754257,58133.822169306906,70429.092569903019,162231.59506796417,10815.439671197611,42559.716769814317,73485.476178863901,89027.612691139075,205072.80563981726,13671.520375987817,53406.781227907566,92214.494070523389,111717.80723904699,257339.08253747792,17155.938835831861,184880.72942414298,319223.1873043105,386738.71027501411,890842.62700346764,59389.508466897845,0,0,0,0,0,0,0,0,0,0,0,0,0,0,0,728.16031851089633,1296.1548896582012,1584.1152734501777,3608.4304816192753,240.56203210795169,3410.907644958801,6071.5539006946474,7420.4412947920864,16902.902840445535,1126.8601893630357,4139.0679634696971,7367.70879035285,9004.5565682422639,20511.333322064806,1367.4222214709871,25133.285345336611,43396.234320132215,52574.513253516445,121104.03291898526,8073.6021945990178,30112.265752330226,51993.160565484097,62989.684521408592,145095.11083922291,9673.0073892815271,33668.680328754257,58133.822169306906,70429.092569903019,162231.59506796417,10815.439671197611,43287.877088325215,74781.631068522096,90611.727964589256,208681.23612143655,13912.082408095768,56817.688872866369,98286.047971218039,119138.24853383907,274241.98537792347,18282.799025194898,189019.79738761266,326590.89609466336,395743.26684325637,911353.96032553248,60756.930688368833,939947.27753396216,1047198.923330802,1128317.4549265276,3115463.6557912924,207697.57705275281,1795042.7481370566,2026440.5233071903,2150428.1281402474,5971911.3995844936,398127.42663896631,1562489.3878207938,1764112.7283092414,1876881.10670627,5203483.2228363045,346898.88152242033,1751130.7396053763,1978764.4964513034,2107360.4807259017,5837255.7167825811,389150.38111883873,1758680.7674224614,1992250.1809051428,2125529.1742152185,5876460.1225428227,391764.00816952152,7807290.9205196509,8808766.85230368,9388516.3447141666,26004574.117537498,1733638.2745024997,48164.460434777415,66453.903661626799,79996.008529125014,194614.37262552921,12974.291508368615,52667.228897044959,72666.503966935765,87474.62452649523,212808.35739047593,14187.223826031728,57941.074923415115,79942.982361980728,96233.91774598643,234117.97503138229,15607.865002092152,70307.837452949752,95314.916762493318,114116.61531300681,279739.36952844984,18649.291301896657,144517.61814870956,193943.63619846682,231357.39035108971,569818.64469826617,37987.909646551081,373598.21985689685,508321.9429515035,609178.55646570318,1491098.7192741034,99406.581284940243,988111.73796873959,1113652.8269924289,1208313.4634556526,3310078.0284168217,220671.86856112143,1847709.9770341015,2099107.0272741262,2237902.7526667425,6184719.7569749691,412314.65046499803,1620430.462744209,1844055.7106712221,1973115.0244522565,5437601.1978676869,362506.74652451248,1821438.577058326,2074079.4132137967,2221477.0960389087,6116995.0863110311,407799.67242073541,1903198.3855711711,2186193.8171036094,2356886.5645663082,6446278.7672410887,429751.91781607259,8180889.1403765474,9317088.7952551842,9997694.9011798706,27495672.836811602,1833044.85578744,null,null,null,null,null,null,null,null,null,null,null,null,null,null,null,null,null,null,null,null,null,null,null,null,null,null,null,null,null,null,null,null,null,null,null,null,null,null,null,null,null,null,null,null,null,null,null,null,null,null,null,null,null,null,null,null,null,null,null,null,null,null,null,null,null,null,null,null,null,null,null,null,null,null,null,null,null,null,null,null,null,null,null,null,null,null,null,null,null,null,null,null,null,null,null,null,null,null,null,null,null,null,null,null,null,null,null,null,null,null,null,null,null,null,null,null,null,null,null,null,null,null,null,null,null,null,null,null,null,null,null,null,null,null,null,null,null,null,null,null,null,null,null,null,null,null,null,null,null,null,null,null,null,null,null,null,null,null,null,null,null,null,null,null,null,null,null,null,null,null,null,null,null,null,null,null,null,null,null,null,null,null,null,null,null,null,null,null,null,null,null,null,null,null,null,null,null,null,null,null,null,null,null,null,null,null,null,null,null,null,null,null,null,null,null,null,null,null,null,null,null,null,null,null,null,null,null,null,null,null,null,null,null,null,null,null,null,null,null,null,null,null,null,null,null,null,null,null,null,null,null,null,null,null,null,null,null,null,null,null,null,null,null,null,null,null,null,null,null,null,null,null,null,null,null,null,null,null,null,null,null,null,null,null,null,null,null,null,null,null,null,null,null,null,null,null,null,null,null,null,null,null,null,null,null,null,null,null,null,null,null,null,null,null,null,null,null,null,null,null,null,null,null,null,null,null,null,null,null,null,null,null,null,null,null,null,null,null,null,null,null,null,null,null,null,null,null,null,null,null,null,null,null,null,null,null,null,null,null,null,null,null,null,null,null,null,null,null,null,null,null,null,null,null,null,null,null,null,null,null,null,null,null,null,null,null,null,null,null,null,null,null,null,null,null,null,null,null,null,null,null,null,null,null,null,null,null,null,null,null,null,null,null,null,null,null,null,null,null,null,null,null,null,null,null,null,null,null,null,null,null,null,null,null,null,null,null,null,null,null,null,null,null,null,null,null,null,null,null,null,null,null,null,null,null,null,null,null,null,null,null,null,null,null,null,null,null,null,null,null,null,null,null,null,null,null,null,null,null,null,null,null,null,null,null,null,null,null,null,null,null,null,null,null,null,null,null,null,null,null,null,null,null,null,null,null,null,null,null,null,null,null,null,null,null,null,null,null,null,null,null,null,null,null,null,null,null,null,null,null,null,null,null,null,null,null,null,null,null,null,null,null,null,null,null,null,null,null,null,null,null,null,null,null,null,null,null,null,null,null,null,null,null,null,null,null,null,null,null,null,null,null,null,null,null,null,null,null,null,null,null,null,null,null,null,null,null,null,null,null,null,null,null,null,null,null,null,null,null,null,null,null,null,null,null,null,null,null,null,null,null,null,null,null,null,null,null,null,null,null,null,null,null,null,null,null,null,null,null,null,null,null,null,null,null,null,null,null,null,null,null,null,null,null,null,null,null,null,null,null,null,null,null,null,null,null,null,null,null,null,null,null,null,null,null,null,null,null,null,null,null,null,null,null,null,null,null,null,null,null,null,null,null,null,null,null,null,null,null,null,null,null,null,null,null,null,null,null,null,null,null,null,null,null,null,null,null,null,null,null,null,null,null,null,null,null,null,null,null,null,null,null,null,null,null,null,null,null,null,null,null,null,null,null,null,null,null,null,null,null,null,null,null,null,null,null,null,null,null,null,null,null,null,null,null,null,null,null,null,null,null,null,null,null,null,null,null,null,null,null,null,null,null,null,null,null,null,null,null,null,null,null,null,null,null,null,null,null,null,null,null,null,null,null,null,null,null,null,null,null,null,null,null,null,null,null,null,null,null,null,null,null,null,null,null,null,null,null,null,null,null,null,null,null,null,null,null,null,null,null,null,null,null,null,null,null,null,null,null,null,null,null,null,null,null,null,null,null,null,null,null,null,null,null,null,null,null,null,null,null,null,null,null,null,null,null,null,null,null,null,null,null,null,null,null,null,null,null,null,null,null,null,null,null,null,null,null,null,null,null,null,null,null,null,null,null,null,null,null,null,null,null,null,null,null,null,null,null,null,null,null,null,null,null,null,null,null,null,null,null,null,null,null,null,null,null,null,null,null,null,null,null,null,null,null,null,null,null,null,null,null,null,null,null,null,null,null,null,null,null,null,null,null,null,null,null,null,null,null,null,null,null,null,null,null,null,null,null,null,null,null,null,null,null,null,null,null,null,null,null,null,null,null,null,null,null,null,null,null,null,null,null,null,null,null,null,null,null,null,null,null,null,null,null,null,null,null,null,null,null,null,null,null,null,null,null,null,null,null,null,null,null,null,null,null,null,null,null,null,null,null,null,null,null,null,null,null,null,null,null,null,null,null,null,null,null,null,null,null,null,null,null,null,null,null,null,null,null,null,null,null,null,null,null,null,null,null,null,null,null,null,null,null,null,null,null,null,null,null,null,null,null,null,null,null,null,null,null,null,null,null,null,null,null,null,null,null,null,null,null,null,null,null,null,null,null,null,null,null,null,null,null,null,null,null,null,null,null,null,null,null,null,null,null,null,null,null,null,null,null,null,null,null,null,null,null,null,null,null,null,null,null,null,null,null,null,null,null,null,null,null,null,null,null,null,null,null,null,null,null,null,null,null,null,null,null,null,null,null,null,null,null,null,null,null,null,null,null,null,null,null,null,null,null,null,null,null,null,null,null,null,null,null,null,null,null,null,null,null,null,null,null,null,null,null,null,null,null,null,null,null,null,null,null,null,null,null,null,null,null,null,null,null,null,null,null,null,null,null,null,null,null,null,null,null,null,null,null,null,null,null,null,null,null,null,null,null,null,null,null,null,null,null,null,null,null,null,null,null,null,null,null,null,null,null,null,null,null,null,null,null,null,null,null,null,null,null,null,null,null,null,null,null,null,null,null,null,null,null,null,null,null,null,null,null,null,null,null,null,null,null,null,null,null,null,null,null,null,null,null,null,null,null,null,null,null,null,null,null,null,null,null,null,null,null,null,null,null,null,null,null,null,null,null,null,null,null,null,null,null,null,null,null,null,null,null,null,null,null,null,null,null,null,null,null,null,null,null,null,null,null,null,null,null,null,null,null,null,null,null,null,null,null,null,null,null,null,null,null,null,null,null,null,null,null,null,null,null,null,null,null,null,null,null,null,null,null,null,null,null,null,null,null,null,null,null,null,null,null,null,null,null,null,null,null,null,null,null,null,null,null,null,null,null,null,null,null,null,null,null,null,null,null,null,null,null,null,null,null,null,null,null,null,null,null,null,null,null,null,null,null,null,null,null,null,null,null,null,null,null,null,null,null,null,null,null,null,null,null,null,null,null,null,null,null,null,null,null,null,null,null,null,null,null,null,null,null,null,null,null,null,null,null,null,null,null,null,null,null,null,null,null,null,null,null,null,null,null,null,null,null,null,null,null,null,null,null,null,null,null,null,null,null,null,null,null,null,null,null,null,null,null,null,null,null,null,null,null,null,null,null,null,null,null,null,null,null,null,null,null,null,null,null,null,null,null,null,null,null,null,null,null,null,null,null,null,null,null,null,null,null,null,null,null,null,null,null,null,null,null,null,null,null,null,null,null,null,null,null,null,null,null,null,null,null,null,null,null,null,null,null,null,null,null,null,null,null,null,null,null,null,null,null,null,null,null,null,null,null,null,null,null,null,null,null,null,null,null,null,null,null,null,null,null,null,null,null,null,null,null,null,null,null,null,null,null,null,null,null,null,null,null,null,null,null,null,null,null,null,null,null,null,null,null,null,null,null,null,null,null,null,null,null,null,null,null,null,null,null,null,null,null,null,null,null,null,null,null,null,null,null,null,null,null,null,null,null,null,null,null,null,null,null,null,null,null,null,null,null,null,null,null,null,null,null,null,null,null,null,null,null,null,null,null,null,null,null,null,null,null,null,null,null,null,null,null,null,null,null,null,null,null,null,null,null,null,null,null,null,null,null,null,null,null,null,null,null,null,null,null,null,null,null,null,null,null,null,null,null,null,null,null,null,null,null,null,null,null,null,null,null,null,null,null,null,null,null,null,null,null,null,null,null,null,null,null,null,null,null,null,null,null,null,null,null,null,null,null,null,null,null,null,null,null,null,null,null,null,null,null,null,null,null,null,null,null,null,null,null,null,null,null,null,null,null,null,null,null,null,null,null,null,null,null,null,null,null,null,null,null,null,null,null,null,null,null,null,null,null,null,null,null,null,null,null,null,null,null,null,null,null,null,null,null,null,null,null,null,null,null,null,null,null,null,null,null,null,null,null,null,null,null,null,null,null,null,null,null,null,null,null,null,null,null,null,null,null,null,null,null,null,null,null,null,null,null,null,null,null,null,null,null,null,null,null,null,null,null,null,null,null,null,null,null,null,null,null,null,null,null,null,null,null,null,null,null,null,null,null,null,null,null,null,null,null,null,null,null,null,null,null,null,null,null,null,null,null,null,null,null,null,null,null,null,null,null,null,null,null,null,null,null,null,null,null,null,null,null,null,null,null,null,null,null,null,null,null,null,null,null,null,null,null,null,null,null,null,null,null,null,null,null,null,null,null,null,null,null,null,null,null,null,null,null,null,null,null,null,null,null,null,null,null,null,null,null,null,null,null,null,null,null,null,null,null,null,null,null,null,null,null,null,null,null,null,null,null,null,null,null,null,null,null,null,null,null,null,null,null,null,null,null,null,null,null,null,null,null,null,null,null,null,null,null,null,null,null,null,null,null,null,null,null,null,null,null,null,null,null,null,null,null,null,null,null,null,null,null,null,null,null,null,null,null,null,null,null,null,null,null,null,null,null,null,null,null,null,null,null,null,null,null,null,null,null,null,null,null,null,null,null,null,null,null,null,null,null,null,null,null,null,null,null,null,null,null,null,null,null,null,null,null,null,null,null,null,null,null,null,null,null,null,null,null,null,null,null,null,null,null,null,null,null,null,null,null,null,null,null,null,null,null,null,null,null,null,null,null,null,null,null,null,null,null,null,null,null,null,null,null,null,null,null,null,null,null,null,null,null,null,null,null,null,null,null,null,null,null,null,null,null,null,null,null,null,null,null,null,null,null,null,null,null,null,null,null,null,null,null,null,null,null,null,null,null,null,null,null,null,null,null,null,null,null,null,null,null,null,null,null,null,null,null,null,null,null,null,null,null,null,null,null,null,null,null,null,null,null,null,null,null,null,null,null,null,null,null,null,null,null,null,null,null,null,null,null,null,null,null,null,null,null,null,null,null,null,null,null,null,null,null,null,null,null,null,null,null,null,null,null,null,null,null,null,null,null,null,null,null,null,0,0,0,0,0,0,0,0,0,0,16061.312182856644,31352.797048924902,0,47414.109231781549,4741.4109231781549,79023.52591240473,154259.41179741264,0,233282.93770981737,23328.293770981738,180310.56539037332,351978.74856671877,0,532289.31395709212,53228.931395709209,275395.40348563471,537590.95741305628,0,812986.360898691,81298.636089869105,1457448.2706044859,2157518.738967313,2486197.9635796919,6101164.973151491,406744.33154343272,1457448.2706044859,2157518.738967313,2486197.9635796919,6101164.973151491,406744.33154343272,1580878.0683286183,2340236.7859181724,2696751.5166190146,6617866.3708658051,441191.09139105369,1616012.0647140667,2392247.040487946,2756685.0813483405,6764944.1865503527,450996.27910335682,2613730.6697692042,3869209.6401485046,4458650.0938594472,10941590.403777156,729439.3602518104,8725517.3440208621,12916730.944489248,14884482.618986186,36526730.907496296,2435115.3938330864,89869.250734685033,122987.97357179718,141159.56531279132,354016.78961927351,23601.119307951569,107121.48628552804,146598.02342350449,168258.02280656199,421977.5325155945,28131.835501039634,543305.10874814342,743524.55161117599,853381.02138540684,2140210.6817447264,142680.71211631509,545347.10341603402,746319.06457523443,856588.42633575469,2148254.5943270233,143216.97295513487,818390.14244539337,1119984.2480899494,1285463.0011873322,3223837.3917226749,214922.49278151165,2104033.0916297841,2879413.8612716612,3304850.037027847,8288296.9899292924,552553.13266195287,1547317.5213391709,2280506.7125391103,2627357.5288924831,6455181.7627707645,430345.45085138432,1564569.7568900138,2304116.7623908175,2654455.986386254,6523142.5056670858,434876.16704447236,2124183.1770767616,3083761.3375293482,3550132.5380044216,8758077.0526105314,583871.80350736878,2161359.1681301007,3138566.1050631804,3613273.5076840953,8913198.780877376,594213.25205849169,3432120.8122145976,4989193.8882384542,5744113.0950467791,14165427.795499831,944361.85303332203,10829550.435650647,15796144.805760909,18189332.656014033,44815027.897425592,2987668.5264950395,21548122.745326526,23325458.993848316,23164349.97695677,68037931.716131613,4535862.1144087743,699829.47830444109,651293.2777478135,592756.67700302112,1943879.4330552758,129591.96220368505,22247952.223630968,23976752.27159613,23757106.653959792,69981811.149186894,4665454.0766124595,{"$error":"#REF!"},{"$error":"#REF!"},{"$error":"#REF!"},{"$error":"#REF!"},{"$error":"#REF!"},{"$error":"#REF!"},{"$error":"#REF!"},{"$error":"#REF!"},{"$error":"#REF!"},{"$error":"#REF!"},{"$error":"#REF!"},{"$error":"#REF!"},{"$error":"#REF!"},{"$error":"#REF!"},{"$error":"#REF!"},{"$error":"#REF!"},{"$error":"#REF!"},{"$error":"#REF!"},{"$error":"#REF!"},{"$error":"#REF!"},{"$error":"#REF!"},{"$error":"#REF!"},{"$error":"#REF!"},{"$error":"#REF!"},{"$error":"#REF!"},{"$error":"#REF!"},{"$error":"#REF!"},{"$error":"#REF!"},{"$error":"#REF!"},{"$error":"#REF!"},{"$error":"#REF!"},{"$error":"#REF!"},{"$error":"#REF!"},{"$error":"#REF!"},{"$error":"#REF!"},{"$error":"#REF!"},{"$error":"#REF!"},{"$error":"#REF!"},{"$error":"#REF!"},{"$error":"#REF!"},{"$error":"#REF!"},{"$error":"#REF!"},{"$error":"#REF!"},{"$error":"#REF!"},{"$error":"#REF!"},{"$error":"#REF!"},{"$error":"#REF!"},{"$error":"#REF!"},{"$error":"#REF!"},{"$error":"#REF!"},{"$error":"#REF!"},{"$error":"#REF!"},{"$error":"#REF!"},{"$error":"#REF!"},{"$error":"#REF!"},{"$error":"#REF!"},{"$error":"#REF!"},{"$error":"#REF!"},{"$error":"#REF!"},{"$error":"#REF!"},{"$error":"#REF!"},{"$error":"#REF!"},{"$error":"#REF!"},{"$error":"#REF!"},{"$error":"#REF!"},{"$error":"#REF!"},{"$error":"#REF!"},{"$error":"#REF!"},{"$error":"#REF!"},{"$error":"#REF!"},{"$error":"#REF!"},{"$error":"#REF!"},{"$error":"#REF!"},{"$error":"#REF!"},{"$error":"#REF!"},{"$error":"#REF!"},{"$error":"#REF!"},{"$error":"#REF!"},{"$error":"#REF!"},{"$error":"#REF!"},{"$error":"#REF!"},{"$error":"#REF!"},{"$error":"#REF!"},{"$error":"#REF!"},{"$error":"#REF!"},{"$error":"#REF!"},{"$error":"#REF!"},{"$error":"#REF!"},{"$error":"#REF!"},{"$error":"#REF!"},{"$error":"#REF!"},{"$error":"#REF!"},{"$error":"#REF!"},{"$error":"#REF!"},{"$error":"#REF!"},{"$error":"#REF!"},{"$error":"#REF!"},{"$error":"#REF!"},{"$error":"#REF!"},null,null,null,null,null,null,{"$error":"#REF!"},{"$error":"#REF!"},{"$error":"#REF!"},{"$error":"#REF!"},{"$error":"#REF!"},{"$error":"#REF!"},{"$error":"#REF!"},{"$error":"#REF!"},{"$error":"#REF!"},{"$error":"#REF!"},{"$error":"#REF!"},{"$error":"#REF!"},{"$error":"#REF!"},{"$error":"#REF!"},{"$error":"#REF!"},{"$error":"#REF!"},{"$error":"#REF!"},{"$error":"#REF!"},{"$error":"#REF!"},{"$error":"#REF!"},{"$error":"#REF!"},{"$error":"#REF!"},{"$error":"#REF!"},{"$error":"#REF!"},{"$error":"#REF!"},{"$error":"#REF!"},{"$error":"#REF!"},{"$error":"#REF!"},{"$error":"#REF!"},{"$error":"#REF!"},{"$error":"#REF!"},{"$error":"#REF!"},{"$error":"#REF!"},{"$error":"#REF!"},{"$error":"#REF!"},{"$error":"#REF!"},{"$error":"#REF!"},{"$error":"#REF!"},{"$error":"#REF!"},{"$error":"#REF!"},{"$error":"#REF!"},{"$error":"#REF!"},{"$error":"#REF!"},{"$error":"#REF!"},{"$error":"#REF!"},{"$error":"#REF!"},{"$error":"#REF!"},{"$error":"#REF!"},{"$error":"#REF!"},{"$error":"#REF!"},{"$error":"#REF!"},{"$error":"#REF!"},{"$error":"#REF!"},{"$error":"#REF!"},{"$error":"#REF!"},{"$error":"#REF!"},{"$error":"#REF!"},{"$error":"#REF!"},{"$error":"#REF!"},{"$error":"#REF!"},{"$error":"#REF!"},{"$error":"#REF!"},{"$error":"#REF!"},{"$error":"#REF!"},{"$error":"#REF!"},{"$error":"#REF!"},{"$error":"#REF!"},{"$error":"#REF!"},1973727.01165872,{"$error":"#REF!"},{"$error":"#REF!"},{"$error":"#REF!"},{"$error":"#REF!"},{"$error":"#REF!"},{"$error":"#REF!"},{"$error":"#REF!"},{"$error":"#REF!"},{"$error":"#REF!"},{"$error":"#REF!"},{"$error":"#REF!"},{"$error":"#REF!"},{"$error":"#REF!"},{"$error":"#REF!"},{"$error":"#REF!"},{"$error":"#REF!"},{"$error":"#REF!"},{"$error":"#REF!"},{"$error":"#REF!"},{"$error":"#REF!"},{"$error":"#REF!"},{"$error":"#REF!"},{"$error":"#REF!"},{"$error":"#REF!"},{"$error":"#REF!"},{"$error":"#REF!"},{"$error":"#REF!"},0,0,0,0,0,0,{"$error":"#REF!"},{"$error":"#REF!"},{"$error":"#REF!"},{"$error":"#REF!"},{"$error":"#REF!"},{"$error":"#REF!"},{"$error":"#REF!"},{"$error":"#REF!"},{"$error":"#REF!"},{"$error":"#REF!"},{"$error":"#REF!"},{"$error":"#REF!"},{"$error":"#REF!"},{"$error":"#REF!"},{"$error":"#REF!"},{"$error":"#REF!"},{"$error":"#REF!"},{"$error":"#REF!"},{"$error":"#REF!"},{"$error":"#REF!"},{"$error":"#REF!"},{"$error":"#REF!"},{"$error":"#REF!"},{"$error":"#REF!"},{"$error":"#REF!"},{"$error":"#REF!"},{"$error":"#REF!"},{"$error":"#REF!"},{"$error":"#REF!"},{"$error":"#REF!"},{"$error":"#REF!"},{"$error":"#REF!"},{"$error":"#REF!"},{"$error":"#REF!"},{"$error":"#REF!"},{"$error":"#REF!"},{"$error":"#REF!"},{"$error":"#REF!"},{"$error":"#REF!"},{"$error":"#REF!"},{"$error":"#REF!"},{"$error":"#REF!"},{"$error":"#REF!"},{"$error":"#REF!"},{"$error":"#REF!"},{"$error":"#REF!"},{"$error":"#REF!"},{"$error":"#REF!"},{"$error":"#REF!"},{"$error":"#REF!"},{"$error":"#REF!"},{"$error":"#REF!"},{"$error":"#REF!"},{"$error":"#REF!"},{"$error":"#REF!"},{"$error":"#REF!"},{"$error":"#REF!"},{"$error":"#REF!"},{"$error":"#REF!"},{"$error":"#REF!"},{"$error":"#REF!"},{"$error":"#REF!"},{"$error":"#REF!"},{"$error":"#REF!"},{"$error":"#REF!"},{"$error":"#REF!"},{"$error":"#REF!"},{"$error":"#REF!"},{"$error":"#REF!"},{"$error":"#REF!"},{"$error":"#REF!"},{"$error":"#REF!"},{"$error":"#REF!"},{"$error":"#REF!"},{"$error":"#REF!"},{"$error":"#REF!"},{"$error":"#REF!"},{"$error":"#REF!"},{"$error":"#REF!"},{"$error":"#REF!"},{"$error":"#REF!"},{"$error":"#REF!"},{"$error":"#REF!"},{"$error":"#REF!"},{"$error":"#REF!"},{"$error":"#REF!"},{"$error":"#REF!"},{"$error":"#REF!"},{"$error":"#REF!"},{"$error":"#REF!"},{"$error":"#REF!"},{"$error":"#REF!"},{"$error":"#REF!"},{"$error":"#REF!"},{"$error":"#REF!"},{"$error":"#REF!"},{"$error":"#REF!"},{"$error":"#REF!"},{"$error":"#REF!"},0,0,0,0,0,0,1111807.7548169289,1645853.3133061419,1896584.7582168381,4654245.8263399089,310283.05508932727,1111807.7548169289,1645853.3133061419,1896584.7582168381,4654245.8263399089,310283.05508932727,1235237.5525410611,1828571.3602570021,2107138.3112561605,5170947.2240542229,344729.81493694818,1270371.5489265095,1880581.6148267749,2167071.8759854869,5318025.0397387706,354535.00264925137,2268090.1539816475,3357544.2144873329,3869036.8884965931,9494671.2569655739,632978.08379770489,6997314.7650830764,10358403.816183396,11936416.592171919,29292135.173438389,1952809.0115625593,0,0,0,0,0,0,0,0,0,0,297961.31009017496,407766.36537201155,468014.23922549549,1173741.9146876819,78249.460979178795,300003.30475806567,410560.87833606999,471221.64417584339,1181785.8272699791,78785.721817998608,573046.34378742485,784226.06185078504,900096.21902742097,2257368.624665631,150491.2416443754,1171010.9586356655,1602553.3055588666,1839332.1024287601,4612896.3666232927,307526.42444155284,1111807.7548169289,1645853.3133061419,1896584.7582168381,4654245.8263399089,310283.05508932727,1111807.7548169289,1645853.3133061419,1896584.7582168381,4654245.8263399089,310283.05508932727,1533198.862631236,2236337.7256290135,2575152.5504816561,6344689.1387419049,422979.27591612696,1570374.8536845751,2291142.4931628448,2638293.5201613302,6499810.8670087494,433320.72446724994,2841136.4977690722,4141770.2763381181,4769133.1075240141,11752039.881631203,783469.32544208015,8168325.7237187419,11960957.121742262,13775748.694600679,33905031.540061682,2260335.436004112,2357133.7102578073,22.680532731976761,337.8878630319827,1024.343067165971,12.490178741943803,1374.7211089398975,1181.9564604167492,3916.4883275913439,5098.4447880080934,6315.5622317979869,9.6220815277789723E-6,1.4334692239203808E-4,4.3457147242357132E-4,5.2988842710062939E-6,5.8321727908661571E-4,5.0143801994477217E-4,1.6615469502419466E-3,2.1629849701867189E-3,2.6793398288412051E-3,212358.46122432378,103110.09528531655,84255.911323865643,3173.2736490089455,1544.6970119695854,1557.3320382128854,627596.7430722015,284923.79779350123,362003.75733639335,50370.665074061428,22098.22752763885,19294.963762577565,13956.391218009998,5464.1925468015133,39968.924702086333,160.76967098390077,20.25433319498638,1186.3982172921001,51161.145076533947,25964.130859318928,4173.3601540162235,436226.87646300223,192008.81931118001,1806879.6980589044,121528.22312526964,53491.639085763069,377533.27045092022,2072579.6084082338,912262.82700773585,1551019.6789928044,71009.898441184429,31255.586243675691,27326.477518824937,40.227346535046095,39.009786379307634,79.237132914353737,81.39461993432883,93.930764738811419,175.32538467314026,11.723651419341342,16.39808486569196,28.1217362850333,30.0846499559674,37.282969874403086,67.367619830370487,129.99234612516062,281.55710314182943,411.54944926699005,160.32755536197993,325.49859654599896,485.8261519079789,74.573530427310516,153.72140391119021,228.29493433850072,80.262663324033127,182.65768810766781,262.92035143170096,4.7233674992226346E-2,4.5804054457112692E-2,9.3037729449339038E-2,9.5570982310366551E-2,0.11029052611210736,0.20586150842247392,1.3765539827015278E-2,1.9254111388288017E-2,3.3019651215303293E-2,3.5324442218357031E-2,4.3776481261530054E-2,7.9100923479887092E-2,0.15263289173208686,0.33059542443267648,0.48322831616476336,0.18825153271465359,0.3821901329307229,0.57044166564537646,8.7561875257116076E-2,0.18049479911294353,0.26805667437005959,9.4241874744461621E-2,0.21447086666262369,0.30871274140708532,9001.24,6.0000000000000001E-3]
["Comoros",217.892,223.81700000000001,229.91800000000001,236.21299999999999,242.72,249.45599999999999,256.435,263.66800000000001,271.17899999999997,278.995,287.14,295.62799999999999,304.471,313.68,323.26499999999999,333.23099999999999,333.23099999999999,552.16599999999994,563.94799999999998,575.64499999999998,587.26400000000001,598.82299999999998,610.33600000000001,621.79600000000005,633.202,644.57600000000002,655.94200000000001,667.31700000000001,678.69800000000009,690.06799999999998,701.41499999999996,712.71999999999991,723.96599999999989,723.96599999999989,0.78753479003906246,0.82202717753940746,0.82157363453834409,0.7616643330364874,0.84318344094771647,0.68922536413335733,2030,1,0.78922737121582032,0.81589975710440754,0.81589975710440754,0.74951135106319722,0.76831375618743192,0.6787982427232846,2030,1,0.19485105650110246,0.31015563011169434,0.28417765232742548,0.24235723786033092,0.10588731867981699,1.3887221486370361E-2,2030,1,1.6062180583190918E-2,5.4752371353219441E-2,1.8322339966474289E-2,5.2674050050585406E-3,1.721595045420854E-3,2.4719154578147764E-4,2030,1,0.56078674316406252,1,0.64556276144203006,0.71308528683716299,0.29908689905767749,0.10804381460717587,2030,1,0.38275836944580077,0.87914029521654813,0.50554731490763327,0.23660790720957892,0.18535907558371531,0.10713725431152862,2030,1,0.99310305123345244,1,1,0.99,0.98,0.97,2025,1,0.49399999999999999,0.442,0.17102800000000001,0.389376,2030,1,0,0,0.33800000000000002,0.33800000000000002,2030,1,0.92,0.98774878372401587,0.95926581158779312,0.93892083149049099,0.88805838124723568,0.82600619195046443,2030,1,0.88200000000000001,0.94695046439628483,0.9196439628482973,0.90013931888544885,0.85137770897832821,0.79188854489164084,2030,1,2.0549047230877791,2.0549047230877791,2.0549047230877791,2.0549047230877791,2.0549047230877791,2.0549047230877791,2.0549047230877791,2.0549047230877791,2.0549047230877791,2.0549047230877791,2.0549047230877791,2.0549047230877791,2.0549047230877791,2.0549047230877791,2.0549047230877791,10.274523615438895,10.274523615438895,10.274523615438895,30.823570846316695,2.0562223683089482,2.0562223683089482,2.0562223683089482,2.0562223683089482,2.0562223683089482,2.0562223683089482,2.0562223683089482,2.0562223683089482,2.0562223683089482,2.0562223683089482,2.0562223683089482,2.0562223683089482,2.0562223683089482,2.0562223683089482,2.0562223683089482,10.281111841544741,10.281111841544741,10.281111841544741,30.84333552463422,2.2302724686135154,2.2302724686135154,2.2302724686135154,2.2302724686135154,2.2302724686135154,2.2302724686135154,2.2302724686135154,2.2302724686135154,2.2302724686135154,2.2302724686135154,2.2302724686135154,2.2302724686135154,2.2302724686135154,2.2302724686135154,2.2302724686135154,11.151362343067577,11.151362343067577,11.151362343067577,33.454087029202718,1.993440982466935,1.993440982466935,1.993440982466935,1.993440982466935,1.993440982466935,1.993440982466935,1.993440982466935,1.993440982466935,1.993440982466935,1.993440982466935,1.993440982466935,1.993440982466935,1.993440982466935,1.993440982466935,1.993440982466935,9.967204912334676,9.967204912334676,9.967204912334676,29.901614737004035,2.4407240927767262,2.4407240927767262,2.4407240927767262,2.4407240927767262,2.4407240927767262,2.4407240927767262,2.4407240927767262,2.4407240927767262,2.4407240927767262,2.4407240927767262,2.4407240927767262,2.4407240927767262,2.4407240927767262,2.4407240927767262,2.4407240927767262,12.203620463883631,12.203620463883631,12.203620463883631,36.610861391650893,10.775564635253904,10.775564635253904,10.775564635253904,10.775564635253904,10.775564635253904,10.775564635253904,10.775564635253904,10.775564635253904,10.775564635253904,10.775564635253904,10.775564635253904,10.775564635253904,10.775564635253904,10.775564635253904,10.775564635253904,53.877823176269523,53.877823176269523,53.877823176269523,161.63346952880855,3.6460519295825029,3.6460519295825029,3.6460519295825029,3.6460519295825029,3.6460519295825029,3.6460519295825029,3.6460519295825029,3.6460519295825029,3.6460519295825029,3.6460519295825029,3.6460519295825029,3.6460519295825029,3.6460519295825029,3.6460519295825029,3.6460519295825029,18.230259647912515,18.230259647912515,18.230259647912515,54.690778943737556,3.6460519295825029,3.6460519295825029,3.6460519295825029,3.6460519295825029,3.6460519295825029,3.6460519295825029,3.6460519295825029,3.6460519295825029,3.6460519295825029,3.6460519295825029,3.6460519295825029,3.6460519295825029,3.6460519295825029,3.6460519295825029,3.6460519295825029,18.230259647912515,18.230259647912515,18.230259647912515,54.690778943737556,4.1348175377178489,4.1348175377178489,4.1348175377178489,4.1348175377178489,4.1348175377178489,4.1348175377178489,4.1348175377178489,4.1348175377178489,4.1348175377178489,4.1348175377178489,4.1348175377178489,4.1348175377178489,4.1348175377178489,4.1348175377178489,4.1348175377178489,20.674087688589246,20.674087688589246,20.674087688589246,62.022263065767753,3.9963902200134727,3.9963902200134727,3.9963902200134727,3.9963902200134727,3.9963902200134727,3.9963902200134727,3.9963902200134727,3.9963902200134727,3.9963902200134727,3.9963902200134727,3.9963902200134727,3.9963902200134727,3.9963902200134727,3.9963902200134727,3.9963902200134727,19.981951100067363,19.981951100067363,19.981951100067363,59.945853300202103,4.6554225267793976,4.6554225267793976,4.6554225267793976,4.6554225267793976,4.6554225267793976,4.6554225267793976,4.6554225267793976,4.6554225267793976,4.6554225267793976,4.6554225267793976,4.6554225267793976,4.6554225267793976,4.6554225267793976,4.6554225267793976,4.6554225267793976,23.277112633896987,23.277112633896987,23.277112633896987,69.831337901690972,20.078734143675725,20.078734143675725,20.078734143675725,20.078734143675725,20.078734143675725,20.078734143675725,20.078734143675725,20.078734143675725,20.078734143675725,20.078734143675725,20.078734143675725,20.078734143675725,20.078734143675725,20.078734143675725,20.078734143675725,100.39367071837863,100.39367071837863,100.39367071837863,301.18101215513593,2.3030200000000023,2.3030200000000023,2.413453200000002,2.5238864000000021,2.6343196000000022,12.17769920000001,121.77699200000009,1.5378533333333329,1.5378533333333329,1.5378533333333329,1.5378533333333329,1.5378533333333329,1.5378533333333329,1.5378533333333329,1.5378533333333329,1.5378533333333329,1.5378533333333329,1.5378533333333329,1.5378533333333329,1.5378533333333329,1.5378533333333329,1.5378533333333329,7.689266666666664,7.689266666666664,7.689266666666664,23.067799999999998,2.5675738504516423,2.5675738504516423,2.5675738504516423,2.5675738504516423,2.5675738504516423,2.5675738504516423,2.5675738504516423,2.5675738504516423,2.5675738504516423,2.5675738504516423,2.5675738504516423,2.5675738504516423,2.5675738504516423,2.5675738504516423,2.5675738504516423,12.837869252258212,12.837869252258212,12.837869252258212,38.513607756774633,2.3714056090730242,2.3714056090730242,2.3714056090730242,2.3714056090730242,2.3714056090730242,2.3714056090730242,2.3714056090730242,2.3714056090730242,2.3714056090730242,2.3714056090730242,2.3714056090730242,2.3714056090730242,2.3714056090730242,2.3714056090730242,2.3714056090730242,11.857028045365121,11.857028045365121,11.857028045365121,35.571084136095351,3.5741647652069934,3.5741647652069934,3.5741647652069934,3.5741647652069934,3.5741647652069934,3.5741647652069934,3.5741647652069934,3.5741647652069934,3.5741647652069934,3.5741647652069934,3.5741647652069934,3.5741647652069934,3.5741647652069934,3.5741647652069934,3.5741647652069934,17.870823826034968,17.870823826034968,17.870823826034968,53.612471478104908,4.1291882286348427,4.1291882286348427,4.1291882286348427,4.1291882286348427,4.1291882286348427,4.1291882286348427,4.1291882286348427,4.1291882286348427,4.1291882286348427,4.1291882286348427,4.1291882286348427,4.1291882286348427,4.1291882286348427,4.1291882286348427,4.1291882286348427,20.645941143174213,20.645941143174213,20.645941143174213,61.937823429522659,14.180185786699834,14.180185786699834,14.180185786699834,14.180185786699834,14.180185786699834,14.180185786699834,14.180185786699834,14.180185786699834,14.180185786699834,14.180185786699834,14.180185786699834,14.180185786699834,14.180185786699834,14.180185786699834,14.180185786699834,70.900928933499173,70.900928933499173,70.900928933499173,212.70278680049756,3.1804615966861265,3.1804615966861265,3.1804615966861265,3.1804615966861265,3.1804615966861265,3.1804615966861265,3.1804615966861265,3.1804615966861265,3.1804615966861265,3.1804615966861265,3.1804615966861265,3.1804615966861265,3.1804615966861265,3.1804615966861265,3.1804615966861265,15.902307983430632,15.902307983430632,15.902307983430632,47.706923950291902,5.9309328175561555,5.9309328175561555,5.9309328175561555,5.9309328175561555,5.9309328175561555,5.9309328175561555,5.9309328175561555,5.9309328175561555,5.9309328175561555,5.9309328175561555,5.9309328175561555,5.9309328175561555,5.9309328175561555,5.9309328175561555,5.9309328175561555,29.654664087780777,29.654664087780777,29.654664087780777,88.963992263342334,7.9109221107695413,7.9109221107695413,7.9109221107695413,7.9109221107695413,7.9109221107695413,7.9109221107695413,7.9109221107695413,7.9109221107695413,7.9109221107695413,7.9109221107695413,7.9109221107695413,7.9109221107695413,7.9109221107695413,7.9109221107695413,7.9109221107695413,39.554610553847709,39.554610553847709,39.554610553847709,118.66383166154316,8.2882269422832291,8.2882269422832291,8.2882269422832291,8.2882269422832291,8.2882269422832291,8.2882269422832291,8.2882269422832291,8.2882269422832291,8.2882269422832291,8.2882269422832291,8.2882269422832291,8.2882269422832291,8.2882269422832291,8.2882269422832291,8.2882269422832291,41.441134711416147,41.441134711416147,41.441134711416147,124.32340413424845,8.8641126778109385,8.8641126778109385,8.8641126778109385,8.8641126778109385,8.8641126778109385,8.8641126778109385,8.8641126778109385,8.8641126778109385,8.8641126778109385,8.8641126778109385,8.8641126778109385,8.8641126778109385,8.8641126778109385,8.8641126778109385,8.8641126778109385,44.320563389054691,44.320563389054691,44.320563389054691,132.96169016716408,34.174656145105992,34.174656145105992,34.174656145105992,34.174656145105992,34.174656145105992,34.174656145105992,34.174656145105992,34.174656145105992,34.174656145105992,34.174656145105992,34.174656145105992,34.174656145105992,34.174656145105992,34.174656145105992,34.174656145105992,170.87328072552995,170.87328072552995,170.87328072552995,512.61984217658994,1.5734458935574225,1.5734458935574225,1.5734458935574225,1.5734458935574225,1.5734458935574225,1.5734458935574225,1.5734458935574225,1.5734458935574225,1.5734458935574225,1.5734458935574225,1.5734458935574225,1.5734458935574225,1.5734458935574225,1.5734458935574225,1.5734458935574225,7.8672294677871122,7.8672294677871122,7.8672294677871122,23.601688403361344,1.6561953837535006,1.6561953837535006,1.6561953837535006,1.6561953837535006,1.6561953837535006,1.6561953837535006,1.6561953837535006,1.6561953837535006,1.6561953837535006,1.6561953837535006,1.6561953837535006,1.6561953837535006,1.6561953837535006,1.6561953837535006,1.6561953837535006,8.2809769187675037,8.2809769187675037,8.2809769187675037,24.842930756302518,1.7153021624649853,1.7153021624649853,1.7153021624649853,1.7153021624649853,1.7153021624649853,1.7153021624649853,1.7153021624649853,1.7153021624649853,1.7153021624649853,1.7153021624649853,1.7153021624649853,1.7153021624649853,1.7153021624649853,1.7153021624649853,1.7153021624649853,8.5765108123249263,8.5765108123249263,8.5765108123249263,25.729532436974786,1.8630691092436971,1.8630691092436971,1.8630691092436971,1.8630691092436971,1.8630691092436971,1.8630691092436971,1.8630691092436971,1.8630691092436971,1.8630691092436971,1.8630691092436971,1.8630691092436971,1.8630691092436971,1.8630691092436971,1.8630691092436971,1.8630691092436971,9.3153455462184844,9.3153455462184844,9.3153455462184844,27.946036638655446,2.0433447843137249,2.0433447843137249,2.0433447843137249,2.0433447843137249,2.0433447843137249,2.0433447843137249,2.0433447843137249,2.0433447843137249,2.0433447843137249,2.0433447843137249,2.0433447843137249,2.0433447843137249,2.0433447843137249,2.0433447843137249,2.0433447843137249,10.216723921568624,10.216723921568624,10.216723921568624,30.65017176470587,8.8513573333333309,8.8513573333333309,8.8513573333333309,8.8513573333333309,8.8513573333333309,8.8513573333333309,8.8513573333333309,8.8513573333333309,8.8513573333333309,8.8513573333333309,8.8513573333333309,8.8513573333333309,8.8513573333333309,8.8513573333333309,8.8513573333333309,44.256786666666649,44.256786666666649,44.256786666666649,132.77035999999995,2.68122866501548,2.68122866501548,2.68122866501548,2.68122866501548,2.68122866501548,2.68122866501548,2.68122866501548,2.68122866501548,2.68122866501548,2.68122866501548,2.68122866501548,2.68122866501548,2.68122866501548,2.68122866501548,2.68122866501548,13.4061433250774,13.4061433250774,13.4061433250774,40.218429975232212,2.8822649547987607,2.8822649547987607,2.8822649547987607,2.8822649547987607,2.8822649547987607,2.8822649547987607,2.8822649547987607,2.8822649547987607,2.8822649547987607,2.8822649547987607,2.8822649547987607,2.8822649547987607,2.8822649547987607,2.8822649547987607,2.8822649547987607,14.411324773993803,14.411324773993803,14.411324773993803,43.233974321981421,3.0258623046439634,3.0258623046439634,3.0258623046439634,3.0258623046439634,3.0258623046439634,3.0258623046439634,3.0258623046439634,3.0258623046439634,3.0258623046439634,3.0258623046439634,3.0258623046439634,3.0258623046439634,3.0258623046439634,3.0258623046439634,3.0258623046439634,15.129311523219817,15.129311523219817,15.129311523219817,45.387934569659464,3.3848556792569648,3.3848556792569648,3.3848556792569648,3.3848556792569648,3.3848556792569648,3.3848556792569648,3.3848556792569648,3.3848556792569648,3.3848556792569648,3.3848556792569648,3.3848556792569648,3.3848556792569648,3.3848556792569648,3.3848556792569648,3.3848556792569648,16.924278396284823,16.924278396284823,16.924278396284823,50.772835188854472,3.8228275962848293,3.8228275962848293,3.8228275962848293,3.8228275962848293,3.8228275962848293,3.8228275962848293,3.8228275962848293,3.8228275962848293,3.8228275962848293,3.8228275962848293,3.8228275962848293,3.8228275962848293,3.8228275962848293,3.8228275962848293,3.8228275962848293,19.114137981424147,19.114137981424147,19.114137981424147,57.342413944272451,15.797039199999999,15.797039199999999,15.797039199999999,15.797039199999999,15.797039199999999,15.797039199999999,15.797039199999999,15.797039199999999,15.797039199999999,15.797039199999999,15.797039199999999,15.797039199999999,15.797039199999999,15.797039199999999,15.797039199999999,78.985195999999988,78.985195999999988,78.985195999999988,236.95558799999998,3.5420075925827019,3.5420075925827019,3.5420075925827019,3.5420075925827019,3.5420075925827019,3.5420075925827019,3.5420075925827019,3.5420075925827019,3.5420075925827019,3.5420075925827019,3.5420075925827019,3.5420075925827019,3.5420075925827019,3.5420075925827019,3.5420075925827019,17.710037962913511,17.710037962913511,17.710037962913511,53.130113888740517,3.6174795063876339,3.6174795063876339,3.6174795063876339,3.6174795063876339,3.6174795063876339,3.6174795063876339,3.6174795063876339,3.6174795063876339,3.6174795063876339,3.6174795063876339,3.6174795063876339,3.6174795063876339,3.6174795063876339,3.6174795063876339,3.6174795063876339,18.087397531938169,18.087397531938169,18.087397531938169,54.262192595814497,3.7389772897084894,3.7389772897084894,3.7389772897084894,3.7389772897084894,3.7389772897084894,3.7389772897084894,3.7389772897084894,3.7389772897084894,3.7389772897084894,3.7389772897084894,3.7389772897084894,3.7389772897084894,3.7389772897084894,3.7389772897084894,3.7389772897084894,18.694886448542448,18.694886448542448,18.694886448542448,56.08465934562733,4.1354533381095644,4.1354533381095644,4.1354533381095644,4.1354533381095644,4.1354533381095644,4.1354533381095644,4.1354533381095644,4.1354533381095644,4.1354533381095644,4.1354533381095644,4.1354533381095644,4.1354533381095644,4.1354533381095644,4.1354533381095644,4.1354533381095644,20.677266690547821,20.677266690547821,20.677266690547821,62.03180007164346,4.4027344738118899,4.4027344738118899,4.4027344738118899,4.4027344738118899,4.4027344738118899,4.4027344738118899,4.4027344738118899,4.4027344738118899,4.4027344738118899,4.4027344738118899,4.4027344738118899,4.4027344738118899,4.4027344738118899,4.4027344738118899,4.4027344738118899,22.013672369059449,22.013672369059449,22.013672369059449,66.041017107178348,19.436652200600278,19.436652200600278,19.436652200600278,19.436652200600278,19.436652200600278,19.436652200600278,19.436652200600278,19.436652200600278,19.436652200600278,19.436652200600278,19.436652200600278,19.436652200600278,19.436652200600278,19.436652200600278,19.436652200600278,97.183261003001405,97.183261003001405,97.183261003001405,291.54978300900416,9.2497813615917099,9.2497813615917099,9.2497813615917099,9.2497813615917099,9.2497813615917099,9.2497813615917099,9.2497813615917099,9.2497813615917099,9.2497813615917099,9.2497813615917099,9.2497813615917099,9.2497813615917099,9.2497813615917099,9.2497813615917099,9.2497813615917099,46.248906807958548,46.248906807958548,46.248906807958548,138.74672042387567,9.5179870244009557,9.5179870244009557,9.5179870244009557,9.5179870244009557,9.5179870244009557,9.5179870244009557,9.5179870244009557,9.5179870244009557,9.5179870244009557,9.5179870244009557,9.5179870244009557,9.5179870244009557,9.5179870244009557,9.5179870244009557,9.5179870244009557,47.589935122004775,47.589935122004775,47.589935122004775,142.76980536601431,9.61410024063969,9.61410024063969,9.61410024063969,9.61410024063969,9.61410024063969,9.61410024063969,9.61410024063969,9.61410024063969,9.61410024063969,9.61410024063969,9.61410024063969,9.61410024063969,9.61410024063969,9.61410024063969,9.61410024063969,48.070501203198447,48.070501203198447,48.070501203198447,144.21150360959533,9.6402052500020012,9.6402052500020012,9.6402052500020012,9.6402052500020012,9.6402052500020012,9.6402052500020012,9.6402052500020012,9.6402052500020012,9.6402052500020012,9.6402052500020012,9.6402052500020012,9.6402052500020012,9.6402052500020012,9.6402052500020012,9.6402052500020012,48.201026250010003,48.201026250010003,48.201026250010003,144.60307875002999,9.6510601231057596,9.6510601231057596,9.6510601231057596,9.6510601231057596,9.6510601231057596,9.6510601231057596,9.6510601231057596,9.6510601231057596,9.6510601231057596,9.6510601231057596,9.6510601231057596,9.6510601231057596,9.6510601231057596,9.6510601231057596,9.6510601231057596,48.255300615528796,48.255300615528796,48.255300615528796,144.76590184658642,47.673133999740116,47.673133999740116,47.673133999740116,47.673133999740116,47.673133999740116,47.673133999740116,47.673133999740116,47.673133999740116,47.673133999740116,47.673133999740116,47.673133999740116,47.673133999740116,47.673133999740116,47.673133999740116,47.673133999740116,238.36566999870055,238.36566999870055,238.36566999870055,715.09700999610175,16.559272307200001,16.559272307200001,16.559272307200001,16.559272307200001,16.559272307200001,16.559272307200001,16.559272307200001,16.559272307200001,16.559272307200001,16.559272307200001,16.559272307200001,16.559272307200001,16.559272307200001,16.559272307200001,16.559272307200001,82.796361536000006,82.796361536000006,82.796361536000006,248.38908460800002,35.822259466666658,35.822259466666658,35.822259466666658,35.822259466666658,35.822259466666658,35.822259466666658,35.822259466666658,35.822259466666658,35.822259466666658,35.822259466666658,35.822259466666658,35.822259466666658,35.822259466666658,35.822259466666658,35.822259466666658,179.11129733333328,179.11129733333328,179.11129733333328,537.33389199999988,{"$error":"#REF!"},{"$error":"#REF!"},{"$error":"#REF!"},43.023418348535472,2.1511709174267737,0.05,-20,3.6249259179776439,0.3,12.907025504560641,-10,1.671518852036435,1.5832617952261054,0,0,6.8797065652401841,20.495268441833076,1.0247634220916539,0.05,-10,2.7869425797806566,0.3,6.1485805325499223,-5,1.4201671472811173,0.99607004627308759,0,0,5.2031797733348615,44.882547896084546,2.2441273948042273,0.05,-20,3.7815663510365405,0.3,13.464764368825364,-10,1.7437485865947544,2.4236575863885657,0,0,7.9489725240198608,39.365424068326647,1.9682712034163323,0.05,-10,5.3529026379187812,0.3,11.809627220497994,-5,2.727726263224624,1.9131596097206751,0,0,9.993788510864082,342.06167732098987,34.20616773209899,0.1,-20,30.192705363726017,0.3,102.61850319629696,-10,13.289565640027796,54.723903913166211,5.4723903913166216,0.1,103.67856530823664,235.14876422632997,23.514876422632998,0.1,-20,20.755839737836062,0.3,70.544629267898983,-10,9.135852229434974,41.042927934874655,4.104292793487466,0.1,75.038912695633158,1,50.310745369116091,10.062149073823219,0.2,-20,4.8444772462919614,0.3,15.093223610734826,-10,1.9546415085668092,3.8839895424957622,0,0,10.683108297354533,1,30.027454644032851,3.0027454644032852,0.1,-8,5.1104924652624693,0.3,9.0082363932098541,-4,2.5404292537743185,1.9667982791841516,0,0,9.6177199982209398,1,30.027454644032851,3.0027454644032852,0.1,-8,5.1104924652624693,0.3,9.0082363932098541,-4,2.5404292537743185,2.4051991169870313,0,0,10.056120836023819,1,16.794418289546002,3.0027454644032852,0.1,-8,3.0630530806952265,0.3,5.0383254868638003,-4,1.4208674038031941,1.1252260253995821,0,0,5.609146509898002,3.4742492855653166,1.5013727322016426,0.05,-2,2.6759137924819845,0.3,1.0422747856695949,-1,1.0943885249530734,1.1252260253995821,0,0,4.8955283428346394,641.32836711315497,64.132836711315505,0.1,-20,56.608032157535128,0.3,192.39851013394647,-10,24.916487278883849,39.056897557191135,0,0,120.58141699361012,49.332948246772212,4.9332948246772217,0.1,-20,4.3544637411720295,0.3,14.799884474031662,-10,1.9166527483473319,3.5273057996442132,0,0,9.7984222891635753,38.754751077484684,3.8754751077484686,0.1,-20,3.4207596416274635,0.3,11.626425323245405,-10,1.5056752698545186,1.8718544770425103,0,0,6.7982893885244922,269.85194862791212,26.985194862791214,0.1,-20,23.818980367988512,0.3,80.95558458837364,-10,10.484118573197403,5.8827724800884846,0,0,40.185871421274399,5.9881737343873036,7.0082383758005768,0.53924408647420641,-6,-10,2.0873737598675737,0.3,1.7964521203161909,-3,0.65967260453006482,0.96361416415427881,0,0,3.7106605285519172,0.75712541469264771,7.0082383758005768,0.90249968512491829,-10,-10,1.0056501371399726,0.3,0.22713762440779431,-5,5.2463066944924669E-2,10.716158423455633,0,0,11.77427162754053,0.5,0.5,0.5,0.5,0.5,0.5,0.5,0.5,0.5,0.5,0.5,0.5,0.5,0.5,0.5,0.5,0.5,0.5,0.5,0.5,0.5,0.5,0.5,0.5,0.5,0.5,0.5,0.5,0.5,0.5,0.5,0.5,0.5,0.5,0.5,0.5,0.5,0.5,0.5,0.5,0.5,0.5,0.5,0.5,0.5,0.5,0.5,0.5,0.5,0.5,0.5,0.5,0.5,0.5,0.5,0.5,0.5,0.5,0.5,0.5,913.545436784289,null,null,null,null,1558.783463,{"$error":"#REF!"},{"$error":"#REF!"},37000,31000,185000,155000,2000000,53400,{"$error":"#REF!"},0.15,0.15,0.3,230,851.66666666666652,0.05,68.525545982177363,22.110807559089213,74.352246655082055,76.360902217130231,78.009658050695194,79.32823554587722,80.344341583353312,76.518420555574565,81.570633750833323,81.827245242426457,81.874450120872808,81.731609987670225,94.990835134211082,93.87421323973534,92.648537568465457,91.326726216818244,89.920714273789457,388.39538405213796,403.52235965737736,462.76102643301954,1254.6787701425349,68.569485906582102,22.124985442661668,74.399922774265349,76.409866325665334,78.05967937381574,79.379102366755305,80.395859951356371,81.135785515730674,81.622938441431344,81.879714477347051,81.92694962448752,81.784017899389312,95.051745121211042,93.934407226870903,92.707945628315557,91.385286705298597,89.978373199829065,388.64443079185816,408.34940595838594,463.05775788152516,1260.0515946317694,74.373588655298065,23.997767294898459,80.697546134992891,82.87762249017878,84.667084892863983,86.098191188059488,87.201012790984976,88.003569771436702,88.531958030868125,88.810469018944531,88.86170241171466,88.706672150255088,103.09745361434288,101.88553802471974,100.55526189348626,99.12064576108969,97.594643269661816,421.5414574970801,442.91437138321913,502.25354256330036,1366.7093714435998,66.475895535210938,21.44945673077093,72.128315223303559,74.07689039180589,75.676330702484179,76.95546855638176,77.941182100605459,78.658515968153907,79.130794950129513,79.379730999653532,79.425523944800858,79.286956267055103,92.149588050368962,91.06636515377501,89.877350360597319,88.595075377305534,87.23111830543705,376.77818697458088,395.88152212979287,448.91949724748389,1221.5792063518575,81.391584325165425,26.262230123801963,88.312279262489469,90.698070666489045,92.656389240034045,94.222536723430792,95.429422112626426,96.307709490326246,96.885957203681343,97.190748877464486,97.246816724711167,97.077157591318795,112.82587328753107,111.49959965073022,110.04379680635137,108.47380829261466,106.80381007540991,461.31869800506973,484.70838988750199,549.64688811263727,1495.6739760052089,359.33610040443392,115.94524715122222,389.89031005013334,400.42335209126929,409.06914225989317,415.98353438050452,421.31181853892656,420.62400130122211,427.74228237694371,429.08790861583606,429.33544282658704,428.58641389568851,498.11549520766505,492.26012329583119,485.83289225721592,478.90154235312673,471.52865912412733,2036.6781573207268,2135.3760490162772,2426.6387122379665,6598.6929185749696,161.26555239073338,75.352399701156841,177.32329749592549,184.17242152487393,189.96715438214036,194.79238338106197,198.72730223863019,201.84576083452282,204.21659457040164,205.90393447920229,206.96749917090546,207.46286964145042,253.70158477750755,251.00918792339451,247.99792277698046,244.70426295534187,241.16193145509075,944.9825590226319,1026.3966586964827,1238.5748898883151,3209.9541076074302,161.26555239073338,75.352399701156841,177.32329749592549,184.17242152487393,189.96715438214036,194.79238338106197,198.72730223863019,201.84576083452282,204.21659457040164,205.90393447920229,206.96749917090546,207.46286964145042,253.70158477750755,251.00918792339451,247.99792277698046,244.70426295534187,241.16193145509075,944.9825590226319,1026.3966586964827,1238.5748898883151,3209.9541076074302,182.88374579769476,85.453644054144107,201.09408601211788,208.86135831099145,215.43289473103329,220.90496201739535,225.36737007301315,228.9038686040202,231.59252063077486,233.50605416835094,234.71219330862789,235.27396986826989,287.7111413509046,284.65781958097642,281.24288414435006,277.50769806998511,273.49050503638892,1071.6606711445511,1163.9886065800438,1404.6100481826049,3640.2593259072005,176.76107988763462,82.592787770505382,194.36176598132039,201.86900197619639,208.22053348634194,213.50940439466822,217.82241790699442,221.24051991838547,223.83916001960557,225.68863140388765,226.85439086490575,227.39736001126022,278.07901581995498,275.12791455645635,271.82730589442491,268.21716809236813,264.33446448938622,1035.7831237455214,1125.0200622180446,1357.5858688525905,3518.3890548161567,205.91020092226447,96.212908041553675,226.41336152879839,235.1585925098403,242.55753536677213,248.71857756043639,253.74283674389511,257.72460734852001,260.75178112289973,262.90624309257987,264.26424432790759,264.89675283086257,323.93616318791277,320.49840497498923,316.6535031832787,312.44802876181029,307.92504055920466,1206.5909037097424,1310.5436287227699,1581.4611406671957,4098.5956730997077,888.0861313890606,414.96413926851687,976.51580851408755,1014.233795846776,1046.1452723484281,1072.7177107346238,1094.3872292011631,1111.5605175399714,1124.6166509140835,1133.9087976232231,1139.7658268432522,1142.4938219932935,1397.1294899137874,1382.3025149592108,1365.7195387760146,1347.5814208348472,1328.0738729951613,5203.9998166450778,5652.3456149138237,6820.8068374790219,17677.152269037921,229.79109837291074,97.463207260246051,251.67554415100756,260.53332374200414,267.97681243283557,274.12061892693919,279.07164382198351,278.36418139009737,285.78722832123498,287.73117972162873,288.84194929177829,289.19447962912068,348.69241991171862,344.88340116312986,340.64646034544592,336.0309891721601,331.08264572888021,1333.3779430747702,1429.9190183538601,1701.3359163213347,4464.6328777499648,229.83503829731546,97.477385143818509,251.72322027019084,260.58228785053927,268.02683375595609,274.17148574781726,279.12316218998654,282.9815463502535,285.839533011833,287.78364895654931,288.89444879539298,289.24688754083974,348.75332989871856,344.94359515026542,340.70586840529603,336.0895496606405,331.14030465491982,1333.6269898144899,1434.7460646548684,1701.6326477698403,4470.0057022391984,257.25733445299284,109.45141134904256,281.79163214711076,291.73898080117021,300.0999796238973,307.00315320545485,312.56838286399812,316.90743837545688,320.12447866164297,322.3165231872955,323.57389572034253,323.98064201852497,390.80859496524749,386.54335760569614,381.79814603783632,376.6283438310748,371.08514830605077,1493.2021286416311,1606.9029779632629,1906.8635907459054,5006.9686973507996,243.23697542284555,104.04224450127631,266.49008120462395,275.94589236800226,283.8968641888261,290.46487295104998,295.76360000759985,299.89903588653937,302.96995496973511,305.06836240354119,306.27991480970661,306.68431627831535,370.22860387032392,366.19427971023134,361.7046562550222,356.81224346967366,351.56558279482329,1412.561310720102,1520.9015843478373,1806.5053661000743,4739.9682611680146,287.3017852474299,122.47513816535565,314.72564079128784,325.85666317632933,335.21392460680619,342.94111428386719,349.17225885652152,354.03231683884627,357.63773832658109,360.09699197004437,361.51106105261874,361.97391042218135,436.76203647544384,431.99800462571943,426.6972999896301,420.92183705442494,414.72885063461456,1667.909601714812,1795.252018610272,2131.1080287798327,5594.2696491049164,1247.4222317934946,530.90938641973912,1366.4061185642208,1414.6571479380455,1455.2144146083212,1488.7012451151284,1515.6990477400896,1532.1845188411935,1552.3589332910271,1562.9967062390592,1569.1012696698392,1571.0802358889821,1895.2449851214524,1874.562638255042,1851.5524310332305,1826.4829631879738,1799.6025321192888,7240.6779739658059,7787.7216639301005,9247.4455497169874,24275.845187612893,11.458957019357673,11.458957019357673,16.570773721110854,15.781689258200808,34.696928928775399,37.460473681656886,49.309458151152171,50.966630859397121,60.905014922395615,61.637648809550562,69.918274589480845,77.270501431618328,null,null,null,null,null,153.81932374089612,320.69807061244251,0,474.51739435333866,11.458957019357673,11.458957019357673,16.570773721110854,20.650086117013359,34.696928928775399,37.460473681656886,49.309458151152171,50.966630859397121,60.905014922395615,61.637648809550562,69.918274589480845,69.883955566383861,null,null,null,null,null,158.68772059970865,313.31152474720801,0,471.99924534691667,12.008430880770133,12.008430880770133,17.365366720085316,21.640288151809997,36.360697759170797,39.256758552036274,51.673919273460186,53.410555853110566,63.825500065350461,64.593264826135226,73.27095880472649,73.234994133940177,null,null,null,null,null,166.2970304565626,328.33527368326293,0,494.63230413982552,12.557904742182597,12.557904742182597,18.159959719059785,22.630490186606636,38.024466589566217,41.053043422415662,54.038380395768201,55.854480846824032,66.745985208305328,67.54888084271991,76.623643019972164,76.586032701496521,null,null,null,null,null,173.90634031341651,343.35902261931801,0,517.26536293273443,13.107378603595059,13.107378603595059,18.954552718034254,23.620692221403278,39.688235419961629,42.849328292795057,56.402841518076222,58.298405840537498,69.666470351260187,70.504496859304595,79.976327235217823,79.937071269052836,null,null,null,null,null,181.51565017027045,358.38277155537298,0,539.8984217256434,60.591628265263132,null,87.621426599401062,104.32324593503408,183.46725762624948,198.08007763056077,260.73405748960892,269.49670425926638,322.04798546970721,325.9219401472609,369.70747823887814,376.91255510249175,0,0,0,0,0,834.2260652808543,1664.0866632176044,0,2498.3127284984589,71.820130149740592,25.397801668712759,79.775336704556622,83.552898342259638,86.789795749830958,89.528954859306467,91.810439414705328,93.671626223650549,95.147370208581236,96.270159831628149,114.26049531406329,113.9475164223156,113.40525095038502,112.65624541813419,111.7214189820379,110.62016729627699,109.37046017246603,431.45742507065899,513.2971680002388,557.77354281930013,1502.528135890198,119.90967156068693,42.403739036802811,133.19154954108851,139.49850240141905,144.90277143028712,149.47602503599447,153.28515296625963,156.39255890535216,158.85643604079814,160.73102655811689,190.76738564668591,190.24484139569881,189.33948415807853,188.08895722110304,186.52818685373055,184.68955571132068,182.60306588666023,720.35400137504871,856.99224854665204,931.24924983089295,2508.5954997525937,110.74831116195487,39.164000902974934,123.01542470036679,128.84051260836063,133.831883698132,138.0557307552985,141.57383300498401,144.44382635389377,146.71945790312287,148.45082561692897,176.19234136972219,175.70972063904222,174.87353466872244,173.71855071680264,172.2770266091276,170.57887089556937,168.65179344359922,665.3173847671419,791.51617188270995,860.0997763338213,2316.9333329836732,166.91902475341172,59.02768870765432,185.40792636182292,194.18745520974667,201.71041231623147,208.07656295178174,213.3790203015966,217.70465277239998,221.13446759223902,223.74397203746202,265.55577671470013,264.82837436566501,263.56808113668615,261.82729797857218,259.65464364473058,257.0951960774259,254.19071938128235,1002.7613771411794,1192.9672434824663,1296.3359382186973,3492.0645588423426,192.83947926980335,68.193956738603887,214.19947800993361,224.34235880958454,233.03353785958637,240.38827273972501,246.51413595812807,251.51148550779493,255.47390803468599,258.4886361587715,306.79329557791618,305.95293666487566,304.49693552682334,302.48583033238396,299.97578972442909,297.0188916906277,293.66338578311945,1158.4777833769576,1378.2202619440445,1497.6408330573836,4034.3388783783857,662.23661689559754,234.18718705474873,735.58971531776842,770.42172737137048,800.26840105406791,825.52554634210617,846.56258164567362,863.72414976309142,877.33163977942729,887.68462020290758,1053.5692946230879,1050.6833894875972,1045.6832864406956,1038.7768816669961,1030.1570658140558,1020.0026816712207,1008.4794246671273,3978.3679717309865,4732.993093856112,5143.0993402600952,13854.460405847194,84.007701009240662,84.007701009240662,95.921267748161739,102.69984236865031,108.61532991020763,113.73455822474894,118.11994772042191,121.82977958107668,124.91844843522826,127.43670034730397,186.29157571270011,185.10013964167391,183.5997437957507,181.8225145844921,179.79821934846507,177.55441818347799,175.11660665472905,539.09094597219053,745.57664371798296,897.89150256691494,2182.5590922570882,156.6577729982009,156.6577729982009,178.87422233990497,191.51492541105617,202.54614151774427,212.09249140699026,220.27037681354676,227.18848063624299,232.9482381157039,237.64428064102961,347.39700085670893,345.17520786256244,342.37726589992945,339.06308437849367,335.28817351012009,331.10392743107343,326.55789033572262,1005.2981574892424,1390.3532081122478,1674.3903415553395,4070.0417071568295,208.95658041630634,208.95658041630634,238.58979423384153,255.45048385845402,270.16437357724436,282.89768766780873,293.80568755116008,303.0333389475079,310.71594035247756,316.97971500471192,463.37240697741947,460.40888810718064,456.67687804776403,452.25628643367241,447.22115506843363,441.64003556466042,435.5763443241301,1340.9080268885086,1854.5102893892977,2233.3706994386607,5428.7890157164666,218.92259022701114,218.92259022701114,249.96913546028779,267.63398161291849,283.04963802888074,296.39025691404186,307.81850475338513,317.48626128622845,325.53527795709277,332.09779811670398,485.4725674258076,482.36770599494594,478.45770082864306,473.82627278476593,468.55099502890295,462.70368868565095,456.35079474917387,1404.8615167695139,1942.9596107807788,2339.8894520771369,5687.71057962743,234.13385287395104,234.13385287395104,267.33758596679831,286.22982767585296,302.71660059183029,316.98415743037702,329.20646713103082,339.54596239890031,348.15424390626754,355.17274358663167,519.20435692884917,515.88376233560257,511.70208070377896,506.7488500157217,501.10703340520342,494.8534422995059,488.05913417121013,1502.4746387958894,2077.9610691562511,2502.4705405954201,6082.9062485475606,902.67849752471,902.67849752471,1030.6920057489942,1103.5290609269318,1167.0920836259072,1222.0991516439669,1269.2209839695447,1309.0838228499565,1342.27214876677,1369.3312376963813,2001.7379079014852,1988.9357039419656,1972.8136692758662,1953.7170081971458,1931.9655763611254,1907.8555121643685,1881.6607702349659,5792.6332859153445,8011.3608211565588,9648.0125362334711,23452.006643305373,155.82783115898127,109.40550267795342,175.69660445271836,186.25274071090996,195.40512566003861,203.2635130840554,209.93038713512723,215.50140580472723,220.06581864380951,223.70686017893212,300.55207102676343,299.04765606398951,297.00499474613571,294.4787600026263,291.51963833050297,288.17458547975497,284.48706682719506,970.54837104284957,1258.873811718222,1455.6650453862151,3685.0872281472862,276.56744455888781,199.06151203500372,312.06577188099345,331.01342781247524,347.44891294803142,361.56851644298473,373.55552977980642,383.58103954159515,391.80467415650207,398.3753071991465,538.16438650339478,535.42004925826132,531.71675005800796,527.15204159959671,521.81636036385066,515.79348314239405,509.16095622238288,1725.6521588642913,2247.3454566588998,2605.6395913862325,6578.6372069094223,319.7048915782612,248.12058131928126,361.60521893420832,384.29099646681465,403.99625727537637,420.95341842310722,435.37952055614409,447.47716530140167,457.43539825560043,465.43054062164089,639.56474834714163,636.11860874622289,631.55041271648645,625.97483715047508,619.49818167756121,612.21890646022985,604.22813776772932,2006.2254116556508,2646.0264612720075,3093.4704757724821,7745.7223487001402,385.84161498042283,277.95027893466545,435.3770618221107,461.82143682266519,484.76005034511218,504.4668198658236,521.19752505498172,535.19091405862844,546.66974554933176,555.84177015416594,751.02834414050767,747.19608036061095,742.0257819653292,735.65357076333817,728.20563867363353,719.79888476307679,710.54151413045622,2407.6228939106936,3135.9268542632444,3636.2253902958337,9179.7751384697731,426.97333214375442,302.32780961255492,481.53706397673193,510.5721864854375,535.75013845141666,557.37243017010201,575.72060308915889,591.05744790669519,603.62815194095356,613.66137974540311,825.99765250676535,821.83669900047823,816.1990162306023,809.23468034810571,801.08282312963252,791.8723339901336,781.72251995432953,2660.952422172847,3456.1813311002957,4000.1113736528036,10117.245126925945,1564.9151144203074,1136.8656845794587,1766.2817210667627,1873.9507882983023,1967.3604846799751,2047.624697986073,2115.7835656152183,2172.8079726130482,2219.6037885461974,2257.0158578992887,3055.3072025245729,3039.6190934295628,3018.4969557165618,2992.4938898641421,2962.1226421751812,2927.8581938355892,2890.1401949020933,9771.0012576463323,12744.353915012671,14791.111876493567,37306.467049152561,20.449151265755074,null,23.003305166007554,24.340437205961933,25.49806164763039,26.490242407312369,27.330111027415501,28.029923583002429,28.601114282893064,29.054345951086621,29.399557564071518,29.646009009944269,29.802323226132838,29.876525863886339,29.876082619526965,29.80793436473494,29.678530200831233,126.66215745432774,144.73095039099789,149.04139627511231,420.43450412043802,21.52459774225126,null,24.213077795054406,25.620531283673859,26.839036644590202,27.883397433075341,28.767435795798658,29.504052370160391,30.105282704343015,30.582350393614451,30.945717117684659,31.205129753762655,31.369664730355481,31.447769777763138,31.447303222627763,31.375570965764318,31.239361274809355,133.32347895219246,152.34253233956517,156.87966997132008,442.54568126307765,22.292773796891392,null,25.077201101516447,26.534884196325237,27.796875928132927,28.878508165763176,29.794096344643769,30.557001503844656,31.179688719664412,31.673782138277183,32.050116798836903,32.318787427918643,32.489194376228802,32.570086859103711,32.569603653414056,32.495311395071013,32.354240613365157,138.08156573638158,157.77937658854179,162.47843689718275,458.33937922210612,24.21321393349173,null,27.237509367671553,28.820766477953683,30.19147413698974,31.366284997482779,32.360747716756556,33.189374338055316,33.865703757967907,34.402361499934031,34.811116001717529,35.102931613308627,35.288018490912116,35.375879562455147,35.375354730379776,35.294662468337762,35.141438959754673,149.97678269685431,171.37148721098339,176.47535421183949,497.82362411967728,26.556150900144136,null,29.873085452380771,31.609542861540383,33.112883951795048,34.40137273218069,35.492062390734148,36.400869195792311,37.142642104698155,37.731228321155371,38.179535029231872,38.499587519484407,38.702583910825737,38.798946660543891,38.798371044277957,38.709870777723175,38.541820942349865,164.488947388631,187.95386217036213,193.55159333572061,545.99440289471374,115.03588763853359,null,129.40417888263073,136.92616202545508,143.4383323091383,149.01980573581437,153.74445327534863,157.68122099085511,160.89443156956656,163.44406830406766,165.38604251154248,166.77244532441858,167.65178473445496,168.06920872375221,168.06671527022652,167.6833499716312,166.95539199111028,712.53293222838715,814.17820870045034,838.42645069117521,2365.1375916200127,20.820715989343697,null,49.693852612107385,74.82570403321057,97.451361322117734,117.75252130905818,135.89925934413108,152.05072409398369,166.35579251994074,178.95368725432371,189.97455847087443,199.54003223085041,207.76372717815093,214.7517413544368,220.6031108083142,225.41024158097312,229.259316563927,475.62269862062499,886.87479456997301,1097.7881374858021,2460.2856306763997,22.381835914601886,null,53.419856247876211,80.436072934429092,104.7581831423355,126.58150717866252,146.08887250145651,163.4513606116972,178.82901114114068,192.37148551900066,204.21869247053124,214.5013774776553,223.34167821546018,230.85364786830942,237.14374812516064,242.3113135551273,246.44898897107191,511.28449200475984,953.37192722002499,1180.0993767351295,2644.7557959599144,23.496921575500611,null,56.081287416282549,84.443479292442376,109.97734158534824,132.88792565695141,153.36716761383198,171.59467241006411,187.73845301342649,201.95562713662719,214.39307389885775,225.18805265394468,234.4687860992527,242.35500966393286,248.95848906576543,254.38350782238044,258.72732640474709,536.75720156485659,1000.8698791129202,1238.8931190560786,2776.520199733855,26.284635727747382,null,62.734865337298309,94.461995187475466,123.02523769287997,148.65397185267344,171.5629053947703,191.95295190598111,210.01205769414068,225.91598118069317,239.82902746967355,251.90474059466771,262.28655580873357,271.10841415299109,278.49534141727696,284.56399349051281,289.42316998893438,600.43897546509743,1119.6147588451563,1385.8774748584487,3105.9312091687025,29.685646993488465,null,70.852230400937572,106.68458457941591,138.9436709440688,167.88854821145443,193.76170548751526,216.79005289100004,237.18585540461217,255.14761311445389,270.86089082606895,284.49909988235009,296.22423485430045,306.18756762964239,314.53030128612124,321.3841860056346,326.87209916164312,678.13073962339195,1264.4835121184851,1565.1983889373419,3507.8126406792189,122.66975620068204,null,292.78209201450204,440.85183602697339,574.15579468675026,693.76447420880004,800.67991034170518,895.8397619127262,980.12116977326082,1054.3443942050988,1119.2762431360059,1175.6333028394683,1224.0849821558979,1265.2563806693126,1299.7309907026383,1328.0532424546282,1350.7309010903234,2802.2341072787308,5225.2148718665603,6467.8564970728012,14495.305476218091,41.269867255098774,null,72.697157778114942,99.166141239172504,122.94942296974813,144.24276371637055,163.22937037154659,180.08064767698613,194.9569068028338,208.00803320541033,219.37411603494596,229.18604124079468,237.56605040428377,244.62826721832315,250.47919342784115,255.21817594570805,258.93784676475821,602.2848560749527,1031.6057449609709,1246.8295337609143,2880.7201347968376,43.906433656853146,null,77.632934042930614,106.05660421810295,131.59721978692571,154.46490461173786,174.85630829725517,192.95541298185759,208.93429384548369,222.95383591261512,235.1644095882159,245.70650723141796,254.71134294581566,262.30141764607254,268.59105134778838,273.68688452089162,277.68835024588128,644.60797095695227,1105.7144595595903,1336.9790467064495,3087.3014772229922,45.789695372392003,null,81.158488517799,110.97836348876761,137.77421751348118,161.76643382271459,183.16126395847576,202.15167391390875,218.91814173309092,233.62940927490436,246.44319069769466,257.50684008186334,266.95798047548152,274.92509652303659,281.52809271917948,286.87881921745145,291.08156701811225,674.83876730123814,1158.6492557014622,1401.3715559532616,3234.8595789559618,50.497849661239115,null,89.972374704969866,123.28276166542915,153.21671182986972,180.02025685015622,203.92365311152685,225.14232624403644,243.87776145210859,260.31834268062721,274.64014347139107,287.00767220797633,297.57457429964569,306.48429371544626,313.87069614765676,319.85865595885059,324.56460894868906,750.41575816195177,1290.9862460561396,1562.3528290702884,3603.7548332883803,56.241797893632601,null,100.72531585331834,138.29412744095629,172.05655489586385,202.28992094363514,229.25376787824939,253.19092208679234,274.3284975093103,292.87884143560927,309.04042585530084,322.9986874018345,334.9268187651262,344.98651429018628,353.32867233039917,360.09405678335776,365.41392010399301,842.61968701202295,1452.4373742888472,1758.7499822730624,4053.8070435739323,237.70564383921564,null,422.18627089713277,577.77799805242853,717.59412699588859,842.78427994461435,954.42436361705381,1053.5209829035814,1141.0156013428273,1217.7884625091665,1284.6622856475483,1342.405748163887,1391.736766890353,1433.3255893930648,1467.7977059728648,1495.7365924262594,1517.6862930814336,3514.7670395071182,6039.3930805670097,7306.2829477639752,16860.443067838107,1332.7435640227725,null,1593.0310378936981,1765.0652492996419,1917.1029348168249,2050.6584252296511,2167.1471729391774,2267.8917350953475,2354.1274111211364,2427.0075539764525,2487.6085734507151,2536.9346487710204,2575.922166864786,2605.4439017188492,2626.312949428388,2639.2864327263164,2645.0689880243795,9493.0048201789941,12073.569922414674,13092.034438762717,34658.609181356383,1361.1412183921866,null,1626.9748107507257,1802.6746696278713,1957.9519233268063,2094.3531694860967,2213.3240204934218,2316.2152141043885,2404.288371089156,2478.7214196669738,2540.6137054072469,2590.9908042523757,2630.8090553494258,2660.9598294616039,2682.2735478638947,2695.5234658073223,2701.4292338607565,9695.2785936849214,12330.829514520141,13370.995132343003,35397.103240548058,1406.856927501052,null,1681.618888948276,1863.2198575195239,2023.7123009911327,2164.6947615073514,2287.6614042397332,2394.0083332390809,2485.0395424601711,2561.9725223830178,2625.9435415366597,2678.012621173666,2719.1682203428923,2750.3316476611408,2772.3612151886664,2786.0561489660381,2792.160269968268,10020.907213206017,12744.976560792597,13820.077502127006,36585.961276125621,1556.0381158480886,null,1859.935460659467,2060.7931480674715,2238.3039911856904,2394.2360393854674,2530.241897073734,2647.8657092692729,2748.5497436659775,2833.6405917725879,2904.3950104820487,2961.9854242537085,3007.5051069847968,3041.9730616003317,3066.3386143999096,3081.4857402625644,3088.2371339242418,11083.51053637183,14096.436479443597,15285.539657171845,40465.486672987274,1656.6074128021451,null,1980.146141717554,2193.9855910790125,2382.9692512910406,2548.9794436572997,2693.7755831195363,2819.0016153231077,2926.1930240897873,3016.783433347342,3092.1108262490989,3153.4234029712161,3201.8850974970114,3238.5807725827735,3264.5211110447285,3280.647220508984,3287.834967822349,11799.856010864441,15007.512301980554,16273.469169455846,43080.837482300834,7313.3872385662453,null,8741.7063399697199,9685.7385155935208,10520.040401611495,11252.921839265866,11892.150077865601,12444.982607031197,12918.198092426228,13318.125521146374,13650.671657125771,13921.346901421988,14135.289647038913,14297.289213024698,14411.807437925587,14482.999008271225,14514.730593599996,52092.557174306203,66253.324779151561,71842.115899860422,190187.9978533182,2392.5821221962337,null,2894.6886786911878,3235.0430811296596,3536.4188586676619,3801.756482605379,4033.8047662618001,4235.132450380408,4033.45947655277,4555.0654885430822,4678.0030895047357,4778.9034008316203,4859.5864419425552,4921.7488682519233,4966.9715930943175,4996.7269634885624,5012.3855149493584,17501.711867355687,22280.563905812614,24757.419381726715,64539.695154895031,2461.9571753811415,null,2978.6227594380643,3328.8460414237979,3638.9604785051347,3911.9918035709616,4150.768534234815,4357.9338941697515,4150.4132325426208,4687.1436762035082,4813.6459625843227,4917.4719684567517,5000.4944863264009,5064.4593676450686,5110.9933657399051,5141.6115196451065,5157.7241047753478,18009.189617172775,22926.608733956957,25475.282844131831,66411.081195261562,2486.8181698079334,null,3008.701074594152,3362.4609327432104,3675.7069244141403,3951.4953365319584,4192.6832492543972,4401.9405776891381,4192.3243597039418,4734.4747402759886,4862.2544544967914,4967.1289017390227,5050.9897860817746,5115.6005886917947,5162.6044899510152,5193.5318278506456,5209.8071188529184,18191.047517537856,23158.123033904885,25732.533811428148,67081.704362870878,2493.5705865687642,null,3016.8705514827611,3371.5909679969127,3685.6875113929755,3962.2247672819371,4204.0675736046187,4413.8930950455906,4203.7077095672294,4747.3301822130397,4875.4568546049204,4980.6160657208984,5064.7046561532597,5129.4908954203584,5176.6224256049836,5207.6337400000957,5223.953223034212,18240.441371759207,23221.00390715168,25802.404940212909,67263.850219123793,2496.3783475645646,null,3020.2675483472008,3375.3873801236541,3689.8375962924924,3966.6862331887351,4208.8013545613167,4418.8631395827924,4208.4410853169456,4752.675676979301,4880.9466200307734,4986.2242404402014,5070.4075146427658,5135.2667032286681,5182.4513035260215,5213.4975366675499,5229.8353954429367,18260.9801125134,23247.150762350015,25831.458453507941,67339.589328371352,12331.306401518639,null,14919.150612553367,16673.328403417236,18226.611369272403,19594.154623178969,20790.125477916947,21827.763156867681,20788.345863683509,23476.68976421492,24110.306981221544,24630.344577188498,25046.182885146758,25366.566423237819,25599.643177916241,25753.001587651961,25833.705357054772,90203.370486338914,114833.45034317616,127599.09943100755,332635.92026052257,3725.3256862190065,null,4487.7197165848856,5000.1083304293015,5453.5217934844868,5852.4149078350301,6200.951939200977,6503.0241854757551,6387.5868876739059,6982.0730425195343,7165.6116629554508,7315.8380496026402,7435.5086088073413,7527.1927699707721,7593.284542522706,7636.0133962148793,7657.4545029737383,26994.716687534681,34354.133828227292,37849.453820489434,99198.304336251414,3823.0983937733281,null,4605.5975701887901,5131.5207110516694,5596.9124018319408,6006.3449730570583,6364.0925547282368,6674.1491082741395,6554.7016036317764,7165.865095870482,7354.2596679915696,7508.4627727091274,7631.3035416758266,7725.4191971066721,7793.2669136038003,7837.1349854524287,7859.1533386361043,27704.468210857696,35257.43824847709,38846.277976474834,101808.18443580964,3893.6750973089856,null,4690.319963542428,5225.6807902627343,5699.4192254052732,6116.1900980393093,6480.3446534941304,6795.9489109282185,6677.3639021641129,7296.4472626590068,7488.1979960334511,7645.1415229126887,7770.1580064246664,7865.9322363529354,7934.9657051396816,7979.5879768166833,8001.9673888211864,28211.954730743877,35903.09959469748,39552.61131355515,103667.66563899649,4049.6087024168528,null,4876.8060121422277,5432.3841160643842,5923.9915025786659,6356.4608066674045,6734.3094706783522,7061.7588043148635,6952.2574532332073,7580.9707739856276,7779.8518650869692,7942.6014899746069,8072.2097631380566,8171.46395702069,8242.9610400048932,8289.1194802626596,8312.1903569584538,29323.951908131035,37317.440386595277,41087.944597384747,107729.33689211107,4152.9857603667097,null,5000.4136900647545,5569.372971202667,6072.8068475835335,6515.6656768460343,6902.576937680853,7237.8647549059006,7134.6341094067329,7769.459110326643,7973.0574462798722,8139.6476434114174,8272.2926121397777,8373.8474758114426,8446.9724145707496,8494.1447571765348,8517.6703632652861,30060.836123377845,38254.663064330569,42104.927622963798,110420.42681067219,19644.693640084886,null,23660.856952523085,26359.066919010758,28746.651770883898,30847.076462444835,32682.275555782548,34272.745763898878,33706.543956109737,36794.815285361292,37760.978638347311,38551.69147861049,39181.472532185668,39663.855636262517,40011.45061584183,40236.000595923186,40348.43595065477,142295.92766064513,181086.77512232773,199441.21533086797,522823.9181138408,6290.266836201683,null,6865.0171821712665,6581.0392173180153,7269.4039674471032,7419.732832376646,7539.2607533277587,7630.5802717565939,7696.1068638195839,7738.0899249564882,7758.6231098313337,7759.6540641172887,7742.9935825986158,7710.3242261585501,7663.2084284211733,7603.0961211119356,7531.331905590836,35674.45395264079,38583.054234481286,38250.954263881111,112508.4624510032,6080.2440984991226,null,6433.8889809607244,6106.6371882037602,5966.2870949400103,5825.4564273653159,5684.5092086414097,5543.775882795142,5403.5556872819852,5264.1188757342634,5125.7087997822855,4988.5438583297373,4852.8193221860893,4718.7090415066205,4586.3670430637776,4455.9290239703505,4327.513748094294,30016.778900111218,26325.703103923413,22941.33817882113,79283.82018285575,12370.510934700806,null,13298.906163131991,12687.676405521775,13235.691062387114,13245.189259741961,13223.769961969168,13174.356154551737,13099.66255110157,13002.208800690751,12884.331909613618,12748.197922447027,12595.812904784705,12429.033267665171,12249.57547148495,12059.025145082287,11858.84565368513,65691.232852752015,64908.757338404706,61192.292442702237,191792.28263385899,388.39538405213796,403.52235965737736,462.76102643301954,1254.6787701425349,83.645251342835664,388.64443079185816,408.34940595838594,463.05775788152516,1260.0515946317694,84.003439642117954,421.5414574970801,442.91437138321913,502.25354256330036,1366.7093714435998,91.113958096239983,376.77818697458088,395.88152212979287,448.91949724748389,1221.5792063518575,81.438613756790502,461.31869800506973,484.70838988750199,549.64688811263727,1495.6739760052089,99.711598400347256,2036.6781573207268,2135.3760490162772,2426.6387122379665,6598.6929185749696,439.91286123833129,944.9825590226319,1026.3966586964827,1238.5748898883151,3209.9541076074302,213.99694050716201,944.9825590226319,1026.3966586964827,1238.5748898883151,3209.9541076074302,213.99694050716201,1071.6606711445511,1163.9886065800438,1404.6100481826049,3640.2593259072005,242.68395506048003,1035.7831237455214,1125.0200622180446,1357.5858688525905,3518.3890548161567,234.55927032107712,1206.5909037097424,1310.5436287227699,1581.4611406671957,4098.5956730997077,273.23971153998053,5203.9998166450778,5652.3456149138237,6820.8068374790219,17677.152269037921,1178.4768179358614,1333.37794307477,1429.9190183538601,1701.3359163213345,4464.6328777499648,297.64219184999769,1333.6269898144901,1434.7460646548686,1701.6326477698403,4470.0057022391993,298.00038014927998,1493.2021286416311,1606.9029779632629,1906.8635907459052,5006.9686973508005,333.79791315672003,1412.5613107201023,1520.9015843478373,1806.5053661000743,4739.9682611680146,315.99788407786764,1667.9096017148122,1795.252018610272,2131.1080287798331,5594.2696491049164,372.9513099403278,7240.677973965805,7787.7216639301005,9247.4455497169874,24275.845187612889,1618.3896791741927,431.45742507065899,513.2971680002388,557.77354281930013,1502.528135890198,100.16854239267987,720.35400137504871,856.99224854665204,931.24924983089295,2508.5954997525937,167.23969998350626,665.3173847671419,791.51617188270995,860.0997763338213,2316.9333329836732,154.46222219891155,1002.7613771411794,1192.9672434824663,1296.3359382186973,3492.0645588423426,232.80430392282284,1158.4777833769576,1378.2202619440445,1497.6408330573836,4034.3388783783857,268.95592522522571,3978.3679717309865,4732.993093856112,5143.0993402600952,13854.460405847194,923.63069372314624,539.09094597219053,745.57664371798296,897.89150256691494,2182.5590922570882,145.50393948380588,1005.2981574892424,1390.3532081122478,1674.3903415553395,4070.0417071568295,271.33611381045529,1340.9080268885086,1854.5102893892977,2233.3706994386607,5428.7890157164666,361.9192677144311,1404.8615167695139,1942.9596107807788,2339.8894520771369,5687.71057962743,379.18070530849531,1502.4746387958894,2077.9610691562511,2502.4705405954201,6082.9062485475606,405.52708323650404,5792.6332859153445,8011.3608211565588,9648.0125362334711,23452.006643305373,1563.4671095536914,970.54837104284957,1258.8738117182218,1455.6650453862151,3685.0872281472862,245.67248187648573,1725.6521588642911,2247.3454566588998,2605.6395913862325,6578.6372069094232,438.57581379396152,2006.2254116556505,2646.0264612720075,3093.4704757724821,7745.7223487001393,516.38148991334265,2407.6228939106932,3135.9268542632453,3636.2253902958341,9179.7751384697731,611.98500923131814,2660.952422172847,3456.1813311002957,4000.1113736528036,10117.245126925947,674.4830084617297,9771.0012576463305,12744.353915012671,14791.111876493567,37306.467049152569,2487.0978032768376,126.66215745432774,144.73095039099789,149.04139627511231,420.43450412043802,28.028966941362533,133.32347895219246,152.34253233956517,156.87966997132008,442.54568126307765,29.503045417538509,138.08156573638158,157.77937658854179,162.47843689718275,458.33937922210612,30.555958614807075,149.97678269685431,171.37148721098339,176.47535421183949,497.82362411967728,33.188241607978483,164.488947388631,187.95386217036213,193.55159333572061,545.99440289471374,36.399626859647583,712.53293222838715,814.17820870045034,838.42645069117521,2365.1375916200127,157.67583944133418,475.62269862062499,886.87479456997301,1097.7881374858021,2460.2856306763997,164.0190420450933,511.28449200475984,953.37192722002499,1180.0993767351295,2644.7557959599144,176.31705306399428,536.75720156485659,1000.8698791129202,1238.8931190560786,2776.520199733855,185.10134664892365,600.43897546509743,1119.6147588451563,1385.8774748584487,3105.9312091687025,207.06208061124684,678.13073962339195,1264.4835121184851,1565.1983889373419,3507.8126406792189,233.85417604528126,2802.2341072787308,5225.2148718665603,6467.8564970728012,14495.305476218091,966.35369841453939,602.2848560749527,1031.6057449609709,1246.8295337609143,2880.7201347968376,192.04800898645584,644.60797095695227,1105.7144595595901,1336.9790467064495,3087.3014772229922,205.8200984815328,674.83876730123814,1158.6492557014619,1401.3715559532613,3234.8595789559613,215.65730526373073,750.41575816195177,1290.9862460561396,1562.3528290702882,3603.7548332883798,240.25032221922532,842.61968701202295,1452.4373742888472,1758.7499822730624,4053.8070435739328,270.25380290492888,3514.7670395071182,6039.3930805670107,7306.2829477639762,16860.443067838103,1124.0295378558735,946.51496657712471,1061.550478048614,1169.5759655274319,3177.6414101531709,211.84276067687807,1242.3219111190995,1417.6841868446031,1551.186677683738,4211.1927756474406,280.74618504316271,1224.9404080006036,1392.2099198544709,1524.8317557943044,4141.9820836493791,276.1321389099586,1529.5163468126145,1760.2202528232426,1921.7307896780205,5211.467389313877,347.43115928759187,1784.2854287706584,2050.8825140019089,2240.8393145057416,6076.0072572783083,405.06715048522057,6727.5790612801002,7682.547351572839,8408.1645031892367,22818.290916042177,1521.2193944028118,1959.6962036154475,2658.8480969844386,3234.2545299410322,7852.7988305409181,523.51992203606119,2461.5652085166339,3370.1217940287556,4093.0646081787836,9924.7516107241736,661.65010738161152,2949.3258995979163,4019.3687750822619,4876.8738666773443,11845.568541357523,789.70456942383476,3041.0836159801329,4187.5944318439797,5083.3527957881761,12312.030843612289,820.80205624081918,3387.196282129024,4652.9882099975057,5649.1300701999571,13689.314562326486,912.62097082176592,13798.867209839154,18888.921307936944,22936.675870785293,55624.464388561384,3708.2976259040925,2906.2111701925724,3720.3985750330526,4403.8304954684645,11030.44024069409,735.3626827129392,3703.8871196357331,4787.8059808733587,5644.2512858625214,14135.944386371615,942.39629242477417,4174.2663075985201,5411.578694936733,6401.7056224716489,15987.550625006901,1065.8367083337935,4570.5999627927476,5947.8146846672225,7005.0835854661964,17523.498232926166,1168.2332155284112,5171.4817108996822,6703.8707239994146,7889.9693847056988,19765.321819604796,1317.6881213069864,20526.446271119254,26571.468659509781,31344.84037397453,78442.755304603561,5229.5170203069047,null,null,null,null,null,null,null,null,null,null,null,null,null,null,null,null,null,null,null,null,null,null,null,null,null,null,null,null,null,null,null,null,null,null,null,null,null,null,null,null,null,null,null,null,null,null,null,null,null,null,null,null,null,null,null,null,null,null,null,null,null,null,null,null,null,null,null,null,null,null,null,null,null,null,null,null,null,null,null,null,null,null,null,null,null,null,null,null,null,null,null,null,null,null,null,null,null,null,null,null,null,null,null,null,null,null,null,null,null,null,null,null,null,null,null,null,null,null,null,null,null,null,null,null,null,null,null,null,null,null,null,null,null,null,null,null,null,null,null,null,null,null,null,null,null,null,null,null,null,null,null,null,null,null,null,null,null,null,null,null,null,null,null,null,null,null,null,null,null,null,null,null,null,null,null,null,null,null,null,null,null,null,null,null,null,null,null,null,null,null,null,null,null,null,null,null,null,null,null,null,null,null,null,null,null,null,null,null,null,null,null,null,null,null,null,null,null,null,null,null,null,null,null,null,null,null,null,null,null,null,null,null,null,null,null,null,null,null,null,null,null,null,null,null,null,null,null,null,null,null,null,null,null,null,null,null,null,null,null,null,null,null,null,null,null,null,null,null,null,null,null,null,null,null,null,null,null,null,null,null,null,null,null,null,null,null,null,null,null,null,null,null,null,null,null,null,null,null,null,null,null,null,null,null,null,null,null,null,null,null,null,null,null,null,null,null,null,null,null,null,null,null,null,null,null,null,null,null,null,null,null,null,null,null,null,null,null,null,null,null,null,null,null,null,null,null,null,null,null,null,null,null,null,null,null,null,null,null,null,null,null,null,null,null,null,null,null,null,null,null,null,null,null,null,null,null,null,null,null,null,null,null,null,null,null,null,null,null,null,null,null,null,null,null,null,null,null,null,null,null,null,null,null,null,null,null,null,null,null,null,null,null,null,null,null,null,null,null,null,null,null,null,null,null,null,null,null,null,null,null,null,null,null,null,null,null,null,null,null,null,null,null,null,null,null,null,null,null,null,null,null,null,null,null,null,null,null,null,null,null,null,null,null,null,null,null,null,null,null,null,null,null,null,null,null,null,null,null,null,null,null,null,null,null,null,null,null,null,null,null,null,null,null,null,null,null,null,null,null,null,null,null,null,null,null,null,null,null,null,null,null,null,null,null,null,null,null,null,null,null,null,null,null,null,null,null,null,null,null,null,null,null,null,null,null,null,null,null,null,null,null,null,null,null,null,null,null,null,null,null,null,null,null,null,null,null,null,null,null,null,null,null,null,null,null,null,null,null,null,null,null,null,null,null,null,null,null,null,null,null,null,null,null,null,null,null,null,null,null,null,null,null,null,null,null,null,null,null,null,null,null,null,null,null,null,null,null,null,null,null,null,null,null,null,null,null,null,null,null,null,null,null,null,null,null,null,null,null,null,null,null,null,null,null,null,null,null,null,null,null,null,null,null,null,null,null,null,null,null,null,null,null,null,null,null,null,null,null,null,null,null,null,null,null,null,null,null,null,null,null,null,null,null,null,null,null,null,null,null,null,null,null,null,null,null,null,null,null,null,null,null,null,null,null,null,null,null,null,null,null,null,null,null,null,null,null,null,null,null,null,null,null,null,null,null,null,null,null,null,null,null,null,null,null,null,null,null,null,null,null,null,null,null,null,null,null,null,null,null,null,null,null,null,null,null,null,null,null,null,null,null,null,null,null,null,null,null,null,null,null,null,null,null,null,null,null,null,null,null,null,null,null,null,null,null,null,null,null,null,null,null,null,null,null,null,null,null,null,null,null,null,null,null,null,null,null,null,null,null,null,null,null,null,null,null,null,null,null,null,null,null,null,null,null,null,null,null,null,null,null,null,null,null,null,null,null,null,null,null,null,null,null,null,null,null,null,null,null,null,null,null,null,null,null,null,null,null,null,null,null,null,null,null,null,null,null,null,null,null,null,null,null,null,null,null,null,null,null,null,null,null,null,null,null,null,null,null,null,null,null,null,null,null,null,null,null,null,null,null,null,null,null,null,null,null,null,null,null,null,null,null,null,null,null,null,null,null,null,null,null,null,null,null,null,null,null,null,null,null,null,null,null,null,null,null,null,null,null,null,null,null,null,null,null,null,null,null,null,null,null,null,null,null,null,null,null,null,null,null,null,null,null,null,null,null,null,null,null,null,null,null,null,null,null,null,null,null,null,null,null,null,null,null,null,null,null,null,null,null,null,null,null,null,null,null,null,null,null,null,null,null,null,null,null,null,null,null,null,null,null,null,null,null,null,null,null,null,null,null,null,null,null,null,null,null,null,null,null,null,null,null,null,null,null,null,null,null,null,null,null,null,null,null,null,null,null,null,null,null,null,null,null,null,null,null,null,null,null,null,null,null,null,null,null,null,null,null,null,null,null,null,null,null,null,null,null,null,null,null,null,null,null,null,null,null,null,null,null,null,null,null,null,null,null,null,null,null,null,null,null,null,null,null,null,null,null,null,null,null,null,null,null,null,null,null,null,null,null,null,null,null,null,null,null,null,null,null,null,null,null,null,null,null,null,null,null,null,null,null,null,null,null,null,null,null,null,null,null,null,null,null,null,null,null,null,null,null,null,null,null,null,null,null,null,null,null,null,null,null,null,null,null,null,null,null,null,null,null,null,null,null,null,null,null,null,null,null,null,null,null,null,null,null,null,null,null,null,null,null,null,null,null,null,null,null,null,null,null,null,null,null,null,null,null,null,null,null,null,null,null,null,null,null,null,null,null,null,null,null,null,null,null,null,null,null,null,null,null,null,null,null,null,null,null,null,null,null,null,null,null,null,null,null,null,null,null,null,null,null,null,null,null,null,null,null,null,null,null,null,null,null,null,null,null,null,null,null,null,null,null,null,null,null,null,null,null,null,null,null,null,null,null,null,null,null,null,null,null,null,null,null,null,null,null,null,null,null,null,null,null,null,null,null,null,null,null,null,null,null,null,null,null,null,null,null,null,null,null,null,null,null,null,null,null,null,null,null,null,null,null,null,null,null,null,null,null,null,null,null,null,null,null,null,null,null,null,null,null,null,null,null,null,null,null,null,null,null,null,null,null,null,null,null,null,null,null,null,null,null,null,null,null,null,null,null,null,null,null,null,null,null,null,null,null,null,null,null,null,null,null,null,null,null,null,null,null,null,null,null,null,null,null,null,null,null,null,null,null,null,null,null,null,null,null,null,null,null,null,null,null,null,null,null,null,null,null,null,null,null,null,null,null,null,null,null,null,null,null,null,null,null,null,null,null,null,null,null,null,null,null,null,null,null,null,null,null,null,null,null,null,null,null,null,null,null,null,null,null,null,null,null,null,null,null,null,null,null,null,null,null,null,null,null,null,null,null,null,null,null,null,null,null,null,null,null,null,null,null,null,null,null,null,null,null,null,null,null,null,null,null,null,null,null,null,null,null,null,null,null,null,null,null,null,null,null,null,null,null,null,null,null,null,null,null,null,null,null,null,null,null,null,null,null,null,null,null,null,null,null,null,null,null,null,null,null,null,null,null,null,null,null,null,null,null,null,null,null,null,null,null,null,null,null,null,null,null,null,null,null,null,null,null,null,null,null,null,null,null,null,null,null,null,null,null,null,null,null,null,null,null,null,null,null,null,null,null,null,null,null,null,null,null,null,null,null,null,null,null,null,null,null,null,null,null,null,null,null,null,null,null,null,null,null,null,null,null,null,null,null,null,null,null,null,null,null,null,null,null,null,null,null,null,null,null,null,null,null,null,null,null,null,null,null,null,null,null,null,null,null,null,null,null,null,null,null,null,null,null,null,null,null,null,null,null,null,null,null,null,null,null,null,null,null,null,null,null,null,null,null,null,null,null,null,null,null,null,null,null,null,null,null,null,null,null,null,null,null,null,null,null,null,null,null,null,null,null,null,null,null,null,null,null,null,null,null,null,null,null,null,null,null,null,null,null,null,null,null,null,null,null,null,null,null,null,null,null,null,null,null,null,null,null,null,null,null,null,null,null,null,null,null,null,null,null,null,null,null,null,null,null,null,null,null,null,null,null,null,null,null,null,null,null,null,null,null,null,null,null,null,null,null,null,null,null,null,null,null,null,null,null,null,null,null,null,null,null,null,null,null,null,null,null,null,null,null,null,null,null,null,null,null,null,null,null,null,null,null,null,null,null,null,null,null,null,null,null,null,null,null,null,null,null,null,null,null,null,null,null,null,null,null,null,null,null,null,null,null,null,null,null,null,null,null,null,null,null,null,null,null,null,null,null,null,null,null,null,null,null,null,null,null,null,null,null,null,null,null,null,null,null,null,null,null,null,null,null,null,null,null,null,null,null,null,null,null,null,null,null,null,null,null,null,null,null,null,null,null,null,null,null,null,null,null,null,null,null,null,null,null,null,null,null,null,null,null,null,null,null,null,null,null,null,null,null,null,null,null,null,null,null,null,null,null,null,null,null,null,null,null,null,null,null,null,null,null,null,null,null,null,null,null,null,null,null,null,null,null,null,null,null,null,null,null,null,null,null,null,null,null,null,null,null,null,null,null,null,null,null,null,null,null,null,null,null,null,null,null,null,null,null,null,null,null,null,null,null,null,null,null,null,null,null,null,null,null,null,null,null,null,null,null,null,null,null,null,null,null,null,null,null,null,null,null,null,null,null,null,null,null,null,null,null,null,null,null,null,null,null,null,null,null,null,null,null,null,null,null,null,null,null,null,null,null,null,null,null,null,null,null,null,null,null,null,null,null,null,null,null,null,null,null,null,null,null,null,null,null,null,null,null,null,null,null,null,null,null,null,null,null,null,null,null,null,null,null,null,null,null,null,null,null,null,null,null,null,null,null,null,null,null,null,null,null,null,null,null,null,null,null,null,null,null,null,null,null,null,null,null,null,null,null,null,null,null,null,null,null,null,null,null,null,null,null,null,null,null,null,null,null,null,null,null,null,null,null,null,null,null,null,null,null,null,null,null,null,null,null,null,null,null,null,null,null,null,null,null,null,null,null,null,null,null,null,null,null,null,null,null,null,null,null,null,null,null,null,null,null,null,null,null,null,null,null,null,null,null,null,null,null,null,null,null,null,null,null,null,null,null,null,null,null,null,null,null,null,null,null,null,null,null,null,null,null,null,null,null,null,null,null,null,null,null,null,null,null,null,null,null,null,null,null,null,null,null,null,null,null,null,null,null,null,null,null,null,null,null,null,null,null,null,null,null,null,null,null,null,null,null,null,null,null,null,null,null,null,null,null,null,null,null,null,null,null,null,null,null,null,null,null,null,null,null,null,null,null,null,null,null,null,null,153.81932374089612,320.69807061244251,0,474.51739435333866,47.451739435333863,158.68772059970865,313.31152474720801,0,471.99924534691667,47.199924534691668,166.2970304565626,328.33527368326293,0,494.63230413982552,49.463230413982551,173.90634031341651,343.35902261931801,0,517.26536293273455,51.726536293273455,181.51565017027045,358.38277155537298,0,539.8984217256434,53.989842172564337,834.2260652808543,1664.0866632176044,0,2498.3127284984585,249.83127284984585,9493.0048201789941,12073.569922414674,13092.034438762717,34658.609181356383,2310.5739454237587,9695.2785936849214,12330.829514520141,13370.995132343003,35397.103240548066,2359.8068827032043,10020.907213206017,12744.976560792597,13820.077502127006,36585.961276125614,2439.064085075041,11083.51053637183,14096.436479443597,15285.539657171845,40465.486672987274,2697.6991115324849,11799.856010864441,15007.512301980554,16273.469169455846,43080.837482300842,2872.0558321533895,52092.557174306203,66253.324779151561,71842.115899860422,190187.99785331817,12679.199856887879,17501.711867355687,22280.563905812614,24757.419381726715,64539.695154895016,4302.6463436596678,18009.189617172775,22926.608733956957,25475.282844131831,66411.081195261562,4427.4054130174372,18191.047517537856,23158.123033904885,25732.533811428148,67081.704362870893,4472.1136241913928,18240.441371759207,23221.00390715168,25802.404940212909,67263.850219123793,4484.2566812749192,18260.9801125134,23247.150762350015,25831.458453507941,67339.589328371367,4489.3059552247578,90203.370486338914,114833.45034317616,127599.09943100755,332635.92026052263,22175.728017368176,26994.716687534681,34354.133828227292,37849.453820489434,99198.3043362514,6613.2202890834269,27704.468210857696,35257.438248477098,38846.277976474834,101808.18443580963,6787.2122957206411,28211.954730743873,35903.09959469748,39552.611313555157,103667.66563899651,6911.1777092664342,29323.951908131035,37317.440386595277,41087.944597384754,107729.33689211107,7181.9557928074046,30060.836123377841,38254.663064330569,42104.927622963791,110420.42681067222,7361.3617873781477,142295.9276606451,181086.77512232773,199441.21533086797,522823.9181138408,34854.927874256056,35674.45395264079,38583.054234481286,38250.954263881111,112508.46245100319,7500.5641634002122,30016.778900111218,26325.703103923413,22941.33817882113,79283.820182855765,5285.5880121903847,65691.232852752,64908.757338404699,61192.292442702237,191792.28263385894,12786.152175590596,{"$error":"#REF!"},{"$error":"#REF!"},{"$error":"#REF!"},{"$error":"#REF!"},{"$error":"#REF!"},{"$error":"#REF!"},{"$error":"#REF!"},{"$error":"#REF!"},{"$error":"#REF!"},{"$error":"#REF!"},{"$error":"#REF!"},{"$error":"#REF!"},{"$error":"#REF!"},{"$error":"#REF!"},{"$error":"#REF!"},{"$error":"#REF!"},{"$error":"#REF!"},{"$error":"#REF!"},{"$error":"#REF!"},{"$error":"#REF!"},{"$error":"#REF!"},{"$error":"#REF!"},{"$error":"#REF!"},{"$error":"#REF!"},{"$error":"#REF!"},{"$error":"#REF!"},{"$error":"#REF!"},{"$error":"#REF!"},{"$error":"#REF!"},{"$error":"#REF!"},{"$error":"#REF!"},{"$error":"#REF!"},{"$error":"#REF!"},{"$error":"#REF!"},{"$error":"#REF!"},{"$error":"#REF!"},{"$error":"#REF!"},{"$error":"#REF!"},{"$error":"#REF!"},{"$error":"#REF!"},{"$error":"#REF!"},{"$error":"#REF!"},{"$error":"#REF!"},{"$error":"#REF!"},{"$error":"#REF!"},{"$error":"#REF!"},{"$error":"#REF!"},{"$error":"#REF!"},{"$error":"#REF!"},{"$error":"#REF!"},{"$error":"#REF!"},{"$error":"#REF!"},{"$error":"#REF!"},{"$error":"#REF!"},{"$error":"#REF!"},{"$error":"#REF!"},{"$error":"#REF!"},{"$error":"#REF!"},{"$error":"#REF!"},{"$error":"#REF!"},{"$error":"#REF!"},{"$error":"#REF!"},{"$error":"#REF!"},{"$error":"#REF!"},{"$error":"#REF!"},{"$error":"#REF!"},{"$error":"#REF!"},{"$error":"#REF!"},{"$error":"#REF!"},{"$error":"#REF!"},{"$error":"#REF!"},{"$error":"#REF!"},{"$error":"#REF!"},{"$error":"#REF!"},{"$error":"#REF!"},{"$error":"#REF!"},{"$error":"#REF!"},{"$error":"#REF!"},{"$error":"#REF!"},{"$error":"#REF!"},{"$error":"#REF!"},{"$error":"#REF!"},{"$error":"#REF!"},{"$error":"#REF!"},{"$error":"#REF!"},{"$error":"#REF!"},{"$error":"#REF!"},{"$error":"#REF!"},{"$error":"#REF!"},{"$error":"#REF!"},{"$error":"#REF!"},{"$error":"#REF!"},{"$error":"#REF!"},{"$error":"#REF!"},{"$error":"#REF!"},{"$error":"#REF!"},{"$error":"#REF!"},{"$error":"#REF!"},{"$error":"#REF!"},null,null,null,null,null,null,{"$error":"#REF!"},{"$error":"#REF!"},{"$error":"#REF!"},{"$error":"#REF!"},{"$error":"#REF!"},{"$error":"#REF!"},{"$error":"#REF!"},{"$error":"#REF!"},{"$error":"#REF!"},{"$error":"#REF!"},{"$error":"#REF!"},{"$error":"#REF!"},{"$error":"#REF!"},{"$error":"#REF!"},{"$error":"#REF!"},{"$error":"#REF!"},{"$error":"#REF!"},{"$error":"#REF!"},{"$error":"#REF!"},{"$error":"#REF!"},{"$error":"#REF!"},{"$error":"#REF!"},{"$error":"#REF!"},{"$error":"#REF!"},{"$error":"#REF!"},{"$error":"#REF!"},{"$error":"#REF!"},{"$error":"#REF!"},{"$error":"#REF!"},{"$error":"#REF!"},{"$error":"#REF!"},{"$error":"#REF!"},{"$error":"#REF!"},{"$error":"#REF!"},{"$error":"#REF!"},{"$error":"#REF!"},{"$error":"#REF!"},{"$error":"#REF!"},{"$error":"#REF!"},{"$error":"#REF!"},{"$error":"#REF!"},{"$error":"#REF!"},{"$error":"#REF!"},{"$error":"#REF!"},{"$error":"#REF!"},{"$error":"#REF!"},{"$error":"#REF!"},{"$error":"#REF!"},{"$error":"#REF!"},{"$error":"#REF!"},{"$error":"#REF!"},{"$error":"#REF!"},{"$error":"#REF!"},{"$error":"#REF!"},{"$error":"#REF!"},{"$error":"#REF!"},{"$error":"#REF!"},{"$error":"#REF!"},{"$error":"#REF!"},{"$error":"#REF!"},{"$error":"#REF!"},{"$error":"#REF!"},{"$error":"#REF!"},{"$error":"#REF!"},{"$error":"#REF!"},{"$error":"#REF!"},{"$error":"#REF!"},{"$error":"#REF!"},1973738.01165872,{"$error":"#REF!"},{"$error":"#REF!"},{"$error":"#REF!"},{"$error":"#REF!"},{"$error":"#REF!"},{"$error":"#REF!"},{"$error":"#REF!"},{"$error":"#REF!"},{"$error":"#REF!"},{"$error":"#REF!"},{"$error":"#REF!"},{"$error":"#REF!"},{"$error":"#REF!"},{"$error":"#REF!"},{"$error":"#REF!"},{"$error":"#REF!"},{"$error":"#REF!"},{"$error":"#REF!"},{"$error":"#REF!"},{"$error":"#REF!"},{"$error":"#REF!"},{"$error":"#REF!"},{"$error":"#REF!"},{"$error":"#REF!"},{"$error":"#REF!"},{"$error":"#REF!"},{"$error":"#REF!"},0,0,0,0,0,0,{"$error":"#REF!"},{"$error":"#REF!"},{"$error":"#REF!"},{"$error":"#REF!"},{"$error":"#REF!"},{"$error":"#REF!"},{"$error":"#REF!"},{"$error":"#REF!"},{"$error":"#REF!"},{"$error":"#REF!"},{"$error":"#REF!"},{"$error":"#REF!"},{"$error":"#REF!"},{"$error":"#REF!"},{"$error":"#REF!"},{"$error":"#REF!"},{"$error":"#REF!"},{"$error":"#REF!"},{"$error":"#REF!"},{"$error":"#REF!"},{"$error":"#REF!"},{"$error":"#REF!"},{"$error":"#REF!"},{"$error":"#REF!"},{"$error":"#REF!"},{"$error":"#REF!"},{"$error":"#REF!"},{"$error":"#REF!"},{"$error":"#REF!"},{"$error":"#REF!"},{"$error":"#REF!"},{"$error":"#REF!"},{"$error":"#REF!"},{"$error":"#REF!"},{"$error":"#REF!"},{"$error":"#REF!"},{"$error":"#REF!"},{"$error":"#REF!"},{"$error":"#REF!"},{"$error":"#REF!"},{"$error":"#REF!"},{"$error":"#REF!"},{"$error":"#REF!"},{"$error":"#REF!"},{"$error":"#REF!"},{"$error":"#REF!"},{"$error":"#REF!"},{"$error":"#REF!"},{"$error":"#REF!"},{"$error":"#REF!"},{"$error":"#REF!"},{"$error":"#REF!"},{"$error":"#REF!"},{"$error":"#REF!"},{"$error":"#REF!"},{"$error":"#REF!"},{"$error":"#REF!"},{"$error":"#REF!"},{"$error":"#REF!"},{"$error":"#REF!"},{"$error":"#REF!"},{"$error":"#REF!"},{"$error":"#REF!"},{"$error":"#REF!"},{"$error":"#REF!"},{"$error":"#REF!"},{"$error":"#REF!"},{"$error":"#REF!"},{"$error":"#REF!"},{"$error":"#REF!"},{"$error":"#REF!"},{"$error":"#REF!"},{"$error":"#REF!"},{"$error":"#REF!"},{"$error":"#REF!"},{"$error":"#REF!"},{"$error":"#REF!"},{"$error":"#REF!"},{"$error":"#REF!"},{"$error":"#REF!"},{"$error":"#REF!"},{"$error":"#REF!"},{"$error":"#REF!"},{"$error":"#REF!"},{"$error":"#REF!"},{"$error":"#REF!"},{"$error":"#REF!"},{"$error":"#REF!"},{"$error":"#REF!"},{"$error":"#REF!"},{"$error":"#REF!"},{"$error":"#REF!"},{"$error":"#REF!"},{"$error":"#REF!"},{"$error":"#REF!"},{"$error":"#REF!"},{"$error":"#REF!"},{"$error":"#REF!"},{"$error":"#REF!"},0,0,0,0,0,0,4699.1533020124734,5976.5645380683181,6480.7169098027334,17156.434749883527,1143.7623166589017,4901.4270755184025,6233.8241301737871,6759.6776033830174,17894.928809075209,1192.9952539383473,0,0,0,0,0,6289.6590182053096,7999.4310950972394,8674.2221282118553,22963.312241514403,1530.8874827676268,7006.0044926979226,8910.5069176341985,9662.1516404958566,25578.663050827978,1705.2442033885318,22896.243888434106,29120.326680973543,31576.768281893459,83593.338851301101,5572.8892567534067,8516.1833314160303,10841.53186769949,12046.74856182469,31404.463760940209,2093.630917396014,9023.6610812331201,11487.576695843834,12764.612024229808,33275.849801306758,2218.3899867537839,9205.5189815982048,11719.090995791765,13021.862991526126,33946.472968916096,2263.0981979277399,9254.9128358195521,11781.971869038556,13091.734120310883,34128.618825168989,2275.2412550112658,9275.4515765737433,11808.118724236889,13120.787633605918,34204.357934416548,2280.2905289611031,45275.727806640651,57638.290152610542,64045.745331497419,166959.76329074861,11130.650886049907,13215.336633428504,16818.096405767807,18527.465471627424,48560.898510823732,3237.3932340549154,13925.088156751523,17721.40082601762,19524.289627612823,51170.778610381967,3411.385240692131,9205.5189815982048,11719.090995791765,13021.862991526126,33946.472968916096,2263.0981979277399,15544.571854024862,19781.402964135796,21765.956248522736,57091.931066683392,3806.1287377788926,16281.456069271666,20718.625641871087,22782.939274101773,59783.020985244526,3985.5347323496349,68171.971695074753,86758.616833584092,95622.513613390882,250553.10214204973,16703.540142803315,703.48297195923601,6.0591628265263132E-2,1.2474222317934947,1.5649151144203075,0.23770564383921564,3.0500429900530177,19.644693640084885,12.370510934700805,32.015204574785692,34.471832263074589,8.6130909603273484E-5,1.7732088501294636E-3,2.2245245113210613E-3,3.3789821973543053E-4,4.3356315811859556E-3,2.7924902837908657E-2,1.7584662924033968E-2,4.5509565761942629E-2,4.9001658372865485E-2,233.70903160292067,113.47680887629274,92.727020759117877,595.92813471860711,290.08793784170933,292.46074537554483,454.81095652697326,206.48046128698923,262.33927590918375,824.16530742031637,395.50852135592987,343.79328077744537,88.698065285798521,28.031244269149244,40.946529886386422,82.537057074782183,4.3058186846830502,879.51082265507421,136.55869234027105,55.849432182631105,57.423148326943739,3692.3673122664254,1625.2256024202152,7361.6069422012379,6133.8289730458791,2699.8548748775579,13342.044169444738,3427.246231149405,1508.5303951635385,2564.7875370872684,2896.2372477828594,1274.8024580714098,1114.548306336116,17.037088928053699,14.583330348602486,31.620419276656186,17.516638808346464,18.285912966884275,35.802551775230739,16.076095190786948,30.637659011440483,46.713754202227435,16.888470367184102,33.924088934393687,50.812559301577792,160.38990855313341,245.00734490164444,405.39725345477785,159.93600652752957,247.2791200132427,407.2151265407723,51.688534963815158,114.10209439286169,165.79062935667685,86.494038732516458,147.36334172159894,233.8573804541154,2.0004409700258751E-2,1.7123284166656542E-2,3.7127693866915293E-2,2.056748196674732E-2,2.1470739295754535E-2,4.2038221262501854E-2,1.88760413199064E-2,3.5973767919499598E-2,5.4849809239405994E-2,1.9829906497672137E-2,3.9832589746841909E-2,5.9662496244514043E-2,0.18832474585495121,0.2876798570273712,0.47600460288232238,0.18779178848633613,0.29034730334235936,0.47813909182869552,6.0691039096456165E-2,0.13397506190942665,0.19466610100588283,0.10155855819864948,0.17302936405667199,0.27458792225532147,1415.27,1.2E-2]
["Guinea-Bissau",881.95899999999995,916.77800000000002,952.04399999999998,987.74800000000005,1023.912,1060.5440000000001,1097.6079999999999,1135.0450000000001,1172.8230000000001,1210.9079999999999,1249.2660000000001,1287.8620000000001,1326.663,1365.644,1404.7819999999999,1444.05,1444.05,905.83399999999995,913.34099999999989,920.79900000000009,928.25099999999998,935.7639999999999,943.39099999999985,951.14200000000005,959.01099999999997,967.0150000000001,975.17399999999998,983.50799999999981,992.03499999999985,1000.7779999999998,1009.7650000000001,1019.0270000000003,1028.5919999999999,1028.5919999999999,0.3594032287597656,0.37389126277668394,0.37389126277668394,0.37389126277668394,0.3661318506591924,0.26618610719128649,2030,1,0.52121723175048829,0.62580445353081049,0.53075979755908731,0.50831067381858175,0.50513671630574553,0.43607451753821613,2030,1,5.0475146366243874E-2,9.7460342590470303E-2,5.7549985563697614E-2,5.5260945885074318E-2,3.2684658845637975E-2,9.4197989463391286E-3,2030,1,5.9344842963762853E-4,1.0013145423930015E-3,7.6196412674354346E-4,1.2484421129367983E-4,2.146386614088273E-4,8.6448060634909077E-4,2030,1,0.33535712651000649,0.78991745531586133,0.29360964838192549,0.16802857912358615,0.15767653240814997,0.26755341732050975,2030,1,8.4985655397436327E-2,0.1023570897142808,7.1002294486618156E-2,7.1807153358122572E-2,8.1366456773243362E-2,9.8395282654916746E-2,2030,1,0.67313094352200553,1,0.72516223211481146,0.66787412780636823,0.53356402961283911,0.29489232076326383,2025,1,4.5999999999999999E-2,3.0000000000000001E-3,0.32245200000000002,0.32259000000000004,2030,1,0,0,0.33800000000000002,0.33800000000000002,2030,1,0.84,1,1,0.48866599799398203,0.34964894684052161,0.22326980942828489,2030,1,0.72799999999999998,1,0.87987963891675036,0.4235105315947843,0.3030290872617854,0.19350050150451356,2030,1,14.857243143636515,14.857243143636515,14.857243143636515,14.857243143636515,14.857243143636515,14.857243143636515,14.857243143636515,14.857243143636515,14.857243143636515,14.857243143636515,14.857243143636515,14.857243143636515,14.857243143636515,14.857243143636515,14.857243143636515,74.286215718182575,74.286215718182575,74.286215718182575,222.85864715454767,14.857243143636515,14.857243143636515,14.857243143636515,14.857243143636515,14.857243143636515,14.857243143636515,14.857243143636515,14.857243143636515,14.857243143636515,14.857243143636515,14.857243143636515,14.857243143636515,14.857243143636515,14.857243143636515,14.857243143636515,74.286215718182575,74.286215718182575,74.286215718182575,222.85864715454767,14.857243143636515,14.857243143636515,14.857243143636515,14.857243143636515,14.857243143636515,14.857243143636515,14.857243143636515,14.857243143636515,14.857243143636515,14.857243143636515,14.857243143636515,14.857243143636515,14.857243143636515,14.857243143636515,14.857243143636515,74.286215718182575,74.286215718182575,74.286215718182575,222.85864715454767,14.948489588326257,14.948489588326257,14.948489588326257,14.948489588326257,14.948489588326257,14.948489588326257,14.948489588326257,14.948489588326257,14.948489588326257,14.948489588326257,14.948489588326257,14.948489588326257,14.948489588326257,14.948489588326257,14.948489588326257,74.742447941631283,74.742447941631283,74.742447941631283,224.22734382489384,16.123796894502401,16.123796894502401,16.123796894502401,16.123796894502401,16.123796894502401,16.123796894502401,16.123796894502401,16.123796894502401,16.123796894502401,16.123796894502401,16.123796894502401,16.123796894502401,16.123796894502401,16.123796894502401,16.123796894502401,80.618984472512011,80.618984472512011,80.618984472512011,241.85695341753595,75.644015913738201,75.644015913738201,75.644015913738201,75.644015913738201,75.644015913738201,75.644015913738201,75.644015913738201,75.644015913738201,75.644015913738201,75.644015913738201,75.644015913738201,75.644015913738201,75.644015913738201,75.644015913738201,75.644015913738201,378.22007956869101,378.22007956869101,378.22007956869101,1134.6602387060727,6.1562273152049558,6.1562273152049558,6.1562273152049558,6.1562273152049558,6.1562273152049558,6.1562273152049558,6.1562273152049558,6.1562273152049558,6.1562273152049558,6.1562273152049558,6.1562273152049558,6.1562273152049558,6.1562273152049558,6.1562273152049558,6.1562273152049558,30.781136576024778,30.781136576024778,30.781136576024778,92.343409728074363,7.3041563938381548,7.3041563938381548,7.3041563938381548,7.3041563938381548,7.3041563938381548,7.3041563938381548,7.3041563938381548,7.3041563938381548,7.3041563938381548,7.3041563938381548,7.3041563938381548,7.3041563938381548,7.3041563938381548,7.3041563938381548,7.3041563938381548,36.520781969190772,36.520781969190772,36.520781969190772,109.56234590757232,7.575292121229583,7.575292121229583,7.575292121229583,7.575292121229583,7.575292121229583,7.575292121229583,7.575292121229583,7.575292121229583,7.575292121229583,7.575292121229583,7.575292121229583,7.575292121229583,7.575292121229583,7.575292121229583,7.575292121229583,37.876460606147916,37.876460606147916,37.876460606147916,113.62938181844372,7.6136265029586827,7.6136265029586827,7.6136265029586827,7.6136265029586827,7.6136265029586827,7.6136265029586827,7.6136265029586827,7.6136265029586827,7.6136265029586827,7.6136265029586827,7.6136265029586827,7.6136265029586827,7.6136265029586827,7.6136265029586827,7.6136265029586827,38.068132514793412,38.068132514793412,38.068132514793412,114.20439754438023,8.4477450064038315,8.4477450064038315,8.4477450064038315,8.4477450064038315,8.4477450064038315,8.4477450064038315,8.4477450064038315,8.4477450064038315,8.4477450064038315,8.4477450064038315,8.4477450064038315,8.4477450064038315,8.4477450064038315,8.4477450064038315,8.4477450064038315,42.238725032019161,42.238725032019161,42.238725032019161,126.71617509605751,37.097047339635211,37.097047339635211,37.097047339635211,37.097047339635211,37.097047339635211,37.097047339635211,37.097047339635211,37.097047339635211,37.097047339635211,37.097047339635211,37.097047339635211,37.097047339635211,37.097047339635211,37.097047339635211,37.097047339635211,185.48523669817604,185.48523669817604,185.48523669817604,556.45571009452817,1.5534799999999962,6.5326278926902344,7.5704981462529206,10.003751215993667,14.327690190274589,39.988047445211407,399.88047445211407,9.9650025470277122,9.9650025470277122,9.9650025470277122,9.9650025470277122,9.9650025470277122,9.9650025470277122,9.9650025470277122,9.9650025470277122,9.9650025470277122,9.9650025470277122,9.9650025470277122,9.9650025470277122,9.9650025470277122,9.9650025470277122,9.9650025470277122,49.825012735138557,49.825012735138557,49.825012735138557,149.47503820541567,15.801311041636337,15.801311041636337,15.801311041636337,15.801311041636337,15.801311041636337,15.801311041636337,15.801311041636337,15.801311041636337,15.801311041636337,15.801311041636337,15.801311041636337,15.801311041636337,15.801311041636337,15.801311041636337,15.801311041636337,79.00655520818168,79.00655520818168,79.00655520818168,237.01966562454498,17.278075765129881,17.278075765129881,17.278075765129881,17.278075765129881,17.278075765129881,17.278075765129881,17.278075765129881,17.278075765129881,17.278075765129881,17.278075765129881,17.278075765129881,17.278075765129881,17.278075765129881,17.278075765129881,17.278075765129881,86.390378825649407,86.390378825649407,86.390378825649407,259.17113647694816,17.399810175384538,17.399810175384538,17.399810175384538,17.399810175384538,17.399810175384538,17.399810175384538,17.399810175384538,17.399810175384538,17.399810175384538,17.399810175384538,17.399810175384538,17.399810175384538,17.399810175384538,17.399810175384538,17.399810175384538,86.999050876922695,86.999050876922695,86.999050876922695,260.99715263076814,16.107718074845607,16.107718074845607,16.107718074845607,16.107718074845607,16.107718074845607,16.107718074845607,16.107718074845607,16.107718074845607,16.107718074845607,16.107718074845607,16.107718074845607,16.107718074845607,16.107718074845607,16.107718074845607,16.107718074845607,80.538590374228036,80.538590374228036,80.538590374228036,241.61577112268401,76.551917604024084,76.551917604024084,76.551917604024084,76.551917604024084,76.551917604024084,76.551917604024084,76.551917604024084,76.551917604024084,76.551917604024084,76.551917604024084,76.551917604024084,76.551917604024084,76.551917604024084,76.551917604024084,76.551917604024084,382.75958802012036,382.75958802012036,382.75958802012036,1148.278764060361,12.478312906610054,12.478312906610054,12.478312906610054,12.478312906610054,12.478312906610054,12.478312906610054,12.478312906610054,12.478312906610054,12.478312906610054,12.478312906610054,12.478312906610054,12.478312906610054,12.478312906610054,12.478312906610054,12.478312906610054,62.391564533050271,62.391564533050271,62.391564533050271,187.17469359915083,12.857009434346782,12.857009434346782,12.857009434346782,12.857009434346782,12.857009434346782,12.857009434346782,12.857009434346782,12.857009434346782,12.857009434346782,12.857009434346782,12.857009434346782,12.857009434346782,12.857009434346782,12.857009434346782,12.857009434346782,64.285047171733908,64.285047171733908,64.285047171733908,192.85514151520178,12.847288520599978,12.847288520599978,12.847288520599978,12.847288520599978,12.847288520599978,12.847288520599978,12.847288520599978,12.847288520599978,12.847288520599978,12.847288520599978,12.847288520599978,12.847288520599978,12.847288520599978,12.847288520599978,12.847288520599978,64.236442602999887,64.236442602999887,64.236442602999887,192.70932780899972,12.73183329327021,12.73183329327021,12.73183329327021,12.73183329327021,12.73183329327021,12.73183329327021,12.73183329327021,12.73183329327021,12.73183329327021,12.73183329327021,12.73183329327021,12.73183329327021,12.73183329327021,12.73183329327021,12.73183329327021,63.659166466351053,63.659166466351053,63.659166466351053,190.97749939905313,12.526162767087548,12.526162767087548,12.526162767087548,12.526162767087548,12.526162767087548,12.526162767087548,12.526162767087548,12.526162767087548,12.526162767087548,12.526162767087548,12.526162767087548,12.526162767087548,12.526162767087548,12.526162767087548,12.526162767087548,62.630813835437742,62.630813835437742,62.630813835437742,187.89244150631328,63.440606921914572,63.440606921914572,63.440606921914572,63.440606921914572,63.440606921914572,63.440606921914572,63.440606921914572,63.440606921914572,63.440606921914572,63.440606921914572,63.440606921914572,63.440606921914572,63.440606921914572,63.440606921914572,63.440606921914572,317.20303460957285,317.20303460957285,317.20303460957285,951.60910382871873,7.4945466666666674,7.4945466666666674,7.4945466666666674,7.4945466666666674,7.4945466666666674,7.4945466666666674,7.4945466666666674,7.4945466666666674,7.4945466666666674,7.4945466666666674,7.4945466666666674,7.4945466666666674,7.4945466666666674,7.4945466666666674,7.4945466666666674,37.472733333333338,37.472733333333338,37.472733333333338,112.41819999999998,7.4945466666666674,7.4945466666666674,7.4945466666666674,7.4945466666666674,7.4945466666666674,7.4945466666666674,7.4945466666666674,7.4945466666666674,7.4945466666666674,7.4945466666666674,7.4945466666666674,7.4945466666666674,7.4945466666666674,7.4945466666666674,7.4945466666666674,37.472733333333338,37.472733333333338,37.472733333333338,112.41819999999998,13.507555001003007,13.507555001003007,13.507555001003007,13.507555001003007,13.507555001003007,13.507555001003007,13.507555001003007,13.507555001003007,13.507555001003007,13.507555001003007,13.507555001003007,13.507555001003007,13.507555001003007,13.507555001003007,13.507555001003007,67.537775005015035,67.537775005015035,67.537775005015035,202.61332501504509,15.142319526579739,15.142319526579739,15.142319526579739,15.142319526579739,15.142319526579739,15.142319526579739,15.142319526579739,15.142319526579739,15.142319526579739,15.142319526579739,15.142319526579739,15.142319526579739,15.142319526579739,15.142319526579739,15.142319526579739,75.711597632898687,75.711597632898687,75.711597632898687,227.13479289869608,16.628469095285858,16.628469095285858,16.628469095285858,16.628469095285858,16.628469095285858,16.628469095285858,16.628469095285858,16.628469095285858,16.628469095285858,16.628469095285858,16.628469095285858,16.628469095285858,16.628469095285858,16.628469095285858,16.628469095285858,83.142345476429284,83.142345476429284,83.142345476429284,249.4270364292878,60.267436956201941,60.267436956201941,60.267436956201941,60.267436956201941,60.267436956201941,60.267436956201941,60.267436956201941,60.267436956201941,60.267436956201941,60.267436956201941,60.267436956201941,60.267436956201941,60.267436956201941,60.267436956201941,60.267436956201941,301.33718478100968,301.33718478100968,301.33718478100968,904.01155434302893,1.6367733333333319,1.6367733333333319,1.6367733333333319,1.6367733333333319,1.6367733333333319,1.6367733333333319,1.6367733333333319,1.6367733333333319,1.6367733333333319,1.6367733333333319,1.6367733333333319,1.6367733333333319,1.6367733333333319,1.6367733333333319,1.6367733333333319,8.1838666666666597,8.1838666666666597,8.1838666666666597,24.551599999999972,3.0875614288197899,3.0875614288197899,3.0875614288197899,3.0875614288197899,3.0875614288197899,3.0875614288197899,3.0875614288197899,3.0875614288197899,3.0875614288197899,3.0875614288197899,3.0875614288197899,3.0875614288197899,3.0875614288197899,3.0875614288197899,3.0875614288197899,15.437807144098949,15.437807144098949,15.437807144098949,46.313421432296849,8.5994901483115989,8.5994901483115989,8.5994901483115989,8.5994901483115989,8.5994901483115989,8.5994901483115989,8.5994901483115989,8.5994901483115989,8.5994901483115989,8.5994901483115989,8.5994901483115989,8.5994901483115989,8.5994901483115989,8.5994901483115989,8.5994901483115989,42.997450741557998,42.997450741557998,42.997450741557998,128.99235222467402,10.054639330257437,10.054639330257437,10.054639330257437,10.054639330257437,10.054639330257437,10.054639330257437,10.054639330257437,10.054639330257437,10.054639330257437,10.054639330257437,10.054639330257437,10.054639330257437,10.054639330257437,10.054639330257437,10.054639330257437,50.273196651287186,50.273196651287186,50.273196651287186,150.81958995386151,11.377502222935471,11.377502222935471,11.377502222935471,11.377502222935471,11.377502222935471,11.377502222935471,11.377502222935471,11.377502222935471,11.377502222935471,11.377502222935471,11.377502222935471,11.377502222935471,11.377502222935471,11.377502222935471,11.377502222935471,56.887511114677352,56.887511114677352,56.887511114677352,170.66253334403211,34.755966463657629,34.755966463657629,34.755966463657629,34.755966463657629,34.755966463657629,34.755966463657629,34.755966463657629,34.755966463657629,34.755966463657629,34.755966463657629,34.755966463657629,34.755966463657629,34.755966463657629,34.755966463657629,34.755966463657629,173.77983231828813,173.77983231828813,173.77983231828813,521.33949695486444,18.107919649456687,18.107919649456687,18.107919649456687,18.107919649456687,18.107919649456687,18.107919649456687,18.107919649456687,18.107919649456687,18.107919649456687,18.107919649456687,18.107919649456687,18.107919649456687,18.107919649456687,18.107919649456687,18.107919649456687,90.539598247283436,90.539598247283436,90.539598247283436,271.61879474185025,18.577243630429692,18.577243630429692,18.577243630429692,18.577243630429692,18.577243630429692,18.577243630429692,18.577243630429692,18.577243630429692,18.577243630429692,18.577243630429692,18.577243630429692,18.577243630429692,18.577243630429692,18.577243630429692,18.577243630429692,92.886218152148459,92.886218152148459,92.886218152148459,278.65865445644528,18.604161485708612,18.604161485708612,18.604161485708612,18.604161485708612,18.604161485708612,18.604161485708612,18.604161485708612,18.604161485708612,18.604161485708612,18.604161485708612,18.604161485708612,18.604161485708612,18.604161485708612,18.604161485708612,18.604161485708612,93.020807428543065,93.020807428543065,93.020807428543065,279.06242228562917,18.8696462795888,18.8696462795888,18.8696462795888,18.8696462795888,18.8696462795888,18.8696462795888,18.8696462795888,18.8696462795888,18.8696462795888,18.8696462795888,18.8696462795888,18.8696462795888,18.8696462795888,18.8696462795888,18.8696462795888,94.348231397944005,94.348231397944005,94.348231397944005,283.04469419383202,19.143228313881142,19.143228313881142,19.143228313881142,19.143228313881142,19.143228313881142,19.143228313881142,19.143228313881142,19.143228313881142,19.143228313881142,19.143228313881142,19.143228313881142,19.143228313881142,19.143228313881142,19.143228313881142,19.143228313881142,95.716141569405707,95.716141569405707,95.716141569405707,287.14842470821714,93.302199359064929,93.302199359064929,93.302199359064929,93.302199359064929,93.302199359064929,93.302199359064929,93.302199359064929,93.302199359064929,93.302199359064929,93.302199359064929,93.302199359064929,93.302199359064929,93.302199359064929,93.302199359064929,93.302199359064929,466.51099679532462,466.51099679532462,466.51099679532462,1399.5329903859738,13.702466336570746,13.702466336570746,13.702466336570746,13.702466336570746,13.702466336570746,13.702466336570746,13.702466336570746,13.702466336570746,13.702466336570746,13.702466336570746,13.702466336570746,13.702466336570746,13.702466336570746,13.702466336570746,13.702466336570746,68.512331682853727,68.512331682853727,68.512331682853727,205.53699504856124,13.705357159829536,13.705357159829536,13.705357159829536,13.705357159829536,13.705357159829536,13.705357159829536,13.705357159829536,13.705357159829536,13.705357159829536,13.705357159829536,13.705357159829536,13.705357159829536,13.705357159829536,13.705357159829536,13.705357159829536,68.526785799147675,68.526785799147675,68.526785799147675,205.58035739744301,13.713052158249424,13.713052158249424,13.713052158249424,13.713052158249424,13.713052158249424,13.713052158249424,13.713052158249424,13.713052158249424,13.713052158249424,13.713052158249424,13.713052158249424,13.713052158249424,13.713052158249424,13.713052158249424,13.713052158249424,68.565260791247113,68.565260791247113,68.565260791247113,205.69578237374128,13.711967640037082,13.711967640037082,13.711967640037082,13.711967640037082,13.711967640037082,13.711967640037082,13.711967640037082,13.711967640037082,13.711967640037082,13.711967640037082,13.711967640037082,13.711967640037082,13.711967640037082,13.711967640037082,13.711967640037082,68.559838200185411,68.559838200185411,68.559838200185411,205.67951460055622,13.704118987659042,13.704118987659042,13.704118987659042,13.704118987659042,13.704118987659042,13.704118987659042,13.704118987659042,13.704118987659042,13.704118987659042,13.704118987659042,13.704118987659042,13.704118987659042,13.704118987659042,13.704118987659042,13.704118987659042,68.520594938295204,68.520594938295204,68.520594938295204,205.56178481488556,68.536962282345826,68.536962282345826,68.536962282345826,68.536962282345826,68.536962282345826,68.536962282345826,68.536962282345826,68.536962282345826,68.536962282345826,68.536962282345826,68.536962282345826,68.536962282345826,68.536962282345826,68.536962282345826,68.536962282345826,342.68481141172913,342.68481141172913,342.68481141172913,1028.0544342351873,77.302589745999995,77.302589745999995,77.302589745999995,77.302589745999995,77.302589745999995,77.302589745999995,77.302589745999995,77.302589745999995,77.302589745999995,77.302589745999995,77.302589745999995,77.302589745999995,77.302589745999995,77.302589745999995,77.302589745999995,386.51294872999995,386.51294872999995,386.51294872999995,1159.5388461899997,48.161340533333323,48.161340533333323,48.161340533333323,48.161340533333323,48.161340533333323,48.161340533333323,48.161340533333323,48.161340533333323,48.161340533333323,48.161340533333323,48.161340533333323,48.161340533333323,48.161340533333323,48.161340533333323,48.161340533333323,240.80670266666661,240.80670266666661,240.80670266666661,722.4201079999998,{"$error":"#REF!"},{"$error":"#REF!"},{"$error":"#REF!"},76.816184383647837,3.8408092191823919,0.05,-20,6.4721258417141367,0.3,23.044855315094349,-10,2.9844141927217391,2.826835585318241,0,0,12.283375619754116,16.336058327705278,0.81680291638526392,0.05,-10,2.2213740048574002,0.3,4.9008174983115831,-5,1.1319653323360017,0.79393243472647657,0,0,4.1472717719198791,40.51312203642177,2.0256561018210886,0.05,-20,3.4134216137434268,0.3,12.153936610926531,-10,1.5739903949551435,2.1877085899667756,0,0,7.1751205986653455,4.4365037229430762,0.22182518614715382,0.05,-10,0.60327490542102968,0.3,1.3309511168829229,-5,0.30741616554062606,0.21561408093503354,0,0,1.1263051518966893,320.31547711611813,32.031547711611815,0.1,-20,28.273236861119802,0.3,96.094643134835437,-10,12.444695915634103,5.9697023046676279,0.59697023046676279,0.1,47.284605311888299,154.42518141126152,15.442518141126152,0.1,-20,13.630623692214625,0.3,46.327554423378452,-10,5.9996302447886887,4.4772767285007209,0.44772767285007209,0.1,24.555258338354108,1,36.201589205369736,7.2403178410739475,0.2,-20,3.4858910139041646,0.3,10.86047676161092,-10,1.4064814269346417,2.7947626866545439,0,0,7.6871351274933506,1,37.799999999999997,3.78,0.1,-8,6.4333330106389823,0.3,11.339999999999998,-4,3.1980141817232672,2.4758999999999998,0,0,12.107247192362248,1,37.799999999999997,3.78,0.1,-8,6.4333330106389823,0.3,11.339999999999998,-4,3.1980141817232672,3.0277799999999995,0,0,12.659127192362249,1,6.0244702157196235,3.78,0.1,-8,1.5169654134347226,0.3,1.807341064715887,-4,0.50969156580002084,0.40363950445321478,0,0,2.4302964836879584,6.9637647946008094,1.89,0.05,-2,4.7615978956328711,0.3,2.0891294383802426,-1,2.1935859102992521,0.40363950445321478,0,0,7.3588233103853371,60.299470068248226,6.0299470068248233,0.1,-20,5.3224440329542793,0.3,18.089841020474466,-10,2.3427171725492291,3.6722377271563169,0,0,11.337398932659825,38.556609380605593,3.8556609380605593,0.1,-20,3.4032702990007384,0.3,11.566982814181678,-10,1.4979771929833403,2.7567975707133003,0,0,7.6580450626973793,30.890050348658175,3.0890050348658176,0.1,-20,2.7265673142697531,0.3,9.2670151045974514,-10,1.2001208523193601,1.4919894318401898,0,0,5.4186775984293032,215.08950639712742,21.508950639712744,0.1,-20,18.98527231796168,0.3,64.526851919138224,-10,8.3565225316469594,4.6889512394573778,0,0,32.030746089066014,9.4616369491858823,11.557545823199126,0.54985704955110926,-5,-10,3.6821547437783635,0.3,2.8384910847557645,-2.5,1.2359550648362587,1.8923273898371764,0,0,6.8104371984517984,0.90831714712184464,3.9482915219499728,0.81297295931907154,-10,-10,0.62895304146169806,0.3,0.2724951441365534,-5,6.2939510907873739E-2,1.8923273898371764,0,0,2.5842199422067482,0.5,0.5,0.5,0.5,0.5,0.5,0.5,0.5,0.5,0.5,0.5,0.5,0.5,0.5,0.5,0.5,0.5,0.5,0.5,0.5,0.5,0.5,0.5,0.5,0.5,0.5,0.5,0.5,0.5,0.5,0.5,0.5,0.5,0.5,0.5,0.5,0.5,0.5,0.5,0.5,0.5,0.5,0.5,0.5,0.5,0.5,0.5,0.5,0.5,0.5,0.5,0.5,0.5,0.5,0.5,0.5,0.5,0.5,0.5,0.5,482.5040776642399,null,null,null,null,1242.4515269999999,{"$error":"#REF!"},{"$error":"#REF!"},37000,31000,185000,155000,2000000,53400,{"$error":"#REF!"},0.15,0.15,0.3,230,851.66666666666652,0.05,726.59239765224822,127.42211505625635,784.06873881013689,801.47150473145314,815.43893072645312,826.25872997197132,834.19900427635991,794.47524216796182,842.42254920772348,843.15455230674229,841.90658561127952,838.86555780221727,912.43119168834403,902.58731360971626,891.61194275923845,879.63516207227588,866.77723137645467,4061.4369085163744,4160.8244870959243,4453.0428415060296,12675.304237118329,726.59239765224822,127.42211505625635,784.06873881013689,801.47150473145314,815.43893072645312,826.25872997197132,834.19900427635991,839.5094594180357,842.42254920772348,843.15455230674229,841.90658561127952,838.86555780221727,912.43119168834403,902.58731360971626,891.61194275923845,879.63516207227588,866.77723137645467,4061.4369085163744,4205.8587043459984,4453.0428415060296,12720.338454368402,726.59239765224822,127.42211505625635,784.06873881013689,801.47150473145314,815.43893072645312,826.25872997197132,834.19900427635991,839.5094594180357,842.42254920772348,843.15455230674229,841.90658561127952,838.86555780221727,912.43119168834403,902.58731360971626,891.61194275923845,879.63516207227588,866.77723137645467,4061.4369085163744,4205.8587043459984,4453.0428415060296,12720.338454368402,731.05479840744886,128.20468385864621,788.88413316810284,806.39377897976863,820.44698656635933,831.33323610846787,839.32227597408007,844.66534552117935,847.59632618630098,848.33282491614716,847.07719377560863,844.01748935386001,918.03492997684634,908.13059526653069,897.08781866926824,885.0374820307776,872.10058375996834,4086.380410796779,4231.6891797530961,4480.3914097033912,12798.461000253263,788.53311691625595,138.28462542964883,850.90921469627074,869.79553569170082,884.95366009641793,896.69582812768874,905.31299679975382,911.07615886784026,914.23758441969267,915.03198949071577,913.67763583746978,910.37736577593728,990.21434008723622,979.53128877956351,967.62028693863704,954.62250684042976,940.66846025058157,4407.6672354118327,4564.4007343916555,4832.6568828964482,13804.724852699934,3699.3651082804495,648.75565445706411,3991.9995642947842,4080.6038288658292,4151.7174388421372,4206.8052541520701,4247.2322856029132,4229.2356653930528,4289.1015582291639,4292.8284713270896,4286.4745864469169,4270.9915285364496,4645.5428451291145,4595.4238248752426,4539.5439338856204,4478.5654750880349,4413.100738139914,20678.358371757735,21368.631809932675,22672.176817117925,64719.166998808345,145.27805980172215,14.338865836675089,158.46694336801559,163.4817399374372,167.65960136109069,171.06886432730457,173.7732550804979,175.8321735525995,177.30096088885361,178.2311513052091,178.67070916288938,178.66425209692386,187.05608076713003,185.85991541703191,184.35350712801542,182.56911523972826,180.53663027248436,834.4504040743459,888.69924700647539,920.37524882438993,2643.524899905211,172.36752560522092,17.012581442966258,188.01569181090986,193.96557906342741,198.92247094992084,202.96744664980164,206.17611520604322,208.6189526375411,210.36161934947231,211.46525895360597,211.98677954929735,211.97911845797591,221.93574057394142,220.51653066783095,218.72922796236148,216.61210707766728,214.2006321095146,990.04730368010291,1054.4117289478927,1091.9942383913158,3136.4532710193112,178.76593658024581,17.644101141563606,194.99497437434988,201.16572587471808,206.3066212812318,210.50174949285142,213.82952621655889,216.3630435935803,218.17039939225376,219.31500692077327,219.85588674954207,219.84794127280279,230.17416062001752,228.70226858479228,226.84861987124381,224.6529098819226,222.15191916625281,1026.7985972397103,1093.5522779289522,1132.5298781242291,3252.8807532928922,179.67057253927663,17.733388220873991,195.98173655636182,202.1837148318543,207.3506254789408,211.56698292419168,214.91159969329865,217.4579378065628,219.27443963762653,220.42483939451506,220.96845631823595,220.96047063381445,231.33894529051952,229.85960482027167,227.99657581138416,225.78975454297955,223.27610769058779,1031.9946594846474,1099.0861437907547,1138.2609881557428,3269.3417914311444,199.35456268790762,19.6761873899768,217.45271267207332,224.33415491070386,230.06713164662563,234.74541636935143,238.45645599003396,241.2817607344397,243.29727124924219,244.57370420768143,245.17687762983124,245.1680170657271,256.68351594411286,255.04210484186731,252.9749698175134,250.52637802712994,247.73734606753703,1145.0558715887882,1219.4976308869218,1262.9643146981605,3627.5178171738708,875.4366572143731,86.405124032055753,954.91205878171047,985.13091461814088,1010.3064507178098,1030.8504597635008,1047.1469521864326,1059.5538683247235,1068.4046905174484,1074.0099607817847,1076.6587094097961,1076.6197995272441,1127.1884431957214,1119.9804243317942,1110.9029005905181,1100.1502647694276,1087.9026353063766,5028.3468360675943,5355.247028560997,5546.1246681938374,15929.718532822428,871.8704574539704,141.76098089293143,942.53568217815246,964.95324466889031,983.09853208754384,997.32759429927592,1007.9722593568579,970.30741572056127,1019.7235100965771,1021.3857036119514,1020.5772947741689,1017.5298098991411,1099.4872724554741,1088.4472290267481,1075.965449887254,1062.2042773120043,1047.3138616489391,4895.8873125907203,5049.5237341024003,5373.4180903304205,15318.829137023538,898.9599232574692,144.43469649922261,972.08443062104675,995.43708379488055,1014.3614016763739,1029.226176621773,1040.3751194824031,1048.1284120555767,1052.7841685571957,1054.6198112603483,1053.8933651605769,1050.8446762601932,1134.3669322622854,1123.1038442775473,1110.3411707215998,1096.2472691499431,1080.9778634859692,5051.4842121964775,5260.2704332938911,5545.0370798973454,15856.791725387711,905.35833423249403,145.06621619781995,979.0637131844868,1002.6372306061712,1021.7455520076849,1036.7604794648228,1048.0285304929189,1055.8725030116161,1060.5929485999773,1062.4695592275157,1061.7624723608217,1058.7134990750201,1142.6053523083615,1131.2895821945085,1118.4605626304822,1104.2880719541986,1088.9291505427075,5088.2355057560844,5299.4109822749506,5585.5727196302587,15973.219207661294,910.72537094672543,145.9380720795202,984.86586972446469,1008.577493811623,1027.7976120453002,1042.9002190326596,1054.2338756673787,1062.1232833277422,1066.8707658239275,1068.7576643106622,1068.0456500938446,1064.9779599876745,1149.3738752673657,1137.9902000868024,1125.0843944806525,1110.8272365737571,1095.3766914505561,5118.3750702814259,5330.7753235438513,5618.652397859134,16067.802791684411,987.88767960416362,157.96081281962563,1068.3619273683441,1094.1296906024047,1115.0207917430434,1131.4412444970401,1143.7694527897877,1152.3579196022799,1157.5348556689348,1159.6056936983973,1158.8545134673011,1155.5453828416644,1246.897856031349,1234.5733936214308,1220.5952567561503,1205.1488848675597,1188.4058063181187,5552.7231070006201,5783.8983652785773,6095.621197594608,17432.242669873809,4574.8017654948226,735.16077848911982,4946.9116230764948,5065.7347434839703,5162.0238895599468,5237.6557139155711,5294.379237789346,5288.7895337177761,5357.5062487466121,5366.8384321088743,5363.1332958567127,5347.6113280636937,5772.731288324836,5715.4042492070366,5650.446834476139,5578.7157398574627,5501.0033734462904,25706.705207825325,26723.878838493671,28218.301485311764,80648.88553163076,13.754146533116433,13.754146533116433,17.788884270426085,16.941794543262937,35.929710909897345,37.704130452842215,50.543654782439468,51.298136670533623,62.129707589230151,62.038562866858499,71.124562668281627,79.20455214197996,null,null,null,null,null,158.90817495886805,325.79552193688386,0,484.70369689575188,57.838350852528073,57.838350852528073,74.805058040543997,87.401681170057074,151.09008913297407,158.55180257606725,212.5440231160176,215.71673819873092,261.26519862637042,260.88192072408879,299.08997987886056,295.78449061688076,null,null,null,null,null,684.39265403566003,1332.7383280449314,0,2017.1309820805914,67.027409964884797,67.027409964884797,86.689700152669332,101.28760984805129,175.09450384863777,183.74169586948076,246.31192215883468,249.98870186323913,302.7736669487241,302.32949582855827,346.60785451584638,342.77720615482798,null,null,null,null,null,793.1254318776738,1544.4769253111958,0,2337.6023571888695,88.570860330109767,88.570860330109767,114.55285723114942,133.84271822113243,231.37207379894647,242.79858180704292,325.47966371668389,330.33820654019451,400.08892154716733,399.50198825722686,458.01196686139627,452.95010006488303,null,null,null,null,null,1048.0458947749551,2040.8911832708682,0,3088.9370780458225,126.85399899460054,126.85399899460054,164.06624009148132,191.6937916079639,331.37843199985792,347.74383965163514,466.16231094509425,473.12087027433353,573.02005944771975,572.17943495006318,655.97928446449998,648.72951808397193,null,null,null,null,null,1501.0446142960327,2923.0291672205881,0,4424.0737815166212,354.0447666752396,null,457.9027397862701,531.16759539046768,924.86480969031345,970.54005035706837,1301.04157471907,1320.4626535470318,1599.2775541592118,1596.9314026267957,1830.8136483888848,1819.4458670625436,0,0,0,0,0,4185.5167699431895,8166.9311257844674,0,12352.447895727655,423.62176013548236,207.17240295270614,472.82474891802752,497.16927400054544,518.12310792119547,535.953970643052,550.91177363194015,563.22970882904497,573.12527429392696,580.80124008000132,726.66899475337198,723.78239456271865,719.52293317763008,714.0279048619542,707.42464129929601,699.83114908532161,691.35670909739656,2574.9828751147606,3167.6076125190639,3532.1633375215984,9274.7538251554251,671.72879929697444,328.50925655561946,749.74902320178808,788.35166391104929,821.57775148427709,849.85180426841941,873.57010202213485,893.10241267851598,908.79361868730064,920.96524858486612,1152.2649147577088,1147.6876888864551,1140.9335436769591,1132.2201839774684,1121.7495171661901,1109.7086640104583,1096.2709090755313,4083.1003448876691,5022.8138835948466,5600.8828179066077,14706.797046389123,734.50747582214206,359.21119515705021,819.81934243167166,862.02972289638228,898.36106634986947,929.27756593047036,955.2125370558897,976.5703055663472,993.72798606207687,1007.0371566113504,1259.9537118296548,1254.9487059039291,1247.5633293139192,1238.0356332474387,1226.5863950165106,1213.4202233897802,1198.7265978249688,4464.7002346642839,5492.2378659733586,6124.3321787926179,16081.270279430259,739.68252167865455,361.74205354624451,825.59546157380987,868.10323949425253,904.69055906042672,935.82488392983555,961.94258248728147,983.45082929111595,1000.7293959401927,1014.132337581214,1268.8308416757513,1263.7905724803782,1256.353161481218,1246.758337079528,1235.2284320959557,1221.9694968906833,1207.1723459178957,4496.156726545606,5530.9339769686521,6167.4817734652806,16194.57247697954,684.75445444492209,334.87945877604017,764.28758732760491,803.63878115265527,837.50916380314823,866.33148556367894,890.50971054927686,910.42077695220144,926.41625492094931,938.82390782928962,1174.6087616114112,1169.9427776493992,1163.0576611812489,1154.175338622425,1143.5016325857994,1131.2272923426335,1117.5289626609811,4162.276728396364,5120.2124789632508,5709.4908873930881,14991.980094752702,3254.2950113781753,1591.5143669876604,3632.276163452902,3819.2926814548846,3980.2616486189172,4117.239710335456,4232.1467057465234,4326.774033317226,4402.7925299044464,4461.7598906867215,5582.3272246278975,5560.1521394828796,5527.4306288309763,5485.2173977888142,5434.4906181637525,5376.1568257188774,5311.0555245767737,19781.216909608684,24333.805818019173,27134.350995079192,71249.373722707052,320.59574894606703,320.59574894606703,365.13786833288913,390.17141687591538,411.99284091295533,430.85129164742921,446.97947532575608,460.59465445501917,471.8995909567202,481.08343451618441,705.31438139417082,700.44022958414564,694.43093036964649,687.40564552572505,679.47476211734806,670.7404579779643,661.29723323027429,2045.1328930949453,2819.3322909062399,3393.3490292209581,8257.8142132221437,330.3253091712092,330.3253091712092,376.21920953003183,402.01248560843277,424.49615441966171,443.92692850145738,460.54457635682439,474.57295405702837,486.22097701853539,495.68353531237705,726.71952720160289,721.69745280140626,715.50578111687082,708.2672902893629,700.0957174519649,691.09634136939985,681.36653008959172,2107.1993544164084,2904.8944463909497,3496.3316603171902,8508.4254611245469,330.0755571697631,330.0755571697631,375.93475811818467,401.70853244438689,424.17520182768965,443.59128471089457,460.19636831309663,474.21413945270598,485.85335558964721,495.30875944267825,726.17006988976709,721.15179257413524,714.96480228201085,707.73178432479608,699.56638984132496,690.5738179972667,680.85136322261678,2105.6061454142528,2902.6981169489336,3493.6881576680153,8501.9924200312016,327.10925432477529,327.10925432477529,372.55633060874555,398.09848275496745,420.36325004688075,439.60484566302239,456.06070371470861,469.95250080532031,481.48711834599925,490.85754895354017,719.64416908472447,714.6709897169867,708.53960029110885,701.37158357763428,693.27956936228884,684.36781141330789,674.73272980105025,2086.6836127883248,2876.6123269065711,3462.2912944453901,8425.5872341402865,321.82511881133314,321.82511881133314,366.53804127177438,391.66758450687212,413.57268588903128,432.50345202729574,448.69348151318809,462.36086997768632,473.70915686163551,482.92821717165378,708.01900941520739,703.12616697882925,697.09382425427111,690.04159995931082,682.08030445377017,673.31250738649089,663.83307125429587,2052.9752452081616,2830.143420405012,3406.3613073081387,8289.4799729213137,1629.9309884231479,1629.9309884231479,1856.3862078616255,1983.6585021905748,2094.6001330962185,2190.4778025500991,2272.4746052235737,2341.6951187477603,2399.1701987725378,2445.8614953964334,3585.8671569854723,3561.086631655503,3530.5349383139082,3494.8179036768288,3454.4967432266967,3410.0909361444296,3362.080927597829,10397.597250922092,14333.680601557706,17252.021448959695,41983.299301439489,744.21750908154945,527.76815189877311,837.96261725091665,887.34069087646083,930.1159488341508,966.80526229048121,997.89124895769623,1023.8243632840641,1045.0248652506471,1061.8846745961857,1431.9833761475429,1424.2226241468643,1413.9538635472766,1401.4335503876791,1386.899403416644,1370.5716070632859,1352.6539423276708,4620.1157682097055,5986.9399034253038,6925.5123667425569,17532.568038377565,1002.0541084681836,658.83456572682871,1125.9682327318199,1190.364149519482,1246.0739059039388,1293.7787327698768,1334.1146783789593,1367.6753667355442,1395.014595705836,1416.6487838972432,1878.9844419593117,1869.3851416878615,1856.4393247938299,1840.4874742668312,1821.845234618155,1800.8050053798581,1777.6374391651229,6190.299699304077,7927.7083299857968,9097.2144782237974,23215.22250751367,1064.5830329919052,689.28675232681326,1195.7541005498563,1263.7382553407692,1322.5362681775591,1372.868850641365,1415.4089053689863,1450.7844450190532,1479.581341651724,1502.3459160540287,1986.1237817194219,1976.1004984780643,1962.5281315959301,1945.7674175722348,1926.1527848578355,1903.9940413870468,1879.5779610475856,6570.3063800785367,8394.9359829222922,9618.0203364606332,24583.262699461462,1066.7917760034297,688.8513078710198,1198.1517921825555,1266.20172224922,1325.0538091073074,1375.4297295928579,1418.00328620199,1453.4033300964363,1482.216514286192,1504.9898865347541,1988.4750107604759,1978.4615621973649,1964.8927617723268,1948.1299206571623,1928.5080014582445,1906.3373083039912,1881.9050757189459,6582.8403393339313,8407.5463038752223,9629.7730679106699,24620.159711119828,1006.5795732562552,656.70457758737325,1130.8256285993793,1195.3063656595273,1251.0818496921795,1298.8349375909747,1339.203192062465,1372.7816469298878,1400.1254117825847,1421.7521250009434,1882.6277710266186,1873.0689446282286,1860.15148543552,1844.2169385817358,1825.5819370395695,1804.5397997291243,1781.3620339152769,6215.251973604526,7950.3558993682627,9115.8521947012268,23281.460067674016,4884.2259998013233,3221.4453554108086,5488.6623713145273,5802.9511836454594,6074.8617817151353,6307.7175128855552,6504.6213109700966,6668.4691520649867,6801.9627286769846,6907.6213860831549,9168.1943816133698,9121.2387711383817,9057.9655671448854,8980.035301465643,8888.9873613904492,8786.2477618633075,8673.1364521746036,30178.814160530776,38667.486419576875,44386.372444038891,113232.67302414654,157.52924618283549,null,180.97430502590012,194.68510844663305,206.67974849163659,217.09057903474263,226.04124034587116,233.64718883590635,240.01619610841931,245.24881904015791,249.43884251783433,252.67369636942783,255.03484794373162,256.59817171193515,257.43429718941707,257.60893640439059,257.18319207238386,1025.4709813447835,1221.0247428717457,1283.8594453218584,3530.3551695383876,157.52924618283549,null,180.97430502590012,194.68510844663305,206.67974849163659,217.09057903474263,226.04124034587116,233.64718883590635,240.01619610841931,245.24881904015791,249.43884251783433,252.67369636942783,255.03484794373162,256.59817171193515,257.43429718941707,257.60893640439059,257.18319207238386,1025.4709813447835,1221.0247428717457,1283.8594453218584,3530.3551695383876,283.91776737412539,null,326.17321468929953,350.88444000426057,372.50259348720886,391.26621888333602,407.39815525423751,421.10649174654208,432.5854670417242,442.0163165905476,449.56807056546552,455.39830530333796,459.65385085854331,462.47145714249723,463.97842098929777,464.29317635830193,463.52584976248227,1848.2246223183427,2200.6746512476175,2313.9227551111226,6362.8220286770829,318.27918172703397,null,365.64863422509234,393.35055878395303,417.58506958839826,438.61958036433845,456.70389948001156,472.07130026638151,484.93952932370945,495.51175629334091,503.97746838304442,510.51331275378902,515.28388970513595,518.44249943491752,520.13184499609156,520.48469392913796,519.62450091165385,2071.9077424417937,2467.0133670202654,2593.9674289769368,7132.8885384389969,349.51683113876902,null,401.53537925763123,431.95612131094612,458.56913877129762,481.66809080161346,501.52730332162417,518.40294437532646,532.53413139824158,544.14397420497119,553.44055730811613,560.61786498147183,565.8566522929475,569.32526515529969,571.18041227499509,571.56789172080698,570.62327468362798,2275.2560334631125,2709.1394722681275,2848.5534961276771,7832.9490018589167,1266.7722726055995,null,1455.3058382238232,1565.561336992426,1662.0162988301781,1745.7350481187732,1817.7118387476157,1878.875114060063,1930.091519980514,1972.1696851691754,2005.8637812922948,2031.8768757774546,2050.8640887440897,2063.4355651565847,2070.1592726392187,2071.5636348170283,2068.1400095025319,8246.3303609128161,9818.8769762795018,10324.162570859455,28389.369908051776,7.9491675599722349,null,11.149496282661042,13.666500005095097,15.918506782801504,17.925046928605951,19.704391625642629,21.273628558044052,22.648733193877444,23.844635962901201,24.875285558471731,25.753708580398573,26.492065723687329,27.101704706888722,27.593210123155547,27.976450387063871,28.260621940751559,78.363941624806216,118.395991853693,137.42405288154703,334.18398636004622,14.995077601497957,null,21.032084267286386,25.780086602928392,30.028206438878225,33.813285187043874,37.169789073844825,40.129951807737193,42.723909045263753,44.979825113212399,46.924012419485088,48.581043961638336,49.973859319687456,51.123864498598941,52.051025965868767,52.77395921063534,53.310012132848492,147.8234515699817,223.33874234733676,259.23272112763902,630.39491504495743,41.764358403887798,null,58.578656854164606,71.802814575658488,83.634697283191144,94.176915844936858,103.52546575163382,111.77012447482463,118.99482598231101,125.27801368528661,130.69297302203256,135.308144817217,139.18742049353574,142.39042015347667,144.97275449321117,146.98627145783831,148.4792884972783,411.71855030958488,622.04408198167175,722.01615509534008,1755.7787873865968,48.831448535718721,null,68.490952017100469,83.952814760459248,97.786810866089752,110.11291433862061,121.04336439457012,130.68313005893569,139.13034805369151,146.47673546831419,152.80797862110509,158.20409944308977,162.73980064343169,166.48479084636443,169.50409082442957,171.85832189109991,173.60397745748782,481.38685637684017,727.30229164513617,844.19098166281333,2052.8801296847896,55.256075928292276,null,77.502129437951226,94.998269473914462,110.65236866872483,124.60018569651494,136.96872679723947,147.87677149903666,157.43536811858283,165.74830072561201,172.91252916571648,179.01860364842867,184.15105532515528,188.38876420353503,191.80530567099177,194.46927683042861,196.44460378495094,544.72168007434493,822.99157315737659,955.25900581506164,2322.9722590467832,168.79612802936899,null,236.75331885916373,290.20048541805568,338.02059003968543,380.62834799572221,418.41173764293086,451.73360639857822,480.93318439372649,506.32751095532643,528.21277878681099,546.86560045077238,562.54420150549754,575.48954440886382,585.92638707765684,594.06427977706608,600.09850381331705,1664.0144799555578,2514.0726809852144,2918.1229165824016,7096.2100775231738,165.47841374280773,null,192.12380130856116,208.35160845172814,222.59825527443809,235.01562596334858,245.74563197151377,254.92081739395041,262.66492930229674,269.09345500305909,274.31412807630608,278.42740494982638,281.52691366741897,283.69987641882386,285.0275073125726,285.58538679145448,285.44381401313541,1103.8349229695898,1339.4207347254387,1421.2834982034053,3864.5391558984334,172.52432378433346,null,202.00638929318652,220.46519504956143,236.7079549305148,250.90386422178651,263.211029419716,273.77714064364352,282.74010515368309,290.22864415337028,296.36285493731941,301.25474033106616,305.00870726341907,307.7220362105341,309.48532315528581,310.38289561502592,310.49320420523236,1173.2944329147654,1444.3634852190823,1543.0921664494974,4160.7500845833447,325.68212577801319,null,384.75187154346412,422.68725457991906,456.1372907704,485.44313472827287,510.92362100587133,532.8766162213667,551.5802930240352,567.29433027583423,580.26104358749808,590.70645012055502,598.84127135207905,604.86187729597395,608.95117548250892,611.27944781614019,612.00513825976054,2259.9431726279272,2822.7187332292892,3035.9389102064624,8118.6008160636793,367.11063026275269,null,434.13958624219282,477.3033735444123,515.37188045448806,548.732494702959,577.74726387458168,602.75443032531723,624.06987737740099,641.98849176165504,656.78544700414955,668.71741219687874,678.0236903485677,684.92729028128201,689.63593582052113,692.34301582023784,693.22847836914161,2553.2945988186339,3194.3156586654018,3438.1584106397504,9185.7686681237847,404.77290706706128,null,479.03750869558246,526.95439078486061,569.22150744002249,606.26827649812844,638.4960301188637,666.27971587436309,689.96949951682438,709.8922749305832,726.3530864738326,739.63646862990049,750.00770761810281,757.71402935883475,762.98571794598683,766.0371685512356,767.0678784685789,2819.9777135374579,3532.1310454255045,3803.8125019427389,10155.921260905701,1435.5684006349684,null,1692.059157082987,1855.7618224104817,2000.0368888698636,2126.3633961144956,2236.1235763905465,2330.6087204586411,2411.0247043742406,2478.4971961245019,2534.0765600791055,2578.7424762282271,2613.4082902495875,2638.9251095654486,2656.0856597168754,2665.6279145940944,2668.2385133158491,9910.3448408683744,12332.949657264719,13242.285487441855,35485.579985574943,6380.2716143056541,null,6724.5279466383863,6732.1755037820167,6723.846359459274,6701.0447628865822,6665.1679297982319,6617.5128251153783,6559.2825423528911,6491.5923027897425,6415.4750961501777,6331.886983333904,6241.712080590496,6145.7672434522783,6044.8064677181756,5939.5250238148656,5830.5633399483395,33546.762502564488,32415.749749742092,30202.374155524158,96164.886407830752,6545.6365226817989,null,6898.8153461395896,6906.6611139022671,6898.1160934740783,6874.7235214451675,6837.9168268124931,6789.0265894431468,6729.2870848236862,6659.8424387179975,6581.7524140445457,6495.9978510435794,6403.4857806321743,6305.0542297360416,6201.4767363387882,6093.4665909981068,5981.6808206414862,34416.232901773597,33255.906378072956,30985.164158346597,98657.30343819315,6555.1209489040702,null,6908.8115176264728,6916.6686536655961,6908.1112517653328,6884.6847846182327,6847.8247582158338,6798.8636803945747,6739.037615068275,6669.4923458039002,6591.2891710838257,6505.4103523556778,6412.7642347964593,6314.1900596071528,6210.4624856041391,6102.2958368812133,5990.348092377697,34466.10096589147,33304.093164706253,31030.060709266661,98800.25483986437,6648.6637261647575,null,7007.401524121693,7015.3707829320265,7006.6912653383797,6982.9304982118547,6945.5444724775662,6895.8847111029781,6835.204916860489,6764.6672238585452,6685.3480755033634,6598.2437502934408,6504.2755556579223,6404.2947089235367,6299.0869234299353,6189.3767168066443,6075.8314574730357,34957.938543081516,33779.348677618822,31472.865362291075,100210.15258299139,6745.0595419939818,null,7108.9985088063604,7117.0833101130838,7108.2779523184718,7084.1726891208236,7046.244621165768,6995.8648665100091,6934.3053047666717,6862.7449192743752,6782.2757602807405,6693.9085508527714,6598.5779560182136,6497.1475344992978,6390.4143913200123,6279.1135485466884,6163.92205045627,35464.777081524509,34269.099401684565,31929.17548084048,101663.05196404956,32874.752354050259,null,34648.554843332502,34687.959364394992,34645.042922355533,34527.55625628266,34342.698608469895,34097.152672566088,33797.117463872011,33448.339230444559,33056.140517062653,32625.447487879374,32160.815607695265,31666.453776218306,31146.247004411052,30603.777717047516,30042.345760896827,172851.81199483559,167024.1973718247,155619.63986626896,495495.64923292922,2327.6064347873057,null,2477.3008732653666,2501.9002968985019,2518.5394559832089,2527.9206899466999,2530.697499233434,2527.4776040303955,2407.1215276479961,2505.2667782994308,2487.2874485239058,2465.3395588215603,2439.8418367359377,2411.1821299990106,2379.7193979700542,2345.7855834359207,2309.6873716511382,12556.358815327212,12392.492917323289,11886.216319792062,36835.068052442562,2328.0974922840887,null,2477.8235119500782,2502.4281253486356,2519.0707948136574,2528.4540079456183,2531.2314030586317,2528.0108285510282,2407.6293605247888,2505.7953169795696,2487.8121940865562,2465.859674015599,2440.3565726496167,2411.6908195452115,2380.2214497916802,2346.2804762061828,2310.1746487449473,12559.00784311662,12395.107374157542,11888.723966937639,36842.839184211807,2329.4046239637346,null,2479.2147086760638,2503.8331365603744,2520.4851502047372,2529.8736316277309,2532.6525861346922,2529.430203406007,2408.981146100959,2507.2022187319176,2489.2089990496979,2467.2441535350995,2441.7267332190577,2413.0448854647811,2381.5578469451098,2347.5978168888423,2311.4717174797825,12566.0592132036,12402.066720823681,11895.398999997573,36863.524934024848,2329.2203993498815,null,2479.0186360969738,2503.6351169943487,2520.2858136881259,2529.6735526083585,2532.4522873373494,2529.2301594558498,2408.7906280531906,2507.003932716751,2489.0121360564972,2467.0490276661153,2441.5336254352337,2412.8540460298195,2381.3694977119158,2347.412153437826,2311.2889111179315,12565.065406725156,12401.085883948403,11894.458233732727,36860.609524406289,2327.8871668258371,null,2477.599659913235,2502.2020504767929,2518.843216406377,2528.2255818381846,2531.0027260352026,2527.7824424813971,2407.4118499822835,2505.5689379082141,2487.5874396501554,2465.6369028182417,2440.1361054586419,2411.472942081547,2380.0064153402336,2346.0685080570911,2309.9659424758806,12557.873234669791,12393.987572840291,11887.649913413394,36839.510720923477,11642.216117210846,null,12390.957389901716,12513.998726278654,12597.224431096107,12644.147463966594,12658.03650179931,12641.931237924678,12039.934512309217,12530.837184635882,12440.908217366812,12331.129316856615,12203.594873498487,12060.244823120371,11902.874607758993,11733.144538025863,11552.588591469681,62804.36451304239,61984.740469093216,59452.4474338734,184241.55241600901,8707.8780490929603,null,9201.8288199037524,9234.075800680519,9242.3858154424834,9228.9654528332831,9195.8654290316663,9144.9904291457733,8966.4040700008882,8996.8590810891728,8902.762544674084,8797.2265421554639,8681.5539173264333,8556.9493734512889,8424.5258656882288,8285.3106072507871,8140.2507115994777,46103.12131789171,44808.24266706538,42088.590475316218,132999.95446027329,8873.7340149658885,null,9376.6388580896673,9409.0892392509031,9417.1868882877352,9403.1775293907849,9369.1482298711253,9317.0374179941755,9136.9164453484755,9165.6377556975676,9069.5646081311024,8961.8575250591784,8843.8423532817906,8716.7450492812532,8581.6981861304685,8439.7470672042891,8291.8554693864335,46975.240744890216,45651.013752230501,42873.88812528424,135500.14262240494,8884.5255728678057,null,9388.0262263025361,9420.5017902259715,9428.5964019700696,9414.5584162459636,9380.4773443505255,9328.2938838005812,9148.0187611692345,9176.6945645358173,9080.4981701335237,8972.6545058907777,8854.4909680155179,8727.2349450719339,8592.0203325492494,8449.8936537700556,8301.8198098574794,47032.160179095066,45706.159885529938,42925.459709264236,135663.77977388923,8977.8841255146399,null,9486.4201602186658,9519.0058999263747,9526.9770790265065,9512.6040508202132,9477.996759814916,9425.1148705588275,9243.9955449136796,9271.6711565752958,9174.3602115598605,9065.2927779595557,8945.8091810931564,8817.1487549533558,8680.456421141851,8536.7888702444707,8387.1203685909677,47523.003949806676,46180.434561567221,43367.323596023809,137070.76210739766,9072.946708819818,null,9586.5981687195963,9619.2853605898763,9627.1211687248488,9612.3982709590091,9577.2473472009697,9523.647308991407,9341.7171547489561,9368.3138571825893,9269.8631999308964,9159.5454536710131,9038.7140614768559,8908.6204765808452,8770.4208066602459,8625.1820566037786,8473.8879929321502,48022.650316194311,46663.086974524864,43816.825394253872,138502.56268497306,44516.968471261105,null,47039.512233234214,47201.958090673645,47242.267353451636,47171.70372024925,47000.735110269205,46739.083910490765,45837.051976181232,45979.176415080437,45497.048734429467,44956.576804735989,44364.41048119375,43726.698599338677,43049.121612170042,42336.922255073383,41594.934352366508,235656.17650787794,229008.9378409179,215072.08730014236,679737.20164893824,4203.0070244430008,null,4599.945373929153,4537.5218361323723,4892.3556216793277,5002.2765769464304,5090.6350928872353,5159.2354812850454,5209.7591091259519,5243.772016217189,5262.7320861044418,5267.9957955574946,5260.8245665000422,5242.3907429411292,5213.7832142188927,5176.0127046880216,5130.0167488670804,24122.734501574516,26143.494488290122,26023.027977215166,76289.256967079811,6515.6878581696919,null,6894.6594305984527,6543.9711197200859,6393.5696911331434,6242.6532713464976,6091.6119534644022,5940.7998466473873,5790.5376185896712,5641.1148774520834,5492.7924027752424,5345.8042343545803,5200.3596275459195,5056.6448829858064,4914.8250582533092,4775.045568567929,4637.433683210289,32166.465466262584,28211.048979818966,24584.308820563252,84961.823266644802,10718.694882612694,null,11494.604804527606,11081.492955852458,11285.925312812471,11244.929848292928,11182.247046351637,11100.035327932434,11000.296727715624,10884.886893669272,10755.524488879684,10613.800029912076,10461.184194045962,10299.035625926936,10128.608272472202,9951.0582732559506,9767.4504320773704,56289.199967837099,54354.543468109085,50607.336797778415,161251.08023372458,4061.4369085163744,4160.8244870959243,4453.0428415060296,12675.304237118329,845.0202824745553,4061.4369085163744,4205.8587043459984,4453.0428415060296,12720.338454368402,848.02256362456012,4061.4369085163744,4205.8587043459984,4453.0428415060296,12720.338454368402,848.02256362456012,4086.380410796779,4231.6891797530961,4480.3914097033912,12798.461000253263,853.23073335021752,4407.6672354118327,4564.4007343916555,4832.6568828964482,13804.724852699934,920.31499017999556,20678.358371757735,21368.631809932675,22672.176817117925,64719.166998808345,4314.6111332538894,834.4504040743459,888.69924700647539,920.37524882438993,2643.524899905211,176.23499332701405,990.04730368010291,1054.4117289478927,1091.9942383913158,3136.4532710193112,209.09688473462074,1026.7985972397103,1093.5522779289522,1132.5298781242291,3252.8807532928922,216.85871688619281,1031.9946594846474,1099.0861437907547,1138.2609881557428,3269.3417914311444,217.95611942874297,1145.0558715887882,1219.4976308869218,1262.9643146981605,3627.5178171738708,241.83452114492471,5028.3468360675943,5355.247028560997,5546.1246681938374,15929.718532822428,1061.9812355214951,4895.8873125907203,5049.5237341023994,5373.4180903304195,15318.82913702354,1021.2552758015694,5051.4842121964775,5260.2704332938911,5545.0370798973454,15856.791725387713,1057.1194483591808,5088.2355057560844,5299.4109822749506,5585.5727196302587,15973.219207661296,1064.881280510753,5118.3750702814268,5330.7753235438504,5618.652397859134,16067.802791684408,1071.1868527789604,5552.723107000621,5783.8983652785773,6095.6211975946089,17432.242669873805,1162.1495113249202,25706.705207825329,26723.878838493671,28218.301485311764,80648.885531630774,5376.5923687753848,2574.9828751147606,3167.6076125190639,3532.1633375215984,9274.7538251554251,618.31692167702829,4083.1003448876691,5022.8138835948466,5600.8828179066077,14706.797046389123,980.45313642594158,4464.7002346642839,5492.2378659733586,6124.3321787926179,16081.270279430259,1072.0846852953505,4496.156726545606,5530.9339769686521,6167.4817734652806,16194.57247697954,1079.6381651319693,4162.276728396364,5120.2124789632508,5709.4908873930881,14991.980094752702,999.46533965018011,19781.216909608684,24333.805818019173,27134.350995079192,71249.373722707052,4749.95824818047,2045.1328930949453,2819.3322909062399,3393.3490292209581,8257.8142132221437,550.52094754814289,2107.1993544164084,2904.8944463909497,3496.3316603171902,8508.4254611245469,567.22836407496982,2105.6061454142528,2902.6981169489336,3493.6881576680153,8501.9924200312016,566.79949466874677,2086.6836127883248,2876.6123269065711,3462.2912944453901,8425.5872341402865,561.70581560935238,2052.9752452081616,2830.143420405012,3406.3613073081387,8289.4799729213137,552.63199819475426,10397.597250922092,14333.680601557706,17252.021448959695,41983.299301439489,2798.886620095966,4620.1157682097055,5986.9399034253038,6925.512366742556,17532.568038377569,1168.8378692251713,6190.2996993040779,7927.7083299857968,9097.2144782237974,23215.22250751367,1547.6815005009114,6570.3063800785367,8394.9359829222922,9618.0203364606332,24583.262699461462,1638.8841799640973,6582.8403393339304,8407.5463038752241,9629.7730679106717,24620.159711119828,1641.3439807413217,6215.2519736045251,7950.3558993682627,9115.8521947012268,23281.460067674016,1552.0973378449344,30178.814160530776,38667.486419576875,44386.372444038891,113232.67302414654,7548.8448682764356,1025.4709813447835,1221.0247428717457,1283.8594453218584,3530.3551695383876,235.35701130255919,1025.4709813447835,1221.0247428717457,1283.8594453218584,3530.3551695383876,235.35701130255919,1848.2246223183427,2200.6746512476175,2313.9227551111226,6362.8220286770829,424.18813524513888,2071.9077424417937,2467.0133670202654,2593.9674289769368,7132.8885384389969,475.52590256259981,2275.2560334631125,2709.1394722681275,2848.5534961276771,7832.9490018589167,522.19660012392774,8246.3303609128161,9818.8769762795018,10324.162570859455,28389.369908051776,1892.6246605367851,78.363941624806216,118.395991853693,137.42405288154703,334.18398636004622,22.278932424003081,147.8234515699817,223.33874234733676,259.23272112763902,630.39491504495743,42.026327669663829,411.71855030958488,622.04408198167175,722.01615509534008,1755.7787873865968,117.05191915910646,481.38685637684017,727.30229164513617,844.19098166281333,2052.8801296847896,136.85867531231932,544.72168007434493,822.99157315737659,955.25900581506164,2322.9722590467832,154.86481726978553,1664.0144799555578,2514.0726809852144,2918.1229165824016,7096.2100775231738,473.08067183487827,1103.8349229695896,1339.4207347254387,1421.2834982034055,3864.5391558984338,257.63594372656229,1173.2944329147651,1444.3634852190826,1543.0921664494974,4160.7500845833447,277.38333897222299,2259.9431726279277,2822.7187332292892,3035.9389102064624,8118.6008160636793,541.24005440424537,2553.2945988186339,3194.3156586654013,3438.1584106397504,9185.7686681237865,612.38457787491916,2819.9777135374575,3532.131045425504,3803.8125019427389,10155.921260905699,677.06141739371333,9910.3448408683744,12332.949657264717,13242.285487441855,35485.57998557495,2365.7053323716632,7661.8907649759185,8549.4568424867339,9269.065624349485,25480.413231812141,1698.6942154541427,9170.0082347488278,10449.697330812589,11337.785104734496,30957.490670295912,2063.8327113530609,10374.361765499001,11898.771221566974,12891.29777540977,35164.430762475742,2344.2953841650492,10654.444879784178,12229.636523742012,13241.840612145608,36125.9220156718,2408.3948010447866,10845.199997271309,12393.752685623034,13390.701266417213,36629.653949311556,2441.9769299541031,48705.905642279235,55521.314604231346,60130.690383056572,164357.91062956717,10957.194041971145,2957.9472387940973,3826.427529766408,4451.1483309268951,11235.5230994874,749.03487329916004,3245.070109666493,4182.6449176861788,4847.5586198361452,12275.273647188815,818.35157647925439,3544.1232929635476,4618.2944768595571,5348.2341908875842,13510.651960710689,900.71013071404604,3600.0651286498123,4703.0007623424617,5444.743264263946,13747.809155256222,916.5206103504147,3742.7527968712948,4872.6326244493102,5624.5846278213612,14239.970049141968,949.33133660946453,17089.958566945243,22203.000311103915,25716.269033735934,65009.227911785092,4333.9485274523395,10619.838003770015,12375.884372253142,13720.21395527638,36715.936331299541,2447.7290887533027,12415.07834441532,14632.342248498768,16185.343724570641,43232.764317484725,2882.184287832315,13918.485058462549,16517.06569842653,18239.531966297356,48675.082723186431,3245.0055148790952,14254.51000843399,16932.637286084475,18686.583876409553,49873.731170928018,3324.9154113952013,14587.952794142604,17266.385310072343,19015.285894238572,50869.62399845352,3391.3082665635675,65795.86420922447,77724.314915335257,85846.95941679251,229367.13854135227,15291.142569423484,null,null,null,null,null,null,null,null,null,null,null,null,null,null,null,null,null,null,null,null,null,null,null,null,null,null,null,null,null,null,null,null,null,null,null,null,null,null,null,null,null,null,null,null,null,null,null,null,null,null,null,null,null,null,null,null,null,null,null,null,null,null,null,null,null,null,null,null,null,null,null,null,null,null,null,null,null,null,null,null,null,null,null,null,null,null,null,null,null,null,null,null,null,null,null,null,null,null,null,null,null,null,null,null,null,null,null,null,null,null,null,null,null,null,null,null,null,null,null,null,null,null,null,null,null,null,null,null,null,null,null,null,null,null,null,null,null,null,null,null,null,null,null,null,null,null,null,null,null,null,null,null,null,null,null,null,null,null,null,null,null,null,null,null,null,null,null,null,null,null,null,null,null,null,null,null,null,null,null,null,null,null,null,null,null,null,null,null,null,null,null,null,null,null,null,null,null,null,null,null,null,null,null,null,null,null,null,null,null,null,null,null,null,null,null,null,null,null,null,null,null,null,null,null,null,null,null,null,null,null,null,null,null,null,null,null,null,null,null,null,null,null,null,null,null,null,null,null,null,null,null,null,null,null,null,null,null,null,null,null,null,null,null,null,null,null,null,null,null,null,null,null,null,null,null,null,null,null,null,null,null,null,null,null,null,null,null,null,null,null,null,null,null,null,null,null,null,null,null,null,null,null,null,null,null,null,null,null,null,null,null,null,null,null,null,null,null,null,null,null,null,null,null,null,null,null,null,null,null,null,null,null,null,null,null,null,null,null,null,null,null,null,null,null,null,null,null,null,null,null,null,null,null,null,null,null,null,null,null,null,null,null,null,null,null,null,null,null,null,null,null,null,null,null,null,null,null,null,null,null,null,null,null,null,null,null,null,null,null,null,null,null,null,null,null,null,null,null,null,null,null,null,null,null,null,null,null,null,null,null,null,null,null,null,null,null,null,null,null,null,null,null,null,null,null,null,null,null,null,null,null,null,null,null,null,null,null,null,null,null,null,null,null,null,null,null,null,null,null,null,null,null,null,null,null,null,null,null,null,null,null,null,null,null,null,null,null,null,null,null,null,null,null,null,null,null,null,null,null,null,null,null,null,null,null,null,null,null,null,null,null,null,null,null,null,null,null,null,null,null,null,null,null,null,null,null,null,null,null,null,null,null,null,null,null,null,null,null,null,null,null,null,null,null,null,null,null,null,null,null,null,null,null,null,null,null,null,null,null,null,null,null,null,null,null,null,null,null,null,null,null,null,null,null,null,null,null,null,null,null,null,null,null,null,null,null,null,null,null,null,null,null,null,null,null,null,null,null,null,null,null,null,null,null,null,null,null,null,null,null,null,null,null,null,null,null,null,null,null,null,null,null,null,null,null,null,null,null,null,null,null,null,null,null,null,null,null,null,null,null,null,null,null,null,null,null,null,null,null,null,null,null,null,null,null,null,null,null,null,null,null,null,null,null,null,null,null,null,null,null,null,null,null,null,null,null,null,null,null,null,null,null,null,null,null,null,null,null,null,null,null,null,null,null,null,null,null,null,null,null,null,null,null,null,null,null,null,null,null,null,null,null,null,null,null,null,null,null,null,null,null,null,null,null,null,null,null,null,null,null,null,null,null,null,null,null,null,null,null,null,null,null,null,null,null,null,null,null,null,null,null,null,null,null,null,null,null,null,null,null,null,null,null,null,null,null,null,null,null,null,null,null,null,null,null,null,null,null,null,null,null,null,null,null,null,null,null,null,null,null,null,null,null,null,null,null,null,null,null,null,null,null,null,null,null,null,null,null,null,null,null,null,null,null,null,null,null,null,null,null,null,null,null,null,null,null,null,null,null,null,null,null,null,null,null,null,null,null,null,null,null,null,null,null,null,null,null,null,null,null,null,null,null,null,null,null,null,null,null,null,null,null,null,null,null,null,null,null,null,null,null,null,null,null,null,null,null,null,null,null,null,null,null,null,null,null,null,null,null,null,null,null,null,null,null,null,null,null,null,null,null,null,null,null,null,null,null,null,null,null,null,null,null,null,null,null,null,null,null,null,null,null,null,null,null,null,null,null,null,null,null,null,null,null,null,null,null,null,null,null,null,null,null,null,null,null,null,null,null,null,null,null,null,null,null,null,null,null,null,null,null,null,null,null,null,null,null,null,null,null,null,null,null,null,null,null,null,null,null,null,null,null,null,null,null,null,null,null,null,null,null,null,null,null,null,null,null,null,null,null,null,null,null,null,null,null,null,null,null,null,null,null,null,null,null,null,null,null,null,null,null,null,null,null,null,null,null,null,null,null,null,null,null,null,null,null,null,null,null,null,null,null,null,null,null,null,null,null,null,null,null,null,null,null,null,null,null,null,null,null,null,null,null,null,null,null,null,null,null,null,null,null,null,null,null,null,null,null,null,null,null,null,null,null,null,null,null,null,null,null,null,null,null,null,null,null,null,null,null,null,null,null,null,null,null,null,null,null,null,null,null,null,null,null,null,null,null,null,null,null,null,null,null,null,null,null,null,null,null,null,null,null,null,null,null,null,null,null,null,null,null,null,null,null,null,null,null,null,null,null,null,null,null,null,null,null,null,null,null,null,null,null,null,null,null,null,null,null,null,null,null,null,null,null,null,null,null,null,null,null,null,null,null,null,null,null,null,null,null,null,null,null,null,null,null,null,null,null,null,null,null,null,null,null,null,null,null,null,null,null,null,null,null,null,null,null,null,null,null,null,null,null,null,null,null,null,null,null,null,null,null,null,null,null,null,null,null,null,null,null,null,null,null,null,null,null,null,null,null,null,null,null,null,null,null,null,null,null,null,null,null,null,null,null,null,null,null,null,null,null,null,null,null,null,null,null,null,null,null,null,null,null,null,null,null,null,null,null,null,null,null,null,null,null,null,null,null,null,null,null,null,null,null,null,null,null,null,null,null,null,null,null,null,null,null,null,null,null,null,null,null,null,null,null,null,null,null,null,null,null,null,null,null,null,null,null,null,null,null,null,null,null,null,null,null,null,null,null,null,null,null,null,null,null,null,null,null,null,null,null,null,null,null,null,null,null,null,null,null,null,null,null,null,null,null,null,null,null,null,null,null,null,null,null,null,null,null,null,null,null,null,null,null,null,null,null,null,null,null,null,null,null,null,null,null,null,null,null,null,null,null,null,null,null,null,null,null,null,null,null,null,null,null,null,null,null,null,null,null,null,null,null,null,null,null,null,null,null,null,null,null,null,null,null,null,null,null,null,null,null,null,null,null,null,null,null,null,null,null,null,null,null,null,null,null,null,null,null,null,null,null,null,null,null,null,null,null,null,null,null,null,null,null,null,null,null,null,null,null,null,null,null,null,null,null,null,null,null,null,null,null,null,null,null,null,null,null,null,null,null,null,null,null,null,null,null,null,null,null,null,null,null,null,null,null,null,null,null,null,null,null,null,null,null,null,null,null,null,null,null,null,null,null,null,null,null,null,null,null,null,null,null,null,null,null,null,null,null,null,null,null,null,null,null,null,null,null,null,null,null,null,null,null,null,null,null,null,null,null,null,null,null,null,null,null,null,null,null,null,null,null,null,null,null,null,null,null,null,null,null,null,null,null,null,null,null,null,null,null,null,null,null,null,null,null,null,null,null,null,null,null,null,null,null,null,null,null,null,null,null,null,null,null,null,null,null,null,null,null,null,null,null,null,null,null,null,null,null,null,null,null,null,null,null,null,null,null,null,null,null,null,null,null,null,null,null,null,null,null,null,null,null,null,null,null,null,null,null,null,null,null,null,null,null,null,null,null,null,null,null,null,null,null,null,null,null,null,null,null,null,null,null,null,null,null,null,null,null,null,null,null,null,null,null,null,null,null,null,null,null,null,null,null,null,null,null,null,null,null,null,null,null,null,null,null,null,null,null,null,null,null,null,null,null,null,null,null,null,null,null,null,null,null,null,null,null,null,null,null,null,null,null,null,null,null,null,null,null,null,null,null,null,null,null,null,null,null,null,null,null,null,null,null,null,null,null,null,null,null,null,null,null,null,null,null,null,null,null,null,null,null,null,null,null,null,null,null,null,null,null,null,null,null,null,null,null,null,null,null,null,null,null,null,null,null,null,null,null,null,null,null,null,null,null,null,null,null,null,null,null,null,null,null,null,null,null,null,null,null,null,null,null,null,null,null,null,null,null,null,null,null,null,null,null,null,null,null,null,null,null,null,null,null,null,null,null,null,null,null,null,null,null,null,null,null,null,null,null,null,null,null,null,null,null,null,null,null,null,null,null,null,null,null,null,null,null,null,null,null,null,null,null,null,null,null,null,null,null,null,null,null,null,null,null,null,null,null,null,null,null,null,null,null,null,null,null,null,null,null,null,null,null,null,null,null,null,null,null,null,null,null,null,null,null,null,null,null,null,null,null,null,null,null,null,null,null,null,null,null,null,null,null,null,null,null,null,null,null,null,null,null,null,null,null,null,null,null,null,null,null,null,null,null,null,null,null,null,null,null,null,null,null,null,null,null,null,null,null,null,null,null,null,null,null,null,null,null,null,null,null,null,null,null,null,null,null,null,null,null,null,null,null,null,null,null,null,null,null,null,null,null,null,null,null,null,null,null,null,null,null,null,null,null,null,null,null,null,null,null,null,null,null,null,null,null,null,null,null,null,null,null,null,null,null,null,null,null,null,null,null,null,null,null,null,null,null,null,null,null,null,null,null,null,null,null,null,null,null,null,null,null,null,null,null,null,null,null,null,null,null,null,null,null,null,null,null,null,null,null,null,null,null,null,null,null,null,null,null,null,null,null,null,null,null,null,null,null,null,null,null,null,null,null,null,null,null,null,null,null,null,null,null,null,null,null,null,null,null,null,null,null,null,null,null,null,null,null,null,null,null,null,null,null,null,null,null,null,null,null,null,null,null,null,null,null,null,null,null,null,null,null,null,null,null,null,null,null,null,null,null,null,null,null,null,null,null,null,null,null,null,null,null,null,null,null,null,null,null,null,null,null,null,null,null,null,null,null,null,null,null,null,null,null,null,null,null,null,null,null,null,null,null,null,null,null,null,null,null,null,null,null,null,null,null,null,null,null,null,null,null,null,null,null,null,null,null,null,null,null,null,null,null,null,null,null,null,null,null,null,null,null,null,null,null,null,null,null,null,null,null,null,null,null,null,null,null,null,null,null,null,null,null,null,null,null,null,null,null,null,null,null,null,null,null,null,null,null,null,null,null,null,null,null,null,null,null,null,null,null,null,null,null,null,null,null,null,null,null,null,null,null,null,null,null,null,null,null,null,null,null,null,null,null,null,null,null,null,null,null,null,158.90817495886805,325.79552193688386,0,484.70369689575193,48.470369689575193,684.39265403566003,1332.7383280449314,0,2017.1309820805914,201.71309820805914,793.1254318776738,1544.4769253111958,0,2337.6023571888695,233.76023571888695,1048.0458947749551,2040.8911832708682,0,3088.937078045823,308.89370780458228,1501.0446142960327,2923.0291672205881,0,4424.0737815166212,442.4073781516621,4185.5167699431895,8166.9311257844674,0,12352.447895727657,1235.2447895727657,33546.762502564488,32415.749749742092,30202.374155524158,96164.886407830738,6410.9924271887157,34416.232901773597,33255.906378072956,30985.164158346597,98657.30343819315,6577.1535625462102,34466.10096589147,33304.093164706253,31030.060709266661,98800.254839864385,6586.6836559909589,34957.938543081516,33779.348677618822,31472.865362291075,100210.15258299142,6680.6768388660948,35464.777081524509,34269.099401684565,31929.17548084048,101663.05196404956,6777.536797603304,172851.81199483559,167024.1973718247,155619.63986626896,495495.64923292922,33033.043282195278,12556.358815327212,12392.492917323289,11886.216319792062,36835.068052442562,2455.6712034961706,12559.00784311662,12395.107374157542,11888.723966937639,36842.8391842118,2456.1892789474532,12566.0592132036,12402.066720823681,11895.398999997573,36863.524934024856,2457.5683289349904,12565.065406725156,12401.085883948403,11894.458233732727,36860.609524406289,2457.3739682937526,12557.873234669791,12393.987572840291,11887.649913413394,36839.510720923477,2455.9673813948984,62804.36451304239,61984.740469093216,59452.4474338734,184241.55241600901,12282.770161067268,46103.121317891702,44808.24266706538,42088.590475316218,132999.95446027329,8866.6636306848868,46975.240744890216,45651.013752230501,42873.88812528424,135500.14262240496,9033.3428414936643,47032.160179095066,45706.159885529938,42925.459709264236,135663.77977388923,9044.2519849259497,47523.003949806676,46180.434561567221,43367.323596023802,137070.76210739772,9138.050807159847,48022.650316194296,46663.086974524856,43816.825394253872,138502.56268497303,9233.5041789982024,235656.17650787797,229008.9378409179,215072.08730014236,679737.20164893824,45315.813443262545,24122.734501574516,26143.494488290122,26023.027977215166,76289.256967079811,5085.9504644719873,32166.465466262584,28211.048979818966,24584.308820563252,84961.823266644802,5664.1215511096534,56289.199967837099,54354.543468109085,50607.336797778422,161251.08023372461,10750.072015581642,{"$error":"#REF!"},{"$error":"#REF!"},{"$error":"#REF!"},{"$error":"#REF!"},{"$error":"#REF!"},{"$error":"#REF!"},{"$error":"#REF!"},{"$error":"#REF!"},{"$error":"#REF!"},{"$error":"#REF!"},{"$error":"#REF!"},{"$error":"#REF!"},{"$error":"#REF!"},{"$error":"#REF!"},{"$error":"#REF!"},{"$error":"#REF!"},{"$error":"#REF!"},{"$error":"#REF!"},{"$error":"#REF!"},{"$error":"#REF!"},{"$error":"#REF!"},{"$error":"#REF!"},{"$error":"#REF!"},{"$error":"#REF!"},{"$error":"#REF!"},{"$error":"#REF!"},{"$error":"#REF!"},{"$error":"#REF!"},{"$error":"#REF!"},{"$error":"#REF!"},{"$error":"#REF!"},{"$error":"#REF!"},{"$error":"#REF!"},{"$error":"#REF!"},{"$error":"#REF!"},{"$error":"#REF!"},{"$error":"#REF!"},{"$error":"#REF!"},{"$error":"#REF!"},{"$error":"#REF!"},{"$error":"#REF!"},{"$error":"#REF!"},{"$error":"#REF!"},{"$error":"#REF!"},{"$error":"#REF!"},{"$error":"#REF!"},{"$error":"#REF!"},{"$error":"#REF!"},{"$error":"#REF!"},{"$error":"#REF!"},{"$error":"#REF!"},{"$error":"#REF!"},{"$error":"#REF!"},{"$error":"#REF!"},{"$error":"#REF!"},{"$error":"#REF!"},{"$error":"#REF!"},{"$error":"#REF!"},{"$error":"#REF!"},{"$error":"#REF!"},{"$error":"#REF!"},{"$error":"#REF!"},{"$error":"#REF!"},{"$error":"#REF!"},{"$error":"#REF!"},{"$error":"#REF!"},{"$error":"#REF!"},{"$error":"#REF!"},{"$error":"#REF!"},{"$error":"#REF!"},{"$error":"#REF!"},{"$error":"#REF!"},{"$error":"#REF!"},{"$error":"#REF!"},{"$error":"#REF!"},{"$error":"#REF!"},{"$error":"#REF!"},{"$error":"#REF!"},{"$error":"#REF!"},{"$error":"#REF!"},{"$error":"#REF!"},{"$error":"#REF!"},{"$error":"#REF!"},{"$error":"#REF!"},{"$error":"#REF!"},{"$error":"#REF!"},{"$error":"#REF!"},{"$error":"#REF!"},{"$error":"#REF!"},{"$error":"#REF!"},{"$error":"#REF!"},{"$error":"#REF!"},{"$error":"#REF!"},{"$error":"#REF!"},{"$error":"#REF!"},{"$error":"#REF!"},{"$error":"#REF!"},{"$error":"#REF!"},{"$error":"#REF!"},null,null,null,null,null,null,{"$error":"#REF!"},{"$error":"#REF!"},{"$error":"#REF!"},{"$error":"#REF!"},{"$error":"#REF!"},{"$error":"#REF!"},{"$error":"#REF!"},{"$error":"#REF!"},{"$error":"#REF!"},{"$error":"#REF!"},{"$error":"#REF!"},{"$error":"#REF!"},{"$error":"#REF!"},{"$error":"#REF!"},{"$error":"#REF!"},{"$error":"#REF!"},{"$error":"#REF!"},{"$error":"#REF!"},{"$error":"#REF!"},{"$error":"#REF!"},{"$error":"#REF!"},{"$error":"#REF!"},{"$error":"#REF!"},{"$error":"#REF!"},{"$error":"#REF!"},{"$error":"#REF!"},{"$error":"#REF!"},{"$error":"#REF!"},{"$error":"#REF!"},{"$error":"#REF!"},{"$error":"#REF!"},{"$error":"#REF!"},{"$error":"#REF!"},{"$error":"#REF!"},{"$error":"#REF!"},{"$error":"#REF!"},{"$error":"#REF!"},{"$error":"#REF!"},{"$error":"#REF!"},{"$error":"#REF!"},{"$error":"#REF!"},{"$error":"#REF!"},{"$error":"#REF!"},{"$error":"#REF!"},{"$error":"#REF!"},{"$error":"#REF!"},{"$error":"#REF!"},{"$error":"#REF!"},{"$error":"#REF!"},{"$error":"#REF!"},{"$error":"#REF!"},{"$error":"#REF!"},{"$error":"#REF!"},{"$error":"#REF!"},{"$error":"#REF!"},{"$error":"#REF!"},{"$error":"#REF!"},{"$error":"#REF!"},{"$error":"#REF!"},{"$error":"#REF!"},{"$error":"#REF!"},{"$error":"#REF!"},{"$error":"#REF!"},{"$error":"#REF!"},{"$error":"#REF!"},{"$error":"#REF!"},{"$error":"#REF!"},{"$error":"#REF!"},1973763.01165872,{"$error":"#REF!"},{"$error":"#REF!"},{"$error":"#REF!"},{"$error":"#REF!"},{"$error":"#REF!"},{"$error":"#REF!"},{"$error":"#REF!"},{"$error":"#REF!"},{"$error":"#REF!"},{"$error":"#REF!"},{"$error":"#REF!"},{"$error":"#REF!"},{"$error":"#REF!"},{"$error":"#REF!"},{"$error":"#REF!"},{"$error":"#REF!"},{"$error":"#REF!"},{"$error":"#REF!"},{"$error":"#REF!"},{"$error":"#REF!"},{"$error":"#REF!"},{"$error":"#REF!"},{"$error":"#REF!"},{"$error":"#REF!"},{"$error":"#REF!"},{"$error":"#REF!"},{"$error":"#REF!"},0,0,0,0,0,0,{"$error":"#REF!"},{"$error":"#REF!"},{"$error":"#REF!"},{"$error":"#REF!"},{"$error":"#REF!"},{"$error":"#REF!"},{"$error":"#REF!"},{"$error":"#REF!"},{"$error":"#REF!"},{"$error":"#REF!"},{"$error":"#REF!"},{"$error":"#REF!"},{"$error":"#REF!"},{"$error":"#REF!"},{"$error":"#REF!"},{"$error":"#REF!"},{"$error":"#REF!"},{"$error":"#REF!"},{"$error":"#REF!"},{"$error":"#REF!"},{"$error":"#REF!"},{"$error":"#REF!"},{"$error":"#REF!"},{"$error":"#REF!"},{"$error":"#REF!"},{"$error":"#REF!"},{"$error":"#REF!"},{"$error":"#REF!"},{"$error":"#REF!"},{"$error":"#REF!"},{"$error":"#REF!"},{"$error":"#REF!"},{"$error":"#REF!"},{"$error":"#REF!"},{"$error":"#REF!"},{"$error":"#REF!"},{"$error":"#REF!"},{"$error":"#REF!"},{"$error":"#REF!"},{"$error":"#REF!"},{"$error":"#REF!"},{"$error":"#REF!"},{"$error":"#REF!"},{"$error":"#REF!"},{"$error":"#REF!"},{"$error":"#REF!"},{"$error":"#REF!"},{"$error":"#REF!"},{"$error":"#REF!"},{"$error":"#REF!"},{"$error":"#REF!"},{"$error":"#REF!"},{"$error":"#REF!"},{"$error":"#REF!"},{"$error":"#REF!"},{"$error":"#REF!"},{"$error":"#REF!"},{"$error":"#REF!"},{"$error":"#REF!"},{"$error":"#REF!"},{"$error":"#REF!"},{"$error":"#REF!"},{"$error":"#REF!"},{"$error":"#REF!"},{"$error":"#REF!"},{"$error":"#REF!"},{"$error":"#REF!"},{"$error":"#REF!"},{"$error":"#REF!"},{"$error":"#REF!"},{"$error":"#REF!"},{"$error":"#REF!"},{"$error":"#REF!"},{"$error":"#REF!"},{"$error":"#REF!"},{"$error":"#REF!"},{"$error":"#REF!"},{"$error":"#REF!"},{"$error":"#REF!"},{"$error":"#REF!"},{"$error":"#REF!"},{"$error":"#REF!"},{"$error":"#REF!"},{"$error":"#REF!"},{"$error":"#REF!"},{"$error":"#REF!"},{"$error":"#REF!"},{"$error":"#REF!"},{"$error":"#REF!"},{"$error":"#REF!"},{"$error":"#REF!"},{"$error":"#REF!"},{"$error":"#REF!"},{"$error":"#REF!"},{"$error":"#REF!"},{"$error":"#REF!"},{"$error":"#REF!"},{"$error":"#REF!"},{"$error":"#REF!"},0,0,0,0,0,0,4921.2525648068859,5424.7088398271571,5479.5804693982673,15825.541874032311,1055.0361249354874,5178.8305794450689,5708.637720646082,5766.3813274666354,16653.849627557785,1110.2566418371857,0,0,0,0,0,5339.3092613338604,5885.5337674922566,5945.0667006419717,17169.909729468091,1144.660648631206,5489.4586679071217,6051.0438286822864,6112.2509174477327,17652.753414037143,1176.8502276024763,20928.851073492937,23069.924156647783,23303.279414954606,67302.054645095326,4486.8036430063548,6276.3674116646926,6194.4581099920179,5941.3928715126349,18412.218393169343,1227.4812262112896,6279.0164394541071,6197.0725668262739,5943.9005186582144,18419.989524938595,1227.9993016625731,6286.067809541084,6204.0319134924121,5950.5755517181497,18440.675274751644,1229.3783516501096,6285.0740030626412,6203.0510766171346,5949.6347854533024,18437.759865133077,1229.1839910088718,6277.8818310072784,6195.9527655090242,5942.8264651339705,18416.661061650273,1227.7774041100181,31404.407494729807,30994.566432436866,29728.330192476275,92127.304119642955,6141.8202746428633,11197.619976471578,11619.166949819175,11420.973340910903,34237.760267201658,2282.5173511467774,11457.847018899176,11905.710287472357,11710.28184612485,35073.839152496381,2338.2559434997588,6286.067809541084,6204.0319134924121,5950.5755517181497,18440.675274751644,1229.3783516501096,11624.383264396502,12088.584844109391,11894.701486095273,35607.66959460116,2373.8446396400773,11767.3404989144,12246.996594191311,12055.077382581703,36069.414475687416,2404.6276317124943,52333.258568222744,54064.490589084649,53031.609607430881,159429.35876473828,10628.623917649218,862.61741251958438,0.3540447666752396,4.574801765494823,4.8842259998013233,1.4355684006349685,10.894596165931114,44.516968471261109,10.718694882612693,55.235663353873804,64.019881020395118,4.1043081386581858E-4,5.3033960352509802E-3,5.6620999401521292E-3,1.6642005827842898E-3,1.2629696558187398E-2,5.1606851224151956E-2,1.2425780800441866E-2,6.4032632024593833E-2,7.4215845972088648E-2,2292.1893823641726,1112.966557889567,909.45519300014939,537.01904624561746,261.41197005352359,263.55021922235414,2338.9576255958586,1061.867667286753,1349.1329552978586,1584.7109166716264,647.03149340893867,567.14421001540086,1023.2730541251701,343.47266803314903,525.87893837846605,115.13939759833542,11.522032478330514,346.41924175821231,799.27710484913916,368.21315744235437,67.754527281272416,19751.694040815339,8693.8693070056106,4587.479934374328,6818.16561066131,3001.0712301496665,2463.533320256292,2323.9324644710887,1022.8978376573264,1739.1201623435722,3103.6546500519257,1366.0989202178755,1194.3679808398524,31.767509210285013,27.624921509271385,59.392430719556401,32.951101486543386,33.837595148347035,66.788696634890414,7.0791929989068159,8.7334674521634632,15.812660451070279,26.975023815012715,30.752694472872722,57.727718287885438,112.55657879033451,87.108686246347517,199.66526503668203,104.96689410349251,83.316550055959439,188.28344415945196,60.305324617854524,41.296976445220039,101.60230106307456,102.17160885045453,82.789496480795705,184.96110533125022,3.7300402203857164E-2,3.2436307055895959E-2,6.9736709259753116E-2,3.8690138731753497E-2,3.9731031485338991E-2,7.8421170217092495E-2,8.3121639908886307E-3,1.0254560609193893E-2,1.8566724600082525E-2,3.1673217786707696E-2,3.6108838911396546E-2,6.7782056698104248E-2,0.13216036648571569,0.10228025782350003,0.23444062430921572,0.12324879933873878,9.7827651729110898E-2,0.22107645106784968,7.080860033407578E-2,4.8489600522763264E-2,0.11929820085683904,0.1199666640122754,9.7208802130092822E-2,0.21717546614236821,777.97,1.2999999999999999E-2]
["Lesotho",579.04399999999998,596.34900000000005,613.83199999999999,631.50699999999995,649.42100000000005,667.60799999999995,686.05799999999999,704.74,723.63900000000001,742.74,762.03099999999995,781.50400000000002,801.15599999999995,820.99300000000005,841.02599999999995,861.26499999999999,861.26499999999999,1541.0720000000001,1545.7280000000001,1549.654,1552.92,1555.6719999999998,1558.0150000000001,1559.9490000000001,1561.4219999999998,1562.4349999999999,1562.9880000000001,1563.0889999999999,1562.7539999999999,1562.0210000000002,1560.9389999999999,1559.5640000000003,1557.9520000000002,1557.9520000000002,0.87953117370605471,0.94384982715487653,0.92425098156166452,0.92720566526781412,0.762884368789846,0.81461441558571479,2030,1,0.67880195617675776,0.83157068404631285,0.73739482806621892,0.68892039119270077,0.60580459158250255,0.53031928599605416,2030,1,0.39291358895944273,0.56126448512077332,0.34292240582834083,0.39388640799774971,0.32898005420718085,0.32602909684187131,2030,1,7.9677097994702521E-3,3.1137833504810905E-2,5.8668456824001909E-3,1.300380002868789E-3,9.7304010246372749E-4,5.6044970480764364E-4,2030,1,0.3734077592766234,0.86661158359559609,0.35732803253129397,0.21254259490798399,0.18433785267511979,0.24621873267312311,2030,1,0.27612689228981036,0.3529942988155142,0.2526393138451476,0.18856286990982699,0.14174180815347032,0.44469617072509271,2030,1,0.56588944723618173,0.9070921736700952,0.72044026071095213,0.60282728104750394,0.42177053242081619,0.17731698833154147,2025,1,1.4999999999999999E-2,0,0.33293,0.33293,2030,1,0,0,0.33800000000000002,0.33800000000000002,2030,1,0.63500000000000001,0.9,0.74941441441441459,0.65502252252252258,0.4419256756756757,0.28174549549549555,2030,1,0.374,0.61659459459459465,0.44138738738738748,0.38579279279279283,0.26028378378378381,0.16594144144144146,2030,1,4.196458942465755,4.196458942465755,4.196458942465755,4.196458942465755,4.196458942465755,4.196458942465755,4.196458942465755,4.196458942465755,4.196458942465755,4.196458942465755,4.196458942465755,4.196458942465755,4.196458942465755,4.196458942465755,4.196458942465755,20.982294712328773,20.982294712328773,20.982294712328773,62.946884136986306,4.3477735284347663,4.3477735284347663,4.3477735284347663,4.3477735284347663,4.3477735284347663,4.3477735284347663,4.3477735284347663,4.3477735284347663,4.3477735284347663,4.3477735284347663,4.3477735284347663,4.3477735284347663,4.3477735284347663,4.3477735284347663,4.3477735284347663,21.73886764217383,21.73886764217383,21.73886764217383,65.216602926521475,4.3249616368088502,4.3249616368088502,4.3249616368088502,4.3249616368088502,4.3249616368088502,4.3249616368088502,4.3249616368088502,4.3249616368088502,4.3249616368088502,4.3249616368088502,4.3249616368088502,4.3249616368088502,4.3249616368088502,4.3249616368088502,4.3249616368088502,21.624808184044252,21.624808184044252,21.624808184044252,64.874424552132751,5.5936184474460315,5.5936184474460315,5.5936184474460315,5.5936184474460315,5.5936184474460315,5.5936184474460315,5.5936184474460315,5.5936184474460315,5.5936184474460315,5.5936184474460315,5.5936184474460315,5.5936184474460315,5.5936184474460315,5.5936184474460315,5.5936184474460315,27.968092237230159,27.968092237230159,27.968092237230159,83.904276711690486,5.1942321378878038,5.1942321378878038,5.1942321378878038,5.1942321378878038,5.1942321378878038,5.1942321378878038,5.1942321378878038,5.1942321378878038,5.1942321378878038,5.1942321378878038,5.1942321378878038,5.1942321378878038,5.1942321378878038,5.1942321378878038,5.1942321378878038,25.971160689439017,25.971160689439017,25.971160689439017,77.913482068317052,23.657044693043204,23.657044693043204,23.657044693043204,23.657044693043204,23.657044693043204,23.657044693043204,23.657044693043204,23.657044693043204,23.657044693043204,23.657044693043204,23.657044693043204,23.657044693043204,23.657044693043204,23.657044693043204,23.657044693043204,118.28522346521603,118.28522346521603,118.28522346521603,354.85567039564808,3.6858893706050746,3.6858893706050746,3.6858893706050746,3.6858893706050746,3.6858893706050746,3.6858893706050746,3.6858893706050746,3.6858893706050746,3.6858893706050746,3.6858893706050746,3.6858893706050746,3.6858893706050746,3.6858893706050746,3.6858893706050746,3.6858893706050746,18.429446853025372,18.429446853025372,18.429446853025372,55.288340559076119,5.6209797002978119,5.6209797002978119,5.6209797002978119,5.6209797002978119,5.6209797002978119,5.6209797002978119,5.6209797002978119,5.6209797002978119,5.6209797002978119,5.6209797002978119,5.6209797002978119,5.6209797002978119,5.6209797002978119,5.6209797002978119,5.6209797002978119,28.10489850148906,28.10489850148906,28.10489850148906,84.314695504467153,6.617014332051764,6.617014332051764,6.617014332051764,6.617014332051764,6.617014332051764,6.617014332051764,6.617014332051764,6.617014332051764,6.617014332051764,6.617014332051764,6.617014332051764,6.617014332051764,6.617014332051764,6.617014332051764,6.617014332051764,33.085071660258819,33.085071660258819,33.085071660258819,99.255214980776486,8.3248467525435981,8.3248467525435981,8.3248467525435981,8.3248467525435981,8.3248467525435981,8.3248467525435981,8.3248467525435981,8.3248467525435981,8.3248467525435981,8.3248467525435981,8.3248467525435981,8.3248467525435981,8.3248467525435981,8.3248467525435981,8.3248467525435981,41.624233762717992,41.624233762717992,41.624233762717992,124.87270128815393,9.8758906305531866,9.8758906305531866,9.8758906305531866,9.8758906305531866,9.8758906305531866,9.8758906305531866,9.8758906305531866,9.8758906305531866,9.8758906305531866,9.8758906305531866,9.8758906305531866,9.8758906305531866,9.8758906305531866,9.8758906305531866,9.8758906305531866,49.379453152765933,49.379453152765933,49.379453152765933,148.1383594582978,34.124620786051437,34.124620786051437,34.124620786051437,34.124620786051437,34.124620786051437,34.124620786051437,34.124620786051437,34.124620786051437,34.124620786051437,34.124620786051437,34.124620786051437,34.124620786051437,34.124620786051437,34.124620786051437,34.124620786051437,170.62310393025717,170.62310393025717,170.62310393025717,511.86931179077146,3.303892994757581,9.0567737309130276,12.681775126831218,18.262204841223756,25.796615083158692,69.101261776884272,691.01261776884269,4.7927834958462885,4.7927834958462885,4.7927834958462885,4.7927834958462885,4.7927834958462885,4.7927834958462885,4.7927834958462885,4.7927834958462885,4.7927834958462885,4.7927834958462885,4.7927834958462885,4.7927834958462885,4.7927834958462885,4.7927834958462885,4.7927834958462885,23.963917479231441,23.963917479231441,23.963917479231441,71.891752437694322,8.724751289745992,8.724751289745992,8.724751289745992,8.724751289745992,8.724751289745992,8.724751289745992,8.724751289745992,8.724751289745992,8.724751289745992,8.724751289745992,8.724751289745992,8.724751289745992,8.724751289745992,8.724751289745992,8.724751289745992,43.623756448729964,43.623756448729964,43.623756448729964,130.87126934618991,9.8425798089880168,9.8425798089880168,9.8425798089880168,9.8425798089880168,9.8425798089880168,9.8425798089880168,9.8425798089880168,9.8425798089880168,9.8425798089880168,9.8425798089880168,9.8425798089880168,9.8425798089880168,9.8425798089880168,9.8425798089880168,9.8425798089880168,49.212899044940087,49.212899044940087,49.212899044940087,147.63869713482026,10.060336965807839,10.060336965807839,10.060336965807839,10.060336965807839,10.060336965807839,10.060336965807839,10.060336965807839,10.060336965807839,10.060336965807839,10.060336965807839,10.060336965807839,10.060336965807839,10.060336965807839,10.060336965807839,10.060336965807839,50.301684829039189,50.301684829039189,50.301684829039189,150.90505448711755,9.5825802687736541,9.5825802687736541,9.5825802687736541,9.5825802687736541,9.5825802687736541,9.5825802687736541,9.5825802687736541,9.5825802687736541,9.5825802687736541,9.5825802687736541,9.5825802687736541,9.5825802687736541,9.5825802687736541,9.5825802687736541,9.5825802687736541,47.91290134386827,47.91290134386827,47.91290134386827,143.73870403160481,43.003031829161785,43.003031829161785,43.003031829161785,43.003031829161785,43.003031829161785,43.003031829161785,43.003031829161785,43.003031829161785,43.003031829161785,43.003031829161785,43.003031829161785,43.003031829161785,43.003031829161785,43.003031829161785,43.003031829161785,215.01515914580895,215.01515914580895,215.01515914580895,645.04547743742683,13.519498265810373,13.519498265810373,13.519498265810373,13.519498265810373,13.519498265810373,13.519498265810373,13.519498265810373,13.519498265810373,13.519498265810373,13.519498265810373,13.519498265810373,13.519498265810373,13.519498265810373,13.519498265810373,13.519498265810373,67.597491329051863,67.597491329051863,67.597491329051863,202.79247398715557,15.581555031120413,15.581555031120413,15.581555031120413,15.581555031120413,15.581555031120413,15.581555031120413,15.581555031120413,15.581555031120413,15.581555031120413,15.581555031120413,15.581555031120413,15.581555031120413,15.581555031120413,15.581555031120413,15.581555031120413,77.907775155602067,77.907775155602067,77.907775155602067,233.72332546680622,16.898173879230978,16.898173879230978,16.898173879230978,16.898173879230978,16.898173879230978,16.898173879230978,16.898173879230978,16.898173879230978,16.898173879230978,16.898173879230978,16.898173879230978,16.898173879230978,16.898173879230978,16.898173879230978,16.898173879230978,84.490869396154892,84.490869396154892,84.490869396154892,253.47260818846459,17.860235576337537,17.860235576337537,17.860235576337537,17.860235576337537,17.860235576337537,17.860235576337537,17.860235576337537,17.860235576337537,17.860235576337537,17.860235576337537,17.860235576337537,17.860235576337537,17.860235576337537,17.860235576337537,17.860235576337537,89.301177881687693,89.301177881687693,89.301177881687693,267.90353364506313,11.635242437177869,11.635242437177869,11.635242437177869,11.635242437177869,11.635242437177869,11.635242437177869,11.635242437177869,11.635242437177869,11.635242437177869,11.635242437177869,11.635242437177869,11.635242437177869,11.635242437177869,11.635242437177869,11.635242437177869,58.176212185889341,58.176212185889341,58.176212185889341,174.52863655766805,75.494705189677177,75.494705189677177,75.494705189677177,75.494705189677177,75.494705189677177,75.494705189677177,75.494705189677177,75.494705189677177,75.494705189677177,75.494705189677177,75.494705189677177,75.494705189677177,75.494705189677177,75.494705189677177,75.494705189677177,377.47352594838583,377.47352594838583,377.47352594838583,1132.4205778451576,4.5350053333333324,4.5350053333333324,4.5350053333333324,4.5350053333333324,4.5350053333333324,4.5350053333333324,4.5350053333333324,4.5350053333333324,4.5350053333333324,4.5350053333333324,4.5350053333333324,4.5350053333333324,4.5350053333333324,4.5350053333333324,4.5350053333333324,22.67502666666666,22.67502666666666,22.67502666666666,68.025079999999974,5.6976143975975955,5.6976143975975955,5.6976143975975955,5.6976143975975955,5.6976143975975955,5.6976143975975955,5.6976143975975955,5.6976143975975955,5.6976143975975955,5.6976143975975955,5.6976143975975955,5.6976143975975955,5.6976143975975955,5.6976143975975955,5.6976143975975955,28.488071987987979,28.488071987987979,28.488071987987979,85.464215963963923,6.4263751795795789,6.4263751795795789,6.4263751795795789,6.4263751795795789,6.4263751795795789,6.4263751795795789,6.4263751795795789,6.4263751795795789,6.4263751795795789,6.4263751795795789,6.4263751795795789,6.4263751795795789,6.4263751795795789,6.4263751795795789,6.4263751795795789,32.131875897897892,32.131875897897892,32.131875897897892,96.395627693693683,8.0716078540540526,8.0716078540540526,8.0716078540540526,8.0716078540540526,8.0716078540540526,8.0716078540540526,8.0716078540540526,8.0716078540540526,8.0716078540540526,8.0716078540540526,8.0716078540540526,8.0716078540540526,8.0716078540540526,8.0716078540540526,8.0716078540540526,40.358039270270261,40.358039270270261,40.358039270270261,121.07411781081078,9.3082928174174171,9.3082928174174171,9.3082928174174171,9.3082928174174171,9.3082928174174171,9.3082928174174171,9.3082928174174171,9.3082928174174171,9.3082928174174171,9.3082928174174171,9.3082928174174171,9.3082928174174171,9.3082928174174171,9.3082928174174171,9.3082928174174171,46.541464087087085,46.541464087087085,46.541464087087085,139.62439226126131,34.038895581981976,34.038895581981976,34.038895581981976,34.038895581981976,34.038895581981976,34.038895581981976,34.038895581981976,34.038895581981976,34.038895581981976,34.038895581981976,34.038895581981976,34.038895581981976,34.038895581981976,34.038895581981976,34.038895581981976,170.19447790990989,170.19447790990989,170.19447790990989,510.58343372972968,8.1031377989189188,8.1031377989189188,8.1031377989189188,8.1031377989189188,8.1031377989189188,8.1031377989189188,8.1031377989189188,8.1031377989189188,8.1031377989189188,8.1031377989189188,8.1031377989189188,8.1031377989189188,8.1031377989189188,8.1031377989189188,8.1031377989189188,40.515688994594598,40.515688994594598,40.515688994594598,121.54706698378382,11.703230081921923,11.703230081921923,11.703230081921923,11.703230081921923,11.703230081921923,11.703230081921923,11.703230081921923,11.703230081921923,11.703230081921923,11.703230081921923,11.703230081921923,11.703230081921923,11.703230081921923,11.703230081921923,11.703230081921923,58.516150409609615,58.516150409609615,58.516150409609615,175.5484512288289,12.845567056336339,12.845567056336339,12.845567056336339,12.845567056336339,12.845567056336339,12.845567056336339,12.845567056336339,12.845567056336339,12.845567056336339,12.845567056336339,12.845567056336339,12.845567056336339,12.845567056336339,12.845567056336339,12.845567056336339,64.227835281681692,64.227835281681692,64.227835281681692,192.68350584504506,15.424479316756759,15.424479316756759,15.424479316756759,15.424479316756759,15.424479316756759,15.424479316756759,15.424479316756759,15.424479316756759,15.424479316756759,15.424479316756759,15.424479316756759,15.424479316756759,15.424479316756759,15.424479316756759,15.424479316756759,77.122396583783797,77.122396583783797,77.122396583783797,231.36718975135139,17.362990546066065,17.362990546066065,17.362990546066065,17.362990546066065,17.362990546066065,17.362990546066065,17.362990546066065,17.362990546066065,17.362990546066065,17.362990546066065,17.362990546066065,17.362990546066065,17.362990546066065,17.362990546066065,17.362990546066065,86.814952730330333,86.814952730330333,86.814952730330333,260.44485819099106,65.439404800000005,65.439404800000005,65.439404800000005,65.439404800000005,65.439404800000005,65.439404800000005,65.439404800000005,65.439404800000005,65.439404800000005,65.439404800000005,65.439404800000005,65.439404800000005,65.439404800000005,65.439404800000005,65.439404800000005,327.19702400000006,327.19702400000006,327.19702400000006,981.59107200000017,7.1502422330363578,7.1502422330363578,7.1502422330363578,7.1502422330363578,7.1502422330363578,7.1502422330363578,7.1502422330363578,7.1502422330363578,7.1502422330363578,7.1502422330363578,7.1502422330363578,7.1502422330363578,7.1502422330363578,7.1502422330363578,7.1502422330363578,35.751211165181786,35.751211165181786,35.751211165181786,107.25363349554533,8.8359711791937876,8.8359711791937876,8.8359711791937876,8.8359711791937876,8.8359711791937876,8.8359711791937876,8.8359711791937876,8.8359711791937876,8.8359711791937876,8.8359711791937876,8.8359711791937876,8.8359711791937876,8.8359711791937876,8.8359711791937876,8.8359711791937876,44.179855895968942,44.179855895968942,44.179855895968942,132.53956768790684,8.4424991835646797,8.4424991835646797,8.4424991835646797,8.4424991835646797,8.4424991835646797,8.4424991835646797,8.4424991835646797,8.4424991835646797,8.4424991835646797,8.4424991835646797,8.4424991835646797,8.4424991835646797,8.4424991835646797,8.4424991835646797,8.4424991835646797,42.212495917823396,42.212495917823396,42.212495917823396,126.63748775347018,8.9436143132220955,8.9436143132220955,8.9436143132220955,8.9436143132220955,8.9436143132220955,8.9436143132220955,8.9436143132220955,8.9436143132220955,8.9436143132220955,8.9436143132220955,8.9436143132220955,8.9436143132220955,8.9436143132220955,8.9436143132220955,8.9436143132220955,44.718071566110481,44.718071566110481,44.718071566110481,134.15421469833146,8.966397435310606,8.966397435310606,8.966397435310606,8.966397435310606,8.966397435310606,8.966397435310606,8.966397435310606,8.966397435310606,8.966397435310606,8.966397435310606,8.966397435310606,8.966397435310606,8.966397435310606,8.966397435310606,8.966397435310606,44.831987176553028,44.831987176553028,44.831987176553028,134.49596152965913,42.338724344327524,42.338724344327524,42.338724344327524,42.338724344327524,42.338724344327524,42.338724344327524,42.338724344327524,42.338724344327524,42.338724344327524,42.338724344327524,42.338724344327524,42.338724344327524,42.338724344327524,42.338724344327524,42.338724344327524,211.69362172163761,211.69362172163761,211.69362172163761,635.08086516491289,20.132884755267657,20.132884755267657,20.132884755267657,20.132884755267657,20.132884755267657,20.132884755267657,20.132884755267657,20.132884755267657,20.132884755267657,20.132884755267657,20.132884755267657,20.132884755267657,20.132884755267657,20.132884755267657,20.132884755267657,100.66442377633828,100.66442377633828,100.66442377633828,301.99327132901487,20.652143578540429,20.652143578540429,20.652143578540429,20.652143578540429,20.652143578540429,20.652143578540429,20.652143578540429,20.652143578540429,20.652143578540429,20.652143578540429,20.652143578540429,20.652143578540429,20.652143578540429,20.652143578540429,20.652143578540429,103.26071789270215,103.26071789270215,103.26071789270215,309.7821536781064,20.745973610509587,20.745973610509587,20.745973610509587,20.745973610509587,20.745973610509587,20.745973610509587,20.745973610509587,20.745973610509587,20.745973610509587,20.745973610509587,20.745973610509587,20.745973610509587,20.745973610509587,20.745973610509587,20.745973610509587,103.72986805254794,103.72986805254794,103.72986805254794,311.18960415764383,20.752699668576216,20.752699668576216,20.752699668576216,20.752699668576216,20.752699668576216,20.752699668576216,20.752699668576216,20.752699668576216,20.752699668576216,20.752699668576216,20.752699668576216,20.752699668576216,20.752699668576216,20.752699668576216,20.752699668576216,103.76349834288108,103.76349834288108,103.76349834288108,311.29049502864325,20.761177422033505,20.761177422033505,20.761177422033505,20.761177422033505,20.761177422033505,20.761177422033505,20.761177422033505,20.761177422033505,20.761177422033505,20.761177422033505,20.761177422033505,20.761177422033505,20.761177422033505,20.761177422033505,20.761177422033505,103.80588711016753,103.80588711016753,103.80588711016753,311.4176613305026,103.04487903492739,103.04487903492739,103.04487903492739,103.04487903492739,103.04487903492739,103.04487903492739,103.04487903492739,103.04487903492739,103.04487903492739,103.04487903492739,103.04487903492739,103.04487903492739,103.04487903492739,103.04487903492739,103.04487903492739,515.22439517463704,515.22439517463704,515.22439517463704,1545.6731855239109,44.565592071999994,44.565592071999994,44.565592071999994,44.565592071999994,44.565592071999994,44.565592071999994,44.565592071999994,44.565592071999994,44.565592071999994,44.565592071999994,44.565592071999994,44.565592071999994,44.565592071999994,44.565592071999994,44.565592071999994,222.82796035999996,222.82796035999996,222.82796035999996,668.48388107999995,69.137977600000013,69.137977600000013,69.137977600000013,69.137977600000013,69.137977600000013,69.137977600000013,69.137977600000013,69.137977600000013,69.137977600000013,69.137977600000013,69.137977600000013,69.137977600000013,69.137977600000013,69.137977600000013,69.137977600000013,345.68988800000005,345.68988800000005,345.68988800000005,1037.0696640000001,{"$error":"#REF!"},{"$error":"#REF!"},{"$error":"#REF!"},97.065523344275903,4.8532761672137958,0.05,-20,8.1782281561713006,0.3,29.119657003282768,-10,3.771128803350019,3.5720112590693534,0,0,15.521368218590673,33.996772830679554,1.6998386415339777,0.05,-10,4.6228744964160589,0.3,10.199031849203866,-5,2.3557193224736395,1.6522431595710265,0,0,8.6308369784607244,74.44946570062146,3.7224732850310733,0.05,-20,6.2727186299216253,0.3,22.334839710186436,-10,2.8924639235892982,4.0202711478335589,0,0,13.185453701344482,9.2327540833741928,0.46163770416870964,0.05,-10,1.2554680879943574,0.3,2.7698262250122578,-5,0.6397600531725891,0.44871184845198575,0,0,2.3439399896189324,567.39891799742725,56.739891799742729,0.1,-20,50.082512864243718,0.3,170.21967539922818,-10,22.04422671333505,26.3,2.6300000000000003,0.1,101.05673957757877,390.05583857102999,39.005583857103005,0.1,-20,34.428998599351502,0.3,117.01675157130899,-10,15.154204676080806,19.725000000000001,1.9725000000000001,0.1,71.280703275432302,1,83.45355349261412,16.690710698522825,0.2,-20,8.0358348510049318,0.3,25.036066047784235,-10,3.2422850923253983,6.4426143296298095,0,0,17.72073427296014,1,49.808401247044905,4.9808401247044909,0.1,-8,8.4770907923218477,0.3,14.942520374113471,-4,4.2139675544183195,3.2624502816814411,0,0,15.953508628421609,1,49.808401247044905,4.9808401247044909,0.1,-8,8.4770907923218477,0.3,14.942520374113471,-4,4.2139675544183195,3.9896529398882965,0,0,16.680711286628465,1,10.342501687220203,4.9808401247044909,0.1,-8,2.3708552359778667,0.3,3.102750506166061,-4,0.87501235635521246,0.69294761304375352,0,0,3.9388152053768328,14.492206444122264,2.4904200623522454,0.05,-2,9.1333393772625051,0.3,4.3476619332366786,-1,4.5650450298985072,0.69294761304375352,0,0,14.391332020204764,261.60445444145222,26.160445444145225,0.1,-20,23.091000069490612,0.3,78.48133633243566,-10,10.163692104453133,15.931711275484441,0,0,49.186403449428184,81.831620765206353,8.1831620765206363,0.1,-20,7.2230190606284221,0.3,24.549486229561904,-10,3.1792707797797459,5.8509608847122543,0,0,16.253250725120424,64.284909086701461,6.4284909086701463,0.1,-20,5.6742261646788368,0.3,19.285472726010436,-10,2.4975569483898887,3.1049611088876805,0,0,11.276744221956406,447.62016274419756,44.762016274419757,0.1,-20,39.510019931043985,0.3,134.28604882325925,-10,17.390657676646754,9.7581195478235081,0,0,66.65879715551425,9.9329551450558782,11.624999627671789,0.53924408647420641,-6,-10,3.4624563092862042,0.3,2.9798865435167632,-3,1.0942398604087522,4.5012697340463568,0,0,9.0579659037413123,1.255890880409364,3.0078931019582984,0.70545156940338871,-10,-10,0.55217953238104633,0.3,0.3767672641228092,-5,8.7023742772105714E-2,1.5984065750664631,0,0,2.2376098502196151,0.5,0.5,0.5,0.5,0.5,0.5,0.5,0.5,0.5,0.5,0.5,0.5,0.5,0.5,0.5,0.5,0.5,0.5,0.5,0.5,0.5,0.5,0.5,0.5,0.5,0.5,0.5,0.5,0.5,0.5,0.5,0.5,0.5,0.5,0.5,0.5,0.5,0.5,0.5,0.5,0.5,0.5,0.5,0.5,0.5,0.5,0.5,0.5,0.5,0.5,0.5,0.5,0.5,0.5,0.5,0.5,0.5,0.5,0.5,0.5,1178.9329173894205,null,null,null,null,2585.6508020000001,{"$error":"#REF!"},{"$error":"#REF!"},37000,31000,185000,155000,2000000,53400,{"$error":"#REF!"},0.15,0.15,0.3,230,851.66666666666652,0.05,288.74871102183073,74.899682214148072,312.56592891161171,320.36490171561201,326.71234892623454,331.72882633059453,335.52669965352743,319.54923776526419,339.87815678429757,340.61993474162034,340.52036841097981,339.65790378361652,384.08733121141984,379.72289232040424,374.90316794687442,369.68141529980227,364.10685186640399,1626.8987055375801,1680.2256014857785,1872.5016586449046,5179.6259656682632,299.16032048980793,77.600391206855392,323.83633207049257,331.91651776302592,338.49283921257307,343.69019916859639,347.62501500360946,350.40574361812554,352.13337559587688,352.90190034758803,352.79874388576695,351.90518078233339,397.9366304170137,393.41481997230596,388.42130750551371,383.01127055716347,377.23570128302009,1685.5609032182972,1760.144944229691,1940.0197297350169,5385.725577183005,297.59068656909983,77.193237590697109,322.13722808924501,330.17501867560964,336.71683549164197,341.8869259472458,345.80109659643921,348.56723528823261,350.28580272911512,351.05029518631198,350.94767996566003,350.05880520777691,395.84873710157615,391.35065168512551,386.38333917205216,381.00168759744571,375.25642157150475,1676.7171048001817,1750.9098183770966,1929.8408371277042,5357.4677603049822,384.88405076565476,99.836612221143625,416.63091906143762,427.02646414973373,435.48721601179426,442.1738680045662,447.23619664199083,450.8137369103078,453.03641802236348,454.02516184730638,453.89244612878019,452.74283448810149,511.96449452979346,506.14696927141654,499.72257681649114,492.76230570813124,485.33175979191356,2168.5546638695228,2264.5105973968593,2495.9281061177462,6928.9933673841279,357.40319520009473,92.708243261332996,386.88332601855234,396.53662555905697,404.39327678500445,410.60249949156673,415.30337609731134,418.62547874175698,420.68945964660162,421.60760681733007,421.48436704743006,420.41683807915905,475.41005092299781,470.00789899863264,464.04221040737485,457.57890508558233,450.67890274135885,2013.7191039514919,2102.8237503322775,2317.7179681559464,6434.2608224397154,1627.7869640464878,422.23816649417722,1762.0537341513391,1806.0195278630383,1841.8025164272483,1870.0823189425696,1891.4923839928783,1887.9614323236872,1916.0232127782547,1920.2048989401569,1919.6436054386172,1914.7815623409872,2165.2472441828008,2140.643232247885,2113.4726018483066,2084.0355842481249,2052.6096372542011,9171.4504813770727,9558.614711821705,10556.008299781319,29286.073492980093,161.93278731549529,17.866227822092753,176.67856918247867,182.3089057613924,187.00238813283025,190.8354733039013,193.87946104794781,196.20081169776788,197.86144536722426,198.91902364934512,199.42721478131577,199.43594321217043,209.95993850812388,208.58339945722471,206.86185972974883,204.83129793673265,202.52504846928781,930.70479742855036,991.84443870782343,1032.7615441011178,2955.3107802374916,246.94743080789223,27.245989722256233,269.43474179458269,278.02100264883154,285.17856124078332,291.0240144733001,295.66609446997455,299.20615320965663,301.73861883927833,303.3514252633359,304.12641652038747,304.1397273736759,320.18881566057507,318.08959420171146,315.46424685988126,312.36764100139601,308.85061155832244,1419.3244146274722,1512.5623412063342,1574.9609092818862,4506.8476651156925,290.70638501551758,32.073964699348153,317.17843562270122,327.28617736179518,335.71205155289675,342.59331600842432,348.05797012679778,352.22532540394639,355.20654260452579,357.10513747442877,358.01745677258481,358.03312630203999,376.92610455014676,374.45490215837953,371.36434465528373,367.71902187547954,363.57877667412561,1670.8279506726153,1780.5875885575258,1854.0431499134152,5305.4586891435556,365.73686919757881,40.352162995205923,399.04128014058034,411.75780103198275,422.35836918510972,431.01566826008855,437.89073393294905,443.13367165451632,446.88433246397773,449.27294922434163,450.42073551668022,450.44044930674534,474.20965105273262,471.10063841143733,467.2124168809849,462.62624674705734,457.41741613409141,2102.0638525507102,2240.152138166261,2332.5663692263038,6674.782359943275,433.87913641204392,47.870376511753349,473.38865890116193,488.47445846693319,501.05007154593903,511.32035535559072,519.47634893496752,525.6961246329621,530.1455898360573,532.97924174399827,534.34087784701956,534.36426461201165,562.56202533922283,558.87375698700862,554.26110143627693,548.82045898337662,542.64114506014903,2493.7098932045924,2657.5260986720486,2767.1584878060339,7918.3944796826754,1499.2026087485278,165.40872175065641,1635.7216856415048,1687.8483452709349,1731.3014416575591,1766.7888274013051,1794.9706085126368,1816.4620865988491,1831.8365291110633,1841.6277773554496,1846.3327014379879,1846.413510806643,1943.8465351108011,1931.1022912157616,1915.1639695621757,1896.3646665440424,1875.0129978959762,8616.6309084839395,9182.6726053099919,9561.4904603287578,27360.793974122691,450.68149833732605,92.765910036240825,489.24449809409037,502.6738074770044,513.71473705906476,522.5642996344958,529.4061607014753,515.75004946303204,537.73960215152181,539.53895839096549,539.94758319229561,539.09384699578698,594.04726971954369,588.30629177762899,581.76502767662328,574.51271323653486,566.63190033569185,2557.6035029661307,2672.0700401936019,2905.2632027460231,8134.9367459057567,546.10775129770013,104.84638092911163,593.27107386507532,609.93752041185746,623.67140045335645,634.71421364189655,643.29110947358402,649.61189682778218,653.87199443515522,656.25332561092387,656.92516040615442,656.04490815600934,718.12544607758878,711.50441417401748,703.88555436539491,695.37891155855948,686.08631284134253,3104.8853178457698,3272.7072854360249,3514.9806390169033,9892.5732422986966,588.29707158461747,109.26720229004526,639.31566371194617,657.46119603740476,672.42888704453867,684.48024195567018,693.85906672323699,700.79256069217899,705.49234533364097,708.15543266074076,708.96513673824484,708.09193150981696,772.77484165172291,765.80555384350509,757.74768382733589,748.72070947292525,738.83519824563041,3347.5450554727968,3531.4974069346226,3783.8839870411193,10662.92644944854,750.62091996323352,140.18877521634954,815.67219920201796,838.78426518171648,857.84558519690404,873.18953626465475,885.12693057493993,893.94740856482417,899.92075048634115,903.29811107164801,904.31318164546042,903.18328379484683,986.17414558252608,977.24760768285387,966.9349936974761,955.38855245518857,942.74917592600491,4270.6185164202334,4504.6627355631208,4828.4944753440495,13603.775727327402,791.28233161213871,140.57861977308636,860.27198491971421,885.01108402599016,905.44334833094354,921.9228548471574,934.77972503227886,944.32160337471907,950.83504948265886,954.58684856132834,955.82524489444961,954.78110269117064,1037.9720762622205,1028.8816559856414,1018.3033118436517,1006.3993640689589,993.32004780150783,4507.4289971560847,4760.3498490043266,5084.8764559619804,14352.655302122392,3126.9895727950156,587.64688824483369,3397.7754197928439,3493.8678731339733,3573.1039580848073,3636.8711463438749,3686.4629925055151,3704.4235189225365,3747.8597418893178,3761.8326762956067,3765.9763068766051,3761.19507314763,4109.093779293602,4071.7455234636464,4028.6365714104822,3980.4002507921673,3927.6226351501773,17788.081389861014,18741.287317131697,20117.498760110073,56646.867467102784,56.108780747325547,56.108780747325547,73.48062580682938,69.981548387456556,149.05496296885497,156.96356050764834,209.94179794591415,213.55586463625627,258.21891208036629,258.26861936357523,295.70469357215853,328.98978425211584,null,null,null,null,null,659.42249561670337,1354.7378739044723,0,2014.1603695211757,153.80780562574563,153.80780562574563,201.42825527167903,237.18924277867856,408.59588225786075,430.27527034680912,575.50149586388716,585.40853108409408,707.84079976718385,707.97705951213186,810.59843799466523,802.6950788119409,null,null,null,null,null,1852.9901465189146,3614.5199071700163,0,5467.5100536889304,215.36985041807299,215.36985041807299,282.05053073439967,332.12496290545374,572.13763427222318,602.49426377406564,805.84773038875983,819.72008676743621,991.15624558490936,991.34704370967347,1135.042942910384,1123.9762400336433,null,null,null,null,null,2594.655122074902,5061.2425590060466,0,7655.8976810809481,310.14020400323369,310.14020400323369,406.16274270229269,478.271696572716,823.89843456112885,867.61305500719448,1160.4492412153343,1180.4259251798564,1427.3000589825706,1427.5748150323282,1634.5019935859925,1618.5655499232748,null,null,null,null,null,3736.3951700586658,7288.3683427040232,0,11024.763512762687,438.09427908857094,438.09427908857094,573.7326914086326,675.59152736066142,1163.8129661109544,1225.562861425236,1639.2140302577807,1667.4324645241306,2016.1590864773029,2016.5471982151239,2308.8460099852819,2286.3346918538818,null,null,null,null,null,5277.9140765632646,10295.319451055722,0,15573.233527618984,1173.5209198829489,null,1536.8548459238334,1793.1589780049662,3117.4998801710226,3282.9090110609536,4390.9542956716759,4466.5428721917733,5400.6751028923336,5401.714735832833,6184.694078048482,6160.5613448748572,0,0,0,0,0,14121.377010832452,27614.188133840275,0,41735.565144672728,371.28137420770543,131.29648589822958,412.40661326839938,431.93509745627938,448.66856361885471,462.82892167194143,474.62328516301352,484.24487725205165,491.87388396035828,497.67825765505722,590.68110332589993,589.06312751906398,586.25983171350083,582.3877724075171,577.55509328098424,571.86206211569129,565.40157565711365,2230.4624811784884,2653.5412497124312,2883.4663351748068,7767.4700660657272,675.87815124233032,239.01125216118751,750.7422636828079,786.29178678408152,816.75327760885546,842.5306994961586,864.00108057422028,881.51616300199885,895.40395621766686,905.97019959646366,1075.2719630539541,1072.3266106257245,1067.2235095329411,1060.1748384521102,1051.3774614208535,1041.0139052441555,1029.2532785413819,4060.3191081461237,4830.4888924958077,5249.0429931914423,14139.850993833375,762.47269679449892,269.63374043767578,846.92851416438361,887.03269669930307,921.39696045728158,950.47702518003462,974.69822441795134,994.4573660749777,1010.1244846616798,1022.0444913510655,1213.0374564561232,1209.7147409565403,1203.957822723457,1196.0060650909018,1186.0815546189906,1174.3902037269643,1161.1227874899182,4580.5334209189541,5449.378539500387,5921.5584336502325,15951.470394069569,779.34163662824994,275.59911515038931,865.6659538248332,906.6574009727774,941.78193942675705,971.50537126840095,996.26244012415896,1016.4587328728641,1032.4724706656289,1044.6561954874885,1239.8746874219944,1236.4784601913254,1230.594175945387,1222.4664936906911,1212.3224134286304,1200.3724031831582,1186.8114587356033,4681.8731056169281,5569.9405466393009,6052.5669449834695,16304.3805972397,742.33137668942402,262.51115165500147,824.55622676102507,863.6010255548822,897.05753007186172,925.36942185580688,948.95079893454249,968.18798721699056,983.44124645908221,995.04637673204661,1180.9941114122366,1177.7591680739083,1172.1543233949847,1164.412617737469,1154.7502710691158,1143.3677564695458,1130.4508095391664,4459.5350031781181,5305.428889894265,5765.1357782102823,15530.099671282665,3331.3052355622085,1178.0517453024836,3700.2995717014492,3875.5180074673235,4025.6582711836109,4152.7114394723421,4258.5358292138862,4344.865126418882,4413.3160419644164,4465.3955208221214,5299.8593216702084,5285.3421073665631,5260.1896633102697,5225.4477873786891,5182.0867938185747,5131.0063307395158,5073.0399099631832,20012.723119038616,23808.778118242193,25871.770485210232,69693.271722491045,473.94347338158371,473.94347338158371,539.99690594823073,577.19079858559803,609.61793295376401,637.64794613814661,661.6260806678855,681.87466962758549,698.69453564629839,712.36630859831394,1043.9352647464314,1036.8026932425194,1027.9822141159727,1017.6507541052363,1005.9722172381166,993.09832389551775,979.16939949430503,3026.0796642936248,4173.6734718611478,5023.8729088491482,12223.626045003921,546.2315366252127,546.2315366252127,622.35974599333747,665.22662415377363,702.59969589985224,734.90497708473117,762.54036823408921,785.8773661740189,805.26267640031813,821.01973176113302,1203.1611274886884,1194.9406629998059,1184.7748433658994,1172.8675810145876,1159.4077793784443,1144.5702999366392,1128.5168711913825,3487.6314113657836,4810.2615648239644,5790.1373748869537,14088.030351076699,592.38731087988526,592.38731087988526,674.94824375518192,721.43731107664632,761.96835329322028,797.00338398105782,826.97392568435475,852.28286617332162,873.30620705634544,890.3947107891189,1304.8265013619441,1295.9114195216696,1284.8866028422333,1271.973194056254,1257.3760586629483,1241.2848336833895,1223.8749134441455,3782.3312177904618,5216.7217049024002,6279.39560268897,15278.448525381831,626.11362626299046,626.11362626299046,713.37499078045005,762.5108145694378,805.34940572822609,842.37908159622407,874.05593253863458,900.80578388653817,923.0260441025813,941.08744555907663,1379.1140313223716,1369.6913882020208,1358.038896963149,1344.3902906309227,1328.9620982873369,1311.954753535133,1293.5536364049372,3997.6702252129726,5513.7246930725887,6636.899675821478,16148.294594107039,407.88845161942407,407.88845161942407,464.73580546422676,496.74586600859948,524.65352667014258,548.77690702829909,569.41313205377389,586.83961023548841,601.31523758798357,613.08153170002436,898.43865912993772,892.30017698978372,884.70903632526824,875.81750502791783,865.76664329556422,854.68702575307634,842.69942021396503,2604.3252372250417,3591.9752156432178,4323.6796306157921,10519.98008348405,2646.564398769096,2646.564398769096,3015.4156919414268,3223.1114143940549,3404.1889145452051,3560.712295828459,3694.6094391787378,3807.6802960969526,3901.6047007935267,3977.9497284076665,5829.4755840493735,5789.6463409557991,5740.3915936125231,5682.6993248349181,5617.4847968624099,5545.5952368037561,5467.8142407487348,16898.037755887883,23306.356650303318,28053.985192862343,68258.379599053529,845.22484758928908,605.23995927981332,952.40351921663012,1009.1258960418775,1058.2864965726187,1100.4768678100882,1136.249365830899,1166.1195468796373,1190.5684196066568,1210.0445662533712,1634.6163680723312,1625.8658207615833,1614.2420458294737,1600.0385265127534,1583.5273105191009,1564.960386011209,1544.5709751514187,5256.5421454721127,6827.2147215735795,7907.3392440239559,19991.096111069644,1222.109687867543,785.24278878640018,1373.1020096761454,1451.5184109378552,1519.3529735087077,1577.4356765808898,1626.5414488083095,1667.3935291760176,1700.666632617985,1726.9899313575966,2278.4330905426423,2267.2672736255304,2251.9983528988405,2233.0424194666975,2210.7852407992978,2185.5842051807949,2157.7701497327644,7547.9505195119073,9640.750457319773,11039.180368078396,28227.881344910074,1354.8600076743842,862.02105131756105,1521.8767579195655,1608.4700077759494,1683.3653137505019,1747.4804091610924,1801.6721501023062,1846.7402322482994,1883.4306917180252,1912.4392021401845,2517.8639578180673,2505.6261604782098,2488.8444255656905,2467.979259147156,2443.4576132819388,2415.675037410354,2384.9977009340637,8362.8646387094159,10666.100244402785,12200.954036339203,31229.918919451404,1405.4552628912404,901.71274141337972,1579.0409446052831,1669.1682155422152,1747.1313451549831,1813.884452864625,1870.3183726627935,1917.2645167594023,1955.49851476821,1985.7436410465652,2618.988718744366,2606.169848393346,2588.6330729085357,2566.8567843216138,2541.2845117159673,2512.327156718291,2480.3650951405407,8679.5433308298998,11083.665239711889,12689.466620804949,32452.675191346734,1150.219828308848,670.39960327442554,1289.2920322252519,1360.3468915634817,1421.7110567420043,1474.146328884106,1518.3639309883165,1555.0275974524789,1584.7564840470659,1608.1279084320709,2079.4327705421742,2070.059345063692,2056.8633597202529,2040.2301227653868,2020.5169143646799,1998.0547822226222,1973.1502297531315,7063.8602404031599,8897.4041055374819,10088.815408826073,26050.079754766717,5977.869634331304,3824.6161440715796,6715.7152636428764,7098.6294218613784,7429.8471857288159,7713.4237353008011,7953.1452683926236,8152.5454225158346,8314.9207427579422,8443.3452492297874,11129.334905719581,11074.988448322361,11000.581256922793,10908.147112213606,10799.571590680986,10676.601567543272,10540.854150711919,36910.760874926498,47115.134768545511,53925.755678072572,137951.65132154457,97.765439870078751,null,123.1411057236505,141.44454435925928,157.72556683065216,172.13527980508863,184.81498481635739,195.89676944150733,205.50406440889623,213.75216854165498,220.74874333657988,226.59427887996617,231.38253270870675,235.20094313679627,238.13101848395962,240.2487035641895,241.62472471731371,779.26148153500799,1062.4960246086046,1186.587922610966,3028.3454287545783,122.82891349585097,null,154.70996952311387,177.70573861940647,198.16061821101107,216.26445317343922,232.19476957207382,246.11751739493485,258.18777048280225,268.55038604893406,277.34062604984973,284.68474254489826,290.70052906524865,295.4978399021532,299.1790791195221,301.83966099668305,303.56844351339004,979.03554909904449,1334.8810425214192,1490.7855525969971,3804.702144217461,138.53950547395621,null,174.49834944886192,200.4354223083501,223.50660988541799,243.92603941136289,261.89394365391763,277.59749865021689,291.21161316239255,302.89967255402036,312.81423963814086,321.09771490800489,327.88295842963208,333.29387555031519,337.44596845898405,340.44685552249541,342.39676021610558,1104.2603647079104,1505.6207389127756,1681.4664181775324,4291.3475217982177,174.00735706089071,null,219.17211625092938,251.74940518187429,280.72710624127592,306.37416591819056,328.94207908111042,348.6659411810806,365.76543981783118,380.44578905792724,392.8986097086767,403.30275857623025,411.82510957043706,418.62128936207483,423.83637014958748,427.60552195198068,430.05462671163008,1386.9648726733806,1891.078538341746,2111.94291774571,5389.9863287608359,200.66775556919049,null,252.75239733704723,290.32098962371805,323.73848605239067,353.31503953406104,379.3406775230273,402.08651543246816,421.8059001225904,438.73548736958884,453.09625701001926,465.09446925301722,474.92256546151191,482.7600165225922,488.77412175594714,493.12076114729848,495.94510354048066,1599.4675900702443,2180.8186291876837,2435.5225684278303,6215.808787685758,733.8089714699671,null,924.27393828360289,1061.6561000926081,1183.8583872207478,1292.0149778421423,1387.1864546464867,1470.3642421002078,1542.4747879945128,1604.3835035721254,1656.8984757432663,1700.7739641621167,1736.7136952355363,1765.3739644739317,1787.3665579680005,1803.2615031826472,1813.5896586989202,5848.9898580855879,7974.8949735722281,8906.3053795590349,22730.190211216854,34.550029153948444,null,48.207303269870074,58.918645129325441,68.500545579785339,77.036281712674636,84.603760559484257,91.275841689108645,97.120641258633967,102.20181855240146,106.57884598767274,110.3072635117562,113.43891826486649,116.02219033511423,118.10220538673323,119.72103489979642,120.91788471912859,337.26653625113977,507.48441099957302,588.20223360563898,1432.9531808563518,49.900044965262083,null,69.625023761973651,85.095240532081164,98.934223451607053,111.26224826874706,122.19183484150732,131.82821305978985,140.26976198099894,147.60842367374866,153.93009318265155,159.31498594994969,163.83798395668279,167.56896177694713,170.57309367338431,172.911142800145,174.63973352101613,487.10857085591624,732.95147784713868,849.53091572817539,2069.5909644312305,54.770723059236616,null,76.421031225814204,93.401275611801736,108.59106354555051,122.12241073365469,134.11881995022617,144.69579243702523,153.96130990251862,162.01628876033001,168.95500815798138,174.86551326206876,179.82999518581684,183.92514886906724,187.22251014895633,189.78877319160179,191.68608939084584,534.65460106704734,804.49391251992392,932.45251678628802,2271.6010303732592,65.766647847148789,null,91.763532924484551,112.1527790493527,130.39211163642278,146.64005023776429,161.04489239263694,173.74532769775354,184.87101657382814,194.54313569821812,202.87489196592293,209.97200673942851,215.93317205158914,220.85048033461095,224.80982916199002,227.8913024086784,230.16952915758256,641.99336624066132,966.00637867515115,1119.654313114451,2727.6540580302631,74.032040976317646,null,103.29615165100184,126.24786888160574,146.77947664432673,165.06941684488015,181.28462469834164,195.58121997427412,208.10515850125535,218.99284614817427,228.37171737860376,236.36078035999421,243.07113050102859,248.60643418790556,253.06338439326359,256.53212973963525,259.09667851244501,722.67753872015612,1087.4117223623016,1260.3697573342779,3070.4590184167359,279.01948600191355,null,389.31304283314432,475.81580920416684,553.19742085769235,622.13040779772086,683.2439324421963,737.12639485795125,784.327888217235,825.36251283287265,860.71055667283235,890.82054982319744,916.11119995998388,936.97321550364518,953.77102276432754,966.84438303985678,976.50991530101817,2723.7006131349208,4098.3479024040889,4750.2097365688314,11572.25825210784,132.31546902402721,null,171.34840899352056,200.36318948858474,226.22611241043751,249.17156151776328,269.41874537584164,287.17261113061596,302.62470566753018,315.95398709405646,327.32758932425259,336.90154239172239,344.82145097357323,351.2231334719105,356.23322387069288,359.96973846398589,362.54260943644232,1116.5280177861478,1569.9804356081775,1774.7901562166046,4461.2986096109298,172.72895846111305,null,224.33499328508753,262.80097915148764,297.09484166261814,327.52670144218627,354.38660441358115,377.9457304547247,398.45753246380116,416.15880972268269,431.27071923250128,443.99972849484794,454.53851302193141,463.06680167910031,469.75217279290644,474.75080379682805,478.20817703440616,1466.1441199549608,2067.8325203685577,2340.3164683251725,5874.2931086486915,193.31022853319283,null,250.91938067467612,293.83669792015183,332.09767343096848,366.04845014501757,396.0127636041438,422.2932910872421,445.17292306491117,464.9159613143504,481.76924779612227,495.96322817007365,507.7129536154489,517.21902441938244,524.66847860794041,530.23562871409717,534.08284960695141,1638.9149657749579,2310.1146514326997,2613.9189349638209,6562.9485521714787,239.7740049080395,null,310.93564917541391,363.90218423122701,411.1192178776987,453.01421615595484,489.98697147374736,522.41126887883411,550.63645639165929,574.98892475614537,595.77350167459963,613.27476531565878,627.75828162202617,639.47176969668578,648.64619931157745,655.49682436065905,660.22415586921261,2028.9582389140419,2857.0849170168972,3231.5972308601608,8117.6403867910994,274.69979654550815,null,356.04854898804905,416.56885850532376,470.5179626967174,518.38445637894119,560.62530222136888,597.66773540674228,629.91105862384575,657.72833351776308,681.46797438862302,701.45524961301146,717.99369596254053,731.3664507104977,741.83750614921075,749.65289088693373,755.04178205292567,2322.1451287904001,3268.2303515499857,3695.8923257621082,9286.2678061024926,1012.8284574718807,null,1313.5869811167472,1537.4719092967748,1737.0558080784401,1914.1453856398632,2070.4303870886829,2207.490636958159,2326.8026762117479,2429.746016404998,2517.6090324160987,2591.5945139853143,2652.8248951955202,2702.3471799775771,2741.1375807323279,2770.1058862225041,2790.0995739999385,8572.6904712205087,12073.242875976317,13656.515116127866,34302.44846332469,4462.7436770887716,null,4827.2217457308298,4944.4760136884652,5039.6171274511989,5114.4852190104775,5170.7953128986901,5210.1450685503578,5234.0220689859989,5243.810681469603,5240.7985143765718,5226.1824931711517,5201.0745771273005,5166.5071372300936,5123.4380145631721,5072.7552774172937,5015.2816943429898,25096.59541877966,26154.958826553684,25579.056700680852,76830.610946014189,5514.8725351841076,null,5965.2793333048257,6110.1772680243284,6227.7486889308502,6320.2675544040439,6389.8532202427596,6438.4800073521546,6467.9862087952515,6480.0825679073678,6476.3602574242377,6458.298387921569,6427.2710723002801,6384.5540715728057,6331.3310458073593,6268.6994327643042,6197.675975508103,31013.326064906807,32321.20742940058,31609.531597952853,94944.065092260236,5269.2913921436384,null,5699.6412595538104,5838.0867875847453,5950.4226706341533,6038.8216061197072,6105.3085734396664,6151.7699756041648,6179.9622451964451,6191.5199449509009,6187.9633915650311,6170.7058297829162,6141.0601822939616,6100.2453995776905,6049.3924324890604,5989.5498491150429,5921.6891162381235,29632.280897332086,30881.921387099457,30201.936979713879,90716.1392641454,5582.0567927393722,null,6037.9506163781843,6184.6137523971383,6303.6174727036796,6397.2634378962248,6467.6968225654364,6516.9159995384953,6546.7816566579631,6559.0253781797974,6555.2577211062235,6536.9758150959387,6505.5705130115612,6462.3331176674301,6408.4617089252088,6345.0670939460369,6273.1784021419244,31391.142101940663,32714.956570578419,31994.610835692161,96100.70950821125,5596.2766234431592,null,6053.3317991125477,6200.3685474113681,6319.6754199104989,6413.5599404994828,6484.1727484248668,6533.5173072042953,6563.4590446296197,6575.7339560253104,6571.9567011551326,6553.6282234924856,6522.1429189832998,6478.7953799296547,6424.7867382031527,6361.2306306548435,6289.1588083192937,31471.108455358764,32798.295232506847,32076.114476090243,96345.518163955858,26425.241020599045,null,28583.424754080199,29277.722369106043,29841.081379630377,30284.397757929935,30617.826677571418,30850.82835824947,30992.21122426528,31050.172528532981,31032.336585627196,30945.79074946406,30797.119263716402,30592.435105977675,30337.409939987956,30037.302283897523,29696.983996550432,148604.45293831796,154871.339446139,151461.25059012999,454937.04297458695,8638.244170676815,null,9380.1752939555099,9640.1013497468575,9854.0023043200854,10025.672099161287,10158.647713304872,10256.22503290607,9767.8333646724477,10357.251637658461,10366.217366871522,10350.843385733999,10313.427431446602,10256.103601182642,10180.852726564124,10089.51213115829,9983.7848062297453,49058.598760488618,51098.370787842505,50823.680696581403,150980.65024491251,8861.03809999859,null,9622.1047960829801,9888.7347544451131,10108.152551702278,10284.249981069994,10420.655245845541,10520.749238281762,10019.761179315965,10624.381478368614,10633.578447866292,10617.807947528887,10579.426976820292,10520.624674642833,10443.432961387447,10349.73654809143,10241.282348847675,50323.897329145904,52416.278291361523,52134.503509789676,154874.67913029713,8901.2969469817544,null,9665.8214396940202,9933.6627927678892,10154.077483100726,10330.974985708508,10467.999988106256,10568.548743142517,10065.284517278589,10672.651821346652,10681.890575947107,10666.048424618841,10627.493075512431,10568.423613566685,10490.881190909391,10396.759081490281,10287.812136254153,50552.536689377397,52654.42408233371,52371.369097732939,155578.32986944405,8904.1828390231567,null,9668.9551984409281,9936.8833884368541,10157.369539479791,10334.324394077734,10471.39382139089,10571.975175367919,10068.547786064686,10676.112004860957,10685.353754760697,10669.506467243995,10630.938618096772,10571.850005223789,10494.282442515363,10400.129817740108,10291.147550783553,50568.926341826198,52671.495188298257,52388.348434359592,155628.76996448403,8907.8203159805362,null,9672.9050950650308,9940.9427372852642,10161.518959849453,10338.54610285586,10475.671524850664,10576.293967646739,10072.660921568326,10680.4733384178,10689.718863695125,10673.865102350985,10635.281497725116,10576.168746368943,10498.569496280879,10404.378408907844,10295.351621247708,50589.58441990627,52693.01219367898,52409.7497705305,155692.34638411575,44212.582372660851,null,48009.961823238467,49340.32502268198,50435.120838452334,51313.767562873385,51994.368293498228,52493.792157345,49994.087768900019,53010.870280652482,53056.759009140747,52978.071327476704,52786.567599601214,52493.170640984892,52108.018817657197,51640.515987387946,51099.378463362838,251093.5435407444,261533.58054351495,260127.65150899408,772754.77559325343,13100.987847765588,null,14207.397039686341,14584.577363435323,14893.619431771283,15140.157318171765,15329.443026203562,15466.370101456429,15001.855433658446,15601.062319128065,15607.015881248095,15577.025878905151,15514.502008573902,15422.610738412735,15304.290741127297,15162.267408575583,14999.066500572735,74155.194179268277,77253.329614396178,76402.737397262259,227811.26119092671,14375.910635182698,null,15587.384129387807,15998.912022469442,16335.901240633128,16604.517535474039,16810.5084660883,16959.229245633916,16487.747388111216,17104.464046275982,17109.938705290529,17076.106335450455,17006.698049120572,16905.178746215639,16774.764007194804,16618.435980855735,16438.958324355779,81337.223394052708,84737.48572076211,83744.035107742529,249818.74422255735,14170.588339125392,null,15365.46269924783,15771.749580352634,16104.50015373488,16369.796591828215,16573.30856154592,16720.318718746683,16245.246762475035,16864.171766297553,16869.853967512139,16836.754254401756,16768.553257806394,16668.669013144376,16540.273623398451,16386.308930605323,16209.501252492277,80184.817586709483,83536.345469433174,82573.306077446818,246294.46913358947,14486.239631762528,null,15706.905814819112,16121.497140833992,16460.987012183468,16731.587831973957,16939.090643956326,17088.891174906414,16615.32944272265,17235.137383040754,17240.611475866921,17206.482282339934,17136.509131108334,17034.18312289122,16902.744151440573,16745.196911686144,16564.325952925479,81960.068443766853,85386.451758876661,84382.959270051768,251729.47947269527,14504.096939423696,null,15726.236894177579,16141.311284696632,16481.194379759952,16752.106043355343,16959.844273275532,17109.811274851036,16636.119966197944,17256.207294443109,17261.675564850259,17227.493325843468,17157.424416708418,17054.964126298597,16923.356234484032,16765.609039562689,16584.510429567003,82060.692875265042,85491.307426185813,84485.864246620738,252037.86454807158,70637.823393259896,null,76593.38657731867,78618.047391788015,80276.202218082704,81598.165320803324,82612.19497106965,83344.620515594463,80986.298993165299,84061.042809185456,84089.095594767947,83923.862076940772,83583.68686331762,83085.605746962567,82445.428757645161,81677.818271285476,80796.362459913275,399697.99647906236,416404.91998965392,411588.90209912404,1227691.8185678404,8417.9876167577604,null,9200.6849780877583,8954.1940842147269,9765.1516560070322,9976.2678432806406,10145.134525970352,10275.296744904395,10370.057721840254,10432.493851211009,10465.468812428904,10471.646852507654,10453.505286020107,10413.346256811405,10353.307803432057,10275.374267932797,10181.386085466507,48041.433087560508,52014.963982892215,51676.919699662874,151733.31677011561,19465.6447642641,null,20597.823924044333,19550.141126597424,19100.816228806252,18649.952792649165,18198.716222908843,17748.164422185397,17299.25538655827,16852.854321620831,16409.74030734284,15970.612538593316,15536.096166624146,15106.747765367249,14683.060445031366,14265.46863419375,13854.352550363283,96097.450295006012,84280.626976300657,73445.725561579791,253823.80283288646,27883.63238102186,null,29798.508902132089,28504.335210812151,28865.967884813283,28626.220635929807,28343.850748879195,28023.461167089794,27669.313108398524,27285.34817283184,26875.209119771745,26442.259391100968,25989.601452644252,25520.094022178651,25036.368248463423,24540.842902126547,24035.738635829788,144138.88338256654,136295.59095919286,125122.64526124267,405557.11960300209,1626.8987055375801,1680.2256014857785,1872.5016586449046,5179.6259656682632,345.30839771121754,1685.5609032182972,1760.144944229691,1940.0197297350169,5385.725577183005,359.04837181220034,1676.7171048001817,1750.9098183770966,1929.8408371277042,5357.4677603049822,357.16451735366547,2168.5546638695228,2264.5105973968593,2495.9281061177462,6928.9933673841279,461.93289115894186,2013.7191039514919,2102.8237503322775,2317.7179681559464,6434.2608224397154,428.95072149598104,9171.4504813770727,9558.614711821705,10556.008299781319,29286.073492980093,1952.4048995320061,930.70479742855036,991.84443870782343,1032.7615441011178,2955.3107802374916,197.02071868249945,1419.3244146274722,1512.5623412063342,1574.9609092818862,4506.8476651156925,300.45651100771283,1670.8279506726153,1780.5875885575258,1854.0431499134152,5305.4586891435556,353.69724594290369,2102.0638525507102,2240.152138166261,2332.5663692263038,6674.782359943275,444.98549066288501,2493.7098932045924,2657.5260986720486,2767.1584878060339,7918.3944796826754,527.89296531217838,8616.6309084839395,9182.6726053099919,9561.4904603287578,27360.793974122691,1824.0529316081795,2557.6035029661307,2672.0700401936019,2905.2632027460222,8134.9367459057548,542.32911639371696,3104.8853178457694,3272.7072854360249,3514.9806390169033,9892.5732422986985,659.50488281991318,3347.5450554727968,3531.4974069346226,3783.8839870411193,10662.926449448538,710.86176329656917,4270.6185164202325,4504.6627355631208,4828.4944753440504,13603.775727327404,906.91838182182687,4507.4289971560847,4760.3498490043257,5084.8764559619804,14352.655302122392,956.84368680815942,17788.081389861014,18741.287317131697,20117.498760110077,56646.867467102784,3776.4578311401856,2230.4624811784884,2653.5412497124312,2883.4663351748068,7767.4700660657272,517.8313377377151,4060.3191081461237,4830.4888924958077,5249.0429931914423,14139.850993833375,942.65673292222505,4580.5334209189541,5449.378539500387,5921.5584336502325,15951.470394069569,1063.4313596046379,4681.8731056169281,5569.9405466393009,6052.5669449834695,16304.3805972397,1086.9587064826467,4459.5350031781181,5305.428889894265,5765.1357782102823,15530.099671282665,1035.3399780855111,20012.723119038616,23808.778118242193,25871.770485210232,69693.271722491045,4646.2181148327363,3026.0796642936248,4173.6734718611478,5023.8729088491482,12223.626045003921,814.90840300026139,3487.6314113657836,4810.2615648239644,5790.1373748869537,14088.030351076699,939.20202340511321,3782.3312177904618,5216.7217049024002,6279.39560268897,15278.448525381831,1018.5632350254554,3997.6702252129726,5513.7246930725887,6636.899675821478,16148.294594107039,1076.5529729404693,2604.3252372250417,3591.9752156432178,4323.6796306157921,10519.98008348405,701.33200556560337,16898.037755887883,23306.356650303318,28053.985192862343,68258.379599053529,4550.5586399369022,5256.5421454721127,6827.2147215735786,7907.339244023955,19991.096111069648,1332.7397407379765,7547.9505195119073,9640.750457319773,11039.180368078396,28227.881344910074,1881.8587563273381,8362.8646387094159,10666.100244402787,12200.954036339203,31229.9189194514,2081.9945946300932,8679.5433308298998,11083.665239711889,12689.466620804948,32452.675191346738,2163.5116794231162,7063.8602404031599,8897.4041055374837,10088.815408826074,26050.079754766717,1736.6719836511145,36910.760874926498,47115.134768545511,53925.755678072572,137951.65132154457,9196.7767547696385,779.26148153500799,1062.4960246086046,1186.587922610966,3028.3454287545783,201.88969525030521,979.03554909904449,1334.8810425214192,1490.7855525969971,3804.702144217461,253.64680961449739,1104.2603647079104,1505.6207389127756,1681.4664181775324,4291.3475217982177,286.08983478654784,1386.9648726733806,1891.078538341746,2111.94291774571,5389.9863287608359,359.33242191738907,1599.4675900702443,2180.8186291876837,2435.5225684278303,6215.808787685758,414.3872525123839,5848.9898580855879,7974.8949735722281,8906.3053795590349,22730.190211216854,1515.3460140811235,337.26653625113977,507.48441099957302,588.20223360563898,1432.9531808563518,95.530212057090111,487.10857085591624,732.95147784713868,849.53091572817539,2069.5909644312305,137.97273096208204,534.65460106704734,804.49391251992392,932.45251678628802,2271.6010303732592,151.44006869155061,641.99336624066132,966.00637867515115,1119.654313114451,2727.6540580302631,181.8436038686842,722.67753872015612,1087.4117223623016,1260.3697573342779,3070.4590184167359,204.69726789444906,2723.7006131349208,4098.3479024040889,4750.2097365688314,11572.25825210784,771.48388347385605,1116.5280177861478,1569.9804356081777,1774.7901562166048,4461.2986096109298,297.41990730739531,1466.1441199549608,2067.8325203685581,2340.3164683251725,5874.2931086486915,391.61954057657942,1638.9149657749576,2310.1146514326992,2613.9189349638204,6562.9485521714769,437.52990347809845,2028.9582389140419,2857.0849170168972,3231.5972308601613,8117.6403867910994,541.1760257860733,2322.1451287904006,3268.2303515499852,3695.8923257621082,9286.2678061024944,619.08452040683301,8572.6904712205087,12073.242875976317,13656.515116127866,34302.44846332469,2286.8298975549797,4636.6226682510769,5396.2628758068149,5942.5559164306778,15975.441460488568,1065.029430699238,6724.9155604634652,7925.5148792469172,8679.8482755234563,23330.278715233842,1555.3519143489227,7361.5108904270464,8705.9090967902594,9532.8656889554695,25600.285676172767,1706.6857117448512,8237.3926421598317,9725.5296823779063,10660.437968846925,28623.360293384663,1908.2240195589775,8072.7216971998541,9589.0712694142276,10518.376314794059,28180.169281408136,1878.677952093876,35033.16345850128,41342.287803636122,45334.084164550586,121709.535426688,8113.9690284458666,4294.0509979733151,5673.0023215685442,6644.8366865559046,16611.890006097765,1107.459333739851,5394.0643968491713,7055.775383877437,8214.6291998970155,20664.468980623624,1377.631265374908,5987.8137695301239,7801.8032059798497,9065.8912693886741,22855.508244898647,1523.7005496599097,6741.7274440043439,8719.883209914,10089.120358162234,25550.731012080578,1703.3820674720384,5820.7126691497906,7336.913036677568,8351.207875756103,21508.833581583462,1433.9222387722307,28238.369277506739,36587.3771580174,42365.685389759929,107191.43182528406,7146.0954550189372,8930.6736662243929,11069.26519737536,12587.392602986583,32587.331466586333,2172.4887644390892,12118.979957312637,14981.290263124354,16894.47747542047,43994.74769585747,2932.9831797238307,13349.32465995717,16507.712302770109,18598.756958344144,48455.79392107141,3230.3862614047612,14979.120086164176,18445.412892291904,20749.558327009159,54174.091305465241,3611.6060870310157,13893.434366349644,16925.984306091796,18869.584190550162,49689.002862991598,3312.6001908661065,63271.532736008019,77929.664961653529,87699.769554310507,228900.96725197206,15260.064483464805,null,null,null,null,null,null,null,null,null,null,null,null,null,null,null,null,null,null,null,null,null,null,null,null,null,null,null,null,null,null,null,null,null,null,null,null,null,null,null,null,null,null,null,null,null,null,null,null,null,null,null,null,null,null,null,null,null,null,null,null,null,null,null,null,null,null,null,null,null,null,null,null,null,null,null,null,null,null,null,null,null,null,null,null,null,null,null,null,null,null,null,null,null,null,null,null,null,null,null,null,null,null,null,null,null,null,null,null,null,null,null,null,null,null,null,null,null,null,null,null,null,null,null,null,null,null,null,null,null,null,null,null,null,null,null,null,null,null,null,null,null,null,null,null,null,null,null,null,null,null,null,null,null,null,null,null,null,null,null,null,null,null,null,null,null,null,null,null,null,null,null,null,null,null,null,null,null,null,null,null,null,null,null,null,null,null,null,null,null,null,null,null,null,null,null,null,null,null,null,null,null,null,null,null,null,null,null,null,null,null,null,null,null,null,null,null,null,null,null,null,null,null,null,null,null,null,null,null,null,null,null,null,null,null,null,null,null,null,null,null,null,null,null,null,null,null,null,null,null,null,null,null,null,null,null,null,null,null,null,null,null,null,null,null,null,null,null,null,null,null,null,null,null,null,null,null,null,null,null,null,null,null,null,null,null,null,null,null,null,null,null,null,null,null,null,null,null,null,null,null,null,null,null,null,null,null,null,null,null,null,null,null,null,null,null,null,null,null,null,null,null,null,null,null,null,null,null,null,null,null,null,null,null,null,null,null,null,null,null,null,null,null,null,null,null,null,null,null,null,null,null,null,null,null,null,null,null,null,null,null,null,null,null,null,null,null,null,null,null,null,null,null,null,null,null,null,null,null,null,null,null,null,null,null,null,null,null,null,null,null,null,null,null,null,null,null,null,null,null,null,null,null,null,null,null,null,null,null,null,null,null,null,null,null,null,null,null,null,null,null,null,null,null,null,null,null,null,null,null,null,null,null,null,null,null,null,null,null,null,null,null,null,null,null,null,null,null,null,null,null,null,null,null,null,null,null,null,null,null,null,null,null,null,null,null,null,null,null,null,null,null,null,null,null,null,null,null,null,null,null,null,null,null,null,null,null,null,null,null,null,null,null,null,null,null,null,null,null,null,null,null,null,null,null,null,null,null,null,null,null,null,null,null,null,null,null,null,null,null,null,null,null,null,null,null,null,null,null,null,null,null,null,null,null,null,null,null,null,null,null,null,null,null,null,null,null,null,null,null,null,null,null,null,null,null,null,null,null,null,null,null,null,null,null,null,null,null,null,null,null,null,null,null,null,null,null,null,null,null,null,null,null,null,null,null,null,null,null,null,null,null,null,null,null,null,null,null,null,null,null,null,null,null,null,null,null,null,null,null,null,null,null,null,null,null,null,null,null,null,null,null,null,null,null,null,null,null,null,null,null,null,null,null,null,null,null,null,null,null,null,null,null,null,null,null,null,null,null,null,null,null,null,null,null,null,null,null,null,null,null,null,null,null,null,null,null,null,null,null,null,null,null,null,null,null,null,null,null,null,null,null,null,null,null,null,null,null,null,null,null,null,null,null,null,null,null,null,null,null,null,null,null,null,null,null,null,null,null,null,null,null,null,null,null,null,null,null,null,null,null,null,null,null,null,null,null,null,null,null,null,null,null,null,null,null,null,null,null,null,null,null,null,null,null,null,null,null,null,null,null,null,null,null,null,null,null,null,null,null,null,null,null,null,null,null,null,null,null,null,null,null,null,null,null,null,null,null,null,null,null,null,null,null,null,null,null,null,null,null,null,null,null,null,null,null,null,null,null,null,null,null,null,null,null,null,null,null,null,null,null,null,null,null,null,null,null,null,null,null,null,null,null,null,null,null,null,null,null,null,null,null,null,null,null,null,null,null,null,null,null,null,null,null,null,null,null,null,null,null,null,null,null,null,null,null,null,null,null,null,null,null,null,null,null,null,null,null,null,null,null,null,null,null,null,null,null,null,null,null,null,null,null,null,null,null,null,null,null,null,null,null,null,null,null,null,null,null,null,null,null,null,null,null,null,null,null,null,null,null,null,null,null,null,null,null,null,null,null,null,null,null,null,null,null,null,null,null,null,null,null,null,null,null,null,null,null,null,null,null,null,null,null,null,null,null,null,null,null,null,null,null,null,null,null,null,null,null,null,null,null,null,null,null,null,null,null,null,null,null,null,null,null,null,null,null,null,null,null,null,null,null,null,null,null,null,null,null,null,null,null,null,null,null,null,null,null,null,null,null,null,null,null,null,null,null,null,null,null,null,null,null,null,null,null,null,null,null,null,null,null,null,null,null,null,null,null,null,null,null,null,null,null,null,null,null,null,null,null,null,null,null,null,null,null,null,null,null,null,null,null,null,null,null,null,null,null,null,null,null,null,null,null,null,null,null,null,null,null,null,null,null,null,null,null,null,null,null,null,null,null,null,null,null,null,null,null,null,null,null,null,null,null,null,null,null,null,null,null,null,null,null,null,null,null,null,null,null,null,null,null,null,null,null,null,null,null,null,null,null,null,null,null,null,null,null,null,null,null,null,null,null,null,null,null,null,null,null,null,null,null,null,null,null,null,null,null,null,null,null,null,null,null,null,null,null,null,null,null,null,null,null,null,null,null,null,null,null,null,null,null,null,null,null,null,null,null,null,null,null,null,null,null,null,null,null,null,null,null,null,null,null,null,null,null,null,null,null,null,null,null,null,null,null,null,null,null,null,null,null,null,null,null,null,null,null,null,null,null,null,null,null,null,null,null,null,null,null,null,null,null,null,null,null,null,null,null,null,null,null,null,null,null,null,null,null,null,null,null,null,null,null,null,null,null,null,null,null,null,null,null,null,null,null,null,null,null,null,null,null,null,null,null,null,null,null,null,null,null,null,null,null,null,null,null,null,null,null,null,null,null,null,null,null,null,null,null,null,null,null,null,null,null,null,null,null,null,null,null,null,null,null,null,null,null,null,null,null,null,null,null,null,null,null,null,null,null,null,null,null,null,null,null,null,null,null,null,null,null,null,null,null,null,null,null,null,null,null,null,null,null,null,null,null,null,null,null,null,null,null,null,null,null,null,null,null,null,null,null,null,null,null,null,null,null,null,null,null,null,null,null,null,null,null,null,null,null,null,null,null,null,null,null,null,null,null,null,null,null,null,null,null,null,null,null,null,null,null,null,null,null,null,null,null,null,null,null,null,null,null,null,null,null,null,null,null,null,null,null,null,null,null,null,null,null,null,null,null,null,null,null,null,null,null,null,null,null,null,null,null,null,null,null,null,null,null,null,null,null,null,null,null,null,null,null,null,null,null,null,null,null,null,null,null,null,null,null,null,null,null,null,null,null,null,null,null,null,null,null,null,null,null,null,null,null,null,null,null,null,null,null,null,null,null,null,null,null,null,null,null,null,null,null,null,null,null,null,null,null,null,null,null,null,null,null,null,null,null,null,null,null,null,null,null,null,null,null,null,null,null,null,null,null,null,null,null,null,null,null,null,null,null,null,null,null,null,null,null,null,null,null,null,null,null,null,null,null,null,null,null,null,null,null,null,null,null,null,null,null,null,null,null,null,null,null,null,null,null,null,null,null,null,null,null,null,null,null,null,null,null,null,null,null,null,null,null,null,null,null,null,null,null,null,null,null,null,null,null,null,null,null,null,null,null,null,null,null,null,null,null,null,null,null,null,null,null,null,null,null,null,null,null,null,null,null,null,null,null,null,null,null,null,null,null,null,null,null,null,null,null,null,null,null,null,null,null,null,null,null,null,null,null,null,null,null,null,null,null,null,null,null,null,null,null,null,null,null,null,null,null,null,null,null,null,null,null,null,null,null,null,null,null,null,null,null,null,null,null,null,null,null,null,null,null,null,null,null,null,null,null,null,null,null,null,null,null,null,null,null,null,null,null,null,null,null,null,null,null,null,null,null,null,null,null,null,null,null,null,null,null,null,null,null,null,null,null,null,null,null,null,null,null,null,null,null,null,null,null,null,null,null,null,null,null,null,null,null,null,null,null,null,null,null,null,null,null,null,null,null,null,null,null,null,null,null,null,null,null,null,null,null,null,null,null,null,null,null,null,null,null,null,null,null,null,null,null,null,null,null,null,null,null,null,null,null,null,null,null,null,null,null,null,null,null,null,null,null,null,null,null,null,null,null,null,null,null,null,null,null,null,null,null,null,null,null,null,null,null,null,null,null,null,null,null,null,null,null,null,null,null,null,null,null,null,null,null,null,null,null,null,null,null,null,null,null,null,null,null,null,null,null,null,null,null,null,null,null,null,null,null,null,null,null,null,null,null,null,null,null,null,null,null,null,null,null,null,null,null,null,null,null,null,null,null,null,null,null,null,null,null,null,null,null,null,null,null,null,null,null,null,null,null,null,null,null,null,null,null,null,null,null,null,null,null,null,null,null,null,null,null,null,null,null,null,null,null,null,null,null,null,null,null,null,null,null,null,null,null,null,null,null,null,null,null,null,null,null,null,null,null,null,null,null,null,null,null,null,null,null,null,null,null,null,null,null,null,null,null,null,null,null,null,null,null,null,null,null,null,null,null,null,null,null,null,null,null,null,null,null,null,null,null,null,null,null,null,null,null,null,null,null,null,null,null,null,null,null,null,null,null,null,null,null,null,null,null,null,null,null,null,null,null,null,null,null,null,null,null,null,null,null,null,null,null,null,null,null,null,null,null,null,null,null,null,null,null,null,null,null,null,null,null,null,null,null,null,null,null,null,null,null,null,null,null,null,null,null,null,null,null,null,null,null,null,null,null,null,null,null,null,null,null,null,null,null,null,null,null,null,null,null,null,null,null,null,null,null,null,null,null,null,null,null,null,null,null,null,null,null,null,null,null,null,null,null,null,null,null,null,null,null,null,null,null,null,null,null,null,null,null,null,null,null,null,null,null,null,null,null,null,null,null,null,null,null,null,null,null,null,null,null,null,null,null,null,null,null,null,null,null,null,null,null,null,null,null,null,null,null,null,null,null,null,null,null,null,null,null,null,null,null,null,null,null,null,null,null,null,null,null,null,null,null,null,null,null,null,null,null,null,null,null,null,null,null,null,null,null,null,null,null,null,null,null,null,null,null,null,null,null,null,null,null,null,null,null,null,null,null,null,null,null,null,null,null,null,null,null,null,null,null,null,null,null,null,null,null,null,null,null,null,null,null,null,null,null,null,null,null,null,null,null,null,null,null,null,null,null,null,null,null,null,null,null,null,null,null,null,null,null,null,null,null,null,null,null,null,null,null,null,null,null,null,null,null,null,null,null,null,null,null,659.42249561670337,1354.7378739044723,0,2014.1603695211757,201.41603695211757,1852.9901465189146,3614.5199071700163,0,5467.5100536889313,546.75100536889317,2594.655122074902,5061.2425590060466,0,7655.897681080949,765.58976810809486,3736.3951700586658,7288.3683427040232,0,11024.763512762689,1102.4763512762688,5277.9140765632646,10295.319451055722,0,15573.233527618988,1557.3233527618988,14121.37701083245,27614.188133840282,0,41735.565144672728,4173.5565144672728,25096.59541877966,26154.958826553684,25579.056700680852,76830.610946014203,5122.0407297342799,31013.326064906807,32321.20742940058,31609.531597952853,94944.065092260236,6329.6043394840153,29632.280897332086,30881.921387099457,30201.936979713879,90716.139264145429,6047.7426176096951,31391.142101940663,32714.956570578419,31994.610835692161,96100.709508211236,6406.713967214082,31471.108455358764,32798.295232506847,32076.114476090243,96345.518163955858,6423.0345442637235,148604.45293831796,154871.339446139,151461.25059012999,454937.04297458695,30329.136198305798,49058.598760488618,51098.370787842505,50823.680696581403,150980.65024491254,10065.376682994169,50323.897329145904,52416.278291361523,52134.503509789676,154874.6791302971,10324.978608686473,50552.536689377397,52654.42408233371,52371.369097732939,155578.32986944405,10371.888657962936,50568.926341826198,52671.495188298257,52388.348434359592,155628.76996448403,10375.251330965602,50589.58441990627,52693.01219367898,52409.7497705305,155692.34638411575,10379.48975894105,251093.5435407444,261533.58054351495,260127.65150899408,772754.77559325343,51516.985039550229,74155.194179268277,77253.329614396192,76402.737397262259,227811.26119092674,15187.41741272845,81337.223394052708,84737.48572076211,83744.035107742529,249818.74422255735,16654.58294817049,80184.817586709483,83536.345469433174,82573.306077446818,246294.46913358947,16419.631275572632,81960.068443766853,85386.451758876676,84382.959270051753,251729.47947269527,16781.965298179683,82060.692875265027,85491.307426185827,84485.864246620738,252037.86454807161,16802.524303204773,399697.99647906236,416404.91998965398,411588.90209912404,1227691.8185678404,81846.12123785603,48041.433087560508,52014.963982892215,51676.919699662874,151733.31677011558,10115.554451341039,96097.450295006012,84280.626976300657,73445.725561579791,253823.80283288646,16921.586855525766,144138.88338256651,136295.59095919286,125122.64526124267,405557.11960300198,27037.141306866804,{"$error":"#REF!"},{"$error":"#REF!"},{"$error":"#REF!"},{"$error":"#REF!"},{"$error":"#REF!"},{"$error":"#REF!"},{"$error":"#REF!"},{"$error":"#REF!"},{"$error":"#REF!"},{"$error":"#REF!"},{"$error":"#REF!"},{"$error":"#REF!"},{"$error":"#REF!"},{"$error":"#REF!"},{"$error":"#REF!"},{"$error":"#REF!"},{"$error":"#REF!"},{"$error":"#REF!"},{"$error":"#REF!"},{"$error":"#REF!"},{"$error":"#REF!"},{"$error":"#REF!"},{"$error":"#REF!"},{"$error":"#REF!"},{"$error":"#REF!"},{"$error":"#REF!"},{"$error":"#REF!"},{"$error":"#REF!"},{"$error":"#REF!"},{"$error":"#REF!"},{"$error":"#REF!"},{"$error":"#REF!"},{"$error":"#REF!"},{"$error":"#REF!"},{"$error":"#REF!"},{"$error":"#REF!"},{"$error":"#REF!"},{"$error":"#REF!"},{"$error":"#REF!"},{"$error":"#REF!"},{"$error":"#REF!"},{"$error":"#REF!"},{"$error":"#REF!"},{"$error":"#REF!"},{"$error":"#REF!"},{"$error":"#REF!"},{"$error":"#REF!"},{"$error":"#REF!"},{"$error":"#REF!"},{"$error":"#REF!"},{"$error":"#REF!"},{"$error":"#REF!"},{"$error":"#REF!"},{"$error":"#REF!"},{"$error":"#REF!"},{"$error":"#REF!"},{"$error":"#REF!"},{"$error":"#REF!"},{"$error":"#REF!"},{"$error":"#REF!"},{"$error":"#REF!"},{"$error":"#REF!"},{"$error":"#REF!"},{"$error":"#REF!"},{"$error":"#REF!"},{"$error":"#REF!"},{"$error":"#REF!"},{"$error":"#REF!"},{"$error":"#REF!"},{"$error":"#REF!"},{"$error":"#REF!"},{"$error":"#REF!"},{"$error":"#REF!"},{"$error":"#REF!"},{"$error":"#REF!"},{"$error":"#REF!"},{"$error":"#REF!"},{"$error":"#REF!"},{"$error":"#REF!"},{"$error":"#REF!"},{"$error":"#REF!"},{"$error":"#REF!"},{"$error":"#REF!"},{"$error":"#REF!"},{"$error":"#REF!"},{"$error":"#REF!"},{"$error":"#REF!"},{"$error":"#REF!"},{"$error":"#REF!"},{"$error":"#REF!"},{"$error":"#REF!"},{"$error":"#REF!"},{"$error":"#REF!"},{"$error":"#REF!"},{"$error":"#REF!"},{"$error":"#REF!"},{"$error":"#REF!"},{"$error":"#REF!"},{"$error":"#REF!"},null,null,null,null,null,null,{"$error":"#REF!"},{"$error":"#REF!"},{"$error":"#REF!"},{"$error":"#REF!"},{"$error":"#REF!"},{"$error":"#REF!"},{"$error":"#REF!"},{"$error":"#REF!"},{"$error":"#REF!"},{"$error":"#REF!"},{"$error":"#REF!"},{"$error":"#REF!"},{"$error":"#REF!"},{"$error":"#REF!"},{"$error":"#REF!"},{"$error":"#REF!"},{"$error":"#REF!"},{"$error":"#REF!"},{"$error":"#REF!"},{"$error":"#REF!"},{"$error":"#REF!"},{"$error":"#REF!"},{"$error":"#REF!"},{"$error":"#REF!"},{"$error":"#REF!"},{"$error":"#REF!"},{"$error":"#REF!"},{"$error":"#REF!"},{"$error":"#REF!"},{"$error":"#REF!"},{"$error":"#REF!"},{"$error":"#REF!"},{"$error":"#REF!"},{"$error":"#REF!"},{"$error":"#REF!"},{"$error":"#REF!"},{"$error":"#REF!"},{"$error":"#REF!"},{"$error":"#REF!"},{"$error":"#REF!"},{"$error":"#REF!"},{"$error":"#REF!"},{"$error":"#REF!"},{"$error":"#REF!"},{"$error":"#REF!"},{"$error":"#REF!"},{"$error":"#REF!"},{"$error":"#REF!"},{"$error":"#REF!"},{"$error":"#REF!"},{"$error":"#REF!"},{"$error":"#REF!"},{"$error":"#REF!"},{"$error":"#REF!"},{"$error":"#REF!"},{"$error":"#REF!"},{"$error":"#REF!"},{"$error":"#REF!"},{"$error":"#REF!"},{"$error":"#REF!"},{"$error":"#REF!"},{"$error":"#REF!"},{"$error":"#REF!"},{"$error":"#REF!"},{"$error":"#REF!"},{"$error":"#REF!"},{"$error":"#REF!"},{"$error":"#REF!"},1973779.01165872,{"$error":"#REF!"},{"$error":"#REF!"},{"$error":"#REF!"},{"$error":"#REF!"},{"$error":"#REF!"},{"$error":"#REF!"},{"$error":"#REF!"},{"$error":"#REF!"},{"$error":"#REF!"},{"$error":"#REF!"},{"$error":"#REF!"},{"$error":"#REF!"},{"$error":"#REF!"},{"$error":"#REF!"},{"$error":"#REF!"},{"$error":"#REF!"},{"$error":"#REF!"},{"$error":"#REF!"},{"$error":"#REF!"},{"$error":"#REF!"},{"$error":"#REF!"},{"$error":"#REF!"},{"$error":"#REF!"},{"$error":"#REF!"},{"$error":"#REF!"},{"$error":"#REF!"},{"$error":"#REF!"},0,0,0,0,0,0,{"$error":"#REF!"},{"$error":"#REF!"},{"$error":"#REF!"},{"$error":"#REF!"},{"$error":"#REF!"},{"$error":"#REF!"},{"$error":"#REF!"},{"$error":"#REF!"},{"$error":"#REF!"},{"$error":"#REF!"},{"$error":"#REF!"},{"$error":"#REF!"},{"$error":"#REF!"},{"$error":"#REF!"},{"$error":"#REF!"},{"$error":"#REF!"},{"$error":"#REF!"},{"$error":"#REF!"},{"$error":"#REF!"},{"$error":"#REF!"},{"$error":"#REF!"},{"$error":"#REF!"},{"$error":"#REF!"},{"$error":"#REF!"},{"$error":"#REF!"},{"$error":"#REF!"},{"$error":"#REF!"},{"$error":"#REF!"},{"$error":"#REF!"},{"$error":"#REF!"},{"$error":"#REF!"},{"$error":"#REF!"},{"$error":"#REF!"},{"$error":"#REF!"},{"$error":"#REF!"},{"$error":"#REF!"},{"$error":"#REF!"},{"$error":"#REF!"},{"$error":"#REF!"},{"$error":"#REF!"},{"$error":"#REF!"},{"$error":"#REF!"},{"$error":"#REF!"},{"$error":"#REF!"},{"$error":"#REF!"},{"$error":"#REF!"},{"$error":"#REF!"},{"$error":"#REF!"},{"$error":"#REF!"},{"$error":"#REF!"},{"$error":"#REF!"},{"$error":"#REF!"},{"$error":"#REF!"},{"$error":"#REF!"},{"$error":"#REF!"},{"$error":"#REF!"},{"$error":"#REF!"},{"$error":"#REF!"},{"$error":"#REF!"},{"$error":"#REF!"},{"$error":"#REF!"},{"$error":"#REF!"},{"$error":"#REF!"},{"$error":"#REF!"},{"$error":"#REF!"},{"$error":"#REF!"},{"$error":"#REF!"},{"$error":"#REF!"},{"$error":"#REF!"},{"$error":"#REF!"},{"$error":"#REF!"},{"$error":"#REF!"},{"$error":"#REF!"},{"$error":"#REF!"},{"$error":"#REF!"},{"$error":"#REF!"},{"$error":"#REF!"},{"$error":"#REF!"},{"$error":"#REF!"},{"$error":"#REF!"},{"$error":"#REF!"},{"$error":"#REF!"},{"$error":"#REF!"},{"$error":"#REF!"},{"$error":"#REF!"},{"$error":"#REF!"},{"$error":"#REF!"},{"$error":"#REF!"},{"$error":"#REF!"},{"$error":"#REF!"},{"$error":"#REF!"},{"$error":"#REF!"},{"$error":"#REF!"},{"$error":"#REF!"},{"$error":"#REF!"},{"$error":"#REF!"},{"$error":"#REF!"},{"$error":"#REF!"},{"$error":"#REF!"},0,0,0,0,0,0,12861.986093068761,13404.396535802203,13109.247133648543,39375.629762519507,2625.0419841679673,18778.716739195908,19570.645138649099,19139.722030920544,57489.083908765548,3832.6055939177031,0,0,0,0,0,19156.532776229764,19964.394279826938,19524.801268659856,58645.728324716561,3909.7152216477707,19236.499129647862,20047.732941755359,19606.304909057933,58890.536980461155,3926.0357986974104,70033.734738142302,72987.168896033603,71380.075342286873,214400.97897646276,14293.398598430851,23951.429267466585,24947.288437302301,24813.179015966503,73711.896720735385,4914.1264480490254,25216.727836123886,26265.195940821322,26124.001829174787,77605.925606119999,5173.7283737413336,25445.367196355379,26503.341731793513,26360.867417118054,78309.576345266949,5220.6384230177964,25461.756848804172,26520.412837758056,26377.846753744685,78360.016440306907,5224.0010960204609,25482.414926884241,26541.929843138769,26399.248089915589,78423.592859938595,5228.239523995906,125557.69607563426,130778.16879081397,130075.14310591962,386411.00797236781,25760.73386482452,36813.415360535349,38351.684973104508,37922.426149615043,113087.5264832549,7539.1684322169931,43995.444575319794,45835.841079470425,45263.723860095328,135095.00951488555,9006.3339676590367,25445.367196355379,26503.341731793513,26360.867417118054,78309.576345266949,5220.6384230177964,44618.28962503394,46484.807117584991,45902.648022404537,137005.74476502347,9133.7163176682316,44718.914056532099,46589.662784894128,46005.552998973522,137314.12984039975,9154.2753226933164,195591.43081377656,203765.33768684758,201455.21844820649,600811.98694883054,40054.132463255366,2499.4745410839887,1.1735209198829488,3.1269895727950154,5.977869634331304,1.0128284574718807,10.117687664598201,70.637823393259893,27.883632381021862,98.521455774281748,107.66240911242392,4.6950705061953079E-4,1.2510587811144025E-3,2.3916505393724802E-3,4.052165528489962E-4,4.0479258733358793E-3,2.8261069369654477E-2,1.1155797717759151E-2,3.9416867087413626E-2,4.3074017095502071E-2,1037.2387319660936,503.62855273126587,411.53761483464677,922.3808602915002,448.9997133512893,452.67235796539001,2287.8742763754817,1038.6762437738892,1319.6675946833657,2525.8287833365948,1080.2487632483726,944.48109335193431,579.24918496764656,183.06008529290253,753.03674382057454,190.38064655207742,30.004075563782791,551.09916135799585,2648.7129894090253,1323.8853357438054,200.95818931444231,15030.757574035746,6615.910598043939,8682.4680262261136,24883.006539875223,10952.458375267091,15681.52012440792,4622.1184319059248,2034.4631445512734,3458.9728748838402,9272.1812652698409,4081.226245432179,3568.1793448237445,36.324915570957366,37.459833718424434,73.784749289381807,42.096416443433377,49.618258135751063,91.714674579184447,9.1643460813812716,9.5226278655993131,18.686973946980586,33.560518524100956,36.849892393436221,70.410410917537178,186.67105540523613,197.69962062058988,384.37067602582601,185.70328721272543,202.54329077301398,388.24657798573941,107.75801867654609,95.920411067724103,203.6784297442702,181.96711573190476,162.05547126552963,344.02258699743436,4.2651564271182822E-2,4.3984149180146113E-2,8.6635713451328936E-2,4.9428277624383621E-2,5.8260185677985604E-2,0.10768846330236923,1.0760484635672729E-2,1.1181167748257512E-2,2.1941652383930241E-2,3.9405696897183123E-2,4.3267975413036668E-2,8.2673672310219798E-2,0.21918323530947495,0.23213262695176898,0.45131586226124393,0.21804691257854261,0.23781991088807908,0.45586682346662166,0.12652604932666861,0.11262670575466628,0.23915275508133488,0.21366001847190386,0.19028039678927161,0.40394041526117547,1299.1600000000001,4.0000000000000001E-3]
["Paraguay",4196.2969999999996,4283.5590000000002,4371.9290000000001,4461.33,4551.6710000000003,4642.8680000000004,4734.8599999999997,4827.5870000000004,4920.9679999999998,5014.9170000000004,5109.3549999999996,5204.2169999999996,5299.4560000000001,5395.0360000000001,5490.9350000000004,5587.1210000000001,5587.1210000000001,2836.6450000000004,2864.723,2891.6189999999997,2917.2520000000004,2941.5419999999995,2964.4169999999995,2985.8270000000002,3005.7269999999999,3024.0630000000001,3040.7829999999994,3055.8500000000004,3069.2390000000005,3080.9400000000005,3090.9580000000005,3099.3090000000002,3106.0119999999997,3106.0119999999997,0.95032524108886718,0.95032524108886718,0.95032524108886718,0.95032524108886718,0.95032524108886718,0.95032524108886718,2030,1,0.75765625000000003,0.85400861123465954,0.85400861123465954,0.73290399014815355,0.5642481648640727,0.39793480701097006,2030,1,0.74354565662336158,0.80109681189060211,0.79065642419130511,0.77184792249830236,0.72418279502838867,0.61859363644065957,2030,1,0.26038354994791535,0.41491973400115961,0.31092685790307523,8.8344729000259983E-2,0.36608764561148083,9.4274238755670578E-2,2030,1,0.96100998402807003,1,1,1,0.91209347200128865,0.7092801454562091,2030,1,0.58867439270019528,1,0.86284283398238959,0.53096816960411752,0.38494251001977803,0.12609307608213727,2030,1,1,1,1,1,1,1,2025,1,0.127,0.45700000000000002,0.295074,0.35311300000000001,2030,1,0,0,0.33800000000000002,0.33800000000000002,2030,1,0.92,0.98774878372401587,0.95926581158779312,0.93892083149049099,0.88805838124723568,0.82600619195046443,2030,1,0.88200000000000001,0.94695046439628483,0.9196439628482973,0.90013931888544885,0.85137770897832821,0.79188854489164084,2030,1,21.323653890593466,21.323653890593466,21.323653890593466,21.323653890593466,21.323653890593466,21.323653890593466,21.323653890593466,21.323653890593466,21.323653890593466,21.323653890593466,21.323653890593466,21.323653890593466,21.323653890593466,21.323653890593466,21.323653890593466,106.61826945296733,106.61826945296733,106.61826945296733,319.85480835890201,21.323653890593466,21.323653890593466,21.323653890593466,21.323653890593466,21.323653890593466,21.323653890593466,21.323653890593466,21.323653890593466,21.323653890593466,21.323653890593466,21.323653890593466,21.323653890593466,21.323653890593466,21.323653890593466,21.323653890593466,106.61826945296733,106.61826945296733,106.61826945296733,319.85480835890201,21.323653890593466,21.323653890593466,21.323653890593466,21.323653890593466,21.323653890593466,21.323653890593466,21.323653890593466,21.323653890593466,21.323653890593466,21.323653890593466,21.323653890593466,21.323653890593466,21.323653890593466,21.323653890593466,21.323653890593466,106.61826945296733,106.61826945296733,106.61826945296733,319.85480835890201,21.323653890593466,21.323653890593466,21.323653890593466,21.323653890593466,21.323653890593466,21.323653890593466,21.323653890593466,21.323653890593466,21.323653890593466,21.323653890593466,21.323653890593466,21.323653890593466,21.323653890593466,21.323653890593466,21.323653890593466,106.61826945296733,106.61826945296733,106.61826945296733,319.85480835890201,21.323653890593466,21.323653890593466,21.323653890593466,21.323653890593466,21.323653890593466,21.323653890593466,21.323653890593466,21.323653890593466,21.323653890593466,21.323653890593466,21.323653890593466,21.323653890593466,21.323653890593466,21.323653890593466,21.323653890593466,106.61826945296733,106.61826945296733,106.61826945296733,319.85480835890201,106.61826945296733,106.61826945296733,106.61826945296733,106.61826945296733,106.61826945296733,106.61826945296733,106.61826945296733,106.61826945296733,106.61826945296733,106.61826945296733,106.61826945296733,106.61826945296733,106.61826945296733,106.61826945296733,106.61826945296733,533.0913472648366,533.0913472648366,533.0913472648366,1599.2740417945101,9.1132365731234479,9.1132365731234479,9.1132365731234479,9.1132365731234479,9.1132365731234479,9.1132365731234479,9.1132365731234479,9.1132365731234479,9.1132365731234479,9.1132365731234479,9.1132365731234479,9.1132365731234479,9.1132365731234479,9.1132365731234479,9.1132365731234479,45.566182865617236,45.566182865617236,45.566182865617236,136.69854859685168,9.1132365731234479,9.1132365731234479,9.1132365731234479,9.1132365731234479,9.1132365731234479,9.1132365731234479,9.1132365731234479,9.1132365731234479,9.1132365731234479,9.1132365731234479,9.1132365731234479,9.1132365731234479,9.1132365731234479,9.1132365731234479,9.1132365731234479,45.566182865617236,45.566182865617236,45.566182865617236,136.69854859685168,13.693647478215871,13.693647478215871,13.693647478215871,13.693647478215871,13.693647478215871,13.693647478215871,13.693647478215871,13.693647478215871,13.693647478215871,13.693647478215871,13.693647478215871,13.693647478215871,13.693647478215871,13.693647478215871,13.693647478215871,68.468237391079356,68.468237391079356,68.468237391079356,205.40471217323801,20.072536858388691,20.072536858388691,20.072536858388691,20.072536858388691,20.072536858388691,20.072536858388691,20.072536858388691,20.072536858388691,20.072536858388691,20.072536858388691,20.072536858388691,20.072536858388691,20.072536858388691,20.072536858388691,20.072536858388691,100.36268429194345,100.36268429194345,100.36268429194345,301.08805287583039,26.362829591551545,26.362829591551545,26.362829591551545,26.362829591551545,26.362829591551545,26.362829591551545,26.362829591551545,26.362829591551545,26.362829591551545,26.362829591551545,26.362829591551545,26.362829591551545,26.362829591551545,26.362829591551545,26.362829591551545,131.81414795775771,131.81414795775771,131.81414795775771,395.44244387327302,78.355487074403001,78.355487074403001,78.355487074403001,78.355487074403001,78.355487074403001,78.355487074403001,78.355487074403001,78.355487074403001,78.355487074403001,78.355487074403001,78.355487074403001,78.355487074403001,78.355487074403001,78.355487074403001,78.355487074403001,391.77743537201496,391.77743537201496,391.77743537201496,1175.3323061160447,4.384100000000001,4.384100000000001,4.384100000000001,4.384100000000001,4.384100000000001,21.920500000000004,219.20500000000004,18.544320000000003,18.544320000000003,18.544320000000003,18.544320000000003,18.544320000000003,18.544320000000003,18.544320000000003,18.544320000000003,18.544320000000003,18.544320000000003,18.544320000000003,18.544320000000003,18.544320000000003,18.544320000000003,18.544320000000003,92.721600000000009,92.721600000000009,92.721600000000009,278.16480000000007,18.544320000000003,18.544320000000003,18.544320000000003,18.544320000000003,18.544320000000003,18.544320000000003,18.544320000000003,18.544320000000003,18.544320000000003,18.544320000000003,18.544320000000003,18.544320000000003,18.544320000000003,18.544320000000003,18.544320000000003,92.721600000000009,92.721600000000009,92.721600000000009,278.16480000000007,18.544320000000003,18.544320000000003,18.544320000000003,18.544320000000003,18.544320000000003,18.544320000000003,18.544320000000003,18.544320000000003,18.544320000000003,18.544320000000003,18.544320000000003,18.544320000000003,18.544320000000003,18.544320000000003,18.544320000000003,92.721600000000009,92.721600000000009,92.721600000000009,278.16480000000007,23.462745329618777,23.462745329618777,23.462745329618777,23.462745329618777,23.462745329618777,23.462745329618777,23.462745329618777,23.462745329618777,23.462745329618777,23.462745329618777,23.462745329618777,23.462745329618777,23.462745329618777,23.462745329618777,23.462745329618777,117.31372664809388,117.31372664809388,117.31372664809388,351.9411799442816,34.810278046167284,34.810278046167284,34.810278046167284,34.810278046167284,34.810278046167284,34.810278046167284,34.810278046167284,34.810278046167284,34.810278046167284,34.810278046167284,34.810278046167284,34.810278046167284,34.810278046167284,34.810278046167284,34.810278046167284,174.05139023083643,174.05139023083643,174.05139023083643,522.15417069250941,113.90598337578608,113.90598337578608,113.90598337578608,113.90598337578608,113.90598337578608,113.90598337578608,113.90598337578608,113.90598337578608,113.90598337578608,113.90598337578608,113.90598337578608,113.90598337578608,113.90598337578608,113.90598337578608,113.90598337578608,569.52991687893029,569.52991687893029,569.52991687893029,1708.5897506367915,3.5915599999999888,3.5915599999999888,3.5915599999999888,3.5915599999999888,3.5915599999999888,3.5915599999999888,3.5915599999999888,3.5915599999999888,3.5915599999999888,3.5915599999999888,3.5915599999999888,3.5915599999999888,3.5915599999999888,3.5915599999999888,3.5915599999999888,17.957799999999942,17.957799999999942,17.957799999999942,53.873399999999812,8.7791091893069808,8.7791091893069808,8.7791091893069808,8.7791091893069808,8.7791091893069808,8.7791091893069808,8.7791091893069808,8.7791091893069808,8.7791091893069808,8.7791091893069808,8.7791091893069808,8.7791091893069808,8.7791091893069808,8.7791091893069808,8.7791091893069808,43.895545946534902,43.895545946534902,43.895545946534902,131.68663783960471,21.331250620444361,21.331250620444361,21.331250620444361,21.331250620444361,21.331250620444361,21.331250620444361,21.331250620444361,21.331250620444361,21.331250620444361,21.331250620444361,21.331250620444361,21.331250620444361,21.331250620444361,21.331250620444361,21.331250620444361,106.65625310222181,106.65625310222181,106.65625310222181,319.96875930666539,26.85422338219928,26.85422338219928,26.85422338219928,26.85422338219928,26.85422338219928,26.85422338219928,26.85422338219928,26.85422338219928,26.85422338219928,26.85422338219928,26.85422338219928,26.85422338219928,26.85422338219928,26.85422338219928,26.85422338219928,134.2711169109964,134.2711169109964,134.2711169109964,402.81335073298919,36.6444094159598,36.6444094159598,36.6444094159598,36.6444094159598,36.6444094159598,36.6444094159598,36.6444094159598,36.6444094159598,36.6444094159598,36.6444094159598,36.6444094159598,36.6444094159598,36.6444094159598,36.6444094159598,36.6444094159598,183.22204707979898,183.22204707979898,183.22204707979898,549.66614123939689,97.20055260791041,97.20055260791041,97.20055260791041,97.20055260791041,97.20055260791041,97.20055260791041,97.20055260791041,97.20055260791041,97.20055260791041,97.20055260791041,97.20055260791041,97.20055260791041,97.20055260791041,97.20055260791041,97.20055260791041,486.00276303955201,486.00276303955201,486.00276303955201,1458.008289118656,19.229783228070186,19.229783228070186,19.229783228070186,19.229783228070186,19.229783228070186,19.229783228070186,19.229783228070186,19.229783228070186,19.229783228070186,19.229783228070186,19.229783228070186,19.229783228070186,19.229783228070186,19.229783228070186,19.229783228070186,96.148916140350934,96.148916140350934,96.148916140350934,288.44674842105275,20.823423368421043,20.823423368421043,20.823423368421043,20.823423368421043,20.823423368421043,20.823423368421043,20.823423368421043,20.823423368421043,20.823423368421043,20.823423368421043,20.823423368421043,20.823423368421043,20.823423368421043,20.823423368421043,20.823423368421043,104.11711684210522,104.11711684210522,104.11711684210522,312.35135052631563,21.961737754385968,21.961737754385968,21.961737754385968,21.961737754385968,21.961737754385968,21.961737754385968,21.961737754385968,21.961737754385968,21.961737754385968,21.961737754385968,21.961737754385968,21.961737754385968,21.961737754385968,21.961737754385968,21.961737754385968,109.80868877192984,109.80868877192984,109.80868877192984,329.42606631578963,24.807523719298253,24.807523719298253,24.807523719298253,24.807523719298253,24.807523719298253,24.807523719298253,24.807523719298253,24.807523719298253,24.807523719298253,24.807523719298253,24.807523719298253,24.807523719298253,24.807523719298253,24.807523719298253,24.807523719298253,124.03761859649126,124.03761859649126,124.03761859649126,372.11285578947383,28.279382596491224,28.279382596491224,28.279382596491224,28.279382596491224,28.279382596491224,28.279382596491224,28.279382596491224,28.279382596491224,28.279382596491224,28.279382596491224,28.279382596491224,28.279382596491224,28.279382596491224,28.279382596491224,28.279382596491224,141.39691298245612,141.39691298245612,141.39691298245612,424.19073894736846,115.10185066666668,115.10185066666668,115.10185066666668,115.10185066666668,115.10185066666668,115.10185066666668,115.10185066666668,115.10185066666668,115.10185066666668,115.10185066666668,115.10185066666668,115.10185066666668,115.10185066666668,115.10185066666668,115.10185066666668,575.50925333333339,575.50925333333339,575.50925333333339,1726.5277600000004,5.5979959989679928,5.5979959989679928,5.5979959989679928,5.5979959989679928,5.5979959989679928,5.5979959989679928,5.5979959989679928,5.5979959989679928,5.5979959989679928,5.5979959989679928,5.5979959989679928,5.5979959989679928,5.5979959989679928,5.5979959989679928,5.5979959989679928,27.989979994839963,27.989979994839963,27.989979994839963,83.969939984519897,6.630780680082542,6.630780680082542,6.630780680082542,6.630780680082542,6.630780680082542,6.630780680082542,6.630780680082542,6.630780680082542,6.630780680082542,6.630780680082542,6.630780680082542,6.630780680082542,6.630780680082542,6.630780680082542,6.630780680082542,33.153903400412709,33.153903400412709,33.153903400412709,99.46171020123812,7.368484023735804,7.368484023735804,7.368484023735804,7.368484023735804,7.368484023735804,7.368484023735804,7.368484023735804,7.368484023735804,7.368484023735804,7.368484023735804,7.368484023735804,7.368484023735804,7.368484023735804,7.368484023735804,7.368484023735804,36.842420118679023,36.842420118679023,36.842420118679023,110.52726035603706,9.2127423828689263,9.2127423828689263,9.2127423828689263,9.2127423828689263,9.2127423828689263,9.2127423828689263,9.2127423828689263,9.2127423828689263,9.2127423828689263,9.2127423828689263,9.2127423828689263,9.2127423828689263,9.2127423828689263,9.2127423828689263,9.2127423828689263,46.06371191434463,46.06371191434463,46.06371191434463,138.1911357430339,11.462737581011341,11.462737581011341,11.462737581011341,11.462737581011341,11.462737581011341,11.462737581011341,11.462737581011341,11.462737581011341,11.462737581011341,11.462737581011341,11.462737581011341,11.462737581011341,11.462737581011341,11.462737581011341,11.462737581011341,57.313687905056703,57.313687905056703,57.313687905056703,171.94106371517012,40.272740666666607,40.272740666666607,40.272740666666607,40.272740666666607,40.272740666666607,40.272740666666607,40.272740666666607,40.272740666666607,40.272740666666607,40.272740666666607,40.272740666666607,40.272740666666607,40.272740666666607,40.272740666666607,40.272740666666607,201.36370333333301,201.36370333333301,201.36370333333301,604.09110999999916,29.673078020718695,29.673078020718695,29.673078020718695,29.673078020718695,29.673078020718695,29.673078020718695,29.673078020718695,29.673078020718695,29.673078020718695,29.673078020718695,29.673078020718695,29.673078020718695,29.673078020718695,29.673078020718695,29.673078020718695,148.36539010359348,148.36539010359348,148.36539010359348,445.09617031078056,30.257224255137317,30.257224255137317,30.257224255137317,30.257224255137317,30.257224255137317,30.257224255137317,30.257224255137317,30.257224255137317,30.257224255137317,30.257224255137317,30.257224255137317,30.257224255137317,30.257224255137317,30.257224255137317,30.257224255137317,151.28612127568658,151.28612127568658,151.28612127568658,453.85836382705975,31.30957171152188,31.30957171152188,31.30957171152188,31.30957171152188,31.30957171152188,31.30957171152188,31.30957171152188,31.30957171152188,31.30957171152188,31.30957171152188,31.30957171152188,31.30957171152188,31.30957171152188,31.30957171152188,31.30957171152188,156.5478585576094,156.5478585576094,156.5478585576094,469.64357567282809,33.976465463610097,33.976465463610097,33.976465463610097,33.976465463610097,33.976465463610097,33.976465463610097,33.976465463610097,33.976465463610097,33.976465463610097,33.976465463610097,33.976465463610097,33.976465463610097,33.976465463610097,33.976465463610097,33.976465463610097,169.8823273180505,169.8823273180505,169.8823273180505,509.64698195415161,39.884245055799596,39.884245055799596,39.884245055799596,39.884245055799596,39.884245055799596,39.884245055799596,39.884245055799596,39.884245055799596,39.884245055799596,39.884245055799596,39.884245055799596,39.884245055799596,39.884245055799596,39.884245055799596,39.884245055799596,199.42122527899798,199.42122527899798,199.42122527899798,598.26367583699414,165.10058450678758,165.10058450678758,165.10058450678758,165.10058450678758,165.10058450678758,165.10058450678758,165.10058450678758,165.10058450678758,165.10058450678758,165.10058450678758,165.10058450678758,165.10058450678758,165.10058450678758,165.10058450678758,165.10058450678758,825.50292253393798,825.50292253393798,825.50292253393798,2476.5087676018143,25.720426815257063,25.720426815257063,25.720426815257063,25.720426815257063,25.720426815257063,25.720426815257063,25.720426815257063,25.720426815257063,25.720426815257063,25.720426815257063,25.720426815257063,25.720426815257063,25.720426815257063,25.720426815257063,25.720426815257063,128.60213407628532,128.60213407628532,128.60213407628532,385.80640222885586,29.653638442180409,29.653638442180409,29.653638442180409,29.653638442180409,29.653638442180409,29.653638442180409,29.653638442180409,29.653638442180409,29.653638442180409,29.653638442180409,29.653638442180409,29.653638442180409,29.653638442180409,29.653638442180409,29.653638442180409,148.26819221090204,148.26819221090204,148.26819221090204,444.80457663270613,38.072124882734094,38.072124882734094,38.072124882734094,38.072124882734094,38.072124882734094,38.072124882734094,38.072124882734094,38.072124882734094,38.072124882734094,38.072124882734094,38.072124882734094,38.072124882734094,38.072124882734094,38.072124882734094,38.072124882734094,190.36062441367048,190.36062441367048,190.36062441367048,571.08187324101141,27.567350806858936,27.567350806858936,27.567350806858936,27.567350806858936,27.567350806858936,27.567350806858936,27.567350806858936,27.567350806858936,27.567350806858936,27.567350806858936,27.567350806858936,27.567350806858936,27.567350806858936,27.567350806858936,27.567350806858936,137.83675403429467,137.83675403429467,137.83675403429467,413.51026210288404,37.847859360065605,37.847859360065605,37.847859360065605,37.847859360065605,37.847859360065605,37.847859360065605,37.847859360065605,37.847859360065605,37.847859360065605,37.847859360065605,37.847859360065605,37.847859360065605,37.847859360065605,37.847859360065605,37.847859360065605,189.23929680032802,189.23929680032802,189.23929680032802,567.71789040098417,158.86140030709612,158.86140030709612,158.86140030709612,158.86140030709612,158.86140030709612,158.86140030709612,158.86140030709612,158.86140030709612,158.86140030709612,158.86140030709612,158.86140030709612,158.86140030709612,158.86140030709612,158.86140030709612,158.86140030709612,794.30700153548059,794.30700153548059,794.30700153548059,2382.9210046064418,273.69026516259999,273.69026516259999,273.69026516259999,273.69026516259999,273.69026516259999,273.69026516259999,273.69026516259999,273.69026516259999,273.69026516259999,273.69026516259999,273.69026516259999,273.69026516259999,273.69026516259999,273.69026516259999,273.69026516259999,1368.451325813,1368.451325813,1368.451325813,4105.3539774390001,143.14839933333329,143.14839933333329,143.14839933333329,143.14839933333329,143.14839933333329,143.14839933333329,143.14839933333329,143.14839933333329,143.14839933333329,143.14839933333329,143.14839933333329,143.14839933333329,143.14839933333329,143.14839933333329,143.14839933333329,715.74199666666641,715.74199666666641,715.74199666666641,2147.225989999999,{"$error":"#REF!"},{"$error":"#REF!"},{"$error":"#REF!"},134.38694056009112,6.719347028004556,0.05,-20,11.322733584942533,0.3,40.316082168027336,-10,5.2211170854428079,4.9454394126113534,0,0,21.489290082996693,34.815397737897634,1.7407698868948818,0.05,-10,4.7341909506147433,0.3,10.44461932136929,-5,2.4124438392798799,1.6920283300618251,0,0,8.8386631199564487,29.954807665243898,1.4977403832621949,0.05,-20,2.5238338291516582,0.3,8.9864422995731683,-10,1.1637853904578244,1.6175596139231707,0,0,5.3051788335326533,14.977403832621949,0.74887019163109747,0.05,-10,2.0366244333011929,0.3,4.4932211497865842,-5,1.0378208480176208,0.72790182626542677,0,0,3.8023471075842403,185.10889222345185,18.510889222345185,0.1,-20,16.33897806641388,0.3,55.532667667035554,-10,7.1917345229173986,37.299999999999997,3.73,0.1,64.560712589331274,185.10889222345185,18.510889222345185,0.1,-20,16.33897806641388,0.3,55.532667667035554,-10,7.1917345229173986,27.974999999999998,2.7974999999999999,0.1,54.303212589331281,1,227.42405325553881,45.484810651107765,0.2,-20,21.898913307141598,0.3,68.22721597666164,-10,8.835736606133981,17.557136911327596,0,0,48.291786824603179,1,130.6,13.06,0.1,-8,22.227335745752676,0.3,39.18,-4,11.04922360140367,8.5542999999999996,0,0,41.830859347156341,1,130.6,13.06,0.1,-8,22.227335745752676,0.3,39.18,-4,11.04922360140367,10.46106,0,0,43.73761934715634,1,13.546977623888392,13.06,0.1,-8,4.1166798331191421,0.3,4.064093287166517,-4,1.1461223957852604,0.90764750080052226,0,0,6.1704497297049254,17.926462066737351,6.53,0.05,-2,13.152804599306299,0.3,5.3779386200212054,-1,5.6468355510222592,0.90764750080052226,0,0,19.707287651129079,159.69101720801311,15.969101720801312,0.1,-20,14.095422409072599,0.3,47.907305162403929,-10,6.20421519279755,9.7251829479679976,0,0,30.024820549838147,79.683154098275196,7.96831540982752,0.1,-20,7.0333806843961542,0.3,23.904946229482558,-10,3.0957999010212349,5.6973455180266761,0,0,15.826526103444065,51.081424944455058,5.1081424944455058,0.1,-20,4.5087962644232089,0.3,15.324427483336517,-10,1.9845834678184588,2.4672328248171795,0,0,8.9606125570588464,77.628450425132456,7.7628450425132458,0.1,-20,6.8520184718886448,0.3,23.288535127539735,-10,3.0159718432601408,1.6923002192678878,0,0,11.560290534416673,1.0097126179295695,1.6538541889049507,0.62091710433591529,-2.5,-10,0.65383760903085797,0.3,0.30291378537887081,-1.25,0.25598985685314984,1.8724887941678654,0,0,2.7823162600518732,0.84142718160797458,2.7321523370135892,0.76454219719377103,-10,-10,0.46279489666434692,0.3,0.25242815448239236,-5,5.8304542023461844E-2,3.4151904212669866,0,0,3.9362898599547953,0.5,0.5,0.5,0.5,0.5,0.5,0.5,0.5,0.5,0.5,0.5,0.5,0.5,0.5,0.5,0.5,0.5,0.5,0.5,0.5,0.5,0.5,0.5,0.5,0.5,0.5,0.5,0.5,0.5,0.5,0.5,0.5,0.5,0.5,0.5,0.5,0.5,0.5,0.5,0.5,0.5,0.5,0.5,0.5,0.5,0.5,0.5,0.5,0.5,0.5,0.5,0.5,0.5,0.5,0.5,0.5,0.5,0.5,0.5,0.5,5486.6857232916445,null,null,null,null,8043.0246429999997,{"$error":"#REF!"},{"$error":"#REF!"},37000,31000,185000,155000,2000000,53400,{"$error":"#REF!"},0.15,0.15,0.3,230,851.66666666666652,0.05,1894.2063521563455,389.75553299879692,2046.361590139489,2093.8255505929833,2132.1288581458284,2162.0363279031799,2184.2607078919273,2080.2482932304069,2208.2700132194896,2211.248185220401,2208.9353067966922,2201.82853428812,2429.6657610071802,2402.9294078101716,2373.2299277951752,2340.9101501675236,2306.286972840478,10618.61303467341,10910.530332755108,11853.022219620529,33382.16558704905,1894.2063521563455,389.75553299879692,2046.361590139489,2093.8255505929833,2132.1288581458284,2162.0363279031799,2184.2607078919273,2199.4659035554355,2208.2700132194896,2211.248185220401,2208.9353067966922,2201.82853428812,2429.6657610071802,2402.9294078101716,2373.2299277951752,2340.9101501675236,2306.286972840478,10618.61303467341,11029.74794308014,11853.022219620529,33501.383197374082,1894.2063521563455,389.75553299879692,2046.361590139489,2093.8255505929833,2132.1288581458284,2162.0363279031799,2184.2607078919273,2199.4659035554355,2208.2700132194896,2211.248185220401,2208.9353067966922,2201.82853428812,2429.6657610071802,2402.9294078101716,2373.2299277951752,2340.9101501675236,2306.286972840478,10618.61303467341,11029.74794308014,11853.022219620529,33501.383197374082,1894.2063521563455,389.75553299879692,2046.361590139489,2093.8255505929833,2132.1288581458284,2162.0363279031799,2184.2607078919273,2199.4659035554355,2208.2700132194896,2211.248185220401,2208.9353067966922,2201.82853428812,2429.6657610071802,2402.9294078101716,2373.2299277951752,2340.9101501675236,2306.286972840478,10618.61303467341,11029.74794308014,11853.022219620529,33501.383197374082,1894.2063521563455,389.75553299879692,2046.361590139489,2093.8255505929833,2132.1288581458284,2162.0363279031799,2184.2607078919273,2199.4659035554355,2208.2700132194896,2211.248185220401,2208.9353067966922,2201.82853428812,2429.6657610071802,2402.9294078101716,2373.2299277951752,2340.9101501675236,2306.286972840478,10618.61303467341,11029.74794308014,11853.022219620529,33501.383197374082,9471.0317607817269,1948.7776649939847,10231.807950697445,10469.127752964916,10660.644290729142,10810.1816395159,10921.303539459637,10878.11190745215,11041.350066097448,11056.240926102004,11044.67653398346,11009.142671440601,12148.328805035901,12014.647039050858,11866.149638975876,11704.550750837618,11531.434864202391,53093.065173367038,55029.522105075666,59265.111098102643,167387.69837654533,214.9758833951762,71.658627798392061,235.69513513001053,244.20417796651896,251.3683796822487,257.29652550222528,262.09008968020356,265.84368510313118,268.64548665430567,270.57762981488492,271.71658590199792,272.13351526468091,315.88678102199259,312.9586707290045,309.59313152736229,305.83846301900797,301.73935674608117,1250.654307961207,1348.9169027390005,1546.0164030434485,4145.5876137436562,214.9758833951762,71.658627798392061,235.69513513001053,244.20417796651896,251.3683796822487,257.29652550222528,262.09008968020356,265.84368510313118,268.64548665430567,270.57762981488492,271.71658590199792,272.13351526468091,315.88678102199259,312.9586707290045,309.59313152736229,305.83846301900797,301.73935674608117,1250.654307961207,1348.9169027390005,1546.0164030434485,4145.5876137436562,323.02507895091674,107.67502631697224,354.1580498765241,366.94382933536326,377.70883603423027,386.61653182450812,393.81939301336678,399.4595859442739,403.66960314703721,406.5728622807294,408.28426997051673,408.91075252367847,474.6548811319816,470.25507105267718,465.19797558153346,459.55617022090064,453.39680896359005,1879.2466400839924,2026.8970738662356,2323.0609069506827,6229.2046209009113,473.4993224954099,157.83310749846996,519.13491428419582,537.87667245045884,553.65632459117251,566.71347772426623,577.27163594538456,585.53919071296275,591.7103533349997,595.96603291658641,598.47466284792017,599.39297874289866,695.76258711876346,689.3132207153094,681.90038674230061,673.63046842949825,664.60190200421403,2754.6530249954776,2971.0832185553677,3405.2085650100857,9130.9448085609329,621.88362331713995,207.29454110571331,681.82040849407588,706.43542254382089,727.16007151741314,744.30905001609665,758.17590341622667,769.03432848796319,777.13939810294426,782.72871431131023,786.02349383293199,787.22958978489487,913.79931942799828,905.32886306928037,895.59300953967431,884.73148023948795,872.87355915034061,3617.9008559876329,3902.1555245200448,4472.3262314267813,11992.382611934461,1848.3597915538189,616.11993051793957,2026.5036429148167,2099.6642802626811,2161.2619915073133,2212.2321105693213,2253.4471117353851,2285.720475351462,2309.8103278935923,2326.422869138396,2336.2155984553647,2339.8003515808336,2715.9903497227288,2690.8144962952761,2661.8776349182331,2629.595044927903,2594.3509836103071,10753.109136989518,11597.969622419649,13292.628509474449,35643.707268883612,2109.1822355515214,461.41416079718897,2282.0567252694996,2338.0297285595025,2383.4972378280772,2419.3328534054053,2446.3507975721309,2346.091978333538,2476.9154998737954,2481.8258150352858,2480.6518926986901,2473.9620495528006,2745.5525420291729,2715.8880785391761,2682.8230593225376,2646.7486131865317,2608.0263295865593,11869.267342634617,12259.44723549411,13399.038622663977,37527.753200792708,2109.1822355515214,461.41416079718897,2282.0567252694996,2338.0297285595025,2383.4972378280772,2419.3328534054053,2446.3507975721309,2465.3095886585666,2476.9154998737954,2481.8258150352858,2480.6518926986901,2473.9620495528006,2745.5525420291729,2715.8880785391761,2682.8230593225376,2646.7486131865317,2608.0263295865593,11869.267342634617,12378.664845819138,13399.038622663977,37646.970811117732,2217.2314311072623,497.43055931576919,2400.519640016013,2460.7693799283466,2509.8376941800589,2548.6528597276879,2578.0801009052939,2598.9254894997093,2611.9396163665269,2617.8210475011301,2617.2195767672088,2610.7392868117986,2904.3206421391619,2873.1844788628487,2838.4279033767089,2800.4663203884243,2759.6837818040681,12497.859674757399,13056.645016946373,14176.083126571211,39730.58781827498,2367.7056746517555,547.58864049726685,2565.4965044236847,2631.7022230434422,2685.7851827370009,2728.7498056274462,2761.5323438373116,2785.0050942683984,2799.9803665544891,2807.2142181369873,2807.4099696446124,2801.2215130310187,3125.4283481259436,3092.242628525481,3055.1303145374759,3014.5406185970219,2970.8888748446921,13373.266059668887,14000.831161635506,15258.230784630616,42632.328005935015,2516.0899754734855,597.05007410451026,2728.1819986335649,2800.2609731368043,2859.2889296632416,2906.3453779192764,2942.4366113081542,2968.5002320433987,2985.4094113224337,2993.9768995317113,2994.9588006296244,2989.0581240730148,3343.4650804351786,3308.2582708794521,3268.8229373348495,3225.6416304070117,3179.1605319908185,14236.513890661043,14931.903467600185,16325.34845104731,45493.765809308541,11319.391552335546,2564.897595511924,12258.311593612261,12568.792033227597,12821.906282236456,13022.413750085221,13174.750651195023,13163.832382803612,13351.16039399104,13382.6637952404,13380.892132438825,13348.943023021435,14864.319154758628,14705.461535346134,14528.027273894109,14334.14579576552,14125.785847812698,63846.174310356568,66627.491727495304,72557.739607577096,203031.40564542895,107.21957534678324,107.21957534678324,135.9550844942795,129.48103285169475,272.69449264041293,284.53185382446947,382.83330240204936,387.118168468666,470.13574727082323,468.17012059702614,537.89605798416551,599.91981965507603,null,null,null,null,null,1205.4957662129061,2463.2399139757572,0,3668.7356801886631,107.21957534678324,107.21957534678324,135.9550844942795,156.84818442073882,272.69449264041293,284.53185382446947,382.83330240204936,387.118168468666,470.13574727082323,468.17012059702614,537.89605798416551,530.80512539345375,null,null,null,null,null,1232.86291778195,2394.1252197141348,0,3626.9881374960846,107.21957534678324,107.21957534678324,135.9550844942795,156.84818442073882,272.69449264041293,284.53185382446947,382.83330240204936,387.118168468666,470.13574727082323,468.17012059702614,537.89605798416551,530.80512539345375,null,null,null,null,null,1232.86291778195,2394.1252197141348,0,3626.9881374960846,107.21957534678324,107.21957534678324,135.9550844942795,156.84818442073882,272.69449264041293,284.53185382446947,382.83330240204936,387.118168468666,470.13574727082323,468.17012059702614,537.89605798416551,530.80512539345375,null,null,null,null,null,1232.86291778195,2394.1252197141348,0,3626.9881374960846,107.21957534678324,107.21957534678324,135.9550844942795,156.84818442073882,272.69449264041293,284.53185382446947,382.83330240204936,387.118168468666,470.13574727082323,468.17012059702614,537.89605798416551,530.80512539345375,null,null,null,null,null,1232.86291778195,2394.1252197141348,0,3626.9881374960846,536.09787673391622,null,679.77542247139752,756.87377053464991,1363.4724632020648,1422.6592691223473,1914.1665120102468,1935.59084234333,2350.6787363541162,2340.8506029851305,2689.4802899208275,2723.1403212288906,0,0,0,0,0,6136.9474373407065,12039.740792832294,0,18176.688230173004,3862.4931571606526,1332.0385056000002,4288.9791106703105,4490.9191087428262,4663.9011498318596,4810.2252207746742,4932.037926344633,5031.3418816771464,5110.0045579840125,5169.7666123258778,6113.8258228497925,6097.607908130919,6069.071006099899,6029.4251289604254,5979.7929838702885,5921.2155439158087,5854.6572864879035,23186.062516364305,27522.546782967747,29854.161949334324,80562.771248666366,3862.4931571606526,1332.0385056000002,4288.9791106703105,4490.9191087428262,4663.9011498318596,4810.2252207746742,4932.037926344633,5031.3418816771464,5110.0045579840125,5169.7666123258778,6113.8258228497925,6097.607908130919,6069.071006099899,6029.4251289604254,5979.7929838702885,5921.2155439158087,5854.6572864879035,23186.062516364305,27522.546782967747,29854.161949334324,80562.771248666366,3862.4931571606526,1332.0385056000002,4288.9791106703105,4490.9191087428262,4663.9011498318596,4810.2252207746742,4932.037926344633,5031.3418816771464,5110.0045579840125,5169.7666123258778,6113.8258228497925,6097.607908130919,6069.071006099899,6029.4251289604254,5979.7929838702885,5921.2155439158087,5854.6572864879035,23186.062516364305,27522.546782967747,29854.161949334324,80562.771248666366,4886.9245830451364,1685.3289970265166,5426.5254588851085,5682.0250806905542,5900.8863587891656,6086.0192950264791,6240.1398283595836,6365.7817183933294,6465.307737203093,6540.9202083747514,7735.3679332092861,7714.8486150123181,7678.7430007406638,7628.5820286105009,7565.7861762733673,7491.6725093547111,7407.4613091805249,29335.596021750891,34822.226212192778,37772.245024159769,101930.06725810345,7250.4389889831937,2500.4222720561961,8051.0126753980066,8430.0822493455435,8754.793694537535,9029.464407422478,9258.1238648976596,9444.531255204176,9592.1920825679044,9704.3738033455047,11476.504763681751,11446.061473192101,11392.493723375657,11318.07287609685,11224.906409458263,11114.948375297501,10990.009232350563,43523.476891601218,51663.663377991434,56040.430616578829,151227.57088617151,23724.843043510289,8181.8667858827139,26344.475466294047,27584.864656264574,28647.383502822282,29546.159364772979,30294.37747229114,30904.338618628946,31387.513493723036,31754.593848697888,37553.35016544041,37453.733812597173,37278.449742416022,37034.930291588629,36730.071537342497,36370.267516399639,35961.442400994798,142417.260462445,169053.52993908746,183375.16148874161,494845.95189027407,305.76203307742531,305.76203307742531,348.07788906804467,371.8035667225372,392.4803637635224,410.34485005066642,425.61797854229224,438.50603617972536,449.20153962370176,457.88407893881919,671.67289155293531,666.96564621459413,661.18364217479598,654.43991143081826,646.83915812237888,638.47829535254164,629.44694976685605,1948.3246481470633,2684.2301925097754,3230.3879568473908,7862.942797504229,747.39619394670228,747.39619394670228,850.83189324746252,908.82627861735511,959.36806516914567,1003.0355176760551,1040.3687273928074,1071.8719363708303,1098.0157269713707,1119.2390841442614,1641.8185007185689,1630.3122413755111,1616.1788718095279,1599.6946842852583,1581.1156146843671,1560.6785546956119,1538.6025851940306,4762.4304821028254,6561.2574895805419,7896.270310668795,19219.958282352167,1816.0037860403777,1816.0037860403777,2067.3291514399634,2208.2423969900474,2331.0475122350435,2437.1495498444838,2527.860809467913,2604.4064852953575,2667.9299860792194,2719.4979460054437,3989.2477877786405,3961.2901788164986,3926.9492859283496,3886.8964368553611,3841.7534979300772,3792.096062401632,3738.4564472683455,11571.629419977451,15942.37238397516,19186.151730383765,46700.153534336379,2286.1937258619123,2286.1937258619123,2602.5909040744641,2779.9886497971574,2934.5898054417844,3068.1632123633458,3182.3609437834398,3278.7254145867373,3358.6960787743392,3423.6157377227883,5022.1223840142702,4986.9261412031719,4943.6938889001276,4893.2707714168664,4836.4396653744161,4773.9251935323409,4706.3974975451265,14567.693515460192,20070.085756301305,24153.727016768877,58791.506288530371,3119.6664190339161,3119.6664190339161,3551.4118309738683,3793.4830884893536,4004.4468524750782,4186.7168269463136,4342.5473778795285,4474.04323501197,4583.1686309710731,4671.7559093217988,6853.0266601887215,6804.9989993952104,6746.005658540792,6677.1998943677545,6599.6499951306077,6514.3447577383404,6422.1986359364255,19878.605976764142,27386.993434888776,32959.398941713924,80224.998353366827,8275.0221579603331,8275.0221579603331,9420.2416688038029,10062.34398061645,10621.932599084575,11105.409956880863,11518.755837065981,11867.553107444621,12157.011962419703,12391.992756133111,18177.888224253136,18050.493207004987,17894.011347353593,17711.50169835606,17505.797931241847,17279.522863720467,17035.102115710783,52728.68404245167,72644.939257255552,87425.935956382746,212799.55925609,4168.2551902380783,1637.8005386774255,4637.0569997383554,4862.7226754653639,5056.3815135953819,5220.5700708253407,5357.6559048869249,5469.8479178568714,5559.2060976077146,5627.6506912646973,6785.4987144027282,6764.573554345513,6730.2546482746948,6683.8650403912434,6626.6321419926671,6559.6938392683505,6484.1042362547596,25134.387164511369,30206.776975477525,33084.549906181717,88425.714046170615,4609.8893511073547,2079.4346995467026,5139.8110039177727,5399.7453873601817,5623.2692150010053,5813.2607384507291,5972.4066537374401,6103.2138180479769,6208.0202849553834,6289.0056964701389,7755.6443235683619,7727.9201495064299,7685.2498779094267,7629.1198132456839,7560.9085985546553,7481.8940986114203,7393.2598716819339,27948.492998467125,34083.804272548296,37750.432260003116,99782.729531018529,5678.4969432010303,3148.0422916403777,6356.308262110274,6699.1615057328736,6994.9486620669031,7247.374770619158,7459.898735812546,7635.7483669725043,7777.9345440632314,7889.2645583313215,10103.073610628433,10058.898086947418,9996.0202920282482,9916.321565815786,9821.5464818003657,9713.3116063174402,9593.1137337562486,34757.691936341755,43464.919166942906,49040.313679718085,127262.92478300276,7173.1183089070491,3971.5227228884287,8029.1163629595721,8462.0137304877117,8835.4761642309495,9154.1825073898253,9422.5007721430229,9644.5071329800667,9824.0038159774322,9964.5359460975396,12757.490317223557,12701.774756215491,12622.43688964079,12521.852800027367,12402.225841647783,12265.597702887051,12113.858806725651,43903.28953721108,54892.311968494083,61925.972040928638,160721.57354663379,10370.105408017109,5620.0886910901118,11602.424506371875,12223.565337834898,12759.240547012614,13216.181234368793,13600.671242777189,13918.574490216146,14175.360713538978,14376.129712667303,18329.531423870474,18251.060472587313,18138.499381916448,17995.272770464606,17824.556404588871,17629.293133035841,17412.207868286991,63402.082868365367,79050.656812880217,88999.829558292753,231452.56923953834,31999.865201470624,16456.888943843049,35764.717135097846,37647.208636881027,39269.316101906858,40651.569321653842,41813.133309357123,42771.891726073569,43544.525456142743,44146.586604830998,55731.23838969355,55504.227019602156,55172.461089769611,54746.431989944685,54235.869468584344,53649.790380120103,52996.54451670558,195145.9445048967,241698.46919634298,270801.09744512429,707645.51114636392,51.219812308910925,null,92.1499953736203,126.7430270841235,157.83252744039822,185.67372384645148,210.50548085002262,232.55127976289879,252.02014208804084,269.10749988388824,283.99601602550979,296.85635716070959,307.84792200633137,317.11952748533895,324.81005506837244,331.04905955396197,335.95734239904561,772.90475459461618,1334.5312949210472,1616.7839065130502,3724.2199560287136,55.46457928878857,null,99.786791369644874,137.24666995285827,170.91266714862357,201.0611619585045,227.95081448003259,251.82362671162255,272.9059425073695,291.40939007152224,307.53177019757572,321.45789328198356,333.36036797695209,343.40034419012767,351.72821299076298,358.48426584170022,363.79931544381634,836.9581049096638,1445.1286227700737,1750.7725064433594,4032.8592341230965,58.496555702986967,null,105.24164565251971,144.74927200195472,180.25562408307047,212.0521891813998,240.41176707289716,265.58958881785412,287.82437137831886,307.33931163411836,324.34302317762331,339.03041908289396,351.58354367025299,362.17235612212011,370.95546864961386,378.08084176151368,383.6864390472245,882.71049799184198,1524.1267140908087,1846.4786492507251,4253.3158613333753,66.076496738482874,null,118.87878135970665,163.50577712469564,203.61301641918752,239.5297572386377,271.5641485550583,300.00449408343275,325.12044355569208,347.16411554060824,366.3711556277417,382.96173358516955,397.14148290350499,409.10238595210069,419.02360779674052,427.07228156104702,433.40424805574452,997.09148069728576,1721.6219423926441,2085.7440062691376,4804.4574293590676,75.324024801787843,null,135.51608692247464,186.3887133744395,232.10903506925018,273.05239026846783,309.57005396329464,341.99067850743847,370.62165161208725,395.75037630652565,417.64547721688604,436.55793727794543,452.72216876807215,466.35702234467664,477.66673755623481,486.84183811647739,494.05997504613862,1136.6362795979269,1962.5661209208829,2377.6477418315999,5476.8501423504094,306.5814688409572,null,551.57330067796613,758.63345953807163,944.72287016052996,1111.3692224934612,1260.0022649213054,1391.9596678832468,1508.4925511415086,1610.7706934366627,1699.8874422453366,1776.864340388702,1842.6554853251137,1898.151636094364,1944.1840820617244,1981.5282868347003,2010.9073199919696,4626.301117791334,7987.9746950954559,9677.4268103078721,22291.702623194662,20.00488384723748,null,39.449494754172889,56.089624439150754,71.05552523178568,84.468914782402848,96.443715021551313,107.08651860576408,116.49702861728186,124.7684730072815,131.98799519093811,138.2370221257946,143.59161113218187,148.12277664561213,151.89679802594429,154.97550948650417,157.41657314804041,347.50727422906351,618.57703754706017,756.00326843828293,1722.0875802144067,23.695622030814537,null,46.727605325764863,66.437703448300169,84.164691079968705,100.05274178651619,114.23679516708874,126.84310935543775,137.98978184066266,147.78724037184014,156.33870561469544,163.74062713743331,170.08309421670251,175.45022287314464,179.92052046884473,183.56722912601285,186.4586491571722,411.61953680763872,732.6994643200693,895.47971584187701,2039.7987169695846,26.33186359051248,null,51.926255734044936,73.829188454835602,93.528380971528208,111.18404678945451,126.94613812818712,140.95495989091921,153.34174842879204,164.22921706081092,173.73207020309383,181.95748786003273,189.0055821342176,194.96982732138252,199.93746507091677,203.98988601137651,207.20298916369526,457.41401007805035,814.21548344364874,995.10574970158871,2266.7352432232879,32.922467489757217,null,64.922881754744878,92.307900971173837,116.93760570042647,139.0123092967998,158.71949553093251,176.23458622962215,191.72166489911478,205.33415878323709,217.21548167408898,227.49963966653041,236.3118019280044,243.76883844197627,249.979826576096,255.04652822478477,259.06383918000199,571.90019325407752,1018.0055312525935,1244.1708343508635,2834.0765588575346,40.963004246835816,null,80.778765499998855,114.85193024110656,145.49685986968245,172.96278955576108,197.48299156228197,219.27573036283988,238.5451629929087,255.48218768459711,270.26524366870325,283.06106487045776,294.02539007642446,303.30363200910085,311.03150761241483,317.33563172514306,322.33407619989629,711.5733367288309,1266.6293895795068,1548.0302376229795,3526.2329639313175,143.91784120515754,null,283.80500306872642,403.51634755456695,511.1830628533915,607.68080221093442,693.82913541004166,770.39490444458318,838.09538677876003,897.60127690776676,949.53949635151957,994.49584166024897,1033.0174794875309,1065.6152972912164,1092.7661177542166,1114.9147845738214,1132.4761268488062,2500.0143510976609,4450.1269061428784,5438.7898059555919,12388.931063196131,71.224696156148411,null,131.59949012779319,182.83265152327425,228.8880526721839,270.14263862885434,306.94919587157392,339.63779836866286,368.51717070532271,393.87597289116974,415.98401121644793,435.09337928650416,451.43953313851324,465.24230413095108,476.70685309431673,486.02456904046613,493.37391554708603,1120.4120288236795,1953.1083324681074,2372.7871749513333,5446.30753624312,79.160201319603104,null,146.51439669540974,203.68437340115844,255.07735822859229,301.11390374502071,342.18760964712135,378.6667360670603,410.89572434803216,439.19663044336238,463.87047581227114,485.19852041941687,503.44346219365457,518.85056706327236,531.64873345960768,542.0514949677131,550.25796460098854,1248.5776417173024,2177.8280870901431,2646.2522222852363,6072.6579510926822,84.828419293499451,null,157.16790138656464,218.57846045679031,273.78400505459865,323.2362359708543,367.35790520108429,406.54454870877333,441.16611980711093,471.56852869492928,498.07509338071714,520.98790694292666,540.58912580447054,557.14218344350263,570.89293372053066,582.07072777289022,590.88942821091973,1340.1245080698923,2338.3421975344572,2841.5843989523137,6520.0511045566636,98.998964228240084,null,183.80166311445151,255.81367809586948,320.55062211961399,378.54206653543747,430.28364408599077,476.2390803130549,516.84210845480686,552.49827432384529,583.58663730183071,610.46137325170002,633.45328483150934,652.87122439407699,669.00343437283652,682.11880978583179,692.46808723574645,1568.9916739513633,2739.6274736452378,3329.9148406200011,7638.5339882166027,116.28702904862365,null,216.2948524224735,301.24064361554605,377.60589493893264,446.01517982422888,507.05304552557664,561.26640887027838,609.16681460499592,651.23256399112279,687.91072088558928,719.61900214840318,746.74755884449655,769.66065435377755,788.69824516864969,804.17746984162045,816.39405124603491,1848.2096163267577,3229.1955105003894,3925.6779794545791,9003.0831062817269,450.49931004611472,null,835.37830374669261,1162.1498070926386,1455.9059330139214,1719.0500247043956,1953.8314003313471,2162.3545723278298,2346.5879379202688,2508.3719703444294,2649.4269385968564,2771.3601820489512,2875.6729648126448,2963.7669333855802,3036.9501998159412,3096.443071408522,3143.3834468407758,7126.3154688889954,12438.101601238335,15116.216616263464,34680.6336863908,6042.025661402824,null,7472.9129521957348,8479.8097552272829,9373.8662437927978,10163.545901802805,10856.762040810061,11460.911005803466,11982.903466101789,12429.193898422027,12805.808363341923,13118.370670835386,13372.127025317357,13571.969235674434,13722.456571064813,13827.836338831446,13892.063256672316,46346.896893828685,61797.187404504592,68386.452427560376,176530.53672589365,6160.9693899875292,null,7620.0252254191364,8646.7438674769019,9558.4008129545164,10363.626158483068,11070.488997605378,11686.531280261428,12218.799719676754,12673.875855836512,13057.904378757299,13376.619809119107,13635.371628474219,13839.147946192063,13992.597785513939,14100.052066564358,14165.543359883191,47259.285061939008,63013.731043651103,69732.712786627759,180005.72889221789,6375.2481490615946,null,7885.0500041608457,8947.4779612000948,9890.8423713009997,10724.073486196829,11455.521042822988,12092.98930043668,12643.770057228159,13114.67375940358,13512.058809541379,13841.859175177602,14109.610393044524,14320.474059152742,14479.260889955771,14590.452435151359,14658.221518242257,48902.964865681759,65205.351101787397,72158.019295546663,186266.33526301582,6918.280472000959,null,8556.6845696142354,9709.6082545023928,10733.32677083065,11637.531033326048,12431.281994697556,13123.04866715539,13720.743951318607,14231.758395114448,14662.991998568476,15020.884174040219,15311.441965456679,15540.26662441615,15712.578635661896,15833.241279341335,15906.782812657522,53068.432622970889,70759.427186197136,78304.311317533575,202132.17112670161,8121.2212613925249,null,10044.508738120272,11397.901156998116,12599.622395987095,13661.048412312724,14592.815664280844,15404.865743924758,16106.487435792425,16706.356345795313,17212.572236170286,17632.694195158529,17973.773762959299,18242.386128848979,18444.659508048582,18586.302800955134,18672.631631707216,62295.896367699053,83062.975956841314,91919.753832519214,237278.62615705957,33617.744933845432,null,41579.181489510229,47181.540995404786,52156.058594866059,56549.824992121474,60406.869740216825,63768.345997581724,66672.704630117732,69155.858254571882,71251.335786379364,72990.428024330846,74402.324775252084,75514.243994284363,76351.553390244997,76937.88492084363,77295.242579162514,257873.47581211937,343838.67269298155,380501.24965978763,982213.39816488849,5237.1876868152603,null,6213.644002459213,6847.7145886696808,7407.3076043057754,7898.0783495441692,8325.3124079247009,8693.9480336487068,8279.9505082368651,9273.5656971333774,9492.8714003325531,9670.262352439895,9809.2331426677774,9913.0405869954066,9984.7184490000727,10027.091297872781,10042.78755241068,36692.056952903542,45410.597991791401,49776.871028946713,131879.52597364169,6038.0673786694597,null,7163.8450629461959,7894.8788068789818,8540.0457428568407,9105.8659892248379,9598.4334099912194,10023.441425629679,9546.1346910758839,10691.695212828896,10944.537518972851,11149.055398652239,11309.277839634331,11428.959695764041,11511.598658929848,11560.45123627087,11578.547788878899,42303.069011898071,52354.864247159552,57388.835219477987,152046.76847853561,7752.2377477994069,null,9197.616825633324,10136.186574730704,10964.512454694925,11690.965605558855,12323.369902021472,12869.035091778898,12256.223896932284,13727.002038709066,14051.624727891736,14314.203981735671,14519.912592973402,14673.571395472536,14779.671054438937,14842.39257945508,14865.62663257754,54312.651362639277,67218.089737047645,73681.174254917496,195211.91535460443,5613.2579463322327,null,6659.8313175393614,7339.4330369014187,7939.209124674484,8465.2209749795893,8923.1337168096616,9318.2402089076677,8874.5144846739695,9939.4788678888453,10174.532403254376,10364.661386798494,10513.611346052123,10624.872961370487,10701.697843833019,10747.113388370837,10763.936754417908,39326.828170904511,48671.427351523344,53351.23229404437,141349.48781647225,7706.5728510878216,null,9143.4378600237469,10076.478922818735,10899.925512830474,11622.099459524043,12250.778550721107,12793.229475728143,12184.028072122042,13646.14253069987,13968.853015683701,14229.885534907842,14434.382410542195,14587.136079120875,14692.61075338925,14754.962814509336,14778.060006422098,53992.720305918105,66822.138629141598,73247.152063983754,194062.0109990435,32347.323610704181,null,38378.375068601839,42294.691929999521,45751.000439362499,48782.230378831489,51421.027987468158,53697.894235693086,51140.851653041049,57277.884347260057,58632.419066135211,59728.068654534145,60586.41733186983,61227.580718723344,61670.296759591125,61932.011316478907,62028.958734707128,226627.32580426353,280477.11795666354,307445.26486137038,814549.70862229739,11279.213348218083,null,13686.556954654949,15327.524343896963,16781.173848098573,18061.624251346973,19182.074448734762,20154.859039452174,20262.853974338654,21702.759595555406,22298.679763674474,22788.633023275281,23181.360167985134,23485.009822669839,23707.175020064886,23854.927636704226,23934.850809082996,83038.953846732213,107207.78539629599,118163.32345650709,308410.06269953528,12199.036768656988,null,14783.870288365331,16541.622674355884,18098.446555811359,19469.492147707904,20668.922407596598,21709.972705891108,21764.934410752638,23365.571068665406,24002.44189773015,24525.675207771346,24944.64946810855,25268.107641956103,25504.196444443787,25660.503302835226,25744.091148762091,89562.354073837079,115368.59529081066,127121.54800610576,332052.49737075344,14127.485896861002,null,17082.666829794169,19083.664535930799,20855.354825995924,22415.039091755683,23778.890944844461,24962.024392215579,24899.993954160444,26841.675798112647,27563.683537433113,28156.063156913275,28629.522986017924,28994.04545462528,29258.93194439471,29432.845014606439,29523.848150819795,103215.61622832103,132423.44083883506,145839.19355046414,381478.25061762019,12531.538418333192,null,15216.515887153597,17049.04129140381,18672.535895505134,20102.752008305637,21354.415711507216,22441.288876063059,22595.258435992575,24171.237263003291,24837.524401822851,25385.545560838713,25825.053311508804,26165.139585786637,26414.276479494914,26580.35466771217,26670.71956707543,92395.260793875394,119430.8545377205,131655.54361157794,343481.65894317388,15827.794112480347,null,19187.946598144019,21474.380079816852,23499.547908817571,25283.147871836765,26843.594215001951,28198.095219652903,28290.515507914468,30352.498876495185,31181.425251853987,31862.579730066369,32408.156173501495,32829.522207969858,33137.270261437836,33341.265615464472,33450.691638129312,116288.61667361716,149885.11458598293,165166.90589650295,431340.6371561031,65965.068544549606,null,79957.556558112061,89476.2329254043,97907.059034228558,105332.05537095296,111827.89772768499,117466.24023327482,117813.55628315877,126433.74260183194,129883.75485251457,132718.49667886499,134988.74210712191,136741.82471300772,138021.85014983613,138869.89623732254,139324.20131386965,484500.80161638284,624315.79064964503,687946.51452115795,1796763.1067871859,36032.909229842626,null,39416.068981032258,38685.112506389072,41888.787740055814,42816.584156873912,43561.033096942781,44137.492377964554,44560.27292225197,44842.703636067621,44997.192483891209,45035.283972883364,44967.713250942281,44804.457010517384,44554.781379722663,44227.286972245078,43829.951258042645,206367.58648129387,223572.94539305873,222384.18987147007,652324.72174582258,10133.536950652098,null,10789.162943548892,10488.626090141515,10388.043189702346,10273.255880483821,10145.845042461387,10007.273205156542,9858.8922343468075,9701.9505550764188,9537.5999376994769,9366.9018721927259,9190.8335545625851,9010.2935078355567,8826.1068588590351,8639.0302909464062,8449.7566912729453,52084.933146337964,48472.617804471971,44116.020903476528,144673.57185428645,46166.44618049472,null,50205.231924581152,49173.738596530588,52276.830929758158,53089.840037357731,53706.878139404173,54144.765583121094,54419.165156598778,54544.654191144044,54534.792421590682,54402.185845076092,54158.54680550487,53814.750518352943,53380.888238581698,52866.317263191486,52279.707949315591,258452.51962763179,272045.56319753069,266500.21077494655,796998.29360010894,10618.61303467341,10910.530332755108,11853.022219620529,33382.16558704905,2225.4777058032701,10618.61303467341,11029.74794308014,11853.022219620529,33501.383197374082,2233.4255464916055,10618.61303467341,11029.74794308014,11853.022219620529,33501.383197374082,2233.4255464916055,10618.61303467341,11029.74794308014,11853.022219620529,33501.383197374082,2233.4255464916055,10618.61303467341,11029.74794308014,11853.022219620529,33501.383197374082,2233.4255464916055,53093.065173367038,55029.522105075666,59265.111098102643,167387.69837654533,11159.179891769689,1250.654307961207,1348.9169027390005,1546.0164030434485,4145.5876137436562,276.37250758291043,1250.654307961207,1348.9169027390005,1546.0164030434485,4145.5876137436562,276.37250758291043,1879.2466400839924,2026.8970738662356,2323.0609069506827,6229.2046209009113,415.28030806006075,2754.6530249954776,2971.0832185553677,3405.2085650100857,9130.9448085609329,608.72965390406216,3617.9008559876329,3902.1555245200448,4472.3262314267813,11992.382611934461,799.49217412896405,10753.109136989518,11597.969622419649,13292.628509474449,35643.707268883612,2376.2471512589077,11869.267342634617,12259.447235494108,13399.038622663977,37527.753200792708,2501.8502133861803,11869.267342634617,12378.664845819139,13399.038622663977,37646.970811117739,2509.7980540745157,12497.859674757403,13056.645016946375,14176.083126571211,39730.587818274995,2648.7058545516661,13373.266059668887,14000.831161635508,15258.230784630614,42632.328005935015,2842.1552003956676,14236.513890661043,14931.903467600185,16325.34845104731,45493.765809308541,3032.9177206205695,63846.174310356553,66627.491727495319,72557.739607577096,203031.40564542895,13535.427043028596,23186.062516364305,27522.546782967747,29854.161949334324,80562.771248666366,5370.8514165777578,23186.062516364305,27522.546782967747,29854.161949334324,80562.771248666366,5370.8514165777578,23186.062516364305,27522.546782967747,29854.161949334324,80562.771248666366,5370.8514165777578,29335.596021750891,34822.226212192778,37772.245024159769,101930.06725810345,6795.337817206896,43523.476891601218,51663.663377991434,56040.430616578829,151227.57088617151,10081.8380590781,142417.260462445,169053.52993908746,183375.16148874161,494845.95189027407,32989.730126018272,1948.3246481470633,2684.2301925097754,3230.3879568473908,7862.942797504229,524.1961865002819,4762.4304821028254,6561.2574895805419,7896.270310668795,19219.958282352167,1281.3305521568111,11571.629419977451,15942.37238397516,19186.151730383765,46700.153534336379,3113.3435689557587,14567.693515460192,20070.085756301305,24153.727016768877,58791.506288530371,3919.4337525686915,19878.605976764142,27386.993434888776,32959.398941713924,80224.998353366827,5348.3332235577882,52728.68404245167,72644.939257255552,87425.935956382746,212799.55925609,14186.637283739334,25134.387164511369,30206.776975477522,33084.549906181717,88425.7140461706,5895.0476030780401,27948.492998467133,34083.804272548288,37750.432260003116,99782.729531018529,6652.1819687345687,34757.691936341755,43464.919166942906,49040.313679718092,127262.92478300275,8484.194985533517,43903.28953721108,54892.311968494083,61925.972040928646,160721.57354663382,10714.771569775588,63402.08286836536,79050.656812880217,88999.829558292753,231452.56923953834,15430.171282635889,195145.94450489667,241698.46919634301,270801.09744512435,707645.51114636404,47176.367409757608,772.90475459461618,1334.5312949210472,1616.7839065130502,3724.2199560287136,248.28133040191423,836.9581049096638,1445.1286227700737,1750.7725064433594,4032.8592341230965,268.85728227487311,882.71049799184198,1524.1267140908087,1846.4786492507251,4253.3158613333753,283.55439075555836,997.09148069728576,1721.6219423926441,2085.7440062691376,4804.4574293590676,320.29716195727116,1136.6362795979269,1962.5661209208829,2377.6477418315999,5476.8501423504094,365.12334282336064,4626.301117791334,7987.9746950954559,9677.4268103078721,22291.702623194662,1486.1135082129774,347.50727422906351,618.57703754706017,756.00326843828293,1722.0875802144067,114.80583868096045,411.61953680763872,732.6994643200693,895.47971584187701,2039.7987169695846,135.98658113130563,457.41401007805035,814.21548344364874,995.10574970158871,2266.7352432232879,151.11568288155252,571.90019325407752,1018.0055312525935,1244.1708343508635,2834.0765588575346,188.93843725716897,711.5733367288309,1266.6293895795068,1548.0302376229795,3526.2329639313175,235.08219759542118,2500.0143510976609,4450.1269061428784,5438.7898059555919,12388.931063196131,825.92873754640868,1120.4120288236797,1953.1083324681074,2372.7871749513333,5446.30753624312,363.08716908287465,1248.5776417173024,2177.8280870901431,2646.2522222852363,6072.6579510926813,404.84386340617874,1340.1245080698923,2338.3421975344572,2841.5843989523137,6520.0511045566636,434.67007363711087,1568.9916739513633,2739.6274736452378,3329.9148406200011,7638.5339882166027,509.23559921444013,1848.2096163267579,3229.1955105003899,3925.6779794545791,9003.0831062817269,600.20554041878177,7126.3154688889954,12438.101601238333,15116.216616263464,34680.633686390793,2312.0422457593859,34577.580305632328,39767.608410643908,43323.968075467899,117669.15679174413,7844.610452782943,34641.633655947378,39997.42334881796,43457.956675398214,118097.01368016355,7873.1342453442367,34687.386049029556,40076.421440138693,43553.662818205579,118317.47030737383,7887.8313538249222,40951.300537121584,47573.596097665562,51711.011250049436,140235.90788483658,9349.0605256557719,55278.726205872554,64655.977441992458,70271.100578030964,190205.80422589602,12680.386948393067,200136.62675360337,232071.02673925855,252317.69939715212,684525.35289001407,45635.023526000936,3546.4862303373338,4651.7241327958363,5532.4076283291224,13730.617991462292,915.37453276415272,6424.7043268716716,8642.8738566396114,10337.76642955412,25405.344613065408,1693.6896408710272,13908.290070139494,18783.484941285042,22504.318387036037,55196.09339846058,3679.7395598973717,17894.246733709748,24059.174506109266,28803.106416129827,70756.527655948841,4717.1018437299226,24208.080169480603,32555.778348988326,38979.755410763682,95743.613929232612,6382.9075952821731,65981.807530538848,88693.03578581808,106157.35427181279,260832.19758816974,17388.813172544651,38124.066535969658,44419.332543439741,48856.375703797021,131399.77478320641,8759.9849855470966,41066.337982819052,48640.297205457573,53795.723104952333,143502.35829322896,9566.8238862152648,48595.676119169046,58859.906381423731,66057.981205241609,173513.56370583441,11567.570913722295,58845.547270831332,71632.770603774828,80514.117666179256,210992.43554078543,14066.162369385695,79486.806375353161,97211.75579098078,109250.85598879465,285949.4181551286,19063.294543675242,266118.43428414222,320764.06252507662,358475.05366896489,945357.55047818378,63023.836698545587,null,null,null,null,null,null,null,null,null,null,null,null,null,null,null,null,null,null,null,null,null,null,null,null,null,null,null,null,null,null,null,null,null,null,null,null,null,null,null,null,null,null,null,null,null,null,null,null,null,null,null,null,null,null,null,null,null,null,null,null,null,null,null,null,null,null,null,null,null,null,null,null,null,null,null,null,null,null,null,null,null,null,null,null,null,null,null,null,null,null,null,null,null,null,null,null,null,null,null,null,null,null,null,null,null,null,null,null,null,null,null,null,null,null,null,null,null,null,null,null,null,null,null,null,null,null,null,null,null,null,null,null,null,null,null,null,null,null,null,null,null,null,null,null,null,null,null,null,null,null,null,null,null,null,null,null,null,null,null,null,null,null,null,null,null,null,null,null,null,null,null,null,null,null,null,null,null,null,null,null,null,null,null,null,null,null,null,null,null,null,null,null,null,null,null,null,null,null,null,null,null,null,null,null,null,null,null,null,null,null,null,null,null,null,null,null,null,null,null,null,null,null,null,null,null,null,null,null,null,null,null,null,null,null,null,null,null,null,null,null,null,null,null,null,null,null,null,null,null,null,null,null,null,null,null,null,null,null,null,null,null,null,null,null,null,null,null,null,null,null,null,null,null,null,null,null,null,null,null,null,null,null,null,null,null,null,null,null,null,null,null,null,null,null,null,null,null,null,null,null,null,null,null,null,null,null,null,null,null,null,null,null,null,null,null,null,null,null,null,null,null,null,null,null,null,null,null,null,null,null,null,null,null,null,null,null,null,null,null,null,null,null,null,null,null,null,null,null,null,null,null,null,null,null,null,null,null,null,null,null,null,null,null,null,null,null,null,null,null,null,null,null,null,null,null,null,null,null,null,null,null,null,null,null,null,null,null,null,null,null,null,null,null,null,null,null,null,null,null,null,null,null,null,null,null,null,null,null,null,null,null,null,null,null,null,null,null,null,null,null,null,null,null,null,null,null,null,null,null,null,null,null,null,null,null,null,null,null,null,null,null,null,null,null,null,null,null,null,null,null,null,null,null,null,null,null,null,null,null,null,null,null,null,null,null,null,null,null,null,null,null,null,null,null,null,null,null,null,null,null,null,null,null,null,null,null,null,null,null,null,null,null,null,null,null,null,null,null,null,null,null,null,null,null,null,null,null,null,null,null,null,null,null,null,null,null,null,null,null,null,null,null,null,null,null,null,null,null,null,null,null,null,null,null,null,null,null,null,null,null,null,null,null,null,null,null,null,null,null,null,null,null,null,null,null,null,null,null,null,null,null,null,null,null,null,null,null,null,null,null,null,null,null,null,null,null,null,null,null,null,null,null,null,null,null,null,null,null,null,null,null,null,null,null,null,null,null,null,null,null,null,null,null,null,null,null,null,null,null,null,null,null,null,null,null,null,null,null,null,null,null,null,null,null,null,null,null,null,null,null,null,null,null,null,null,null,null,null,null,null,null,null,null,null,null,null,null,null,null,null,null,null,null,null,null,null,null,null,null,null,null,null,null,null,null,null,null,null,null,null,null,null,null,null,null,null,null,null,null,null,null,null,null,null,null,null,null,null,null,null,null,null,null,null,null,null,null,null,null,null,null,null,null,null,null,null,null,null,null,null,null,null,null,null,null,null,null,null,null,null,null,null,null,null,null,null,null,null,null,null,null,null,null,null,null,null,null,null,null,null,null,null,null,null,null,null,null,null,null,null,null,null,null,null,null,null,null,null,null,null,null,null,null,null,null,null,null,null,null,null,null,null,null,null,null,null,null,null,null,null,null,null,null,null,null,null,null,null,null,null,null,null,null,null,null,null,null,null,null,null,null,null,null,null,null,null,null,null,null,null,null,null,null,null,null,null,null,null,null,null,null,null,null,null,null,null,null,null,null,null,null,null,null,null,null,null,null,null,null,null,null,null,null,null,null,null,null,null,null,null,null,null,null,null,null,null,null,null,null,null,null,null,null,null,null,null,null,null,null,null,null,null,null,null,null,null,null,null,null,null,null,null,null,null,null,null,null,null,null,null,null,null,null,null,null,null,null,null,null,null,null,null,null,null,null,null,null,null,null,null,null,null,null,null,null,null,null,null,null,null,null,null,null,null,null,null,null,null,null,null,null,null,null,null,null,null,null,null,null,null,null,null,null,null,null,null,null,null,null,null,null,null,null,null,null,null,null,null,null,null,null,null,null,null,null,null,null,null,null,null,null,null,null,null,null,null,null,null,null,null,null,null,null,null,null,null,null,null,null,null,null,null,null,null,null,null,null,null,null,null,null,null,null,null,null,null,null,null,null,null,null,null,null,null,null,null,null,null,null,null,null,null,null,null,null,null,null,null,null,null,null,null,null,null,null,null,null,null,null,null,null,null,null,null,null,null,null,null,null,null,null,null,null,null,null,null,null,null,null,null,null,null,null,null,null,null,null,null,null,null,null,null,null,null,null,null,null,null,null,null,null,null,null,null,null,null,null,null,null,null,null,null,null,null,null,null,null,null,null,null,null,null,null,null,null,null,null,null,null,null,null,null,null,null,null,null,null,null,null,null,null,null,null,null,null,null,null,null,null,null,null,null,null,null,null,null,null,null,null,null,null,null,null,null,null,null,null,null,null,null,null,null,null,null,null,null,null,null,null,null,null,null,null,null,null,null,null,null,null,null,null,null,null,null,null,null,null,null,null,null,null,null,null,null,null,null,null,null,null,null,null,null,null,null,null,null,null,null,null,null,null,null,null,null,null,null,null,null,null,null,null,null,null,null,null,null,null,null,null,null,null,null,null,null,null,null,null,null,null,null,null,null,null,null,null,null,null,null,null,null,null,null,null,null,null,null,null,null,null,null,null,null,null,null,null,null,null,null,null,null,null,null,null,null,null,null,null,null,null,null,null,null,null,null,null,null,null,null,null,null,null,null,null,null,null,null,null,null,null,null,null,null,null,null,null,null,null,null,null,null,null,null,null,null,null,null,null,null,null,null,null,null,null,null,null,null,null,null,null,null,null,null,null,null,null,null,null,null,null,null,null,null,null,null,null,null,null,null,null,null,null,null,null,null,null,null,null,null,null,null,null,null,null,null,null,null,null,null,null,null,null,null,null,null,null,null,null,null,null,null,null,null,null,null,null,null,null,null,null,null,null,null,null,null,null,null,null,null,null,null,null,null,null,null,null,null,null,null,null,null,null,null,null,null,null,null,null,null,null,null,null,null,null,null,null,null,null,null,null,null,null,null,null,null,null,null,null,null,null,null,null,null,null,null,null,null,null,null,null,null,null,null,null,null,null,null,null,null,null,null,null,null,null,null,null,null,null,null,null,null,null,null,null,null,null,null,null,null,null,null,null,null,null,null,null,null,null,null,null,null,null,null,null,null,null,null,null,null,null,null,null,null,null,null,null,null,null,null,null,null,null,null,null,null,null,null,null,null,null,null,null,null,null,null,null,null,null,null,null,null,null,null,null,null,null,null,null,null,null,null,null,null,null,null,null,null,null,null,null,null,null,null,null,null,null,null,null,null,null,null,null,null,null,null,null,null,null,null,null,null,null,null,null,null,null,null,null,null,null,null,null,null,null,null,null,null,null,null,null,null,null,null,null,null,null,null,null,null,null,null,null,null,null,null,null,null,null,null,null,null,null,null,null,null,null,null,null,null,null,null,null,null,null,null,null,null,null,null,null,null,null,null,null,null,null,null,null,null,null,null,null,null,null,null,null,null,null,null,null,null,null,null,null,null,null,null,null,null,null,null,null,null,null,null,null,null,null,null,null,null,null,null,null,null,null,null,null,null,null,null,null,null,null,null,null,null,null,null,null,null,null,null,null,null,null,null,null,null,null,null,null,null,null,null,null,null,null,null,null,null,null,null,null,null,null,null,null,null,null,null,null,null,null,null,null,null,null,null,null,null,null,null,null,null,null,null,null,null,null,null,null,null,null,null,null,null,null,null,null,null,null,null,null,null,null,null,null,null,null,null,null,null,null,null,null,null,null,null,null,null,null,null,null,null,null,null,null,null,null,null,null,null,null,null,null,null,null,null,null,null,null,null,null,null,null,null,null,null,null,null,null,null,null,null,null,null,null,null,null,null,null,null,null,null,null,null,null,null,null,null,null,null,null,null,null,null,null,null,null,null,null,null,null,null,null,null,null,null,null,null,null,null,null,null,null,null,null,null,null,null,null,null,null,null,null,null,null,null,null,null,null,null,null,null,null,null,null,null,null,null,null,null,null,null,null,null,null,null,null,null,null,null,null,null,null,null,null,null,null,null,null,null,null,null,null,null,null,null,null,null,null,null,null,null,null,null,null,null,null,null,null,null,null,null,null,null,null,null,null,null,null,null,null,null,null,null,null,null,null,null,null,null,null,null,null,null,null,null,null,null,null,null,null,null,null,null,null,null,null,null,null,null,null,null,null,null,null,null,null,null,null,null,null,null,null,null,null,null,null,null,null,null,null,null,null,null,null,null,null,null,null,null,null,null,null,null,null,null,null,null,null,null,null,null,null,null,null,null,null,null,null,null,null,null,null,null,null,null,null,null,null,null,null,null,null,null,null,null,null,null,null,null,null,null,null,null,null,null,null,null,null,null,null,null,null,null,null,null,null,null,null,null,null,null,null,null,null,null,null,null,null,null,null,null,null,null,null,null,null,null,null,null,null,null,null,null,null,null,null,null,null,null,null,null,null,null,null,null,null,null,null,null,null,null,null,null,null,null,null,null,null,null,null,null,null,null,null,null,null,null,null,null,null,null,null,null,null,null,null,null,null,null,null,null,null,null,null,null,null,null,null,null,null,null,null,null,null,null,null,null,null,null,null,null,null,null,null,null,null,null,null,null,null,null,null,null,null,null,null,null,null,null,null,null,null,null,null,null,null,null,null,null,null,null,null,null,null,null,null,null,null,null,null,null,null,null,null,null,null,null,null,null,null,null,null,null,null,null,null,null,null,null,null,null,null,null,null,null,null,null,null,null,null,null,null,null,null,null,null,null,null,null,null,null,null,null,null,null,null,null,null,null,null,null,null,null,null,null,null,null,null,null,null,null,null,null,null,null,null,null,null,null,null,null,null,null,null,null,null,null,null,null,null,null,null,null,null,null,null,null,null,null,null,null,null,null,null,null,null,null,null,null,null,null,null,null,null,null,null,null,null,null,null,null,null,null,null,null,null,null,null,null,null,null,null,null,null,null,null,null,null,null,null,null,null,null,null,null,null,null,null,null,null,null,null,null,null,null,null,null,null,null,null,null,null,null,null,null,null,null,null,null,null,null,null,null,null,null,null,null,null,null,null,null,null,null,null,null,null,null,1205.4957662129061,2463.2399139757572,0,3668.7356801886635,366.87356801886637,1232.86291778195,2394.1252197141348,0,3626.9881374960851,362.69881374960852,1232.86291778195,2394.1252197141348,0,3626.9881374960851,362.69881374960852,1232.86291778195,2394.1252197141348,0,3626.9881374960851,362.69881374960852,1232.86291778195,2394.1252197141348,0,3626.9881374960851,362.69881374960852,6136.9474373407065,12039.740792832295,0,18176.688230173,1817.6688230172999,46346.896893828685,61797.187404504592,68386.452427560376,176530.53672589365,11768.702448392909,47259.285061939008,63013.731043651103,69732.712786627759,180005.72889221786,12000.381926147857,48902.964865681759,65205.351101787397,72158.019295546663,186266.33526301582,12417.755684201054,53068.432622970889,70759.427186197136,78304.311317533575,202132.17112670161,13475.47807511344,62295.896367699053,83062.975956841314,91919.753832519214,237278.62615705957,15818.575077137304,257873.47581211937,343838.67269298155,380501.24965978763,982213.39816488861,65480.893210992574,36692.056952903542,45410.597991791401,49776.871028946713,131879.52597364166,8791.9683982427778,42303.069011898071,52354.864247159552,57388.835219477987,152046.76847853561,10136.451231902374,54312.651362639277,67218.089737047645,73681.174254917496,195211.91535460443,13014.127690306961,39326.828170904511,48671.427351523344,53351.23229404437,141349.48781647222,9423.2991877648146,53992.720305918105,66822.138629141598,73247.152063983754,194062.01099904347,12937.467399936231,226627.32580426353,280477.11795666354,307445.26486137038,814549.7086222975,54303.31390815317,83038.953846732227,107207.78539629599,118163.32345650709,308410.06269953528,20560.670846635687,89562.354073837079,115368.59529081066,127121.54800610575,332052.49737075344,22136.833158050231,103215.61622832104,132423.44083883503,145839.19355046417,381478.25061762024,25431.883374508016,92395.260793875408,119430.85453772047,131655.54361157794,343481.65894317382,22898.777262878255,116288.61667361716,149885.11458598293,165166.90589650295,431340.63715610304,28756.042477073534,484500.8016163829,624315.79064964503,687946.51452115807,1796763.1067871861,119784.20711914575,206367.58648129387,223572.94539305873,222384.18987147007,652324.7217458227,43488.314783054848,52084.933146337964,48472.617804471971,44116.020903476528,144673.57185428648,9644.9047902857656,258452.51962763182,272045.56319753069,266500.21077494661,796998.29360010906,53133.219573340612,{"$error":"#REF!"},{"$error":"#REF!"},{"$error":"#REF!"},{"$error":"#REF!"},{"$error":"#REF!"},{"$error":"#REF!"},{"$error":"#REF!"},{"$error":"#REF!"},{"$error":"#REF!"},{"$error":"#REF!"},{"$error":"#REF!"},{"$error":"#REF!"},{"$error":"#REF!"},{"$error":"#REF!"},{"$error":"#REF!"},{"$error":"#REF!"},{"$error":"#REF!"},{"$error":"#REF!"},{"$error":"#REF!"},{"$error":"#REF!"},{"$error":"#REF!"},{"$error":"#REF!"},{"$error":"#REF!"},{"$error":"#REF!"},{"$error":"#REF!"},{"$error":"#REF!"},{"$error":"#REF!"},{"$error":"#REF!"},{"$error":"#REF!"},{"$error":"#REF!"},{"$error":"#REF!"},{"$error":"#REF!"},{"$error":"#REF!"},{"$error":"#REF!"},{"$error":"#REF!"},{"$error":"#REF!"},{"$error":"#REF!"},{"$error":"#REF!"},{"$error":"#REF!"},{"$error":"#REF!"},{"$error":"#REF!"},{"$error":"#REF!"},{"$error":"#REF!"},{"$error":"#REF!"},{"$error":"#REF!"},{"$error":"#REF!"},{"$error":"#REF!"},{"$error":"#REF!"},{"$error":"#REF!"},{"$error":"#REF!"},{"$error":"#REF!"},{"$error":"#REF!"},{"$error":"#REF!"},{"$error":"#REF!"},{"$error":"#REF!"},{"$error":"#REF!"},{"$error":"#REF!"},{"$error":"#REF!"},{"$error":"#REF!"},{"$error":"#REF!"},{"$error":"#REF!"},{"$error":"#REF!"},{"$error":"#REF!"},{"$error":"#REF!"},{"$error":"#REF!"},{"$error":"#REF!"},{"$error":"#REF!"},{"$error":"#REF!"},{"$error":"#REF!"},{"$error":"#REF!"},{"$error":"#REF!"},{"$error":"#REF!"},{"$error":"#REF!"},{"$error":"#REF!"},{"$error":"#REF!"},{"$error":"#REF!"},{"$error":"#REF!"},{"$error":"#REF!"},{"$error":"#REF!"},{"$error":"#REF!"},{"$error":"#REF!"},{"$error":"#REF!"},{"$error":"#REF!"},{"$error":"#REF!"},{"$error":"#REF!"},{"$error":"#REF!"},{"$error":"#REF!"},{"$error":"#REF!"},{"$error":"#REF!"},{"$error":"#REF!"},{"$error":"#REF!"},{"$error":"#REF!"},{"$error":"#REF!"},{"$error":"#REF!"},{"$error":"#REF!"},{"$error":"#REF!"},{"$error":"#REF!"},{"$error":"#REF!"},{"$error":"#REF!"},null,null,null,null,null,null,{"$error":"#REF!"},{"$error":"#REF!"},{"$error":"#REF!"},{"$error":"#REF!"},{"$error":"#REF!"},{"$error":"#REF!"},{"$error":"#REF!"},{"$error":"#REF!"},{"$error":"#REF!"},{"$error":"#REF!"},{"$error":"#REF!"},{"$error":"#REF!"},{"$error":"#REF!"},{"$error":"#REF!"},{"$error":"#REF!"},{"$error":"#REF!"},{"$error":"#REF!"},{"$error":"#REF!"},{"$error":"#REF!"},{"$error":"#REF!"},{"$error":"#REF!"},{"$error":"#REF!"},{"$error":"#REF!"},{"$error":"#REF!"},{"$error":"#REF!"},{"$error":"#REF!"},{"$error":"#REF!"},{"$error":"#REF!"},{"$error":"#REF!"},{"$error":"#REF!"},{"$error":"#REF!"},{"$error":"#REF!"},{"$error":"#REF!"},{"$error":"#REF!"},{"$error":"#REF!"},{"$error":"#REF!"},{"$error":"#REF!"},{"$error":"#REF!"},{"$error":"#REF!"},{"$error":"#REF!"},{"$error":"#REF!"},{"$error":"#REF!"},{"$error":"#REF!"},{"$error":"#REF!"},{"$error":"#REF!"},{"$error":"#REF!"},{"$error":"#REF!"},{"$error":"#REF!"},{"$error":"#REF!"},{"$error":"#REF!"},{"$error":"#REF!"},{"$error":"#REF!"},{"$error":"#REF!"},{"$error":"#REF!"},{"$error":"#REF!"},{"$error":"#REF!"},{"$error":"#REF!"},{"$error":"#REF!"},{"$error":"#REF!"},{"$error":"#REF!"},{"$error":"#REF!"},{"$error":"#REF!"},{"$error":"#REF!"},{"$error":"#REF!"},{"$error":"#REF!"},{"$error":"#REF!"},{"$error":"#REF!"},{"$error":"#REF!"},1973808.01165872,{"$error":"#REF!"},{"$error":"#REF!"},{"$error":"#REF!"},{"$error":"#REF!"},{"$error":"#REF!"},{"$error":"#REF!"},{"$error":"#REF!"},{"$error":"#REF!"},{"$error":"#REF!"},{"$error":"#REF!"},{"$error":"#REF!"},{"$error":"#REF!"},{"$error":"#REF!"},{"$error":"#REF!"},{"$error":"#REF!"},{"$error":"#REF!"},{"$error":"#REF!"},{"$error":"#REF!"},{"$error":"#REF!"},{"$error":"#REF!"},{"$error":"#REF!"},{"$error":"#REF!"},{"$error":"#REF!"},{"$error":"#REF!"},{"$error":"#REF!"},{"$error":"#REF!"},{"$error":"#REF!"},0,0,0,0,0,0,{"$error":"#REF!"},{"$error":"#REF!"},{"$error":"#REF!"},{"$error":"#REF!"},{"$error":"#REF!"},{"$error":"#REF!"},{"$error":"#REF!"},{"$error":"#REF!"},{"$error":"#REF!"},{"$error":"#REF!"},{"$error":"#REF!"},{"$error":"#REF!"},{"$error":"#REF!"},{"$error":"#REF!"},{"$error":"#REF!"},{"$error":"#REF!"},{"$error":"#REF!"},{"$error":"#REF!"},{"$error":"#REF!"},{"$error":"#REF!"},{"$error":"#REF!"},{"$error":"#REF!"},{"$error":"#REF!"},{"$error":"#REF!"},{"$error":"#REF!"},{"$error":"#REF!"},{"$error":"#REF!"},{"$error":"#REF!"},{"$error":"#REF!"},{"$error":"#REF!"},{"$error":"#REF!"},{"$error":"#REF!"},{"$error":"#REF!"},{"$error":"#REF!"},{"$error":"#REF!"},{"$error":"#REF!"},{"$error":"#REF!"},{"$error":"#REF!"},{"$error":"#REF!"},{"$error":"#REF!"},{"$error":"#REF!"},{"$error":"#REF!"},{"$error":"#REF!"},{"$error":"#REF!"},{"$error":"#REF!"},{"$error":"#REF!"},{"$error":"#REF!"},{"$error":"#REF!"},{"$error":"#REF!"},{"$error":"#REF!"},{"$error":"#REF!"},{"$error":"#REF!"},{"$error":"#REF!"},{"$error":"#REF!"},{"$error":"#REF!"},{"$error":"#REF!"},{"$error":"#REF!"},{"$error":"#REF!"},{"$error":"#REF!"},{"$error":"#REF!"},{"$error":"#REF!"},{"$error":"#REF!"},{"$error":"#REF!"},{"$error":"#REF!"},{"$error":"#REF!"},{"$error":"#REF!"},{"$error":"#REF!"},{"$error":"#REF!"},{"$error":"#REF!"},{"$error":"#REF!"},{"$error":"#REF!"},{"$error":"#REF!"},{"$error":"#REF!"},{"$error":"#REF!"},{"$error":"#REF!"},{"$error":"#REF!"},{"$error":"#REF!"},{"$error":"#REF!"},{"$error":"#REF!"},{"$error":"#REF!"},{"$error":"#REF!"},{"$error":"#REF!"},{"$error":"#REF!"},{"$error":"#REF!"},{"$error":"#REF!"},{"$error":"#REF!"},{"$error":"#REF!"},{"$error":"#REF!"},{"$error":"#REF!"},{"$error":"#REF!"},{"$error":"#REF!"},{"$error":"#REF!"},{"$error":"#REF!"},{"$error":"#REF!"},{"$error":"#REF!"},{"$error":"#REF!"},{"$error":"#REF!"},{"$error":"#REF!"},{"$error":"#REF!"},0,0,0,0,0,0,31427.030299054506,41903.60544324416,46371.672248287323,119702.30799058598,7980.1538660390652,32339.418467164836,43120.149082390664,47717.932607354727,123177.50015691023,8211.8333437940146,33983.098270907583,45311.769140526972,50143.239116273617,129438.10652770818,8629.2071018472125,38148.566028196714,50865.845224936711,56289.531138260543,145303.94239139397,9686.9294927595984,47376.02977292487,63169.393995580875,69904.973653246168,180450.39742175193,12030.026494783462,183274.14283824852,244370.76288667938,270427.34876342234,698072.25448835024,46538.150299223351,14844.025121449929,18371.171129365477,20137.577050239153,53352.773301054563,3556.8515534036374,20455.037180444455,25315.437384733617,27749.541240770413,73520.015805948482,4901.3343870632325,32464.619531185665,40178.662874621732,44041.880276209922,116685.16268201733,7779.010845467822,17478.796339450899,21632.000489097427,23711.9383153368,62822.735143885118,4188.1823429256747,32144.688474464485,39782.711766715671,43607.858085276181,115535.25832645633,7702.3505550970885,117387.16664699544,145279.98364453393,159248.79496783245,421915.94525936182,28127.729683957456,46271.055420504432,60274.77657260964,66509.249298526469,173055.08129164053,11537.005419442701,52794.455647609291,68435.586467124289,75467.473848125141,196697.51596285871,13113.167730857247,66447.717802093248,85490.432015148705,94185.119392483539,246123.26920972549,16408.217947315032,55627.362367647613,72497.845714034134,80001.469453597339,208126.67753527907,13875.111835685271,79520.718247389363,102952.10576229655,113512.83173852235,295985.65574820823,19732.37704988055,300661.30948524398,389650.74653121328,429676.14373125479,1119988.1997477121,74665.879983180814,38587.542464138191,0.53609787673391618,11.319391552335546,31.999865201470623,0.45049931004611471,43.769756063852284,65.965068544549609,46.166446180494724,112.13151472504433,150.50962395109579,1.3893029783696264E-5,2.9334315764875055E-4,8.2927968867698928E-4,1.1674734416289709E-5,1.1342975807420296E-3,1.7094913107217197E-3,1.1964080434352636E-3,2.9058993541569832E-3,3.9004718709664855E-3,5928.4493721026811,2878.5430828958447,2352.187436771163,1201.6125484423358,584.92507058246531,589.70953223410675,16244.686124169104,7374.9548823410178,9370.0891195081513,8337.1861261951635,3109.4903573796628,2739.9608001645074,349.23308931829251,136.73139523969132,1000.1490236549936,97.105553285980392,12.233701912189057,716.58948234823924,1213.1270055333002,520.82646336218784,83.715354121811785,16571.856707176397,7294.2379569519044,41614.798546864266,16339.008551645409,7191.7479412408175,30772.557415266936,19871.193645212072,8746.4680330043666,14870.653104838411,5284.9242961274522,2326.2025542217257,2033.7779399365893,40.481825793457169,37.874121271491035,78.355947064948197,49.144215884269457,56.71325431856674,105.8574702028362,9.6986507507299429,10.690912768946459,20.3895635196764,36.961573492656512,40.701360410349302,77.662933903005808,78.156194066695178,125.89752819557111,204.05372226226629,77.674754104524666,135.85015013143138,213.52490423595606,63.822945265104899,66.180008536733212,130.00295380183812,67.257914007466653,99.17848336134459,166.43639736881124,4.7532476469812734E-2,4.4470592490987525E-2,9.2003068960800266E-2,5.7703580294641253E-2,6.6590905266418879E-2,0.12429448556106013,1.1387848239604632E-2,1.2552930844164142E-2,2.3940779083768772E-2,4.3399107819166165E-2,4.7790247057161617E-2,9.1189354876327788E-2,9.176852532292977E-2,0.14782488633530858,0.23959341165823833,9.1203233782220755E-2,0.15951093948896056,0.25071417327118128,7.4938878980553708E-2,7.7706467949197527E-2,0.15264534692975124,7.8972110380587088E-2,0.11645223095265511,0.19542434133324221,5821.8200000000006,2.4E-2]
["Russian Federation",105163.52899999999,105022.052,104883.814,104741.046,104582.152,104399.14,104190.11900000001,103959.26700000001,103712.07,103456.67,103199.59299999999,102942.673,102685.97100000001,102432.253,102184.29399999999,101944.295,101944.295,36934.612000000008,36707.097999999998,36463.707000000009,36202.130000000005,35918.839000000007,35611.669000000009,35280.646999999997,34927.89899999999,34555.99099999998,34168.338999999993,33767.766999999993,33355.520999999993,32932.278000000006,32499.587,32058.986000000004,31611.813000000009,31611.813000000009,0.99179527282714841,0.98269065226509167,1.00086829271127,0.9935728462071266,0.99441653798449881,0.98742803496775466,2030,1,0.93980598449707031,0.94063201924022,0.96191891637098659,0.94947085910241924,0.94748498226190858,0.89952314550981716,2030,1,0.91229784137499403,0.93377503909066373,0.96330724894787523,0.96580578604680856,0.92228327887578598,0.77631785391383656,2030,1,0.61612072193917489,0.94613772258162498,0.90267886524741303,0.44744076768269608,0.4375000602554831,0.25826781837519724,2030,1,0.7949014282226563,0.80896530337369077,0.80999120342719633,0.80762552791603426,0.80289060459216244,0.74503450180419706,2030,1,0.66643333435058594,0.67536054310098481,0.66862441182597299,0.67295906927222238,0.66712954221690612,0.64809310533684339,2030,1,0.99099999999999999,1.0012888182620843,0.99806223988889953,0.99931765263757588,0.98572538343989813,0.97060590577154182,2025,1,0.60499999999999998,0.122,0.13351000000000002,0.20732,2030,1,0,0,0.33800000000000002,0.33800000000000002,2030,1,0.99099999999999999,1.0023049500916683,1.0002862090038704,0.99826746791607268,1.0023049500916683,0.95183642289672032,2030,1,0.97199999999999998,0.98308820533713581,0.98110816866979034,0.97912813200244453,0.98308820533713581,0.93358728865349361,2030,1,0,0,0,0,0,0,0,0,0,0,0,0,0,0,0,0,0,0,0,0,0,0,0,0,0,0,0,0,0,0,0,0,0,0,0,0,0,0,0,0,0,0,0,0,0,0,0,0,0,0,0,0,0,0,0,0,0,0,0,0,0,0,0,0,0,0,0,0,0,0,0,0,0,0,0,0,0,0,0,0,0,0,0,0,0,0,0,0,0,0,0,0,0,0,0,0,0,0,0,0,0,0,0,0,0,0,0,0,0,0,0,0,0,0,0,0,0,0,0,0,0,0,0,0,0,0,0,0,0,0,0,0,0,0,0,0,0,0,0,0,0,0,0,0,0,0,0,0,0,0,0,0,0,0,0,0,0,0,0,0,0,0,0,0,0,0,0,0,0,0,0,0,0,0,0,0,0,0,0,0,0,0,0,0,0,0,0,0,0,0,0,0,0,0,0,0,0,0,0,0,0,0,0,0,0,0,0,0,0,0,0,0,0,0,0,0,0,0,0,0,0,0,0,0,0,0,0,0,0,0,0,0,0,0,0,224.94198478222776,224.94198478222776,224.94198478222776,224.94198478222776,224.94198478222776,224.94198478222776,224.94198478222776,224.94198478222776,224.94198478222776,224.94198478222776,224.94198478222776,224.94198478222776,224.94198478222776,224.94198478222776,224.94198478222776,1124.7099239111387,1124.7099239111387,1124.7099239111387,3374.1297717334164,223.50348784852201,223.50348784852201,223.50348784852201,223.50348784852201,223.50348784852201,223.50348784852201,223.50348784852201,223.50348784852201,223.50348784852201,223.50348784852201,223.50348784852201,223.50348784852201,223.50348784852201,223.50348784852201,223.50348784852201,1117.5174392426102,1117.5174392426102,1117.5174392426102,3352.5523177278315,226.82059165149087,226.82059165149087,226.82059165149087,226.82059165149087,226.82059165149087,226.82059165149087,226.82059165149087,226.82059165149087,226.82059165149087,226.82059165149087,226.82059165149087,226.82059165149087,226.82059165149087,226.82059165149087,226.82059165149087,1134.1029582574542,1134.1029582574542,1134.1029582574542,3402.3088747723618,233.45980826859474,233.45980826859474,233.45980826859474,233.45980826859474,233.45980826859474,233.45980826859474,233.45980826859474,233.45980826859474,233.45980826859474,233.45980826859474,233.45980826859474,233.45980826859474,233.45980826859474,233.45980826859474,233.45980826859474,1167.2990413429736,1167.2990413429736,1167.2990413429736,3501.8971240289211,314.5845008468504,314.5845008468504,314.5845008468504,314.5845008468504,314.5845008468504,314.5845008468504,314.5845008468504,314.5845008468504,314.5845008468504,314.5845008468504,314.5845008468504,314.5845008468504,314.5845008468504,314.5845008468504,314.5845008468504,1572.9225042342521,1572.9225042342521,1572.9225042342521,4718.767512702756,1223.3103733976859,1223.3103733976859,1223.3103733976859,1223.3103733976859,1223.3103733976859,1223.3103733976859,1223.3103733976859,1223.3103733976859,1223.3103733976859,1223.3103733976859,1223.3103733976859,1223.3103733976859,1223.3103733976859,1223.3103733976859,1223.3103733976859,6116.5518669884295,6116.5518669884295,6116.5518669884295,18349.655600965285,88.901778406078066,88.901778406078066,88.901778406078066,88.901778406078066,88.901778406078066,88.901778406078066,88.901778406078066,88.901778406078066,88.901778406078066,88.901778406078066,88.901778406078066,88.901778406078066,88.901778406078066,88.901778406078066,88.901778406078066,444.50889203039031,444.50889203039031,444.50889203039031,1333.5266760911713,92.219063673059765,92.219063673059765,92.219063673059765,92.219063673059765,92.219063673059765,92.219063673059765,92.219063673059765,92.219063673059765,92.219063673059765,92.219063673059765,92.219063673059765,92.219063673059765,92.219063673059765,92.219063673059765,92.219063673059765,461.09531836529879,461.09531836529879,461.09531836529879,1383.2859550958963,90.084411793991364,90.084411793991364,90.084411793991364,90.084411793991364,90.084411793991364,90.084411793991364,90.084411793991364,90.084411793991364,90.084411793991364,90.084411793991364,90.084411793991364,90.084411793991364,90.084411793991364,90.084411793991364,90.084411793991364,450.42205896995682,450.42205896995682,450.42205896995682,1351.2661769098709,92.955229393079449,92.955229393079449,92.955229393079449,92.955229393079449,92.955229393079449,92.955229393079449,92.955229393079449,92.955229393079449,92.955229393079449,92.955229393079449,92.955229393079449,92.955229393079449,92.955229393079449,92.955229393079449,92.955229393079449,464.77614696539723,464.77614696539723,464.77614696539723,1394.3284408961918,102.32994152678087,102.32994152678087,102.32994152678087,102.32994152678087,102.32994152678087,102.32994152678087,102.32994152678087,102.32994152678087,102.32994152678087,102.32994152678087,102.32994152678087,102.32994152678087,102.32994152678087,102.32994152678087,102.32994152678087,511.64970763390437,511.64970763390437,511.64970763390437,1534.9491229017131,466.49042479298953,466.49042479298953,466.49042479298953,466.49042479298953,466.49042479298953,466.49042479298953,466.49042479298953,466.49042479298953,466.49042479298953,466.49042479298953,466.49042479298953,466.49042479298953,466.49042479298953,466.49042479298953,466.49042479298953,2332.4521239649475,2332.4521239649475,2332.4521239649475,6997.3563718948426,0,0,0,0,0,0,0,0,0,0,0,0,0,0,0,0,0,0,0,0,0,0,0,0,0,0,0,0,0,0,0,0,0,0,0,0,0,0,0,0,0,0,0,0,0,0,0,0,0,0,0,0,0,0,0,0,0,0,0,0,0,0,0,0,0,0,0,0,0,0,0,0,0,0,0,0,24.610903165926722,24.610903165926722,24.610903165926722,24.610903165926722,24.610903165926722,24.610903165926722,24.610903165926722,24.610903165926722,24.610903165926722,24.610903165926722,24.610903165926722,24.610903165926722,24.610903165926722,24.610903165926722,24.610903165926722,123.0545158296336,123.0545158296336,123.0545158296336,369.16354748890086,24.610903165926722,24.610903165926722,24.610903165926722,24.610903165926722,24.610903165926722,24.610903165926722,24.610903165926722,24.610903165926722,24.610903165926722,24.610903165926722,24.610903165926722,24.610903165926722,24.610903165926722,24.610903165926722,24.610903165926722,123.0545158296336,123.0545158296336,123.0545158296336,369.16354748890086,0,0,0,0,0,0,0,0,0,0,0,0,0,0,0,0,0,0,0,0,0,0,0,0,0,0,0,0,0,0,0,0,0,0,0,0,0,0,0,0,0,0,0,0,0,0,0,0,0,0,0,0,0,0,0,0,0,0,0,0,0,0,0,0,0,0,0,0,0,0,0,0,0,0,0,0,0,0,0,0,0,0,0,0,0,0,0,0,0,0,0,0,0,0,0,0,0,0,0,0,0,0,0,0,0,0,0,0,0,0,0,0,0,0,49.936221294838226,49.936221294838226,49.936221294838226,49.936221294838226,49.936221294838226,49.936221294838226,49.936221294838226,49.936221294838226,49.936221294838226,49.936221294838226,49.936221294838226,49.936221294838226,49.936221294838226,49.936221294838226,49.936221294838226,249.68110647419113,249.68110647419113,249.68110647419113,749.0433194225734,8.5267358581319659,8.5267358581319659,8.5267358581319659,8.5267358581319659,8.5267358581319659,8.5267358581319659,8.5267358581319659,8.5267358581319659,8.5267358581319659,8.5267358581319659,8.5267358581319659,8.5267358581319659,8.5267358581319659,8.5267358581319659,8.5267358581319659,42.633679290659828,42.633679290659828,42.633679290659828,127.90103787197953,5.0233361426486223,5.0233361426486223,5.0233361426486223,5.0233361426486223,5.0233361426486223,5.0233361426486223,5.0233361426486223,5.0233361426486223,5.0233361426486223,5.0233361426486223,5.0233361426486223,5.0233361426486223,5.0233361426486223,5.0233361426486223,5.0233361426486223,25.116680713243113,25.116680713243113,25.116680713243113,75.350042139729339,66.049742076415953,66.049742076415953,66.049742076415953,66.049742076415953,66.049742076415953,66.049742076415953,66.049742076415953,66.049742076415953,66.049742076415953,66.049742076415953,66.049742076415953,66.049742076415953,66.049742076415953,66.049742076415953,66.049742076415953,330.24871038207976,330.24871038207976,330.24871038207976,990.74613114623889,270.71959808952647,270.71959808952647,270.71959808952647,270.71959808952647,270.71959808952647,270.71959808952647,270.71959808952647,270.71959808952647,270.71959808952647,270.71959808952647,270.71959808952647,270.71959808952647,270.71959808952647,270.71959808952647,270.71959808952647,1353.5979904476324,1353.5979904476324,1353.5979904476324,4060.7939713428987,400.25563346156127,400.25563346156127,400.25563346156127,400.25563346156127,400.25563346156127,400.25563346156127,400.25563346156127,400.25563346156127,400.25563346156127,400.25563346156127,400.25563346156127,400.25563346156127,400.25563346156127,400.25563346156127,400.25563346156127,2001.2781673078061,2001.2781673078061,2001.2781673078061,6003.8345019234202,0,0,0,0,0,0,0,0,0,0,0,0,0,0,0,0,0,0,0,0,0,0,0,0,0,0,0,0,0,0,0,0,0,0,0,0,0,0,201.14349136876655,201.14349136876655,201.14349136876655,201.14349136876655,201.14349136876655,201.14349136876655,201.14349136876655,201.14349136876655,201.14349136876655,201.14349136876655,201.14349136876655,201.14349136876655,201.14349136876655,201.14349136876655,201.14349136876655,1005.7174568438327,1005.7174568438327,1005.7174568438327,3017.1523705314985,206.03890699316159,206.03890699316159,206.03890699316159,206.03890699316159,206.03890699316159,206.03890699316159,206.03890699316159,206.03890699316159,206.03890699316159,206.03890699316159,206.03890699316159,206.03890699316159,206.03890699316159,206.03890699316159,206.03890699316159,1030.1945349658079,1030.1945349658079,1030.1945349658079,3090.5836048974238,294.30388448300835,294.30388448300835,294.30388448300835,294.30388448300835,294.30388448300835,294.30388448300835,294.30388448300835,294.30388448300835,294.30388448300835,294.30388448300835,294.30388448300835,294.30388448300835,294.30388448300835,294.30388448300835,294.30388448300835,1471.5194224150418,1471.5194224150418,1471.5194224150418,4414.5582672451255,701.48628284493645,701.48628284493645,701.48628284493645,701.48628284493645,701.48628284493645,701.48628284493645,701.48628284493645,701.48628284493645,701.48628284493645,701.48628284493645,701.48628284493645,701.48628284493645,701.48628284493645,701.48628284493645,701.48628284493645,3507.4314142246822,3507.4314142246822,3507.4314142246822,10522.294242674048,5342.7861445146673,5342.7861445146673,5342.7861445146673,5342.7861445146673,5342.7861445146673,5342.7861445146673,5342.7861445146673,5342.7861445146673,5342.7861445146673,5342.7861445146673,5342.7861445146673,5342.7861445146673,5342.7861445146673,5342.7861445146673,5342.7861445146673,26713.930722573336,26713.930722573336,26713.930722573336,80141.792167720007,1275.194276266667,1275.194276266667,1275.194276266667,1275.194276266667,1275.194276266667,1275.194276266667,1275.194276266667,1275.194276266667,1275.194276266667,1275.194276266667,1275.194276266667,1275.194276266667,1275.194276266667,1275.194276266667,1275.194276266667,6375.9713813333346,6375.9713813333346,6375.9713813333346,19127.914144000002,{"$error":"#REF!"},{"$error":"#REF!"},{"$error":"#REF!"},359.07454696370991,17.953727348185495,0.05,-20,30.253724174828154,0.3,107.72236408911297,-10,13.95053897563475,13.213943328264525,0,0,57.418206478727434,143.57935152659937,7.1789675763299687,0.05,-10,19.523892037931553,0.3,43.073805457979809,-5,9.9489635202731783,6.9779564841927302,0,0,36.450812042397459,89.831720814533185,4.4915860407266592,0.05,-20,7.5687461744475204,0.3,26.949516244359955,-10,3.4900856467505066,4.8509129239847928,0,0,15.90974474518282,31.205066517569769,1.5602533258784885,0.05,-10,4.2432588199330104,0.3,9.3615199552709303,-5,2.1622751818424564,1.5165662327538909,0,0,7.9221002345293572,555.12459009371662,55.512459009371668,0.1,-20,48.999096654521018,0.3,166.53737702811497,-10,21.567352227888041,70,7,0.1,147.56644888240908,491.812559694931,49.181255969493101,0.1,-20,43.410743423077342,0.3,147.54376790847928,-10,19.107592951789599,52.5,5.25,0.1,120.26833637486695,1,658.59772844362806,131.71954568872562,0.2,-20,63.417102777874881,0.3,197.57931853308841,-10,25.587425668592193,50.84374463584809,0,0,139.84827308231516,1,190.8119840073785,19.081198400737851,0.1,-8,32.475053850269468,0.3,57.243595202213548,-4,16.143371187787029,12.498184952483291,0,0,61.116609990539793,1,190.8119840073785,19.081198400737851,0.1,-8,32.475053850269468,0.3,57.243595202213548,-4,16.143371187787029,15.284039918991018,0,0,63.90246495704752,1,73.149539044433027,19.081198400737851,0.1,-8,14.270106969735322,0.3,21.944861713329907,-4,6.188710668005732,4.9010191159770127,0,0,25.359836753718064,53.759815571773828,9.5405992003689253,0.05,-2,34.043271846969432,0.3,16.127944671532148,-1,16.934341905108738,4.9010191159770127,0,0,55.878632868055185,311.13065102336913,31.113065102336915,0.1,-20,27.462521231683176,0.3,93.339195307010741,-10,12.087852815852175,18.947856647323178,0,0,58.498230694858528,238.96247081843518,23.896247081843519,0.1,-20,21.092463589946448,0.3,71.688741245530551,-10,9.2840199648110371,17.085816663518116,0,0,47.462300218275601,153.18850835897885,15.318850835897885,0.1,-20,13.521466462468036,0.3,45.956552507693651,-10,5.951583799386559,7.3990049537386788,0,0,26.872055215593274,232.80060295451574,23.280060295451577,0.1,-20,20.548574948685562,0.3,69.840180886354716,-10,9.0446229411979786,5.0750531444084439,0,0,34.668251034291984,3.028035533074152,10.942036311355633,0.78324839222058074,-2.5,-10,2.7355315575127577,0.3,0.90841065992224557,-1.25,0.76769010200877996,5.5513984773026124,0,0,9.0546201368241501,2.52336294422846,10.942036311355633,0.8126039268251164,-10,-10,1.7438308073345947,0.3,0.75700888326853799,-5,0.17484997399425622,5.5513984773026124,0,0,7.470079258631463,0.5,0.5,0.5,0.5,0.5,0.5,0.5,0.5,0.5,0.5,0.5,0.5,0.5,0.5,0.5,0.5,0.5,0.5,0.5,0.5,0.5,0.5,0.5,0.5,0.5,0.5,0.5,0.5,0.5,0.5,0.5,0.5,0.5,0.5,0.5,0.5,0.5,0.5,0.5,0.5,0.5,0.5,0.5,0.5,0.5,0.5,0.5,0.5,0.5,0.5,0.5,0.5,0.5,0.5,0.5,0.5,0.5,0.5,0.5,0.5,14932.397377492949,null,null,null,null,24120.29322,{"$error":"#REF!"},{"$error":"#REF!"},37000,31000,185000,155000,2000000,53400,{"$error":"#REF!"},0.15,0.15,0.3,230,851.66666666666652,0.05,0,0,0,0,0,0,0,0,0,0,0,0,0,0,0,0,0,0,0,0,0,0,0,0,0,0,0,0,0,0,0,0,0,0,0,0,0,0,0,0,0,0,0,0,0,0,0,0,0,0,0,0,0,0,0,0,0,0,0,0,0,0,0,0,0,0,0,0,0,0,0,0,0,0,0,0,0,0,0,0,0,0,0,0,0,0,0,0,0,0,0,0,0,0,0,0,0,0,0,0,0,0,0,0,0,0,0,0,0,0,0,0,0,0,0,0,0,0,0,0,0,0,0,0,0,0,0,0,0,0,0,0,0,0,0,0,0,0,0,0,0,0,0,0,0,0,0,0,0,0,0,0,0,0,0,0,0,0,0,0,0,0,0,0,0,0,0,0,0,0,0,0,0,0,0,0,0,0,0,0,0,0,0,0,0,0,0,0,0,0,0,0,0,0,0,0,0,0,0,0,0,0,0,0,0,0,0,0,0,0,0,0,0,0,0,0,0,0,0,0,0,0,0,0,0,0,0,0,0,0,0,0,0,0,0,0,0,0,0,0,0,0,0,0,0,0,0,0,0,0,0,0,0,0,0,0,0,0,0,0,0,0,0,0,0,0,0,0,0,0,0,0,0,0,0,0,0,0,0,0,0,0,0,0,0,0,0,0,0,0,0,0,0,0,0,0,0,0,0,0,0,0,0,0,0,0,0,0,0,0,0,0,0,0,0,0,0,0,0,0,0,0,0,0,0,0,0,0,0,0,0,0,0,0,0,0,0,0,0,0,0,0,0,0,0,0,0,0,0,0,0,0,0,0,0,0,0,0,0,0,0,0,0,0,0,0,0,0,0,0,0,0,0,0,0,0,0,0,0,0,0,0,0,0,0,0,0,0,0,0,null,null,null,null,null,0,0,0,0,0,0,0,0,0,0,0,0,0,0,0,0,null,null,null,null,null,0,0,0,0,0,0,0,0,0,0,0,0,0,0,0,0,null,null,null,null,null,0,0,0,0,0,0,0,0,0,0,0,0,0,0,0,0,null,null,null,null,null,0,0,0,0,0,0,0,0,0,0,0,0,0,0,0,0,null,null,null,null,null,0,0,0,0,0,null,0,0,0,0,0,0,0,0,0,0,0,0,0,0,0,0,0,0,0,112494.66264707575,23606.894521569931,124312.2964635524,129647.55264764668,134192.80190159244,138011.18489405661,141161.62029562492,143699.06369773758,145674.75144637102,147136.43024003765,164106.64872243121,163909.79852901323,163359.5720530581,162490.0705509377,161332.94884708492,159917.57100039953,158271.15669274761,667325.45620247314,764526.69263559068,805371.31914422789,2237223.4679822917,111775.2628096788,23455.929171920026,123517.32322875204,128818.46061697642,133334.64314457914,137128.60769763237,140258.8961636725,142780.112694857,144743.16598233758,146195.49738598813,163057.19185373466,162861.60051112619,162314.89271621793,161450.95164891751,160301.22970204882,158894.90315227659,157259.01761245544,663057.93085161247,759637.56842804363,800220.99483191618,2222916.4941115724,113434.1637642586,23804.047908711625,125350.49275357087,130730.30642179344,135313.5154033518,139163.78768729739,142340.53400451035,144899.16890900172,146891.35664797571,148365.24267732183,165477.18823234164,165278.69404113491,164723.87233926688,163847.10918034057,162680.32375460173,161253.12535539502,159592.96099022933,672898.63627052389,770911.65050777583,812097.39161983365,2255907.6783981328,116754.47070609087,24500.811060942015,129019.5999911112,134556.88502488716,139274.24812802888,143237.22090156324,146506.95307506027,149140.48122998941,151190.98186659181,152708.00969601216,170320.83531863368,170116.53104676781,169545.46927852946,168643.04257428029,167442.10442399929,165973.13080827045,164264.37213003961,692594.90712065075,793476.83915799495,835868.11921511905,2321939.8654937646,157325.35360629205,33014.571009507104,173852.47920690555,181313.90934049428,187670.50377154871,193010.56560522268,197416.49342350927,200965.14338698113,203728.17023959293,205772.34840468384,229505.43547473077,229230.13773563615,228460.63834023144,227244.62837083888,225626.37754061699,223646.9518951989,221344.41853904826,933263.95134768053,1069201.2352416248,1126323.0146859344,3128788.2012752392,611783.91353339609,128382.2536726507,676052.19164389209,705067.11405179801,729785.71234910097,750551.36678577238,767684.49696237734,781483.96991856687,792228.42618286912,800177.52840404364,892467.29960187199,891396.76186367823,888404.44472730393,883675.80232531484,877382.98426835181,869685.68221154052,860731.9259645202,3629140.8817929407,4157753.9859710298,4379880.8394970316,12166775.707261004,13429.676886986315,13429.676886986315,15319.601605951524,16390.025071349268,17323.765119167292,18131.411953652645,18822.857127894124,19407.33606795919,19893.46813135617,20289.294338221101,29692.046842478361,29496.402174804778,29252.061428219204,28964.105963224993,28637.243623177576,28275.832784986767,27883.904966253653,85987.660878014853,118778.5475548196,143013.14876586219,347779.35719869664,13930.79250105235,13930.79250105235,15891.237962553112,17001.603261003689,17970.184930208285,18807.96833780835,19525.214130783908,20131.502346338184,20635.773965103206,21046.370050229973,30799.977317020472,30597.032354737799,30343.574265695144,30044.874016527894,29705.81511928657,29330.918579568151,28924.366347216841,89196.208622357342,123210.65603342964,148349.54832829459,360756.4129840816,13608.327804439186,13608.327804439186,15523.393618592409,16608.056602614884,17554.217911019365,18372.608626327241,19073.251885957226,19665.505972048009,20158.104902805982,20559.196665618641,30087.031133917462,29888.78386458274,29641.192727171237,29349.406677983548,29018.196187387042,28651.977610457354,28254.836094851173,87131.528644511127,120358.62253897284,144915.60929785037,352405.76048133429,14041.999137549334,14041.999137549334,16018.094429868608,17137.323544940838,18113.637201367033,18958.108460707419,19681.079878565575,20292.207967601171,20800.505082446154,21214.378871234239,31045.847168383956,30841.28213842402,30585.800745856232,30284.716034352885,29942.950500031602,29565.061238742368,29155.26358397042,89908.243515449474,124194.22122808955,149533.79210295351,363636.25684649253,15458.161526214357,15458.161526214357,17633.549796833086,18865.655302335057,19940.432052671691,20870.069848775955,21665.954312705504,22338.715834835009,22898.275682946052,23353.889432518543,34176.880054331064,33951.684251029837,33670.437072863126,33338.987394088639,32962.754153943788,32546.754040084626,32095.627510416278,98975.661313321296,136719.44525566051,164614.56017139647,400309.66674037819,70468.957856241541,70468.957856241541,80385.877413798735,86002.663782243733,90902.23721443367,95140.16722727161,98768.357335906345,101835.26818878156,104386.12776465756,106463.12935782249,155801.78251613132,154775.18478357917,153493.06623980493,151982.09008617795,150266.95958382657,148370.54425383927,146313.99850270836,451199.30297365412,623261.49261097214,750426.65866635717,1824887.4542509832,125924.33953406206,37036.57140855625,139631.89806950392,146037.57771899595,151516.56702075974,156142.59684770927,159984.47742351904,163106.39976569678,165568.2195777272,167425.72457825876,193798.69556490958,193406.200703818,192611.6334812773,191454.17651416268,189970.1924702625,188193.4037853863,186155.06165900125,753313.11708048789,883305.24019041029,948384.46791009,2585002.8251809883,125706.05531073114,37386.721672972373,139408.56119130514,145820.06387798011,151304.82807478742,155936.57603544072,159784.11029445642,162911.61504119518,165378.93994744078,167241.8674362181,193857.16917075514,193458.632865864,192658.46698191308,191495.82566544542,190007.04482133538,188225.82173184474,186183.3839596723,752254.13947396982,882848.22446147318,948570.54316021095,2583672.9070956544,127042.49156869779,37412.37571315081,140873.88637216328,147338.36302440832,152867.73331437117,157536.39631362463,161413.78589046758,164564.67488104972,167049.46155078171,168924.43934294046,195564.21936625909,195167.47790571765,194365.06506643811,193196.51585832413,191698.51994198878,189905.10296585236,187847.7970850805,760030.1649150349,891270.2730467486,957013.00091768394,2608313.4388794675,130796.4698436402,38542.810198491352,145037.69442097982,151694.20856982801,157387.88532939591,162195.32936227066,166188.03295362584,169432.68919759057,171991.48694903796,173922.38856724641,201366.68248701762,200957.81318519183,200131.27002438568,198927.75860863319,197385.0549240309,195538.19204701282,193419.63571401004,782503.15063610021,917671.06038608437,985401.91131807258,2685576.1223402573,172783.51513250641,48472.732535721458,191486.02900373863,200179.56464282935,207610.93582422042,213880.63545399864,219082.44773621476,223303.85922181615,226626.44592253899,229126.23783720238,263682.31552906183,263181.82198666601,262131.07541309457,260583.61576492753,258589.13169456078,256193.70593528353,253440.04604946455,1032239.6126610019,1205920.6804972854,1290937.5748573309,3529097.8680156181,682252.87138963758,198851.21152889222,756438.06905769079,791069.77783404174,820687.9495635347,845691.53401304397,866452.8542982837,883319.23810734844,896614.55394752673,906640.65776186611,1048269.0821180033,1046171.9466472574,1041897.5109671089,1035657.8924114928,1027649.9438521784,1018056.2264653798,1007045.9244672286,4080340.1847665948,4781015.4785820022,5130307.4981633881,13991663.161511986,0,null,0,0,0,0,0,0,0,0,0,0,0,0,0,0,0,0,0,0,0,0,null,0,0,0,0,0,0,0,0,0,0,0,0,0,0,0,0,0,0,0,0,null,0,0,0,0,0,0,0,0,0,0,0,0,0,0,0,0,0,0,0,0,null,0,0,0,0,0,0,0,0,0,0,0,0,0,0,0,0,0,0,0,343.81608538430078,null,499.33456250664693,623.66956155142191,735.03085419622596,834.37209275342639,922.58552434101546,1000.5056765194613,1068.9128311563295,1128.5362983300047,1180.0575014391663,1224.112884074598,1261.2966486326441,1292.1633361033596,1317.2302559495793,1336.979774504088,1351.8614698494382,3614.9925953487368,5602.1251915195598,6559.5314850391096,15776.649271907409,343.81608538430078,null,499.33456250664693,623.66956155142191,735.03085419622596,834.37209275342639,922.58552434101546,1000.5056765194613,1068.9128311563295,1128.5362983300047,1180.0575014391663,1224.112884074598,1261.2966486326441,1292.1633361033596,1317.2302559495793,1336.979774504088,1351.8614698494382,3614.9925953487368,5602.1251915195598,6559.5314850391096,15776.649271907409,0,null,0,0,0,0,0,0,0,0,0,0,0,0,0,0,0,0,0,0,0,0,null,0,0,0,0,0,0,0,0,0,0,0,0,0,0,0,0,0,0,0,0,null,0,0,0,0,0,0,0,0,0,0,0,0,0,0,0,0,0,0,0,0,null,0,0,0,0,0,0,0,0,0,0,0,0,0,0,0,0,0,0,0,0,null,0,0,0,0,0,0,0,0,0,0,0,0,0,0,0,0,0,0,0,0,null,0,0,0,0,0,0,0,0,0,0,0,0,0,0,0,0,0,0,0,0,null,0,0,0,0,0,0,0,0,0,0,0,0,0,0,0,0,0,0,0,0,null,0,0,0,0,0,0,0,0,0,0,0,0,0,0,0,0,0,0,0,0,null,0,0,0,0,0,0,0,0,0,0,0,0,0,0,0,0,0,0,0,0,null,0,0,0,0,0,0,0,0,0,0,0,0,0,0,0,0,0,0,0,343.81608538430078,null,499.33456250664693,623.66956155142191,735.03085419622596,834.37209275342639,922.58552434101546,1000.5056765194613,1068.9128311563295,1128.5362983300047,1180.0575014391663,1224.112884074598,1261.2966486326441,1292.1633361033596,1317.2302559495793,1336.979774504088,1351.8614698494382,3614.9925953487368,5602.1251915195598,6559.5314850391096,15776.649271907409,343.81608538430078,null,499.33456250664693,623.66956155142191,735.03085419622596,834.37209275342639,922.58552434101546,1000.5056765194613,1068.9128311563295,1128.5362983300047,1180.0575014391663,1224.112884074598,1261.2966486326441,1292.1633361033596,1317.2302559495793,1336.979774504088,1351.8614698494382,3614.9925953487368,5602.1251915195598,6559.5314850391096,15776.649271907409,30492.906814838814,null,35414.987928136899,38416.256229938073,41051.383360302098,43348.434309928634,45333.631465349703,47031.466455606111,48464.805525100353,49654.988795559737,50621.923760158832,51384.173334035193,51959.038767632723,52362.637712465781,52609.977712966371,52715.025383005523,52690.77151142426,203564.69329365541,247157.3578704602,262337.45108749467,713059.50225161028,5206.7408228911927,null,6047.1985995738496,6559.6727392919101,7009.6273496046824,7401.8545985287274,7740.8320247670254,8030.7416358113633,8275.4879006229803,8478.7146988633976,8643.8212852518391,8773.9773244131211,8872.1370485403313,8941.0525873211573,8983.2865168563258,9001.2236717252799,8997.0822619199716,34759.185311766196,42202.742844962704,44794.782086363062,121756.71024309198,3067.4351587998449,null,3562.5721017313722,3864.4848044408559,4129.5655216275973,4360.6374521334228,4560.3384379615336,4731.1322154973213,4875.3190154946415,4995.0455483368924,5092.314409081936,5168.9929349071863,5226.8215457806382,5267.4215974894832,5292.3027745553536,5302.8700490492129,5300.4302298848052,20477.598317894783,24862.804123317979,26389.846196759492,71730.248637972254,40332.419595562729,null,46842.767787369972,50812.491408740207,54297.9266857002,57336.194676852792,59961.979261397442,62207.675076718195,64103.52689316171,65677.760906051146,66956.708398680916,67964.922205150811,68725.286378354445,69259.119446161931,69586.271617764753,69725.216282216788,69693.136122349693,269251.35982006061,326910.59347976279,346989.02984684764,943150.98314667097,165311.41651176251,null,191995.53049164516,208266.32806812169,222552.16186068975,235005.18080664554,245767.54451996909,254972.02964652114,262742.60112265334,269194.95030480798,274437.00182988076,278569.39096411935,281685.91310183203,283873.94698388025,285214.85311956145,285784.34881378565,285652.86112416198,1103586.7457470712,1339915.9738679826,1422211.9231432215,3865714.6427582754,244410.91890385508,null,283863.05690845725,307919.23325053276,329040.66477792431,347452.30184408912,363364.32570944482,376973.04503015417,388461.74045703304,398001.46025361912,405751.7696830543,411861.45676262566,416469.19684214017,419704.17832731863,421686.69174170424,422528.68419978244,422334.28124974074,1631639.5824904484,1981049.472186486,2102723.032360686,5715412.0870376211,0,null,0,0,0,0,0,0,0,0,0,0,0,0,0,0,0,0,0,0,0,0,null,0,0,0,0,0,0,0,0,0,0,0,0,0,0,0,0,0,0,0,108817.38489165317,null,124276.78947617563,133082.08958161721,140766.98289815924,147418.20816736252,153116.7839032218,157938.35648925466,150417.48237071873,165228.16554126644,167823.69119468055,169797.3568866782,171202.50182979016,172088.79542483549,172502.46581620353,172486.5150015346,172080.92125806725,698660.85402653646,811205.05248259846,860361.19933043106,2370227.1058395659,111465.77446955789,null,127301.42891546994,136321.03177274475,144192.9594623982,151006.06176715781,156843.32902370361,161782.24869171856,154078.33208735104,169249.47658482351,171908.17195230979,173929.87257598824,175369.2158342544,176277.07997818236,176700.81824936825,176684.47922493517,176269.01417051753,715664.81094147428,830948.10189219122,881300.60745725769,2427913.5202909238,159216.58143132459,null,181836.06958905014,194719.57880645304,205963.76045759753,215695.52667074985,224033.4200008864,231088.12274930748,220083.92642791191,241754.23531674399,245551.88880717999,248439.66546787659,250495.60877583749,251792.39270873659,252397.65615647114,252374.31765973035,251780.8715908959,1022248.355524737,1186917.83876902,1258840.8468916714,3468007.0411854284,379499.74079253565,null,433414.28798069572,464122.70016081503,490923.70281815494,514119.79660527024,533993.53292781184,550808.72793028061,524579.74088598159,576231.87744283397,585283.75195417029,592166.89493054303,597067.32643988205,600158.26811175444,601600.94022204296,601545.3118862001,600130.80701948074,2436574.0204927474,2829070.9931438095,3000502.6536793606,8266147.6673159152,30492.906814838814,null,35414.987928136899,38416.256229938073,41051.383360302098,43348.434309928634,45333.631465349703,47031.466455606111,48464.805525100353,49654.988795559737,50621.923760158832,51384.173334035193,51959.038767632723,52362.637712465781,52609.977712966371,52715.025383005523,52690.77151142426,203564.69329365541,247157.3578704602,262337.45108749467,713059.50225161028,5206.7408228911927,null,6047.1985995738496,6559.6727392919101,7009.6273496046824,7401.8545985287274,7740.8320247670254,8030.7416358113633,8275.4879006229803,8478.7146988633976,8643.8212852518391,8773.9773244131211,8872.1370485403313,8941.0525873211573,8983.2865168563258,9001.2236717252799,8997.0822619199716,34759.185311766196,42202.742844962704,44794.782086363062,121756.71024309198,111884.82005045301,null,127839.36157790701,136946.57438605806,144896.54841978685,151778.84561949596,157677.12234118333,162669.48870475197,155292.80138621337,170223.21108960334,172916.00560376249,174966.34982158538,176429.32337557079,177356.21702232497,177794.76859075887,177789.38505058381,177381.35148795205,719138.45234443119,836067.85660591652,886751.04552719044,2441957.3544775378,151798.19406512062,null,174144.19670283992,187133.52318148495,198490.88614809839,208342.25644401059,216805.30828510105,223989.92376843677,218181.85898051274,234927.23749087466,238864.88035099069,241894.79478113906,244094.50221260884,245536.19942434429,246287.08986713301,246409.69550715195,245962.15029286721,984916.17076153494,1157858.695371954,1228289.6373041053,3371064.503437594,324527.99794308713,null,373831.60008069529,402985.90687457472,428515.92231828731,450700.70747739542,469800.96452085546,486060.15239582863,482826.52755056525,510949.18562155194,519988.89063706074,527009.05643199594,532181.5218776695,535666.33969261684,537612.50927603256,538158.66647351603,537433.73271505791,2125835.1012718081,2526833.8126370022,2681052.7700348934,7333721.6839437038,623910.65969639074,null,717277.34488915303,772041.9334113478,819964.36759607925,861572.09844935942,897357.85863725666,927781.77296043478,913041.48134301463,974233.33769645309,991035.52163722459,1004028.3516931687,1013536.5232820222,1019862.4464390731,1023287.6319637472,1024073.9960859825,1022465.0882692215,4068213.6029831963,4810120.4653302953,5103225.6860400466,13981559.754353538,1616466.450263066,null,1769819.2284010602,1752631.8355109871,1883469.1924508377,1926252.0788813669,1960689.4995011643,1987479.2472300022,2007271.5824778599,2020672.1777537446,2028244.8896190515,2030514.3677517124,2027968.5103487934,2021060.7745857176,2010212.3503684483,1995814.2051592041,1978229.0072252897,9292861.8347454164,10074182.26483237,10033284.847687453,29400328.947265238,270716.10799652408,null,288231.07024146419,280202.26769599842,277515.20872828615,274448.68084662349,271044.91705181252,267342.98862783011,263379.01049127511,259186.33415314966,254795.72900711047,250235.55261839664,245531.91064990699,240708.80702622046,235788.28490263582,230790.55897443509,225734.13963145393,1391442.1445641848,1294939.614897762,1178553.7011846523,3864935.4606465991,1887182.5582595901,null,2058050.2986425245,2032834.1032069856,2160984.4011791237,2200700.7597279903,2231734.4165529767,2254822.2358578322,2270650.5929691349,2279858.5119068944,2283040.6186261619,2280749.9203701089,2273500.4209987004,2261769.5816119378,2246000.635271084,2226604.7641336392,2203963.1468567438,10684303.9793096,11369121.879730133,11211838.548872106,33265264.407911841,0,0,0,0,0,0,0,0,0,0,0,0,0,0,0,0,0,0,0,0,0,0,0,0,0,0,0,0,0,0,0,0,0,0,0,0,0,0,0,0,0,0,0,0,0,0,0,0,0,0,0,0,0,0,0,0,0,0,0,0,0,0,0,0,0,0,0,0,0,0,0,0,0,0,0,0,0,0,0,0,0,0,0,0,0,0,0,0,0,0,667325.45620247314,764526.69263559068,805371.31914422789,2237223.4679822917,149148.23119881944,663057.93085161247,759637.56842804363,800220.99483191618,2222916.4941115724,148194.43294077148,672898.63627052389,770911.65050777583,812097.39161983365,2255907.6783981328,150393.84522654218,692594.90712065075,793476.83915799495,835868.11921511905,2321939.8654937646,154795.99103291763,933263.95134768053,1069201.2352416248,1126323.0146859344,3128788.2012752392,208585.88008501596,3629140.8817929407,4157753.9859710298,4379880.8394970316,12166775.707261004,811118.3804840669,85987.660878014853,118778.5475548196,143013.14876586219,347779.35719869664,23185.29047991311,89196.208622357342,123210.65603342964,148349.54832829459,360756.4129840816,24050.427532272108,87131.528644511127,120358.62253897284,144915.60929785037,352405.76048133429,23493.717365422286,89908.243515449474,124194.22122808955,149533.79210295351,363636.25684649253,24242.417123099502,98975.661313321296,136719.44525566051,164614.56017139647,400309.66674037819,26687.311116025212,451199.30297365412,623261.49261097214,750426.65866635717,1824887.4542509832,121659.16361673221,753313.11708048801,883305.24019041029,948384.46791009011,2585002.8251809883,172333.52167873256,752254.13947396982,882848.22446147329,948570.54316021083,2583672.9070956539,172244.86047304358,760030.16491503501,891270.27304674871,957013.00091768405,2608313.4388794671,173887.56259196447,782503.15063610021,917671.06038608449,985401.91131807258,2685576.1223402573,179038.40815601713,1032239.6126610019,1205920.6804972852,1290937.5748573309,3529097.8680156176,235273.19120104116,4080340.1847665948,4781015.4785820022,5130307.498163389,13991663.161511987,932777.54410079913,0,0,0,0,0,0,0,0,0,0,0,0,0,0,0,0,0,0,0,0,3614.9925953487368,5602.1251915195598,6559.5314850391096,15776.649271907409,1051.7766181271606,3614.9925953487368,5602.1251915195598,6559.5314850391096,15776.649271907409,1051.7766181271606,0,0,0,0,0,0,0,0,0,0,0,0,0,0,0,0,0,0,0,0,0,0,0,0,0,0,0,0,0,0,0,0,0,0,0,0,0,0,0,0,0,0,0,0,0,0,0,0,0,0,3614.9925953487368,5602.1251915195598,6559.5314850391096,15776.649271907409,1051.7766181271606,3614.9925953487368,5602.1251915195598,6559.5314850391096,15776.649271907409,1051.7766181271606,667325.45620247314,764526.69263559068,805371.31914422789,2237223.4679822917,149148.23119881944,663057.93085161247,759637.56842804363,800220.99483191618,2222916.4941115724,148194.43294077148,672898.63627052389,770911.65050777583,812097.39161983365,2255907.6783981328,150393.84522654218,692594.90712065075,793476.83915799495,835868.11921511905,2321939.8654937646,154795.99103291763,936878.94394302927,1074803.3604331443,1132882.5461709735,3144564.8505471465,209637.65670314312,3632755.8743882892,4163356.1111625494,4386440.3709820705,12182552.356532911,812170.15710219403,85987.660878014853,118778.5475548196,143013.14876586219,347779.35719869664,23185.29047991311,89196.208622357342,123210.65603342964,148349.54832829459,360756.4129840816,24050.427532272108,87131.528644511127,120358.62253897284,144915.60929785037,352405.76048133429,23493.717365422286,89908.243515449474,124194.22122808955,149533.79210295351,363636.25684649253,24242.417123099502,98975.661313321296,136719.44525566051,164614.56017139647,400309.66674037819,26687.311116025212,451199.30297365412,623261.49261097214,750426.65866635717,1824887.4542509832,121659.16361673221,753313.11708048801,883305.24019041029,948384.46791009011,2585002.8251809883,172333.52167873256,752254.13947396982,882848.22446147329,948570.54316021083,2583672.9070956539,172244.86047304358,760030.16491503501,891270.27304674871,957013.00091768405,2608313.4388794671,173887.56259196447,782503.15063610021,917671.06038608449,985401.91131807258,2685576.1223402573,179038.40815601713,1035854.6052563506,1211522.8056888047,1297497.1063423699,3544874.5172875249,236324.96781916832,4083955.1773619433,4786617.6037735213,5136867.0296484279,14007439.810783895,933829.32071892626,null,null,null,null,null,null,null,null,null,null,null,null,null,null,null,null,null,null,null,null,null,null,null,null,null,null,null,null,null,null,null,null,null,null,null,null,null,null,null,null,null,null,null,null,null,null,null,null,null,null,null,null,null,null,null,null,null,null,null,null,null,null,null,null,null,null,null,null,null,null,null,null,null,null,null,null,null,null,null,null,null,null,null,null,null,null,null,null,null,null,null,null,null,null,null,null,null,null,null,null,null,null,null,null,null,null,null,null,null,null,null,null,null,null,null,null,null,null,null,null,null,null,null,null,null,null,null,null,null,null,null,null,null,null,null,null,null,null,null,null,null,null,null,null,null,null,null,null,null,null,null,null,null,null,null,null,null,null,null,null,null,null,null,null,null,null,null,null,null,null,null,null,null,null,null,null,null,null,null,null,null,null,null,null,null,null,null,null,null,null,null,null,null,null,null,null,null,null,null,null,null,null,null,null,null,null,null,null,null,null,null,null,null,null,null,null,null,null,null,null,null,null,null,null,null,null,null,null,null,null,null,null,null,null,null,null,null,null,null,null,null,null,null,null,null,null,null,null,null,null,null,null,null,null,null,null,null,null,null,null,null,null,null,null,null,null,null,null,null,null,null,null,null,null,null,null,null,null,null,null,null,null,null,null,null,null,null,null,null,null,null,null,null,null,null,null,null,null,null,null,null,null,null,null,null,null,null,null,null,null,null,null,null,null,null,null,null,null,null,null,null,null,null,null,null,null,null,null,null,null,null,null,null,null,null,null,null,null,null,null,null,null,null,null,null,null,null,null,null,null,null,null,null,null,null,null,null,null,null,null,null,null,null,null,null,null,null,null,null,null,null,null,null,null,null,null,null,null,null,null,null,null,null,null,null,null,null,null,null,null,null,null,null,null,null,null,null,null,null,null,null,null,null,null,null,null,null,null,null,null,null,null,null,null,null,null,null,null,null,null,null,null,null,null,null,null,null,null,null,null,null,null,null,null,null,null,null,null,null,null,null,null,null,null,null,null,null,null,null,null,null,null,null,null,null,null,null,null,null,null,null,null,null,null,null,null,null,null,null,null,null,null,null,null,null,null,null,null,null,null,null,null,null,null,null,null,null,null,null,null,null,null,null,null,null,null,null,null,null,null,null,null,null,null,null,null,null,null,null,null,null,null,null,null,null,null,null,null,null,null,null,null,null,null,null,null,null,null,null,null,null,null,null,null,null,null,null,null,null,null,null,null,null,null,null,null,null,null,null,null,null,null,null,null,null,null,null,null,null,null,null,null,null,null,null,null,null,null,null,null,null,null,null,null,null,null,null,null,null,null,null,null,null,null,null,null,null,null,null,null,null,null,null,null,null,null,null,null,null,null,null,null,null,null,null,null,null,null,null,null,null,null,null,null,null,null,null,null,null,null,null,null,null,null,null,null,null,null,null,null,null,null,null,null,null,null,null,null,null,null,null,null,null,null,null,null,null,null,null,null,null,null,null,null,null,null,null,null,null,null,null,null,null,null,null,null,null,null,null,null,null,null,null,null,null,null,null,null,null,null,null,null,null,null,null,null,null,null,null,null,null,null,null,null,null,null,null,null,null,null,null,null,null,null,null,null,null,null,null,null,null,null,null,null,null,null,null,null,null,null,null,null,null,null,null,null,null,null,null,null,null,null,null,null,null,null,null,null,null,null,null,null,null,null,null,null,null,null,null,null,null,null,null,null,null,null,null,null,null,null,null,null,null,null,null,null,null,null,null,null,null,null,null,null,null,null,null,null,null,null,null,null,null,null,null,null,null,null,null,null,null,null,null,null,null,null,null,null,null,null,null,null,null,null,null,null,null,null,null,null,null,null,null,null,null,null,null,null,null,null,null,null,null,null,null,null,null,null,null,null,null,null,null,null,null,null,null,null,null,null,null,null,null,null,null,null,null,null,null,null,null,null,null,null,null,null,null,null,null,null,null,null,null,null,null,null,null,null,null,null,null,null,null,null,null,null,null,null,null,null,null,null,null,null,null,null,null,null,null,null,null,null,null,null,null,null,null,null,null,null,null,null,null,null,null,null,null,null,null,null,null,null,null,null,null,null,null,null,null,null,null,null,null,null,null,null,null,null,null,null,null,null,null,null,null,null,null,null,null,null,null,null,null,null,null,null,null,null,null,null,null,null,null,null,null,null,null,null,null,null,null,null,null,null,null,null,null,null,null,null,null,null,null,null,null,null,null,null,null,null,null,null,null,null,null,null,null,null,null,null,null,null,null,null,null,null,null,null,null,null,null,null,null,null,null,null,null,null,null,null,null,null,null,null,null,null,null,null,null,null,null,null,null,null,null,null,null,null,null,null,null,null,null,null,null,null,null,null,null,null,null,null,null,null,null,null,null,null,null,null,null,null,null,null,null,null,null,null,null,null,null,null,null,null,null,null,null,null,null,null,null,null,null,null,null,null,null,null,null,null,null,null,null,null,null,null,null,null,null,null,null,null,null,null,null,null,null,null,null,null,null,null,null,null,null,null,null,null,null,null,null,null,null,null,null,null,null,null,null,null,null,null,null,null,null,null,null,null,null,null,null,null,null,null,null,null,null,null,null,null,null,null,null,null,null,null,null,null,null,null,null,null,null,null,null,null,null,null,null,null,null,null,null,null,null,null,null,null,null,null,null,null,null,null,null,null,null,null,null,null,null,null,null,null,null,null,null,null,null,null,null,null,null,null,null,null,null,null,null,null,null,null,null,null,null,null,null,null,null,null,null,null,null,null,null,null,null,null,null,null,null,null,null,null,null,null,null,null,null,null,null,null,null,null,null,null,null,null,null,null,null,null,null,null,null,null,null,null,null,null,null,null,null,null,null,null,null,null,null,null,null,null,null,null,null,null,null,null,null,null,null,null,null,null,null,null,null,null,null,null,null,null,null,null,null,null,null,null,null,null,null,null,null,null,null,null,null,null,null,null,null,null,null,null,null,null,null,null,null,null,null,null,null,null,null,null,null,null,null,null,null,null,null,null,null,null,null,null,null,null,null,null,null,null,null,null,null,null,null,null,null,null,null,null,null,null,null,null,null,null,null,null,null,null,null,null,null,null,null,null,null,null,null,null,null,null,null,null,null,null,null,null,null,null,null,null,null,null,null,null,null,null,null,null,null,null,null,null,null,null,null,null,null,null,null,null,null,null,null,null,null,null,null,null,null,null,null,null,null,null,null,null,null,null,null,null,null,null,null,null,null,null,null,null,null,null,null,null,null,null,null,null,null,null,null,null,null,null,null,null,null,null,null,null,null,null,null,null,null,null,null,null,null,null,null,null,null,null,null,null,null,null,null,null,null,null,null,null,null,null,null,null,null,null,null,null,null,null,null,null,null,null,null,null,null,null,null,null,null,null,null,null,null,null,null,null,null,null,null,null,null,null,null,null,null,null,null,null,null,null,null,null,null,null,null,null,null,null,null,null,null,null,null,null,null,null,null,null,null,null,null,null,null,null,null,null,null,null,null,null,null,null,null,null,null,null,null,null,null,null,null,null,null,null,null,null,null,null,null,null,null,null,null,null,null,null,null,null,null,null,null,null,null,null,null,null,null,null,null,null,null,null,null,null,null,null,null,null,null,null,null,null,null,null,null,null,null,null,null,null,null,null,null,null,null,null,null,null,null,null,null,null,null,null,null,null,null,null,null,null,null,null,null,null,null,null,null,null,null,null,null,null,null,null,null,null,null,null,null,null,null,null,null,null,null,null,null,null,null,null,null,null,null,null,null,null,null,null,null,null,null,null,null,null,null,null,null,null,null,null,null,null,null,null,null,null,null,null,null,null,null,null,null,null,null,null,null,null,null,null,null,null,null,null,null,null,null,null,null,null,null,null,null,null,null,null,null,null,null,null,null,null,null,null,null,null,null,null,null,null,null,null,null,null,null,null,null,null,null,null,null,null,null,null,null,null,null,null,null,null,null,null,null,null,null,null,null,null,null,null,null,null,null,null,null,null,null,null,null,null,null,null,null,null,null,null,null,null,null,null,null,null,null,null,null,null,null,null,null,null,null,null,null,null,null,null,null,null,null,null,null,null,null,null,null,null,null,null,null,null,null,null,null,null,null,null,null,null,null,null,null,null,null,null,null,null,null,null,null,null,null,null,null,null,null,null,null,null,null,null,null,null,null,null,null,null,null,null,null,null,null,null,null,null,null,null,null,null,null,null,null,null,null,null,null,null,null,null,null,null,null,null,null,null,null,null,null,null,null,null,null,null,null,null,null,null,null,null,null,null,null,null,null,null,null,null,null,null,null,null,null,null,null,null,null,null,null,null,null,null,null,null,null,null,null,null,null,null,null,null,null,null,null,null,null,null,null,null,null,null,null,null,null,null,null,null,null,null,null,null,null,null,null,null,null,null,null,null,null,null,null,null,null,null,null,null,null,null,null,null,null,null,null,null,null,null,null,null,null,null,null,null,null,null,null,null,null,null,null,null,null,null,null,null,null,null,null,null,null,null,null,null,null,null,null,null,null,null,null,null,null,null,null,null,null,null,null,null,null,null,null,null,null,null,null,null,null,null,null,null,null,null,null,null,null,null,null,null,null,null,null,null,null,null,null,null,null,null,null,null,null,null,null,null,null,null,null,null,null,null,null,null,null,null,null,null,null,null,null,null,null,null,null,null,null,null,null,null,null,null,null,null,null,null,null,null,null,null,null,null,null,null,null,null,null,null,null,null,null,null,null,null,null,null,null,null,null,null,null,null,null,null,null,null,null,null,null,null,null,null,null,null,null,null,null,null,null,null,null,null,null,null,null,null,null,null,null,null,null,null,null,null,null,null,null,null,null,null,null,null,null,null,null,null,null,null,null,null,null,null,null,null,null,null,null,null,null,null,null,null,null,null,null,null,null,null,null,null,null,null,null,null,null,null,null,null,null,null,null,null,null,null,null,null,null,null,null,null,null,null,null,null,null,null,null,null,null,null,null,null,null,null,null,null,null,null,null,null,null,null,null,null,null,null,null,null,null,null,null,null,null,null,null,null,null,null,null,null,null,null,null,null,null,null,null,null,null,null,null,null,null,null,null,null,null,null,null,null,null,null,null,null,null,null,null,null,null,null,null,null,null,null,null,null,null,null,null,null,null,null,null,null,null,null,null,null,null,null,null,null,null,null,null,null,null,null,null,null,null,null,null,null,null,null,null,null,null,null,null,null,null,null,null,null,null,null,null,null,null,null,null,null,null,null,null,null,null,null,null,null,null,null,null,null,null,null,null,null,null,null,null,null,null,null,null,null,null,null,null,null,null,null,null,null,null,null,null,null,null,null,0,0,0,0,0,0,0,0,0,0,0,0,0,0,0,0,0,0,0,0,0,0,0,0,0,0,0,0,0,0,203564.69329365541,247157.3578704602,262337.45108749467,713059.50225161028,47537.300150107352,34759.185311766196,42202.742844962704,44794.782086363062,121756.71024309196,8117.1140162061311,20477.598317894783,24862.804123317979,26389.846196759492,71730.248637972254,4782.0165758648172,269251.35982006061,326910.59347976279,346989.02984684764,943150.98314667109,62876.732209778071,1103586.7457470712,1339915.9738679826,1422211.9231432215,3865714.6427582754,257714.30951721835,1631639.5824904484,1981049.472186486,2102723.032360686,5715412.0870376201,381027.47246917465,0,0,0,0,0,0,0,0,0,0,698660.85402653646,811205.05248259846,860361.19933043106,2370227.1058395659,158015.1403893044,715664.81094147428,830948.10189219122,881300.60745725769,2427913.5202909233,161860.90135272822,1022248.355524737,1186917.83876902,1258840.8468916714,3468007.0411854284,231200.46941236188,2436574.0204927474,2829070.9931438095,3000502.6536793606,8266147.667315918,551076.51115439448,203564.69329365541,247157.3578704602,262337.45108749467,713059.50225161028,47537.300150107352,34759.185311766196,42202.742844962704,44794.782086363062,121756.71024309196,8117.1140162061311,719138.45234443119,836067.8566059164,886751.04552719055,2441957.3544775383,162797.15696516921,984916.17076153494,1157858.695371954,1228289.6373041053,3371064.5034375945,224737.63356250629,2125835.1012718081,2526833.8126370027,2681052.770034893,7333721.6839437038,488914.77892958024,4068213.6029831958,4810120.4653302953,5103225.6860400466,13981559.754353538,932103.98362356913,9292861.8347454164,10074182.26483237,10033284.847687453,29400328.947265238,1960021.9298176826,1391442.1445641848,1294939.614897762,1178553.7011846523,3864935.4606465991,257662.36404310662,10684303.979309602,11369121.879730131,11211838.548872106,33265264.407911837,2217684.2938607894,{"$error":"#REF!"},{"$error":"#REF!"},{"$error":"#REF!"},{"$error":"#REF!"},{"$error":"#REF!"},{"$error":"#REF!"},{"$error":"#REF!"},{"$error":"#REF!"},{"$error":"#REF!"},{"$error":"#REF!"},{"$error":"#REF!"},{"$error":"#REF!"},{"$error":"#REF!"},{"$error":"#REF!"},{"$error":"#REF!"},{"$error":"#REF!"},{"$error":"#REF!"},{"$error":"#REF!"},{"$error":"#REF!"},{"$error":"#REF!"},{"$error":"#REF!"},{"$error":"#REF!"},{"$error":"#REF!"},{"$error":"#REF!"},{"$error":"#REF!"},{"$error":"#REF!"},{"$error":"#REF!"},{"$error":"#REF!"},{"$error":"#REF!"},{"$error":"#REF!"},{"$error":"#REF!"},{"$error":"#REF!"},{"$error":"#REF!"},{"$error":"#REF!"},{"$error":"#REF!"},{"$error":"#REF!"},{"$error":"#REF!"},{"$error":"#REF!"},{"$error":"#REF!"},{"$error":"#REF!"},{"$error":"#REF!"},{"$error":"#REF!"},{"$error":"#REF!"},{"$error":"#REF!"},{"$error":"#REF!"},{"$error":"#REF!"},{"$error":"#REF!"},{"$error":"#REF!"},{"$error":"#REF!"},{"$error":"#REF!"},{"$error":"#REF!"},{"$error":"#REF!"},{"$error":"#REF!"},{"$error":"#REF!"},{"$error":"#REF!"},{"$error":"#REF!"},{"$error":"#REF!"},{"$error":"#REF!"},{"$error":"#REF!"},{"$error":"#REF!"},{"$error":"#REF!"},{"$error":"#REF!"},{"$error":"#REF!"},{"$error":"#REF!"},{"$error":"#REF!"},{"$error":"#REF!"},{"$error":"#REF!"},{"$error":"#REF!"},{"$error":"#REF!"},{"$error":"#REF!"},{"$error":"#REF!"},{"$error":"#REF!"},{"$error":"#REF!"},{"$error":"#REF!"},{"$error":"#REF!"},{"$error":"#REF!"},{"$error":"#REF!"},{"$error":"#REF!"},{"$error":"#REF!"},{"$error":"#REF!"},{"$error":"#REF!"},{"$error":"#REF!"},{"$error":"#REF!"},{"$error":"#REF!"},{"$error":"#REF!"},{"$error":"#REF!"},{"$error":"#REF!"},{"$error":"#REF!"},{"$error":"#REF!"},{"$error":"#REF!"},{"$error":"#REF!"},{"$error":"#REF!"},{"$error":"#REF!"},{"$error":"#REF!"},{"$error":"#REF!"},{"$error":"#REF!"},{"$error":"#REF!"},{"$error":"#REF!"},{"$error":"#REF!"},null,null,null,null,null,null,{"$error":"#REF!"},{"$error":"#REF!"},{"$error":"#REF!"},{"$error":"#REF!"},{"$error":"#REF!"},{"$error":"#REF!"},{"$error":"#REF!"},{"$error":"#REF!"},{"$error":"#REF!"},{"$error":"#REF!"},{"$error":"#REF!"},{"$error":"#REF!"},{"$error":"#REF!"},{"$error":"#REF!"},{"$error":"#REF!"},{"$error":"#REF!"},{"$error":"#REF!"},{"$error":"#REF!"},{"$error":"#REF!"},{"$error":"#REF!"},{"$error":"#REF!"},{"$error":"#REF!"},{"$error":"#REF!"},{"$error":"#REF!"},{"$error":"#REF!"},{"$error":"#REF!"},{"$error":"#REF!"},{"$error":"#REF!"},{"$error":"#REF!"},{"$error":"#REF!"},{"$error":"#REF!"},{"$error":"#REF!"},{"$error":"#REF!"},{"$error":"#REF!"},{"$error":"#REF!"},{"$error":"#REF!"},{"$error":"#REF!"},{"$error":"#REF!"},{"$error":"#REF!"},{"$error":"#REF!"},{"$error":"#REF!"},{"$error":"#REF!"},{"$error":"#REF!"},{"$error":"#REF!"},{"$error":"#REF!"},{"$error":"#REF!"},{"$error":"#REF!"},{"$error":"#REF!"},{"$error":"#REF!"},{"$error":"#REF!"},{"$error":"#REF!"},{"$error":"#REF!"},{"$error":"#REF!"},{"$error":"#REF!"},{"$error":"#REF!"},{"$error":"#REF!"},{"$error":"#REF!"},{"$error":"#REF!"},{"$error":"#REF!"},{"$error":"#REF!"},{"$error":"#REF!"},{"$error":"#REF!"},{"$error":"#REF!"},{"$error":"#REF!"},{"$error":"#REF!"},{"$error":"#REF!"},{"$error":"#REF!"},{"$error":"#REF!"},1973813.01165872,{"$error":"#REF!"},{"$error":"#REF!"},{"$error":"#REF!"},{"$error":"#REF!"},{"$error":"#REF!"},{"$error":"#REF!"},{"$error":"#REF!"},{"$error":"#REF!"},{"$error":"#REF!"},{"$error":"#REF!"},{"$error":"#REF!"},{"$error":"#REF!"},{"$error":"#REF!"},{"$error":"#REF!"},{"$error":"#REF!"},{"$error":"#REF!"},{"$error":"#REF!"},{"$error":"#REF!"},{"$error":"#REF!"},{"$error":"#REF!"},{"$error":"#REF!"},{"$error":"#REF!"},{"$error":"#REF!"},{"$error":"#REF!"},{"$error":"#REF!"},{"$error":"#REF!"},{"$error":"#REF!"},0,0,0,0,0,0,{"$error":"#REF!"},{"$error":"#REF!"},{"$error":"#REF!"},{"$error":"#REF!"},{"$error":"#REF!"},{"$error":"#REF!"},{"$error":"#REF!"},{"$error":"#REF!"},{"$error":"#REF!"},{"$error":"#REF!"},{"$error":"#REF!"},{"$error":"#REF!"},{"$error":"#REF!"},{"$error":"#REF!"},{"$error":"#REF!"},{"$error":"#REF!"},{"$error":"#REF!"},{"$error":"#REF!"},{"$error":"#REF!"},{"$error":"#REF!"},{"$error":"#REF!"},{"$error":"#REF!"},{"$error":"#REF!"},{"$error":"#REF!"},{"$error":"#REF!"},{"$error":"#REF!"},{"$error":"#REF!"},{"$error":"#REF!"},{"$error":"#REF!"},{"$error":"#REF!"},{"$error":"#REF!"},{"$error":"#REF!"},{"$error":"#REF!"},{"$error":"#REF!"},{"$error":"#REF!"},{"$error":"#REF!"},{"$error":"#REF!"},{"$error":"#REF!"},{"$error":"#REF!"},{"$error":"#REF!"},{"$error":"#REF!"},{"$error":"#REF!"},{"$error":"#REF!"},{"$error":"#REF!"},{"$error":"#REF!"},{"$error":"#REF!"},{"$error":"#REF!"},{"$error":"#REF!"},{"$error":"#REF!"},{"$error":"#REF!"},{"$error":"#REF!"},{"$error":"#REF!"},{"$error":"#REF!"},{"$error":"#REF!"},{"$error":"#REF!"},{"$error":"#REF!"},{"$error":"#REF!"},{"$error":"#REF!"},{"$error":"#REF!"},{"$error":"#REF!"},{"$error":"#REF!"},{"$error":"#REF!"},{"$error":"#REF!"},{"$error":"#REF!"},{"$error":"#REF!"},{"$error":"#REF!"},{"$error":"#REF!"},{"$error":"#REF!"},{"$error":"#REF!"},{"$error":"#REF!"},{"$error":"#REF!"},{"$error":"#REF!"},{"$error":"#REF!"},{"$error":"#REF!"},{"$error":"#REF!"},{"$error":"#REF!"},{"$error":"#REF!"},{"$error":"#REF!"},{"$error":"#REF!"},{"$error":"#REF!"},{"$error":"#REF!"},{"$error":"#REF!"},{"$error":"#REF!"},{"$error":"#REF!"},{"$error":"#REF!"},{"$error":"#REF!"},{"$error":"#REF!"},{"$error":"#REF!"},{"$error":"#REF!"},{"$error":"#REF!"},{"$error":"#REF!"},{"$error":"#REF!"},{"$error":"#REF!"},{"$error":"#REF!"},{"$error":"#REF!"},{"$error":"#REF!"},{"$error":"#REF!"},{"$error":"#REF!"},{"$error":"#REF!"},0,0,0,0,0,0,0,0,0,0,0,0,0,0,0,0,0,0,0,0,0,22799.813350359607,28741.850792791251,31042.876743727033,82584.54088687789,5505.6360591251923,746856.84403630672,941501.03972355206,1016876.0857098137,2705233.9694696725,180348.93129797818,769656.65738666628,970242.89051634329,1047918.9624535406,2787818.5103565501,185854.56735710334,0,0,0,0,0,0,0,0,0,0,417656.37600847497,484934.80129456124,514320.12900067936,1416911.3063037156,94460.753753581041,434660.33292341296,504677.85070415377,535259.5371275061,1474597.7207550728,98306.514717004859,741243.87750667566,860647.58758098271,912799.77656191983,2514691.2416495783,167646.08277663856,1593560.5864385637,1850260.2395796981,1962379.4426901052,5406200.2687083669,360413.35124722443,0,0,0,0,0,0,0,0,0,0,417656.37600847497,484934.80129456124,514320.12900067936,1416911.3063037156,94460.753753581041,457460.14627377258,533419.701496945,566302.41387123312,1557182.2616419508,103812.15077613006,1488100.7215429824,1802148.6273045349,1929675.8622717336,5219925.2111192513,347995.01407461677,2363217.2438252298,2820503.1300960416,3010298.4051436456,8194018.779064917,546267.91860432783,2121865.9080150235,0,0,682.25287138963756,0.34381608538430075,682.59668747502189,623.91065969639078,1887.18255825959,2511.0932179559809,3193.6899054310024,0,0,3.2153439518139759E-4,1.6203478461366864E-7,3.2169642996601126E-4,2.9403868422583343E-4,8.8939765285405022E-4,1.1834363370798837E-3,1.5051327670458949E-3,0,0,0,0,0,0,399408.0415382401,181327.99017927301,230382.3487665538,65142.533135646896,30211.685494270805,26304.944986814513,317.75691159475195,89.174199144669302,644.8455073877393,0,0,0,0,0,0,126519.28736472107,55688.496738124159,198819.68836632938,198910.55080069494,87552.10205627291,264613.8582974266,895596.3345686011,394204.03477712441,670221.56047195697,141186.05808328607,62144.195551579316,54332.110408241228,88.412571126991253,83.813954583217964,172.22652571020922,152.7737901737776,177.54522061156578,330.31901078534338,32.721438452432281,33.10527083823311,65.826709290665391,67.499536956966622,73.487496097883508,140.98703305485014,180.38404817931752,265.81966389252199,446.2037120718395,230.36472268817747,343.01420120425109,573.37892389242859,147.23631257085091,164.39574422769721,311.63205679854809,158.58719701970654,206.96981805024305,365.55701506994956,0.10381123811388407,9.841168835602894E-2,0.20222292646991302,0.17938214110423986,0.20846796940692658,0.38785011051116647,3.8420475678002684E-2,3.887115949694691E-2,7.7291635174949594E-2,7.9255816387827749E-2,8.6286688177554041E-2,0.16554250456538178,0.21180123073892471,0.31211702218300041,0.52391825292192507,0.27048695423269375,0.40275640063121465,0.67324335486390841,0.1728802104550109,0.19302827110884216,0.36590848156385303,0.18620805912294314,0.24301739888482554,0.42922545800776868,11288.880000000001,2.3E-2]
["TFYR Macedonia",1204.4559999999999,1206.761,1209.367,1212.277,1215.4949999999999,1219.0229999999999,1222.8499999999999,1226.9559999999999,1231.306,1235.8630000000001,1240.5920000000001,1245.472,1250.4839999999999,1255.604,1260.8030000000001,1266.028,1266.028,904.7950000000003,902.83100000000013,900.14200000000005,896.73700000000008,892.62899999999991,887.8280000000002,882.3420000000001,876.1690000000001,869.30600000000004,861.74799999999982,853.49800000000005,844.56999999999994,834.99200000000019,824.79099999999994,814.00600000000009,802.702,802.702,0.97732421874999997,0.98681728426168303,0.98630155538330155,0.97827299396808387,0.97530700973301065,0.95992225040392021,2030,1,0.98758583068847661,1,1,0.97927476708649985,0.95589397478724314,0.90707526509436387,2030,1,0.90588479922375487,0.96334029361605644,0.88776710323927976,0.87815363190057871,0.88681354029272863,0.84744061862867381,2030,1,0.6756023272127355,0.76472435384988791,0.63927962144860995,0.63721583134837545,0.63490339183847433,0.64095605402233879,2030,1,1,1,1,1,1,1,2030,1,0.82568767123287745,1,1.3084715484286935,1.2918334000278942,1.2627001110260636,1.2338976967542612,2030,1,0.98380000000000056,1,1,0.98,0.97,0.96,2025,1,0.53600000000000003,7.0999999999999994E-2,0.156832,0.19488800000000001,2030,1,0,0,0.33800000000000002,0.33800000000000002,2030,1,0.99099999999999999,1.0023049500916683,1.0002862090038704,0.99826746791607268,1.0023049500916683,0.95183642289672032,2030,1,0.97199999999999998,0.98308820533713581,0.98110816866979034,0.97912813200244453,0.98308820533713581,0.93358728865349361,2030,1,1.032666680897474,1.032666680897474,1.032666680897474,1.032666680897474,1.032666680897474,1.032666680897474,1.032666680897474,1.032666680897474,1.032666680897474,1.032666680897474,1.032666680897474,1.032666680897474,1.032666680897474,1.032666680897474,1.032666680897474,5.1633334044873704,5.1633334044873704,5.1633334044873704,15.490000213462112,1.0409489841233361,1.0409489841233361,1.0409489841233361,1.0409489841233361,1.0409489841233361,1.0409489841233361,1.0409489841233361,1.0409489841233361,1.0409489841233361,1.0409489841233361,1.0409489841233361,1.0409489841233361,1.0409489841233361,1.0409489841233361,1.0409489841233361,5.2047449206166805,5.2047449206166805,5.2047449206166805,15.614234761850041,1.1698829703623688,1.1698829703623688,1.1698829703623688,1.1698829703623688,1.1698829703623688,1.1698829703623688,1.1698829703623688,1.1698829703623688,1.1698829703623688,1.1698829703623688,1.1698829703623688,1.1698829703623688,1.1698829703623688,1.1698829703623688,1.1698829703623688,5.8494148518118436,5.8494148518118436,5.8494148518118436,17.548244555435534,1.2175149371335616,1.2175149371335616,1.2175149371335616,1.2175149371335616,1.2175149371335616,1.2175149371335616,1.2175149371335616,1.2175149371335616,1.2175149371335616,1.2175149371335616,1.2175149371335616,1.2175149371335616,1.2175149371335616,1.2175149371335616,1.2175149371335616,6.0875746856678079,6.0875746856678079,6.0875746856678079,18.262724057003425,1.4645851462332795,1.4645851462332795,1.4645851462332795,1.4645851462332795,1.4645851462332795,1.4645851462332795,1.4645851462332795,1.4645851462332795,1.4645851462332795,1.4645851462332795,1.4645851462332795,1.4645851462332795,1.4645851462332795,1.4645851462332795,1.4645851462332795,7.3229257311663973,7.3229257311663973,7.3229257311663973,21.968777193499193,5.9255987187500194,5.9255987187500194,5.9255987187500194,5.9255987187500194,5.9255987187500194,5.9255987187500194,5.9255987187500194,5.9255987187500194,5.9255987187500194,5.9255987187500194,5.9255987187500194,5.9255987187500194,5.9255987187500194,5.9255987187500194,5.9255987187500194,29.627993593750098,29.627993593750098,29.627993593750098,88.883980781250301,0,0,0,0,0,0,0,0,0,0,0,0,0,0,0,0,0,0,0,0,0,0,0,0,0,0,0,0,0,0,0,0,0,0,0,0,0,0,0,0,0,0,0,0,0,0,0,0,0,0,0,0,0,0,0,0,0,0,0,0,0,0,0,0,0,0,0,0,0,0,0,0,0,0,0,0,0,0,0,0,0,0,0,0,0,0,0,0,0,0,0,0,0,0,0,0,0,0,0,0,0,0,0,0,0,0,0,0,0,0,0,0,0,0,0,0,0,0,0,0,0,0.82096000000000235,0.82096000000000235,0.82096000000000235,0.82096000000000235,0.82096000000000235,0.82096000000000235,0.82096000000000235,0.82096000000000235,0.82096000000000235,0.82096000000000235,0.82096000000000235,0.82096000000000235,0.82096000000000235,0.82096000000000235,0.82096000000000235,4.1048000000000116,4.1048000000000116,4.1048000000000116,12.314400000000038,0.82096000000000235,0.82096000000000235,0.82096000000000235,0.82096000000000235,0.82096000000000235,0.82096000000000235,0.82096000000000235,0.82096000000000235,0.82096000000000235,0.82096000000000235,0.82096000000000235,0.82096000000000235,0.82096000000000235,0.82096000000000235,0.82096000000000235,4.1048000000000116,4.1048000000000116,4.1048000000000116,12.314400000000038,0.82096000000000235,0.82096000000000235,0.82096000000000235,0.82096000000000235,0.82096000000000235,0.82096000000000235,0.82096000000000235,0.82096000000000235,0.82096000000000235,0.82096000000000235,0.82096000000000235,0.82096000000000235,0.82096000000000235,0.82096000000000235,0.82096000000000235,4.1048000000000116,4.1048000000000116,4.1048000000000116,12.314400000000038,0.82096000000000235,0.82096000000000235,0.82096000000000235,0.82096000000000235,0.82096000000000235,0.82096000000000235,0.82096000000000235,0.82096000000000235,0.82096000000000235,0.82096000000000235,0.82096000000000235,0.82096000000000235,0.82096000000000235,0.82096000000000235,0.82096000000000235,4.1048000000000116,4.1048000000000116,4.1048000000000116,12.314400000000038,0.82096000000000235,0.82096000000000235,0.82096000000000235,0.82096000000000235,0.82096000000000235,0.82096000000000235,0.82096000000000235,0.82096000000000235,0.82096000000000235,0.82096000000000235,0.82096000000000235,0.82096000000000235,0.82096000000000235,0.82096000000000235,0.82096000000000235,4.1048000000000116,4.1048000000000116,4.1048000000000116,12.314400000000038,4.1048000000000116,4.1048000000000116,4.1048000000000116,4.1048000000000116,4.1048000000000116,4.1048000000000116,4.1048000000000116,4.1048000000000116,4.1048000000000116,4.1048000000000116,4.1048000000000116,4.1048000000000116,4.1048000000000116,4.1048000000000116,4.1048000000000116,20.524000000000058,20.524000000000058,20.524000000000058,61.572000000000187,0,0,0,0,0,0,0,0,0,0,0,0,0,0,0,0,0,0,0,0,0,0,0,0,0,0,0,0,0,0,0,0,0,0,0,0,0,0,0,0,0,0,0,0,0,0,0,0,0,0,0,0,0,0,0,0,0,0,0,0,0,0,0,0,0,0,0,0,0,0,0,0,0,0,0,0,0,0,0,0,0,0,0,0,0,0,0,0,0,0,0,0,0,0,0,0,0,0,0,0,0,0,0,0,0,0,0,0,0,0,0,0,0,0,0.78394385376519538,0.78394385376519538,0.78394385376519538,0.78394385376519538,0.78394385376519538,0.78394385376519538,0.78394385376519538,0.78394385376519538,0.78394385376519538,0.78394385376519538,0.78394385376519538,0.78394385376519538,0.78394385376519538,0.78394385376519538,0.78394385376519538,3.9197192688259768,3.9197192688259768,3.9197192688259768,11.759157806477933,0.81636365130712529,0.81636365130712529,0.81636365130712529,0.81636365130712529,0.81636365130712529,0.81636365130712529,0.81636365130712529,0.81636365130712529,0.81636365130712529,0.81636365130712529,0.81636365130712529,0.81636365130712529,0.81636365130712529,0.81636365130712529,0.81636365130712529,4.0818182565356267,4.0818182565356267,4.0818182565356267,12.245454769606877,0.84878344884904966,0.84878344884904966,0.84878344884904966,0.84878344884904966,0.84878344884904966,0.84878344884904966,0.84878344884904966,0.84878344884904966,0.84878344884904966,0.84878344884904966,0.84878344884904966,0.84878344884904966,0.84878344884904966,0.84878344884904966,0.84878344884904966,4.2439172442452486,4.2439172442452486,4.2439172442452486,12.731751732735745,0.78394385376519538,0.78394385376519538,0.78394385376519538,0.78394385376519538,0.78394385376519538,0.78394385376519538,0.78394385376519538,0.78394385376519538,0.78394385376519538,0.78394385376519538,0.78394385376519538,0.78394385376519538,0.78394385376519538,0.78394385376519538,0.78394385376519538,3.9197192688259768,3.9197192688259768,3.9197192688259768,11.759157806477933,1.59443879231344,1.59443879231344,1.59443879231344,1.59443879231344,1.59443879231344,1.59443879231344,1.59443879231344,1.59443879231344,1.59443879231344,1.59443879231344,1.59443879231344,1.59443879231344,1.59443879231344,1.59443879231344,1.59443879231344,7.9721939615671999,7.9721939615671999,7.9721939615671999,23.9165818847016,4.8274736000000056,4.8274736000000056,4.8274736000000056,4.8274736000000056,4.8274736000000056,4.8274736000000056,4.8274736000000056,4.8274736000000056,4.8274736000000056,4.8274736000000056,4.8274736000000056,4.8274736000000056,4.8274736000000056,4.8274736000000056,4.8274736000000056,24.137368000000027,24.137368000000027,24.137368000000027,72.412104000000085,0,0,0,0,0,0,0,0,0,0,0,0,0,0,0,0,0,0,0,0,0,0,0,0,0,0,0,0,0,0,0,0,0,0,0,0,0,0,0,0,0,0,0,0,0,0,0,0,0,0,0,0,0,0,0,0,0,0,0,0,0,0,0,0,0,0,0,0,0,0,0,0,0,0,0,0,0,0,0,0,0,0,0,0,0,0,0,0,0,0,0,0,0,0,0,0,0,0,0,0,0,0,0,0,0,0,0,0,0,0,0,0,0,0,1.409693377498392,1.409693377498392,1.409693377498392,1.409693377498392,1.409693377498392,1.409693377498392,1.409693377498392,1.409693377498392,1.409693377498392,1.409693377498392,1.409693377498392,1.409693377498392,1.409693377498392,1.409693377498392,1.409693377498392,7.0484668874919603,7.0484668874919603,7.0484668874919603,21.145400662475883,2.6233544786777352,2.6233544786777352,2.6233544786777352,2.6233544786777352,2.6233544786777352,2.6233544786777352,2.6233544786777352,2.6233544786777352,2.6233544786777352,2.6233544786777352,2.6233544786777352,2.6233544786777352,2.6233544786777352,2.6233544786777352,2.6233544786777352,13.116772393388676,13.116772393388676,13.116772393388676,39.35031718016603,2.7777411884740899,2.7777411884740899,2.7777411884740899,2.7777411884740899,2.7777411884740899,2.7777411884740899,2.7777411884740899,2.7777411884740899,2.7777411884740899,2.7777411884740899,2.7777411884740899,2.7777411884740899,2.7777411884740899,2.7777411884740899,2.7777411884740899,13.88870594237045,13.88870594237045,13.88870594237045,41.666117827111336,2.638668140175751,2.638668140175751,2.638668140175751,2.638668140175751,2.638668140175751,2.638668140175751,2.638668140175751,2.638668140175751,2.638668140175751,2.638668140175751,2.638668140175751,2.638668140175751,2.638668140175751,2.638668140175751,2.638668140175751,13.193340700878755,13.193340700878755,13.193340700878755,39.580022102636278,3.2709741633197629,3.2709741633197629,3.2709741633197629,3.2709741633197629,3.2709741633197629,3.2709741633197629,3.2709741633197629,3.2709741633197629,3.2709741633197629,3.2709741633197629,3.2709741633197629,3.2709741633197629,3.2709741633197629,3.2709741633197629,3.2709741633197629,16.354870816598815,16.354870816598815,16.354870816598815,49.064612449796449,12.720431348145731,12.720431348145731,12.720431348145731,12.720431348145731,12.720431348145731,12.720431348145731,12.720431348145731,12.720431348145731,12.720431348145731,12.720431348145731,12.720431348145731,12.720431348145731,12.720431348145731,12.720431348145731,12.720431348145731,63.60215674072866,63.60215674072866,63.60215674072866,190.80647022218596,1.4771097101118718,1.4771097101118718,1.4771097101118718,1.4771097101118718,1.4771097101118718,1.4771097101118718,1.4771097101118718,1.4771097101118718,1.4771097101118718,1.4771097101118718,1.4771097101118718,1.4771097101118718,1.4771097101118718,1.4771097101118718,1.4771097101118718,7.385548550559359,7.385548550559359,7.385548550559359,22.156645651678076,2.9904665988187302,2.9904665988187302,2.9904665988187302,2.9904665988187302,2.9904665988187302,2.9904665988187302,2.9904665988187302,2.9904665988187302,2.9904665988187302,2.9904665988187302,2.9904665988187302,2.9904665988187302,2.9904665988187302,2.9904665988187302,2.9904665988187302,14.952332994093652,14.952332994093652,14.952332994093652,44.856998982280949,3.0153640250019529,3.0153640250019529,3.0153640250019529,3.0153640250019529,3.0153640250019529,3.0153640250019529,3.0153640250019529,3.0153640250019529,3.0153640250019529,3.0153640250019529,3.0153640250019529,3.0153640250019529,3.0153640250019529,3.0153640250019529,3.0153640250019529,15.076820125009764,15.076820125009764,15.076820125009764,45.230460375029288,3.043261141086766,3.043261141086766,3.043261141086766,3.043261141086766,3.043261141086766,3.043261141086766,3.043261141086766,3.043261141086766,3.043261141086766,3.043261141086766,3.043261141086766,3.043261141086766,3.043261141086766,3.043261141086766,3.043261141086766,15.216305705433831,15.216305705433831,15.216305705433831,45.64891711630149,2.9702422280114376,2.9702422280114376,2.9702422280114376,2.9702422280114376,2.9702422280114376,2.9702422280114376,2.9702422280114376,2.9702422280114376,2.9702422280114376,2.9702422280114376,2.9702422280114376,2.9702422280114376,2.9702422280114376,2.9702422280114376,2.9702422280114376,14.851211140057188,14.851211140057188,14.851211140057188,44.55363342017155,13.49644370303076,13.49644370303076,13.49644370303076,13.49644370303076,13.49644370303076,13.49644370303076,13.49644370303076,13.49644370303076,13.49644370303076,13.49644370303076,13.49644370303076,13.49644370303076,13.49644370303076,13.49644370303076,13.49644370303076,67.482218515153789,67.482218515153789,67.482218515153789,202.44665554546134,68.752931938133329,68.752931938133329,68.752931938133329,68.752931938133329,68.752931938133329,68.752931938133329,68.752931938133329,68.752931938133329,68.752931938133329,68.752931938133329,68.752931938133329,68.752931938133329,68.752931938133329,68.752931938133329,68.752931938133329,343.76465969066663,343.76465969066663,343.76465969066663,1031.293979072,33.125419333333326,33.125419333333326,33.125419333333326,33.125419333333326,33.125419333333326,33.125419333333326,33.125419333333326,33.125419333333326,33.125419333333326,33.125419333333326,33.125419333333326,33.125419333333326,33.125419333333326,33.125419333333326,33.125419333333326,165.62709666666663,165.62709666666663,165.62709666666663,496.88128999999992,{"$error":"#REF!"},{"$error":"#REF!"},{"$error":"#REF!"},175.69982464867141,8.7849912324335708,0.05,-20,14.803538923698202,0.3,52.709947394601421,-10,6.8261793337894376,6.4657535470711078,0,0,28.095471804558748,70.255235576313439,3.5127617788156722,0.05,-10,9.5532931435289292,0.3,21.076570672894032,-5,4.8681566564078746,3.4144044490088334,0,0,17.835854248945637,43.955824016111748,2.1977912008055873,0.05,-20,3.703485493209107,0.3,13.186747204833525,-10,1.7077440919388895,2.3736144968700343,0,0,7.7848440820180311,15.269043048716151,0.76345215243580755,0.05,-10,2.0762814766609083,0.3,4.5807129146148453,-5,1.0580292407367144,0.74207549216760493,0,0,3.8763862095652275,271.62964894721171,27.162964894721171,0.1,-20,23.97589236814586,0.3,81.488894684163512,-10,10.553184670477458,97.8,9.7800000000000011,0.1,142.10907703862333,271.62964894721171,27.162964894721171,0.1,-20,23.97589236814586,0.3,81.488894684163512,-10,10.553184670477458,73.349999999999994,7.335,0.1,115.2140770386233,1,322.2603951743024,64.452079034860489,0.2,-20,31.030809429456724,0.3,96.678118552290712,-10,12.520258651574441,24.878502507456147,0,0,68.429570588487309,1,24.941225986670148,2.494122598667015,0.1,-8,4.2448468906310026,0.3,7.4823677960010437,-4,2.1101162543633869,1.6336503021268947,0,0,7.988613447121284,1,24.941225986670148,2.494122598667015,0.1,-8,4.2448468906310026,0.3,7.4823677960010437,-4,2.1101162543633869,1.9977922015322787,0,0,8.3527553465266688,1,19.878897939870765,2.494122598667015,0.1,-8,3.4615943140519252,0.3,5.9636693819612292,-4,1.6818253314480462,1.3318861619713414,0,0,6.4753058074713126,26.305373769809982,1.2470612993335075,0.05,-2,14.817833982307645,0.3,7.8916121309429945,-1,8.2861927374901345,1.3318861619713414,0,0,24.43591288176912,152.24025565130839,15.224025565130839,0.1,-20,13.437767186836574,0.3,45.672076695392512,-10,5.9147428802265472,9.2714315691646814,0,0,28.623941636227805,116.92743073948827,11.692743073948828,0.1,-20,10.3208155117066,0.3,35.078229221846478,-10,4.54279116591609,8.3603112978734124,0,0,23.223917975496104,74.957120420970185,7.4957120420970185,0.1,-20,6.616228598037134,0.3,22.487136126291055,-10,2.9121870062256892,3.6204289163328598,0,0,13.148844520595684,113.91234901800846,11.391234901800846,0.1,-20,10.054683757991404,0.3,34.173704705402535,-10,4.4256511028681826,2.4832892085925846,0,0,16.96362406945217,1.4816569893071374,5.3540800300692997,0.78324839222058085,-2.5,-10,1.3385310071127763,0.3,0.44449709679214122,-1.25,0.37564070594258897,2.7476987610267081,0,0,4.4618704740820734,1.2347141577559479,5.3540800300692997,0.8126039268251164,-10,-10,0.85327899082918002,0.3,0.37041424732678435,-5,8.5556356000138375E-2,2.7163711470630858,0,0,3.655206493892404,0.5,0.5,0.5,0.5,0.5,0.5,0.5,0.5,0.5,0.5,0.5,0.5,0.5,0.5,0.5,0.5,0.5,0.5,0.5,0.5,0.5,0.5,0.5,0.5,0.5,0.5,0.5,0.5,0.5,0.5,0.5,0.5,0.5,0.5,0.5,0.5,0.5,0.5,0.5,0.5,0.5,0.5,0.5,0.5,0.5,0.5,0.5,0.5,0.5,0.5,0.5,0.5,0.5,0.5,0.5,0.5,0.5,0.5,0.5,0.5,5148.1541605604889,null,null,null,null,11802.37175,{"$error":"#REF!"},{"$error":"#REF!"},37000,31000,185000,155000,2000000,53400,{"$error":"#REF!"},0.15,0.15,0.3,230,851.66666666666652,0.05,133.34453773854855,38.08887649258741,144.4841682869743,148.213141748,151.25934637988726,153.67935206327732,155.52588929976886,148.11989457120842,157.69169391445175,158.09929308812448,158.11049575565508,157.76212970408267,180.47168026172415,178.39090199519066,176.09906025231408,173.62097463462032,170.97957957404864,753.16189777790771,779.78350703352237,879.5621967178979,2412.5076015293284,134.41400179262575,38.394360953817298,145.64297559162094,149.4018565624915,152.4724926889898,154.91190755953474,156.7732545905063,158.10605630886931,158.95642962187696,159.36729786582515,159.37859038218221,159.02743032812472,181.9191184402363,179.82165169438224,177.51142867842762,175.01346805470811,172.35088819633512,759.20248699314334,794.83580450687839,886.61655506408943,2440.6548465641113,151.06278412662181,43.149961931750902,163.68260068098735,167.9070640336694,171.35803518341811,174.09960077234336,176.19149790340407,177.68938306104778,178.64508528326192,179.10684447510405,179.11953570472261,178.72488027647466,204.45197785153982,202.09471475382657,199.49834297641365,196.69098004230565,193.69860781172636,853.23879857382235,893.28572880061097,996.434623435812,2742.9591508102458,157.21332883593948,44.906819331149379,170.34696318063487,174.74342621460022,178.3349041904994,181.18809304802591,183.36516209556007,184.92403387995483,185.91864766652623,186.39920745555571,186.41241541055854,186.00169152527641,212.77627187243041,210.32303244171146,207.62094898427543,204.69928383244161,201.58507670190662,887.97854872932055,929.65599593787169,1037.0046138327657,2854.6391584999578,189.11661711937288,54.019756596848971,204.91545883427332,210.20409576111783,214.52439207625775,217.9565783211097,220.57543981684594,222.45065332813309,223.64710401109622,224.22518375979035,224.24107200404868,223.74699995348004,255.95494375529771,253.00386864254065,249.75345160456934,246.23889317646706,242.4927202412803,1068.1759648096047,1118.3110130565483,1247.4438774201551,3433.9308552863081,765.15126961310852,218.55977530615397,829.07216657449067,850.46958431987889,867.94917051905236,881.83553176429109,892.43124370608518,891.29002114921332,904.85896049721305,907.19782664439981,907.26210925716703,905.26313178743862,1035.5739921812285,1023.6341695276516,1010.483232496,996.26359974054287,981.10687252529692,4321.7576968837984,4515.8720493354322,5047.0618664707199,13884.691612689952,0,0,0,0,0,0,0,0,0,0,0,0,0,0,0,0,0,0,0,0,0,0,0,0,0,0,0,0,0,0,0,0,0,0,0,0,0,0,0,0,0,0,0,0,0,0,0,0,0,0,0,0,0,0,0,0,0,0,0,0,0,0,0,0,0,0,0,0,0,0,0,0,0,0,0,0,0,0,0,0,0,0,0,0,0,0,0,0,0,0,0,0,0,0,0,0,0,0,0,0,0,0,0,0,0,0,0,0,0,0,0,0,0,0,0,0,0,0,0,0,0,0,0,0,0,0,133.34453773854855,38.08887649258741,144.4841682869743,148.213141748,151.25934637988726,153.67935206327732,155.52588929976886,148.11989457120842,157.69169391445175,158.09929308812448,158.11049575565508,157.76212970408267,180.47168026172415,178.39090199519066,176.09906025231408,173.62097463462032,170.97957957404864,753.16189777790771,779.78350703352237,879.5621967178979,2412.5076015293284,134.41400179262575,38.394360953817298,145.64297559162094,149.4018565624915,152.4724926889898,154.91190755953474,156.7732545905063,158.10605630886931,158.95642962187696,159.36729786582515,159.37859038218221,159.02743032812472,181.9191184402363,179.82165169438224,177.51142867842762,175.01346805470811,172.35088819633512,759.20248699314334,794.83580450687839,886.61655506408943,2440.6548465641113,151.06278412662181,43.149961931750902,163.68260068098735,167.9070640336694,171.35803518341811,174.09960077234336,176.19149790340407,177.68938306104778,178.64508528326192,179.10684447510405,179.11953570472261,178.72488027647466,204.45197785153982,202.09471475382657,199.49834297641365,196.69098004230565,193.69860781172636,853.23879857382235,893.28572880061097,996.434623435812,2742.9591508102458,157.21332883593948,44.906819331149379,170.34696318063487,174.74342621460022,178.3349041904994,181.18809304802591,183.36516209556007,184.92403387995483,185.91864766652623,186.39920745555571,186.41241541055854,186.00169152527641,212.77627187243041,210.32303244171146,207.62094898427543,204.69928383244161,201.58507670190662,887.97854872932055,929.65599593787169,1037.0046138327657,2854.6391584999578,189.11661711937288,54.019756596848971,204.91545883427332,210.20409576111783,214.52439207625775,217.9565783211097,220.57543981684594,222.45065332813309,223.64710401109622,224.22518375979035,224.24107200404868,223.74699995348004,255.95494375529771,253.00386864254065,249.75345160456934,246.23889317646706,242.4927202412803,1068.1759648096047,1118.3110130565483,1247.4438774201551,3433.9308552863081,765.15126961310852,218.55977530615397,829.07216657449067,850.46958431987889,867.94917051905236,881.83553176429109,892.43124370608518,891.29002114921332,904.85896049721305,907.19782664439981,907.26210925716703,905.26313178743862,1035.5739921812285,1023.6341695276516,1010.483232496,996.26359974054287,981.10687252529692,4321.7576968837984,4515.8720493354322,5047.0618664707199,13884.691612689952,0,0,0,0,0,0,0,0,0,0,0,0,null,null,null,null,null,0,0,0,0,0,0,0,0,0,0,0,0,0,0,0,0,null,null,null,null,null,0,0,0,0,0,0,0,0,0,0,0,0,0,0,0,0,null,null,null,null,null,0,0,0,0,0,0,0,0,0,0,0,0,0,0,0,0,null,null,null,null,null,0,0,0,0,0,0,0,0,0,0,0,0,0,0,0,0,null,null,null,null,null,0,0,0,0,0,null,0,0,0,0,0,0,0,0,0,0,0,0,0,0,0,0,0,0,0,169.99939830068689,11.261661887309231,186.88758307735395,194.07215986097239,200.14870986910481,205.20646790398885,209.32868274763879,212.5929849125194,215.07173294208795,216.83233947017254,225.55991422884398,225.70524041800559,225.3252522893132,224.46965023995654,223.18459248489393,221.5129197082274,219.4943663513684,995.6436034590588,1095.7622119716295,1113.9867810737594,3205.3925965044473,169.99939830068689,11.261661887309231,186.88758307735395,194.07215986097239,200.14870986910481,205.20646790398885,209.32868274763879,212.5929849125194,215.07173294208795,216.83233947017254,225.55991422884398,225.70524041800559,225.3252522893132,224.46965023995654,223.18459248489393,221.5129197082274,219.4943663513684,995.6436034590588,1095.7622119716295,1113.9867810737594,3205.3925965044473,169.99939830068689,11.261661887309231,186.88758307735395,194.07215986097239,200.14870986910481,205.20646790398885,209.32868274763879,212.5929849125194,215.07173294208795,216.83233947017254,225.55991422884398,225.70524041800559,225.3252522893132,224.46965023995654,223.18459248489393,221.5129197082274,219.4943663513684,995.6436034590588,1095.7622119716295,1113.9867810737594,3205.3925965044473,169.99939830068689,11.261661887309231,186.88758307735395,194.07215986097239,200.14870986910481,205.20646790398885,209.32868274763879,212.5929849125194,215.07173294208795,216.83233947017254,225.55991422884398,225.70524041800559,225.3252522893132,224.46965023995654,223.18459248489393,221.5129197082274,219.4943663513684,995.6436034590588,1095.7622119716295,1113.9867810737594,3205.3925965044473,169.99939830068689,11.261661887309231,186.88758307735395,194.07215986097239,200.14870986910481,205.20646790398885,209.32868274763879,212.5929849125194,215.07173294208795,216.83233947017254,225.55991422884398,225.70524041800559,225.3252522893132,224.46965023995654,223.18459248489393,221.5129197082274,219.4943663513684,995.6436034590588,1095.7622119716295,1113.9867810737594,3205.3925965044473,849.9969915034344,56.308309436546153,934.43791538676976,970.36079930486198,1000.743549345524,1026.0323395199443,1046.6434137381939,1062.9649245625969,1075.3586647104398,1084.1616973508626,1127.79957114422,1128.5262020900279,1126.6262614465659,1122.3482511997827,1115.9229624244697,1107.564598541137,1097.471831756842,4978.218017295294,5478.8110598581479,5569.9339053687982,16026.96298252224,0,0,0,0,0,0,0,0,0,0,0,0,0,0,0,0,0,0,0,0,0,0,0,0,0,0,0,0,0,0,0,0,0,0,0,0,0,0,0,0,0,0,0,0,0,0,0,0,0,0,0,0,0,0,0,0,0,0,0,0,0,0,0,0,0,0,0,0,0,0,0,0,0,0,0,0,0,0,0,0,0,0,0,0,0,0,0,0,0,0,0,0,0,0,0,0,0,0,0,0,0,0,0,0,0,0,0,0,0,0,0,0,0,0,0,0,0,0,0,0,0,0,0,0,0,0,169.99939830068689,11.261661887309231,186.88758307735395,194.07215986097239,200.14870986910481,205.20646790398885,209.32868274763879,212.5929849125194,215.07173294208795,216.83233947017254,225.55991422884398,225.70524041800559,225.3252522893132,224.46965023995654,223.18459248489393,221.5129197082274,219.4943663513684,995.6436034590588,1095.7622119716295,1113.9867810737594,3205.3925965044473,169.99939830068689,11.261661887309231,186.88758307735395,194.07215986097239,200.14870986910481,205.20646790398885,209.32868274763879,212.5929849125194,215.07173294208795,216.83233947017254,225.55991422884398,225.70524041800559,225.3252522893132,224.46965023995654,223.18459248489393,221.5129197082274,219.4943663513684,995.6436034590588,1095.7622119716295,1113.9867810737594,3205.3925965044473,169.99939830068689,11.261661887309231,186.88758307735395,194.07215986097239,200.14870986910481,205.20646790398885,209.32868274763879,212.5929849125194,215.07173294208795,216.83233947017254,225.55991422884398,225.70524041800559,225.3252522893132,224.46965023995654,223.18459248489393,221.5129197082274,219.4943663513684,995.6436034590588,1095.7622119716295,1113.9867810737594,3205.3925965044473,169.99939830068689,11.261661887309231,186.88758307735395,194.07215986097239,200.14870986910481,205.20646790398885,209.32868274763879,212.5929849125194,215.07173294208795,216.83233947017254,225.55991422884398,225.70524041800559,225.3252522893132,224.46965023995654,223.18459248489393,221.5129197082274,219.4943663513684,995.6436034590588,1095.7622119716295,1113.9867810737594,3205.3925965044473,169.99939830068689,11.261661887309231,186.88758307735395,194.07215986097239,200.14870986910481,205.20646790398885,209.32868274763879,212.5929849125194,215.07173294208795,216.83233947017254,225.55991422884398,225.70524041800559,225.3252522893132,224.46965023995654,223.18459248489393,221.5129197082274,219.4943663513684,995.6436034590588,1095.7622119716295,1113.9867810737594,3205.3925965044473,849.9969915034344,56.308309436546153,934.43791538676976,970.36079930486198,1000.743549345524,1026.0323395199443,1046.6434137381939,1062.9649245625969,1075.3586647104398,1084.1616973508626,1127.79957114422,1128.5262020900279,1126.6262614465659,1122.3482511997827,1115.9229624244697,1107.564598541137,1097.471831756842,4978.218017295294,5478.8110598581479,5569.9339053687982,16026.96298252224,5.3588340222953743,null,7.8073568006482148,9.7675043609533869,11.523267444311927,13.089666459956151,14.480754758817229,15.709676674430861,16.788722229013683,17.729378690701008,18.54237915778544,19.237748336189032,19.824845667312047,20.312405954799331,20.708577630627257,21.02095879321352,21.25663114296702,56.668549824686906,88.007905088120012,103.12341918891919,247.79987410172609,5.5804472325134338,null,8.1302280440401393,10.171437005301758,11.99980922185356,13.630986268109497,15.079602667733681,16.359346334812908,17.483015542288822,18.462572611332082,19.30919450476966,20.033320497672744,20.644697088746582,21.152420307206416,21.56497556134866,21.890275167007495,22.135693686500762,59.012063207038636,91.647449490876227,107.38806181080992,258.04757450872478,5.802060442731455,null,8.453099287432007,10.575369649650057,12.476350999395112,14.172306076262746,15.678450576650032,17.009015995194844,18.177308855563851,19.195766531963024,20.076009851753749,20.82889265915632,21.464548510180979,21.992434659613359,22.421373492069918,22.759591540801321,23.014756230034347,61.355576589389955,95.286993893631788,111.65270443269993,268.29527491572168,5.3588340222953743,null,7.8073568006482148,9.7675043609533869,11.523267444311927,13.089666459956151,14.480754758817229,15.709676674430861,16.788722229013683,17.729378690701008,18.54237915778544,19.237748336189032,19.824845667312047,20.312405954799331,20.708577630627257,21.02095879321352,21.25663114296702,56.668549824686906,88.007905088120012,103.12341918891919,247.79987410172609,10.899164277746841,null,15.879137885446267,19.86582046966257,23.436811882852727,26.622661663789703,29.451952481728487,31.951418183981961,34.146055060892195,36.059226706477673,37.712762832390865,39.127052373281757,40.321131203175348,41.3127647649764,42.118525898662213,42.753868138062806,43.233194731310384,115.25638438347974,178.99651515702442,209.73948473618717,503.99238427669133,32.999339997582481,null,48.077178818214847,60.147635846521155,70.959506992725252,80.60528692807425,89.171515243746654,96.739133862851432,103.38382391677223,109.17632323117479,114.18272550448515,118.46476220248888,122.08006813672699,125.08243164139483,127.52203021333531,129.44565243229866,130.89690693377955,348.9611238292822,541.94676871777256,635.02708935753526,1525.9349819045899,0,null,0,0,0,0,0,0,0,0,0,0,0,0,0,0,0,0,0,0,0,0,null,0,0,0,0,0,0,0,0,0,0,0,0,0,0,0,0,0,0,0,0,null,0,0,0,0,0,0,0,0,0,0,0,0,0,0,0,0,0,0,0,0,null,0,0,0,0,0,0,0,0,0,0,0,0,0,0,0,0,0,0,0,0,null,0,0,0,0,0,0,0,0,0,0,0,0,0,0,0,0,0,0,0,0,null,0,0,0,0,0,0,0,0,0,0,0,0,0,0,0,0,0,0,0,5.3588340222953743,null,7.8073568006482148,9.7675043609533869,11.523267444311927,13.089666459956151,14.480754758817229,15.709676674430861,16.788722229013683,17.729378690701008,18.54237915778544,19.237748336189032,19.824845667312047,20.312405954799331,20.708577630627257,21.02095879321352,21.25663114296702,56.668549824686906,88.007905088120012,103.12341918891919,247.79987410172609,5.5804472325134338,null,8.1302280440401393,10.171437005301758,11.99980922185356,13.630986268109497,15.079602667733681,16.359346334812908,17.483015542288822,18.462572611332082,19.30919450476966,20.033320497672744,20.644697088746582,21.152420307206416,21.56497556134866,21.890275167007495,22.135693686500762,59.012063207038636,91.647449490876227,107.38806181080992,258.04757450872478,5.802060442731455,null,8.453099287432007,10.575369649650057,12.476350999395112,14.172306076262746,15.678450576650032,17.009015995194844,18.177308855563851,19.195766531963024,20.076009851753749,20.82889265915632,21.464548510180979,21.992434659613359,22.421373492069918,22.759591540801321,23.014756230034347,61.355576589389955,95.286993893631788,111.65270443269993,268.29527491572168,5.3588340222953743,null,7.8073568006482148,9.7675043609533869,11.523267444311927,13.089666459956151,14.480754758817229,15.709676674430861,16.788722229013683,17.729378690701008,18.54237915778544,19.237748336189032,19.824845667312047,20.312405954799331,20.708577630627257,21.02095879321352,21.25663114296702,56.668549824686906,88.007905088120012,103.12341918891919,247.79987410172609,10.899164277746841,null,15.879137885446267,19.86582046966257,23.436811882852727,26.622661663789703,29.451952481728487,31.951418183981961,34.146055060892195,36.059226706477673,37.712762832390865,39.127052373281757,40.321131203175348,41.3127647649764,42.118525898662213,42.753868138062806,43.233194731310384,115.25638438347974,178.99651515702442,209.73948473618717,503.99238427669133,32.999339997582481,null,48.077178818214847,60.147635846521155,70.959506992725252,80.60528692807425,89.171515243746654,96.739133862851432,103.38382391677223,109.17632323117479,114.18272550448515,118.46476220248888,122.08006813672699,125.08243164139483,127.52203021333531,129.44565243229866,130.89690693377955,348.9611238292822,541.94676871777256,635.02708935753526,1525.9349819045899,421.2059689784071,null,587.73753707117373,718.35152872756225,835.193354427852,939.27847217317651,1031.5568590801079,1112.9169450295235,1184.1893201649809,1246.1502288588993,1299.5248620759255,1344.9904594109241,1383.1792314621455,1414.6811126164002,1440.0463537707897,1459.7879639929768,1474.3840096276306,4112.1177514798728,6187.7718155402536,7172.0786714699434,17471.968238490066,783.83894171806162,null,1093.7441608038228,1336.8089332281747,1554.2445342179997,1747.9406699588428,1919.6651906535787,2071.0714108060524,2203.7050086522727,2319.0105282210616,2418.337506223997,2502.9462447612991,2574.0132496822957,2632.6363533528547,2679.8395395543753,2716.5774872665152,2743.7398491658118,7652.4034888624192,11515.070698664682,13346.806479021852,32514.280666548959,829.96855028057041,null,1158.1119630653716,1415.481310333498,1645.7131869704979,1850.8085100268006,2032.6391692388058,2192.9557781176341,2333.3949794178925,2455.4863298502846,2560.6587875444047,2650.2468244834145,2725.4961849167948,2787.5693096071241,2837.550444678609,2876.4504528054008,2905.2113435036131,8102.7541396349743,12192.742699413631,14132.277735511541,34427.77457456015,788.41455066454432,null,1100.1288213520318,1344.6124686090657,1563.3173358068084,1758.1441601680108,1930.8711116063623,2083.1611557418137,2216.5689936067542,2332.5476016620141,2432.4543944521324,2517.5570310090361,2589.0388849585893,2648.0041971918376,2695.4829289290433,2732.4353320264413,2759.7562524503278,7697.0738975422792,11582.28917647175,13424.71759555624,32704.08066957027,977.34292006774126,null,1363.7535149555554,1666.8229617555896,1937.9362401189871,2179.4495623530911,2393.5672025600952,2582.350624057241,2747.7270820499875,2891.4977308369453,3015.3452632268463,3120.8411083350857,3209.452212495994,3282.5474266725632,3341.403522463846,3387.2108575977436,3421.078710649811,9541.5294817433187,14357.761808506106,16641.692729879956,40540.984020129377,3800.7709317093249,null,5303.4759972479551,6482.0772026538907,7536.404651542146,8475.6213746799222,9308.2995331389502,10042.455913752265,10685.585383891887,11244.692419429204,11726.320813523307,12136.581667999761,12481.179763515818,12765.43839944078,12994.322789396663,13172.462093689079,13304.170165397194,37105.878759262865,55835.636198596425,64717.573211439536,157659.08816929883,441.3494712156259,null,576.11827972536821,677.03532212867685,767.03482697945844,846.92772292805989,917.47246364577529,979.3781866014225,932.741130096593,1079.8802379897895,1119.6742038871857,1153.2295602478914,1181.0502246107812,1203.6062688750558,1221.3360000243413,1234.6479194340686,1243.9225676074402,3784.5886154073391,5264.9033188228823,6084.5629805516874,15134.054914781907,893.52933166804314,null,1166.374075461961,1370.6845897675037,1552.8921206800878,1714.6384250890528,1857.4590222285019,1982.7895887444902,1888.3710368995146,2186.2599374479137,2266.8243837013219,2334.7585200225503,2391.0825472526381,2436.7481444063401,2472.6426811797519,2499.593184645023,2518.3700739907463,7662.0482332271076,10659.00346681579,12318.436631474498,30639.488331517401,900.9684987152649,null,1176.0848384771073,1382.0963602275708,1565.8208780052535,1728.913817309262,1872.9234814913345,1999.2975000657966,1904.0928572055209,2204.4618613321154,2285.6970548710406,2354.1967835801079,2410.9897420836155,2457.0355326943168,2493.2289129926994,2520.4037955468029,2539.3370137465658,7725.839375510528,10747.746057054581,12420.994997064001,30894.580429629106,909.30395094889798,null,1186.9655729398603,1394.8830427912594,1580.3073169358593,1744.9091363029886,1890.251128617158,2017.7943163655721,1921.7088727291164,2224.8567880939304,2306.8435418443373,2375.9770066024294,2433.2953941231422,2479.7671846314456,2516.2954136987705,2543.7217089668679,2562.8300908223605,7797.3161975871262,10847.180525635384,12535.909792242588,31180.406515465096,887.48643905122367,null,1158.4859479665815,1361.4147208399424,1542.3899916528774,1703.0424141778685,1844.8971230119248,1969.380085394261,1875.6000813278679,2171.4743746619788,2251.493967735767,2318.9686690096432,2374.9117797591689,2420.2685428431846,2455.9203267224666,2482.6885653278869,2501.3384675429443,7610.2301976491945,10586.917178129519,12235.127682195651,30432.275057974362,4032.6376915990559,null,5264.0287145708789,6186.1140357549539,7008.4451342535367,7738.4315158072313,8383.0032189946942,8948.6396771715408,8522.513978258612,9866.9331995257271,10230.533152039652,10537.130539462622,10791.329687829348,10997.425673450343,11159.42333461803,11281.055173920649,11365.798213710057,34580.0226193813,48105.750546458148,55595.032083528422,138280.80524936787,862.55544019403305,null,1163.8558167965421,1395.3868508562391,1602.2281814073103,1786.2061951012365,1949.029322725883,2092.2951316309459,2116.9304502615742,2326.0304668486888,2419.199065963111,2498.2200196588155,2564.229456072927,2618.287381491456,2661.3823537951312,2694.4358834270452,2718.306577235071,7896.7063668872106,11452.675134363137,13256.64165202163,32606.023153271981,1677.3682733861046,null,2260.1182362657837,2707.4935229956782,3107.1366548980877,3462.5790950478959,3777.1242128820804,4053.8609995505426,4092.0760455517875,4505.2704656689748,4685.161889925319,4837.7047647838499,4965.0957969349338,5069.3844977591943,5152.4822207341276,5216.1706719115382,5262.1099231565586,15314.451722089525,22174.074165480473,25665.243110496354,63153.768998066356,1730.9370489958353,null,2334.1968015424791,2797.5776705610688,3211.5340649757513,3579.7223273360623,3905.5626507301404,4192.2532781834307,4237.4878366234134,4659.9481911824005,4846.3558424154453,5004.4436080635223,5136.4859270004108,5244.6048423014408,5330.7793576713084,5396.8542483522033,5444.5483572501789,15828.593515145503,22940.488756468214,26553.272732575544,65322.355004189252,1697.7185016134422,null,2287.0943942918921,2739.4955114003251,3143.6246527426674,3503.0532964709992,3821.1222402235203,4100.9554721073855,4138.2778663358704,4557.4043897559441,4739.2979362964697,4893.5340376114655,5022.3342790817314,5127.7713818232833,5211.7783426278138,5276.1570409933092,5322.5863432726883,15494.390095129404,22429.469702107137,25960.627387798824,63884.487185035367,1864.8293591189649,null,2522.2394629221371,3028.2376825955321,3480.3262317718645,3882.4919765309596,4238.4643255720202,4551.7307094515018,4623.327163377855,5062.9721054989241,5266.8392309626133,5439.8097773447289,5584.3639922551629,5702.8159695157483,5797.3238491863121,5869.8994229256305,5922.4171781927553,17151.759679392511,24944.678986635623,28876.820412075609,70973.259078103743,7833.4086233083808,null,10567.504711818834,12668.191238408845,14544.849785795683,16214.052890487153,17691.302752133644,18991.095590923804,19208.099362150497,21111.625618954931,21956.853965562957,22673.712207462384,23272.509451345166,23762.864072891123,24153.746124014695,24453.517267609728,24669.968379107253,71685.901378644165,103941.38674505457,120312.60529496797,295939.89341866667,10178.337192304192,null,11143.947264205841,11035.724120902552,11859.562274838217,12128.951499760959,12345.792176562178,12514.478068952027,12639.103644659484,12723.482616628467,12771.165397061501,12785.455525805606,12769.42513118392,12725.929478168367,12657.620655754788,12566.960452532139,12456.232466723546,58513.977336269745,63433.685253107084,63176.168184362759,185123.83077373958,3441.0092059366934,null,3663.6377993089282,3561.5855657863103,3527.4309869796757,3488.4530674566968,3445.1886210243883,3398.1342736458214,3347.7490735889678,3294.456944118831,3238.6489878100469,3180.6856510496764,3120.8987568202024,3059.5934133993178,2997.0498061844587,2933.524879444939,2869.2539144216908,17686.296040556001,16459.674930213343,14980.32077027061,49126.291741039953,13619.346398240887,null,14807.585063514769,14597.309686688863,15386.993261817894,15617.404567217654,15790.980797586566,15912.612342597848,15986.852718248452,16017.939560747298,16009.814384871548,15966.141176855283,15890.323888004123,15785.522891567685,15654.670461939248,15500.485331977077,15325.486381145238,76200.273376825746,79893.36018332043,78156.488954633372,234250.12251477956,753.16189777790771,779.78350703352237,879.5621967178979,2412.5076015293284,160.83384010195522,759.20248699314334,794.83580450687839,886.61655506408943,2440.6548465641113,162.7103231042741,853.23879857382235,893.28572880061097,996.434623435812,2742.9591508102458,182.86394338734971,887.97854872932055,929.65599593787169,1037.0046138327657,2854.6391584999578,190.30927723333053,1068.1759648096047,1118.3110130565483,1247.4438774201551,3433.9308552863081,228.92872368575388,4321.7576968837984,4515.8720493354322,5047.0618664707199,13884.691612689952,925.64610751266343,0,0,0,0,0,0,0,0,0,0,0,0,0,0,0,0,0,0,0,0,0,0,0,0,0,0,0,0,0,0,753.16189777790771,779.78350703352237,879.5621967178979,2412.5076015293284,160.83384010195522,759.20248699314334,794.83580450687839,886.61655506408943,2440.6548465641113,162.7103231042741,853.23879857382235,893.28572880061097,996.434623435812,2742.9591508102458,182.86394338734971,887.97854872932055,929.65599593787169,1037.0046138327657,2854.6391584999578,190.30927723333053,1068.1759648096047,1118.3110130565483,1247.4438774201551,3433.9308552863081,228.92872368575388,4321.7576968837984,4515.8720493354322,5047.0618664707199,13884.691612689952,925.64610751266343,995.6436034590588,1095.7622119716295,1113.9867810737594,3205.3925965044473,213.69283976696315,995.6436034590588,1095.7622119716295,1113.9867810737594,3205.3925965044473,213.69283976696315,995.6436034590588,1095.7622119716295,1113.9867810737594,3205.3925965044473,213.69283976696315,995.6436034590588,1095.7622119716295,1113.9867810737594,3205.3925965044473,213.69283976696315,995.6436034590588,1095.7622119716295,1113.9867810737594,3205.3925965044473,213.69283976696315,4978.218017295294,5478.8110598581479,5569.9339053687982,16026.96298252224,1068.464198834816,0,0,0,0,0,0,0,0,0,0,0,0,0,0,0,0,0,0,0,0,0,0,0,0,0,0,0,0,0,0,995.6436034590588,1095.7622119716295,1113.9867810737594,3205.3925965044473,213.69283976696315,995.6436034590588,1095.7622119716295,1113.9867810737594,3205.3925965044473,213.69283976696315,995.6436034590588,1095.7622119716295,1113.9867810737594,3205.3925965044473,213.69283976696315,995.6436034590588,1095.7622119716295,1113.9867810737594,3205.3925965044473,213.69283976696315,995.6436034590588,1095.7622119716295,1113.9867810737594,3205.3925965044473,213.69283976696315,4978.218017295294,5478.8110598581479,5569.9339053687982,16026.96298252224,1068.464198834816,56.668549824686906,88.007905088120012,103.12341918891919,247.79987410172609,16.519991606781741,59.012063207038636,91.647449490876227,107.38806181080992,258.04757450872478,17.203171633914984,61.355576589389955,95.286993893631788,111.65270443269993,268.29527491572168,17.886351661048113,56.668549824686906,88.007905088120012,103.12341918891919,247.79987410172609,16.519991606781741,115.25638438347974,178.99651515702442,209.73948473618717,503.99238427669133,33.599492285112753,348.9611238292822,541.94676871777256,635.02708935753526,1525.9349819045899,101.72899879363932,0,0,0,0,0,0,0,0,0,0,0,0,0,0,0,0,0,0,0,0,0,0,0,0,0,0,0,0,0,0,56.668549824686906,88.007905088120012,103.12341918891919,247.79987410172609,16.519991606781741,59.012063207038636,91.647449490876227,107.38806181080992,258.04757450872478,17.203171633914984,61.355576589389955,95.286993893631788,111.65270443269993,268.29527491572168,17.886351661048113,56.668549824686906,88.007905088120012,103.12341918891919,247.79987410172609,16.519991606781741,115.25638438347974,178.99651515702442,209.73948473618717,503.99238427669133,33.599492285112753,348.9611238292822,541.94676871777256,635.02708935753526,1525.9349819045899,101.72899879363932,1805.4740510616532,1963.553624093272,2096.6723969805767,5865.7000721355025,391.04667147570007,1813.8581536592408,1982.245465969384,2107.9913979486587,5904.0950175772841,393.60633450515218,1910.2379786222712,2084.3349346658724,2222.0741089422713,6216.6470222304151,414.44313481536096,1940.2907020130663,2113.4261129976212,2254.1148140954442,6307.8316291061319,420.52210860707538,2179.0759526521433,2393.0697401852026,2571.1701432301015,7143.3158360674461,476.22105573782983,9648.9368380083743,10536.629877911353,11252.022861197052,31437.589577116782,2095.8393051411185,0,0,0,0,0,0,0,0,0,0,0,0,0,0,0,0,0,0,0,0,0,0,0,0,0,0,0,0,0,0,1805.4740510616532,1963.553624093272,2096.6723969805767,5865.7000721355025,391.04667147570007,1813.8581536592408,1982.245465969384,2107.9913979486587,5904.0950175772841,393.60633450515218,1910.2379786222712,2084.3349346658724,2222.0741089422713,6216.6470222304151,414.44313481536096,1940.2907020130663,2113.4261129976212,2254.1148140954442,6307.8316291061319,420.52210860707538,2179.0759526521433,2393.0697401852026,2571.1701432301015,7143.3158360674461,476.22105573782983,9648.9368380083743,10536.629877911353,11252.022861197052,31437.589577116782,2095.8393051411185,null,null,null,null,null,null,null,null,null,null,null,null,null,null,null,null,null,null,null,null,null,null,null,null,null,null,null,null,null,null,null,null,null,null,null,null,null,null,null,null,null,null,null,null,null,null,null,null,null,null,null,null,null,null,null,null,null,null,null,null,null,null,null,null,null,null,null,null,null,null,null,null,null,null,null,null,null,null,null,null,null,null,null,null,null,null,null,null,null,null,null,null,null,null,null,null,null,null,null,null,null,null,null,null,null,null,null,null,null,null,null,null,null,null,null,null,null,null,null,null,null,null,null,null,null,null,null,null,null,null,null,null,null,null,null,null,null,null,null,null,null,null,null,null,null,null,null,null,null,null,null,null,null,null,null,null,null,null,null,null,null,null,null,null,null,null,null,null,null,null,null,null,null,null,null,null,null,null,null,null,null,null,null,null,null,null,null,null,null,null,null,null,null,null,null,null,null,null,null,null,null,null,null,null,null,null,null,null,null,null,null,null,null,null,null,null,null,null,null,null,null,null,null,null,null,null,null,null,null,null,null,null,null,null,null,null,null,null,null,null,null,null,null,null,null,null,null,null,null,null,null,null,null,null,null,null,null,null,null,null,null,null,null,null,null,null,null,null,null,null,null,null,null,null,null,null,null,null,null,null,null,null,null,null,null,null,null,null,null,null,null,null,null,null,null,null,null,null,null,null,null,null,null,null,null,null,null,null,null,null,null,null,null,null,null,null,null,null,null,null,null,null,null,null,null,null,null,null,null,null,null,null,null,null,null,null,null,null,null,null,null,null,null,null,null,null,null,null,null,null,null,null,null,null,null,null,null,null,null,null,null,null,null,null,null,null,null,null,null,null,null,null,null,null,null,null,null,null,null,null,null,null,null,null,null,null,null,null,null,null,null,null,null,null,null,null,null,null,null,null,null,null,null,null,null,null,null,null,null,null,null,null,null,null,null,null,null,null,null,null,null,null,null,null,null,null,null,null,null,null,null,null,null,null,null,null,null,null,null,null,null,null,null,null,null,null,null,null,null,null,null,null,null,null,null,null,null,null,null,null,null,null,null,null,null,null,null,null,null,null,null,null,null,null,null,null,null,null,null,null,null,null,null,null,null,null,null,null,null,null,null,null,null,null,null,null,null,null,null,null,null,null,null,null,null,null,null,null,null,null,null,null,null,null,null,null,null,null,null,null,null,null,null,null,null,null,null,null,null,null,null,null,null,null,null,null,null,null,null,null,null,null,null,null,null,null,null,null,null,null,null,null,null,null,null,null,null,null,null,null,null,null,null,null,null,null,null,null,null,null,null,null,null,null,null,null,null,null,null,null,null,null,null,null,null,null,null,null,null,null,null,null,null,null,null,null,null,null,null,null,null,null,null,null,null,null,null,null,null,null,null,null,null,null,null,null,null,null,null,null,null,null,null,null,null,null,null,null,null,null,null,null,null,null,null,null,null,null,null,null,null,null,null,null,null,null,null,null,null,null,null,null,null,null,null,null,null,null,null,null,null,null,null,null,null,null,null,null,null,null,null,null,null,null,null,null,null,null,null,null,null,null,null,null,null,null,null,null,null,null,null,null,null,null,null,null,null,null,null,null,null,null,null,null,null,null,null,null,null,null,null,null,null,null,null,null,null,null,null,null,null,null,null,null,null,null,null,null,null,null,null,null,null,null,null,null,null,null,null,null,null,null,null,null,null,null,null,null,null,null,null,null,null,null,null,null,null,null,null,null,null,null,null,null,null,null,null,null,null,null,null,null,null,null,null,null,null,null,null,null,null,null,null,null,null,null,null,null,null,null,null,null,null,null,null,null,null,null,null,null,null,null,null,null,null,null,null,null,null,null,null,null,null,null,null,null,null,null,null,null,null,null,null,null,null,null,null,null,null,null,null,null,null,null,null,null,null,null,null,null,null,null,null,null,null,null,null,null,null,null,null,null,null,null,null,null,null,null,null,null,null,null,null,null,null,null,null,null,null,null,null,null,null,null,null,null,null,null,null,null,null,null,null,null,null,null,null,null,null,null,null,null,null,null,null,null,null,null,null,null,null,null,null,null,null,null,null,null,null,null,null,null,null,null,null,null,null,null,null,null,null,null,null,null,null,null,null,null,null,null,null,null,null,null,null,null,null,null,null,null,null,null,null,null,null,null,null,null,null,null,null,null,null,null,null,null,null,null,null,null,null,null,null,null,null,null,null,null,null,null,null,null,null,null,null,null,null,null,null,null,null,null,null,null,null,null,null,null,null,null,null,null,null,null,null,null,null,null,null,null,null,null,null,null,null,null,null,null,null,null,null,null,null,null,null,null,null,null,null,null,null,null,null,null,null,null,null,null,null,null,null,null,null,null,null,null,null,null,null,null,null,null,null,null,null,null,null,null,null,null,null,null,null,null,null,null,null,null,null,null,null,null,null,null,null,null,null,null,null,null,null,null,null,null,null,null,null,null,null,null,null,null,null,null,null,null,null,null,null,null,null,null,null,null,null,null,null,null,null,null,null,null,null,null,null,null,null,null,null,null,null,null,null,null,null,null,null,null,null,null,null,null,null,null,null,null,null,null,null,null,null,null,null,null,null,null,null,null,null,null,null,null,null,null,null,null,null,null,null,null,null,null,null,null,null,null,null,null,null,null,null,null,null,null,null,null,null,null,null,null,null,null,null,null,null,null,null,null,null,null,null,null,null,null,null,null,null,null,null,null,null,null,null,null,null,null,null,null,null,null,null,null,null,null,null,null,null,null,null,null,null,null,null,null,null,null,null,null,null,null,null,null,null,null,null,null,null,null,null,null,null,null,null,null,null,null,null,null,null,null,null,null,null,null,null,null,null,null,null,null,null,null,null,null,null,null,null,null,null,null,null,null,null,null,null,null,null,null,null,null,null,null,null,null,null,null,null,null,null,null,null,null,null,null,null,null,null,null,null,null,null,null,null,null,null,null,null,null,null,null,null,null,null,null,null,null,null,null,null,null,null,null,null,null,null,null,null,null,null,null,null,null,null,null,null,null,null,null,null,null,null,null,null,null,null,null,null,null,null,null,null,null,null,null,null,null,null,null,null,null,null,null,null,null,null,null,null,null,null,null,null,null,null,null,null,null,null,null,null,null,null,null,null,null,null,null,null,null,null,null,null,null,null,null,null,null,null,null,null,null,null,null,null,null,null,null,null,null,null,null,null,null,null,null,null,null,null,null,null,null,null,null,null,null,null,null,null,null,null,null,null,null,null,null,null,null,null,null,null,null,null,null,null,null,null,null,null,null,null,null,null,null,null,null,null,null,null,null,null,null,null,null,null,null,null,null,null,null,null,null,null,null,null,null,null,null,null,null,null,null,null,null,null,null,null,null,null,null,null,null,null,null,null,null,null,null,null,null,null,null,null,null,null,null,null,null,null,null,null,null,null,null,null,null,null,null,null,null,null,null,null,null,null,null,null,null,null,null,null,null,null,null,null,null,null,null,null,null,null,null,null,null,null,null,null,null,null,null,null,null,null,null,null,null,null,null,null,null,null,null,null,null,null,null,null,null,null,null,null,null,null,null,null,null,null,null,null,null,null,null,null,null,null,null,null,null,null,null,null,null,null,null,null,null,null,null,null,null,null,null,null,null,null,null,null,null,null,null,null,null,null,null,null,null,null,null,null,null,null,null,null,null,null,null,null,null,null,null,null,null,null,null,null,null,null,null,null,null,null,null,null,null,null,null,null,null,null,null,null,null,null,null,null,null,null,null,null,null,null,null,null,null,null,null,null,null,null,null,null,null,null,null,null,null,null,null,null,null,null,null,null,null,null,null,null,null,null,null,null,null,null,null,null,null,null,null,null,null,null,null,null,null,null,null,null,null,null,null,null,null,null,null,null,null,null,null,null,null,null,null,null,null,null,null,null,null,null,null,null,null,null,null,null,null,null,null,null,null,null,null,null,null,null,null,null,null,null,null,null,null,null,null,null,null,null,null,null,null,null,null,null,null,null,null,null,null,null,null,null,null,null,null,null,null,null,null,null,null,null,null,null,null,null,null,null,null,null,null,null,null,null,null,null,null,null,null,null,null,null,null,null,null,null,null,null,null,null,null,null,null,null,null,null,null,null,null,null,null,null,null,null,null,null,null,null,null,null,null,null,null,null,null,null,null,null,null,null,null,null,null,null,null,null,null,null,null,null,null,null,null,null,null,null,null,null,null,null,null,null,null,null,null,null,null,null,null,null,null,null,null,null,null,null,null,null,null,null,null,null,null,null,null,null,null,null,null,null,null,null,null,null,null,null,null,null,null,null,null,null,null,null,null,null,null,null,null,null,null,null,null,null,null,null,null,null,null,null,null,null,null,null,null,null,null,null,null,null,null,null,null,null,null,null,null,null,null,null,null,null,null,null,null,null,null,null,null,null,null,null,null,null,null,null,null,null,null,null,null,null,null,null,null,null,null,null,null,null,null,null,null,null,null,null,null,null,null,null,null,null,null,null,null,null,null,null,null,null,null,null,null,null,null,null,null,null,null,null,null,null,null,null,null,null,null,null,null,null,null,null,null,null,null,null,null,null,null,null,null,null,null,null,null,null,null,null,null,null,null,null,null,null,null,null,null,null,null,null,null,null,null,null,null,null,null,null,null,null,null,null,null,null,null,null,null,null,null,null,null,null,null,null,null,null,null,null,null,null,null,null,null,null,null,null,null,null,null,null,null,null,null,null,null,null,null,null,null,null,null,null,null,null,null,null,null,null,null,null,null,null,null,null,null,null,null,null,null,null,null,null,null,null,null,null,null,null,null,null,null,null,null,null,null,null,null,null,null,null,null,null,null,null,null,null,null,null,null,null,null,null,null,null,null,null,null,null,null,null,null,null,null,null,null,null,null,null,null,null,null,null,null,null,null,null,null,null,null,null,null,null,null,null,null,null,null,null,null,null,null,null,null,null,null,null,null,null,null,null,null,null,null,null,null,null,null,null,null,null,null,null,null,null,null,null,null,null,null,null,null,null,null,null,null,null,null,null,null,null,null,null,null,null,null,null,null,null,null,null,null,null,null,null,null,null,null,null,null,null,null,null,null,null,null,null,null,null,null,null,null,null,null,null,null,null,null,null,null,null,null,null,null,null,null,null,null,null,null,null,null,null,null,null,null,null,null,null,null,null,null,null,null,null,null,null,null,null,null,null,null,null,null,null,null,null,null,null,null,null,null,null,null,null,null,null,null,null,null,null,null,null,null,null,null,null,null,null,null,null,null,null,null,null,null,null,null,null,null,null,null,null,null,null,null,null,null,null,null,null,null,null,null,null,null,null,null,null,null,null,null,null,null,0,0,0,0,0,0,0,0,0,0,0,0,0,0,0,0,0,0,0,0,0,0,0,0,0,0,0,0,0,0,4112.1177514798728,6187.7718155402536,7172.0786714699434,17471.96823849007,1164.7978825660045,7652.4034888624192,11515.070698664682,13346.806479021852,32514.280666548952,2167.6187111032636,8102.7541396349743,12192.742699413631,14132.277735511541,34427.77457456015,2295.1849716373431,7697.0738975422792,11582.28917647175,13424.71759555624,32704.08066957027,2180.2720446380181,9541.5294817433187,14357.761808506106,16641.692729879956,40540.984020129385,2702.7322680086259,37105.878759262865,55835.636198596425,64717.573211439536,157659.08816929883,10510.605877953256,3784.5886154073391,5264.9033188228823,6084.5629805516874,15134.054914781909,1008.9369943187939,7662.0482332271076,10659.00346681579,12318.436631474498,30639.488331517394,2042.6325554344928,7725.839375510528,10747.746057054581,12420.994997064001,30894.58042962911,2059.6386953086071,7797.3161975871262,10847.180525635384,12535.909792242588,31180.406515465096,2078.6937676976731,7610.2301976491945,10586.917178129519,12235.127682195651,30432.275057974366,2028.8183371982911,34580.0226193813,48105.750546458148,55595.032083528422,138280.80524936787,9218.7203499578573,7896.7063668872124,11452.675134363137,13256.64165202163,32606.023153271977,2173.7348768847987,15314.451722089527,22174.074165480473,25665.243110496351,63153.768998066342,4210.2512665377562,15828.593515145501,22940.488756468214,26553.27273257554,65322.355004189259,4354.8236669459502,15494.390095129405,22429.469702107133,25960.627387798828,63884.487185035367,4258.9658123356912,17151.759679392511,24944.678986635627,28876.820412075605,70973.259078103758,4731.5506052069168,71685.901378644165,103941.38674505457,120312.60529496796,295939.89341866667,19729.326227911115,58513.977336269745,63433.685253107084,63176.168184362759,185123.83077373958,12341.588718249306,17686.296040556001,16459.674930213343,14980.32077027061,49126.291741039953,3275.0861160693303,76200.273376825746,79893.36018332043,78156.488954633372,234250.12251477956,15616.674834318637,{"$error":"#REF!"},{"$error":"#REF!"},{"$error":"#REF!"},{"$error":"#REF!"},{"$error":"#REF!"},{"$error":"#REF!"},{"$error":"#REF!"},{"$error":"#REF!"},{"$error":"#REF!"},{"$error":"#REF!"},{"$error":"#REF!"},{"$error":"#REF!"},{"$error":"#REF!"},{"$error":"#REF!"},{"$error":"#REF!"},{"$error":"#REF!"},{"$error":"#REF!"},{"$error":"#REF!"},{"$error":"#REF!"},{"$error":"#REF!"},{"$error":"#REF!"},{"$error":"#REF!"},{"$error":"#REF!"},{"$error":"#REF!"},{"$error":"#REF!"},{"$error":"#REF!"},{"$error":"#REF!"},{"$error":"#REF!"},{"$error":"#REF!"},{"$error":"#REF!"},{"$error":"#REF!"},{"$error":"#REF!"},{"$error":"#REF!"},{"$error":"#REF!"},{"$error":"#REF!"},{"$error":"#REF!"},{"$error":"#REF!"},{"$error":"#REF!"},{"$error":"#REF!"},{"$error":"#REF!"},{"$error":"#REF!"},{"$error":"#REF!"},{"$error":"#REF!"},{"$error":"#REF!"},{"$error":"#REF!"},{"$error":"#REF!"},{"$error":"#REF!"},{"$error":"#REF!"},{"$error":"#REF!"},{"$error":"#REF!"},{"$error":"#REF!"},{"$error":"#REF!"},{"$error":"#REF!"},{"$error":"#REF!"},{"$error":"#REF!"},{"$error":"#REF!"},{"$error":"#REF!"},{"$error":"#REF!"},{"$error":"#REF!"},{"$error":"#REF!"},{"$error":"#REF!"},{"$error":"#REF!"},{"$error":"#REF!"},{"$error":"#REF!"},{"$error":"#REF!"},{"$error":"#REF!"},{"$error":"#REF!"},{"$error":"#REF!"},{"$error":"#REF!"},{"$error":"#REF!"},{"$error":"#REF!"},{"$error":"#REF!"},{"$error":"#REF!"},{"$error":"#REF!"},{"$error":"#REF!"},{"$error":"#REF!"},{"$error":"#REF!"},{"$error":"#REF!"},{"$error":"#REF!"},{"$error":"#REF!"},{"$error":"#REF!"},{"$error":"#REF!"},{"$error":"#REF!"},{"$error":"#REF!"},{"$error":"#REF!"},{"$error":"#REF!"},{"$error":"#REF!"},{"$error":"#REF!"},{"$error":"#REF!"},{"$error":"#REF!"},{"$error":"#REF!"},{"$error":"#REF!"},{"$error":"#REF!"},{"$error":"#REF!"},{"$error":"#REF!"},{"$error":"#REF!"},{"$error":"#REF!"},{"$error":"#REF!"},{"$error":"#REF!"},null,null,null,null,null,null,{"$error":"#REF!"},{"$error":"#REF!"},{"$error":"#REF!"},{"$error":"#REF!"},{"$error":"#REF!"},{"$error":"#REF!"},{"$error":"#REF!"},{"$error":"#REF!"},{"$error":"#REF!"},{"$error":"#REF!"},{"$error":"#REF!"},{"$error":"#REF!"},{"$error":"#REF!"},{"$error":"#REF!"},{"$error":"#REF!"},{"$error":"#REF!"},{"$error":"#REF!"},{"$error":"#REF!"},{"$error":"#REF!"},{"$error":"#REF!"},{"$error":"#REF!"},{"$error":"#REF!"},{"$error":"#REF!"},{"$error":"#REF!"},{"$error":"#REF!"},{"$error":"#REF!"},{"$error":"#REF!"},{"$error":"#REF!"},{"$error":"#REF!"},{"$error":"#REF!"},{"$error":"#REF!"},{"$error":"#REF!"},{"$error":"#REF!"},{"$error":"#REF!"},{"$error":"#REF!"},{"$error":"#REF!"},{"$error":"#REF!"},{"$error":"#REF!"},{"$error":"#REF!"},{"$error":"#REF!"},{"$error":"#REF!"},{"$error":"#REF!"},{"$error":"#REF!"},{"$error":"#REF!"},{"$error":"#REF!"},{"$error":"#REF!"},{"$error":"#REF!"},{"$error":"#REF!"},{"$error":"#REF!"},{"$error":"#REF!"},{"$error":"#REF!"},{"$error":"#REF!"},{"$error":"#REF!"},{"$error":"#REF!"},{"$error":"#REF!"},{"$error":"#REF!"},{"$error":"#REF!"},{"$error":"#REF!"},{"$error":"#REF!"},{"$error":"#REF!"},{"$error":"#REF!"},{"$error":"#REF!"},{"$error":"#REF!"},{"$error":"#REF!"},{"$error":"#REF!"},{"$error":"#REF!"},{"$error":"#REF!"},{"$error":"#REF!"},1973834.01165872,{"$error":"#REF!"},{"$error":"#REF!"},{"$error":"#REF!"},{"$error":"#REF!"},{"$error":"#REF!"},{"$error":"#REF!"},{"$error":"#REF!"},{"$error":"#REF!"},{"$error":"#REF!"},{"$error":"#REF!"},{"$error":"#REF!"},{"$error":"#REF!"},{"$error":"#REF!"},{"$error":"#REF!"},{"$error":"#REF!"},{"$error":"#REF!"},{"$error":"#REF!"},{"$error":"#REF!"},{"$error":"#REF!"},{"$error":"#REF!"},{"$error":"#REF!"},{"$error":"#REF!"},{"$error":"#REF!"},{"$error":"#REF!"},{"$error":"#REF!"},{"$error":"#REF!"},{"$error":"#REF!"},0,0,0,0,0,0,{"$error":"#REF!"},{"$error":"#REF!"},{"$error":"#REF!"},{"$error":"#REF!"},{"$error":"#REF!"},{"$error":"#REF!"},{"$error":"#REF!"},{"$error":"#REF!"},{"$error":"#REF!"},{"$error":"#REF!"},{"$error":"#REF!"},{"$error":"#REF!"},{"$error":"#REF!"},{"$error":"#REF!"},{"$error":"#REF!"},{"$error":"#REF!"},{"$error":"#REF!"},{"$error":"#REF!"},{"$error":"#REF!"},{"$error":"#REF!"},{"$error":"#REF!"},{"$error":"#REF!"},{"$error":"#REF!"},{"$error":"#REF!"},{"$error":"#REF!"},{"$error":"#REF!"},{"$error":"#REF!"},{"$error":"#REF!"},{"$error":"#REF!"},{"$error":"#REF!"},{"$error":"#REF!"},{"$error":"#REF!"},{"$error":"#REF!"},{"$error":"#REF!"},{"$error":"#REF!"},{"$error":"#REF!"},{"$error":"#REF!"},{"$error":"#REF!"},{"$error":"#REF!"},{"$error":"#REF!"},{"$error":"#REF!"},{"$error":"#REF!"},{"$error":"#REF!"},{"$error":"#REF!"},{"$error":"#REF!"},{"$error":"#REF!"},{"$error":"#REF!"},{"$error":"#REF!"},{"$error":"#REF!"},{"$error":"#REF!"},{"$error":"#REF!"},{"$error":"#REF!"},{"$error":"#REF!"},{"$error":"#REF!"},{"$error":"#REF!"},{"$error":"#REF!"},{"$error":"#REF!"},{"$error":"#REF!"},{"$error":"#REF!"},{"$error":"#REF!"},{"$error":"#REF!"},{"$error":"#REF!"},{"$error":"#REF!"},{"$error":"#REF!"},{"$error":"#REF!"},{"$error":"#REF!"},{"$error":"#REF!"},{"$error":"#REF!"},{"$error":"#REF!"},{"$error":"#REF!"},{"$error":"#REF!"},{"$error":"#REF!"},{"$error":"#REF!"},{"$error":"#REF!"},{"$error":"#REF!"},{"$error":"#REF!"},{"$error":"#REF!"},{"$error":"#REF!"},{"$error":"#REF!"},{"$error":"#REF!"},{"$error":"#REF!"},{"$error":"#REF!"},{"$error":"#REF!"},{"$error":"#REF!"},{"$error":"#REF!"},{"$error":"#REF!"},{"$error":"#REF!"},{"$error":"#REF!"},{"$error":"#REF!"},{"$error":"#REF!"},{"$error":"#REF!"},{"$error":"#REF!"},{"$error":"#REF!"},{"$error":"#REF!"},{"$error":"#REF!"},{"$error":"#REF!"},{"$error":"#REF!"},{"$error":"#REF!"},{"$error":"#REF!"},0,0,0,0,0,0,1794.9754398782995,2701.0166312646934,3130.6752010033106,7626.6672721463037,508.44448480975359,5335.2611772608461,8028.3155143891236,9305.4030085552204,22668.979700205193,1511.2653133470128,0,0,0,0,0,5379.9315859407061,8095.5339921961904,9383.314125089606,22858.779703226501,1523.9186468817668,7224.3871701417456,10871.006624230544,12600.289259413326,30695.683053785615,2046.3788702523743,19734.555373221596,29695.872762080548,34419.681594061462,83850.109729363612,5590.0073152909072,0,0,0,0,0,3214.2329634947464,4471.4571428133931,5167.5901631501674,12853.280269458308,856.8853512972205,3278.0241057781668,4560.1997330521835,5270.1485287396681,13108.372367570018,873.89149117133456,3349.5009278547641,4659.6342016329882,5385.0633239182534,13394.198453406007,892.94656356040048,3162.4149279168337,4399.3708541271217,5084.2812138713198,12646.066995915275,843.07113306101826,13004.172925044511,18090.661931625687,20907.083229679411,52001.918086349608,3466.794539089974,1794.9754398782995,2701.0166312646934,3130.6752010033106,7626.6672721463037,508.44448480975359,8549.4941407555925,12499.772657202517,14472.993171705388,35522.259969663501,2368.1506646442335,3278.0241057781668,4560.1997330521835,5270.1485287396681,13108.372367570018,873.89149117133456,8729.4325137954693,12755.168193829179,14768.377449007859,36252.978156632504,2416.8652104421667,10386.802098058579,15270.377478357666,17684.570473284646,43341.750049700888,2889.4500033133927,32738.728298266105,47786.534693706235,55326.764823740872,135852.0278157132,9056.8018543808794,10858.749311316373,0,0.76515126961310853,0.84999699150343444,3.2999339997582484E-2,1.6481476011141256,7.8334086233083804,13.619346398240886,21.452755021549265,22.718326987856837,0,7.0464032981745991E-5,7.8277614404231223E-5,3.0389632407474813E-6,1.5178061062672474E-4,7.2139142351733323E-4,1.2542279048699996E-3,1.975619328387333E-3,2.0921679225231844E-3,491.76069729999472,238.77312005295457,195.11229015971426,0,0,0,526.12935839976512,238.85843350954624,303.4764069255047,0,0,0,30.518012568672273,8.5644693506117537,62.646516874355285,0,0,0,0,0,0,1773.2938704915941,780.52976727517489,7956.782240186486,1918.4031375656505,844.40079527764908,6455.9164171145576,5639.2642606021327,2482.1681810194118,4220.1562766277611,1794.5830013954615,789.9003519630246,690.60276271084444,34.701489721339328,34.731283828588111,69.432773549927447,106.09630580712943,123.3710586370193,229.46736444414873,14.652005804607956,17.459430281934321,32.111436086542277,20.178084455723816,25.197800994989198,45.375885450713014,98.572615414939122,321.38368905406776,419.95630446900691,159.98062257733082,398.53925688581654,558.51987946314739,81.821473873519437,220.66069431465672,302.48216818817616,89.704284834073064,240.84774256540621,330.55202739947924,4.0745389105290804E-2,4.0780372401473329E-2,8.1525761506764133E-2,0.12457491875592498,0.14485838587516947,0.26943330463109444,1.7203920709911499E-2,2.050030952869001E-2,3.7704230238601505E-2,2.3692467071299985E-2,2.9586459093920787E-2,5.3278926165220772E-2,0.11574084001754106,0.37735853900673327,0.49309937902427436,0.18784417523757047,0.46795216072698625,0.65579633596455666,9.6072180673408364E-2,0.25909279175889249,0.35516497243230083,0.10532792739812886,0.2827957838341365,0.38812371123226536,6083.72,2.7E-2]
["Zimbabwe",4871.2529999999997,4997.5879999999997,5125.2719999999999,5252.85,5379.3890000000001,5504.366,5626.558,5745.9430000000002,5864.8770000000004,5986.8450000000003,6114.5410000000002,6248.8739999999998,6389.5829999999996,6536.8440000000001,6690.5079999999998,6850.5690000000004,6850.5690000000004,10174.849000000002,10485.632,10788.494999999999,11079.270999999999,11354.906999999999,11613.272999999999,11850.842000000001,12066.716,12265.096000000001,12452.526999999998,12633.824000000001,12810.001,12979.636000000002,13142.206999999999,13296.548000000001,13441.811000000002,13441.811000000002,0.90075378417968754,0.91356423803090603,0.91618269127773244,0.88810156330599233,0.91438272240131679,0.87153770588249047,2030,1,0.59716728210449221,0.7550192152043782,0.65036103511607246,0.58692193524187353,0.52391354801935075,0.46962067694078558,2030,1,0.75001376395661024,0.88421308319301828,0.89328941634364845,0.85539660812316787,0.7998778540382625,0.31729185808495414,2030,1,4.5230024129987674E-2,0.17405102734128752,3.3855507324196905E-2,7.1929689220606441E-3,3.9241393617117032E-3,7.1264777006816108E-3,2030,1,0.51503188624383656,0.78174299156533744,0.55809803551584058,0.48507883105219923,0.40678624789598783,0.34345332518981736,2030,1,0.32247108380225242,0.54481091074205001,0.46936903679065828,0.32769681729107242,0.20607438809585582,6.4404266091625473E-2,2030,1,0.60375029907530009,0.96778120499852982,0.76864133974314142,0.64315945985696743,0.44998910358534588,0.18918038719251584,2025,1,0.28100000000000003,0,0.24302200000000002,0.24302200000000002,2030,1,0,0,0.33800000000000002,0.33800000000000002,2030,1,0.40399999999999997,0.89271512113617346,0.47420217209690885,0.25988304093567244,0.20081871345029234,0.19238095238095235,2030,1,0.16699999999999998,0.36901837928153713,0.19601921470342518,0.1074269005847953,8.3011695906432731E-2,7.9523809523809511E-2,2030,1,32.004886197323138,32.004886197323138,32.004886197323138,32.004886197323138,32.004886197323138,32.004886197323138,32.004886197323138,32.004886197323138,32.004886197323138,32.004886197323138,32.004886197323138,32.004886197323138,32.004886197323138,32.004886197323138,32.004886197323138,160.0244309866157,160.0244309866157,160.0244309866157,480.07329295984692,31.834817554203635,31.834817554203635,31.834817554203635,31.834817554203635,31.834817554203635,31.834817554203635,31.834817554203635,31.834817554203635,31.834817554203635,31.834817554203635,31.834817554203635,31.834817554203635,31.834817554203635,31.834817554203635,31.834817554203635,159.17408777101818,159.17408777101818,159.17408777101818,477.52226331305462,33.658687939213287,33.658687939213287,33.658687939213287,33.658687939213287,33.658687939213287,33.658687939213287,33.658687939213287,33.658687939213287,33.658687939213287,33.658687939213287,33.658687939213287,33.658687939213287,33.658687939213287,33.658687939213287,33.658687939213287,168.29343969606643,168.29343969606643,168.29343969606643,504.88031908819926,31.951725604725592,31.951725604725592,31.951725604725592,31.951725604725592,31.951725604725592,31.951725604725592,31.951725604725592,31.951725604725592,31.951725604725592,31.951725604725592,31.951725604725592,31.951725604725592,31.951725604725592,31.951725604725592,31.951725604725592,159.75862802362795,159.75862802362795,159.75862802362795,479.27588407088388,34.734511141424022,34.734511141424022,34.734511141424022,34.734511141424022,34.734511141424022,34.734511141424022,34.734511141424022,34.734511141424022,34.734511141424022,34.734511141424022,34.734511141424022,34.734511141424022,34.734511141424022,34.734511141424022,34.734511141424022,173.67255570712013,173.67255570712013,173.67255570712013,521.01766712136043,164.18462843688968,164.18462843688968,164.18462843688968,164.18462843688968,164.18462843688968,164.18462843688968,164.18462843688968,164.18462843688968,164.18462843688968,164.18462843688968,164.18462843688968,164.18462843688968,164.18462843688968,164.18462843688968,164.18462843688968,820.92314218444835,820.92314218444835,820.92314218444835,2462.7694265533451,76.794726575959302,76.794726575959302,76.794726575959302,76.794726575959302,76.794726575959302,76.794726575959302,76.794726575959302,76.794726575959302,76.794726575959302,76.794726575959302,76.794726575959302,76.794726575959302,76.794726575959302,76.794726575959302,76.794726575959302,383.97363287979653,383.97363287979653,383.97363287979653,1151.9208986393894,90.993142296136895,90.993142296136895,90.993142296136895,90.993142296136895,90.993142296136895,90.993142296136895,90.993142296136895,90.993142296136895,90.993142296136895,90.993142296136895,90.993142296136895,90.993142296136895,90.993142296136895,90.993142296136895,90.993142296136895,454.96571148068449,454.96571148068449,454.96571148068449,1364.8971344420534,99.599585788348804,99.599585788348804,99.599585788348804,99.599585788348804,99.599585788348804,99.599585788348804,99.599585788348804,99.599585788348804,99.599585788348804,99.599585788348804,99.599585788348804,99.599585788348804,99.599585788348804,99.599585788348804,99.599585788348804,497.99792894174402,497.99792894174402,497.99792894174402,1493.9937868252321,108.14759679798478,108.14759679798478,108.14759679798478,108.14759679798478,108.14759679798478,108.14759679798478,108.14759679798478,108.14759679798478,108.14759679798478,108.14759679798478,108.14759679798478,108.14759679798478,108.14759679798478,108.14759679798478,108.14759679798478,540.73798398992392,540.73798398992392,540.73798398992392,1622.2139519697716,115.51322033132968,115.51322033132968,115.51322033132968,115.51322033132968,115.51322033132968,115.51322033132968,115.51322033132968,115.51322033132968,115.51322033132968,115.51322033132968,115.51322033132968,115.51322033132968,115.51322033132968,115.51322033132968,115.51322033132968,577.56610165664836,577.56610165664836,577.56610165664836,1732.698304969945,491.04827178975938,491.04827178975938,491.04827178975938,491.04827178975938,491.04827178975938,491.04827178975938,491.04827178975938,491.04827178975938,491.04827178975938,491.04827178975938,491.04827178975938,491.04827178975938,491.04827178975938,491.04827178975938,491.04827178975938,2455.2413589487974,2455.2413589487974,2455.2413589487974,7365.7240768463907,55.735927482038235,96.260288659116711,121.79547226067587,161.10505638747492,214.17884253109233,649.07558732039809,6490.7558732039806,40.566681428111679,40.566681428111679,40.566681428111679,40.566681428111679,40.566681428111679,40.566681428111679,40.566681428111679,40.566681428111679,40.566681428111679,40.566681428111679,40.566681428111679,40.566681428111679,40.566681428111679,40.566681428111679,40.566681428111679,202.83340714055839,202.83340714055839,202.83340714055839,608.50022142167518,55.092430269324737,55.092430269324737,55.092430269324737,55.092430269324737,55.092430269324737,55.092430269324737,55.092430269324737,55.092430269324737,55.092430269324737,55.092430269324737,55.092430269324737,55.092430269324737,55.092430269324737,55.092430269324737,55.092430269324737,275.46215134662367,275.46215134662367,275.46215134662367,826.38645403987096,59.835030520006427,59.835030520006427,59.835030520006427,59.835030520006427,59.835030520006427,59.835030520006427,59.835030520006427,59.835030520006427,59.835030520006427,59.835030520006427,59.835030520006427,59.835030520006427,59.835030520006427,59.835030520006427,59.835030520006427,299.17515260003211,299.17515260003211,299.17515260003211,897.52545780009609,64.920136927705684,64.920136927705684,64.920136927705684,64.920136927705684,64.920136927705684,64.920136927705684,64.920136927705684,64.920136927705684,64.920136927705684,64.920136927705684,64.920136927705684,64.920136927705684,64.920136927705684,64.920136927705684,64.920136927705684,324.60068463852843,324.60068463852843,324.60068463852843,973.80205391558536,69.033612790788354,69.033612790788354,69.033612790788354,69.033612790788354,69.033612790788354,69.033612790788354,69.033612790788354,69.033612790788354,69.033612790788354,69.033612790788354,69.033612790788354,69.033612790788354,69.033612790788354,69.033612790788354,69.033612790788354,345.16806395394178,345.16806395394178,345.16806395394178,1035.5041918618251,289.44789193593692,289.44789193593692,289.44789193593692,289.44789193593692,289.44789193593692,289.44789193593692,289.44789193593692,289.44789193593692,289.44789193593692,289.44789193593692,289.44789193593692,289.44789193593692,289.44789193593692,289.44789193593692,289.44789193593692,1447.2394596796844,1447.2394596796844,1447.2394596796844,4341.7183790390527,105.31256332862885,105.31256332862885,105.31256332862885,105.31256332862885,105.31256332862885,105.31256332862885,105.31256332862885,105.31256332862885,105.31256332862885,105.31256332862885,105.31256332862885,105.31256332862885,105.31256332862885,105.31256332862885,105.31256332862885,526.56281664314429,526.56281664314429,526.56281664314429,1579.6884499294324,115.54735900506145,115.54735900506145,115.54735900506145,115.54735900506145,115.54735900506145,115.54735900506145,115.54735900506145,115.54735900506145,115.54735900506145,115.54735900506145,115.54735900506145,115.54735900506145,115.54735900506145,115.54735900506145,115.54735900506145,577.73679502530729,577.73679502530729,577.73679502530729,1733.210385075922,134.76727155043667,134.76727155043667,134.76727155043667,134.76727155043667,134.76727155043667,134.76727155043667,134.76727155043667,134.76727155043667,134.76727155043667,134.76727155043667,134.76727155043667,134.76727155043667,134.76727155043667,134.76727155043667,134.76727155043667,673.8363577521834,673.8363577521834,673.8363577521834,2021.5090732565495,151.26713624476361,151.26713624476361,151.26713624476361,151.26713624476361,151.26713624476361,151.26713624476361,151.26713624476361,151.26713624476361,151.26713624476361,151.26713624476361,151.26713624476361,151.26713624476361,151.26713624476361,151.26713624476361,151.26713624476361,756.33568122381803,756.33568122381803,756.33568122381803,2269.0070436714541,170.48676423415858,170.48676423415858,170.48676423415858,170.48676423415858,170.48676423415858,170.48676423415858,170.48676423415858,170.48676423415858,170.48676423415858,170.48676423415858,170.48676423415858,170.48676423415858,170.48676423415858,170.48676423415858,170.48676423415858,852.43382117079295,852.43382117079295,852.43382117079295,2557.3014635123786,677.38109436304921,677.38109436304921,677.38109436304921,677.38109436304921,677.38109436304921,677.38109436304921,677.38109436304921,677.38109436304921,677.38109436304921,677.38109436304921,677.38109436304921,677.38109436304921,677.38109436304921,677.38109436304921,677.38109436304921,3386.9054718152456,3386.9054718152456,3386.9054718152456,10160.716415445737,33.359037173600697,33.359037173600697,33.359037173600697,33.359037173600697,33.359037173600697,33.359037173600697,33.359037173600697,33.359037173600697,33.359037173600697,33.359037173600697,33.359037173600697,33.359037173600697,33.359037173600697,33.359037173600697,33.359037173600697,166.7951858680035,166.7951858680035,166.7951858680035,500.38555760401061,60.541469954218897,60.541469954218897,60.541469954218897,60.541469954218897,60.541469954218897,60.541469954218897,60.541469954218897,60.541469954218897,60.541469954218897,60.541469954218897,60.541469954218897,60.541469954218897,60.541469954218897,60.541469954218897,60.541469954218897,302.70734977109447,302.70734977109447,302.70734977109447,908.12204931328336,74.461506095906444,74.461506095906444,74.461506095906444,74.461506095906444,74.461506095906444,74.461506095906444,74.461506095906444,74.461506095906444,74.461506095906444,74.461506095906444,74.461506095906444,74.461506095906444,74.461506095906444,74.461506095906444,74.461506095906444,372.3075304795322,372.3075304795322,372.3075304795322,1116.9225914385968,78.29773652865498,78.29773652865498,78.29773652865498,78.29773652865498,78.29773652865498,78.29773652865498,78.29773652865498,78.29773652865498,78.29773652865498,78.29773652865498,78.29773652865498,78.29773652865498,78.29773652865498,78.29773652865498,78.29773652865498,391.4886826432749,391.4886826432749,391.4886826432749,1174.4660479298243,78.845769447619048,78.845769447619048,78.845769447619048,78.845769447619048,78.845769447619048,78.845769447619048,78.845769447619048,78.845769447619048,78.845769447619048,78.845769447619048,78.845769447619048,78.845769447619048,78.845769447619048,78.845769447619048,78.845769447619048,394.22884723809523,394.22884723809523,394.22884723809523,1182.6865417142858,325.50551920000004,325.50551920000004,325.50551920000004,325.50551920000004,325.50551920000004,325.50551920000004,325.50551920000004,325.50551920000004,325.50551920000004,325.50551920000004,325.50551920000004,325.50551920000004,325.50551920000004,325.50551920000004,325.50551920000004,1627.5275960000004,1627.5275960000004,1627.5275960000004,4882.5827880000015,129.16139616780845,129.16139616780845,129.16139616780845,129.16139616780845,129.16139616780845,129.16139616780845,129.16139616780845,129.16139616780845,129.16139616780845,129.16139616780845,129.16139616780845,129.16139616780845,129.16139616780845,129.16139616780845,129.16139616780845,645.80698083904224,645.80698083904224,645.80698083904224,1937.4209425171275,152.6312678572543,152.6312678572543,152.6312678572543,152.6312678572543,152.6312678572543,152.6312678572543,152.6312678572543,152.6312678572543,152.6312678572543,152.6312678572543,152.6312678572543,152.6312678572543,152.6312678572543,152.6312678572543,152.6312678572543,763.15633928627153,763.15633928627153,763.15633928627153,2289.4690178588144,164.65011344015599,164.65011344015599,164.65011344015599,164.65011344015599,164.65011344015599,164.65011344015599,164.65011344015599,164.65011344015599,164.65011344015599,164.65011344015599,164.65011344015599,164.65011344015599,164.65011344015599,164.65011344015599,164.65011344015599,823.25056720077998,823.25056720077998,823.25056720077998,2469.7517016023398,167.96239371890843,167.96239371890843,167.96239371890843,167.96239371890843,167.96239371890843,167.96239371890843,167.96239371890843,167.96239371890843,167.96239371890843,167.96239371890843,167.96239371890843,167.96239371890843,167.96239371890843,167.96239371890843,167.96239371890843,839.81196859454212,839.81196859454212,839.81196859454212,2519.4359057836268,168.43557661587303,168.43557661587303,168.43557661587303,168.43557661587303,168.43557661587303,168.43557661587303,168.43557661587303,168.43557661587303,168.43557661587303,168.43557661587303,168.43557661587303,168.43557661587303,168.43557661587303,168.43557661587303,168.43557661587303,842.17788307936519,842.17788307936519,842.17788307936519,2526.5336492380952,782.84074780000026,782.84074780000026,782.84074780000026,782.84074780000026,782.84074780000026,782.84074780000026,782.84074780000026,782.84074780000026,782.84074780000026,782.84074780000026,782.84074780000026,782.84074780000026,782.84074780000026,782.84074780000026,782.84074780000026,3914.203739000001,3914.203739000001,3914.203739000001,11742.611217000003,33.911244878090152,33.911244878090152,33.911244878090152,33.911244878090152,33.911244878090152,33.911244878090152,33.911244878090152,33.911244878090152,33.911244878090152,33.911244878090152,33.911244878090152,33.911244878090152,33.911244878090152,33.911244878090152,33.911244878090152,169.55622439045075,169.55622439045075,169.55622439045075,508.66867317135222,33.321736676903384,33.321736676903384,33.321736676903384,33.321736676903384,33.321736676903384,33.321736676903384,33.321736676903384,33.321736676903384,33.321736676903384,33.321736676903384,33.321736676903384,33.321736676903384,33.321736676903384,33.321736676903384,33.321736676903384,166.60868338451692,166.60868338451692,166.60868338451692,499.82605015355057,35.782876086535929,35.782876086535929,35.782876086535929,35.782876086535929,35.782876086535929,35.782876086535929,35.782876086535929,35.782876086535929,35.782876086535929,35.782876086535929,35.782876086535929,35.782876086535929,35.782876086535929,35.782876086535929,35.782876086535929,178.91438043267965,178.91438043267965,178.91438043267965,536.74314129803884,39.388821385100691,39.388821385100691,39.388821385100691,39.388821385100691,39.388821385100691,39.388821385100691,39.388821385100691,39.388821385100691,39.388821385100691,39.388821385100691,39.388821385100691,39.388821385100691,39.388821385100691,39.388821385100691,39.388821385100691,196.94410692550346,196.94410692550346,196.94410692550346,590.8323207765103,70.732801125707923,70.732801125707923,70.732801125707923,70.732801125707923,70.732801125707923,70.732801125707923,70.732801125707923,70.732801125707923,70.732801125707923,70.732801125707923,70.732801125707923,70.732801125707923,70.732801125707923,70.732801125707923,70.732801125707923,353.6640056285396,353.6640056285396,353.6640056285396,1060.992016885619,213.13748015233807,213.13748015233807,213.13748015233807,213.13748015233807,213.13748015233807,213.13748015233807,213.13748015233807,213.13748015233807,213.13748015233807,213.13748015233807,213.13748015233807,213.13748015233807,213.13748015233807,213.13748015233807,213.13748015233807,1065.6874007616902,1065.6874007616902,1065.6874007616902,3197.0622022850712,155.61157438010042,155.61157438010042,155.61157438010042,155.61157438010042,155.61157438010042,155.61157438010042,155.61157438010042,155.61157438010042,155.61157438010042,155.61157438010042,155.61157438010042,155.61157438010042,155.61157438010042,155.61157438010042,155.61157438010042,778.05787190050205,778.05787190050205,778.05787190050205,2334.1736157015062,174.63115100210541,174.63115100210541,174.63115100210541,174.63115100210541,174.63115100210541,174.63115100210541,174.63115100210541,174.63115100210541,174.63115100210541,174.63115100210541,174.63115100210541,174.63115100210541,174.63115100210541,174.63115100210541,174.63115100210541,873.15575501052706,873.15575501052706,873.15575501052706,2619.467265031582,178.24831503141789,178.24831503141789,178.24831503141789,178.24831503141789,178.24831503141789,178.24831503141789,178.24831503141789,178.24831503141789,178.24831503141789,178.24831503141789,178.24831503141789,178.24831503141789,178.24831503141789,178.24831503141789,178.24831503141789,891.24157515708941,891.24157515708941,891.24157515708941,2673.7247254712684,178.6917796605284,178.6917796605284,178.6917796605284,178.6917796605284,178.6917796605284,178.6917796605284,178.6917796605284,178.6917796605284,178.6917796605284,178.6917796605284,178.6917796605284,178.6917796605284,178.6917796605284,178.6917796605284,178.6917796605284,893.45889830264196,893.45889830264196,893.45889830264196,2680.3766949079268,178.257335539916,178.257335539916,178.257335539916,178.257335539916,178.257335539916,178.257335539916,178.257335539916,178.257335539916,178.257335539916,178.257335539916,178.257335539916,178.257335539916,178.257335539916,178.257335539916,178.257335539916,891.28667769957997,891.28667769957997,891.28667769957997,2673.8600330987401,865.44015561406809,865.44015561406809,865.44015561406809,865.44015561406809,865.44015561406809,865.44015561406809,865.44015561406809,865.44015561406809,865.44015561406809,865.44015561406809,865.44015561406809,865.44015561406809,865.44015561406809,865.44015561406809,865.44015561406809,4327.2007780703407,4327.2007780703407,4327.2007780703407,12981.602334211024,377.78315689560003,377.78315689560003,377.78315689560003,377.78315689560003,377.78315689560003,377.78315689560003,377.78315689560003,377.78315689560003,377.78315689560003,377.78315689560003,377.78315689560003,377.78315689560003,377.78315689560003,377.78315689560003,377.78315689560003,1888.9157844780002,1888.9157844780002,1888.9157844780002,5666.7473534340006,666.84746920000009,666.84746920000009,666.84746920000009,666.84746920000009,666.84746920000009,666.84746920000009,666.84746920000009,666.84746920000009,666.84746920000009,666.84746920000009,666.84746920000009,666.84746920000009,666.84746920000009,666.84746920000009,666.84746920000009,3334.2373460000003,3334.2373460000003,3334.2373460000003,10002.712038000001,{"$error":"#REF!"},{"$error":"#REF!"},{"$error":"#REF!"},63.818752822314437,3.1909376411157222,0.05,-20,5.3770309296330314,0.3,19.14562584669433,-10,2.4794461377238108,2.3485301038611714,0,0,10.205007171218014,22.352237615225921,1.117611880761296,0.05,-10,3.0394528834810624,0.3,6.7056712845677762,-5,1.5488410712675662,1.0863187480999799,0,0,5.6746127028486084,40.299999999999997,2.0150000000000001,0.05,-20,3.3954650769741028,0.3,12.089999999999998,-10,1.5657103113323712,2.1762000000000001,0,0,7.1373753883064737,6.080335632601237,0.30401678163006185,0.05,-10,0.82680284583471164,0.3,1.8241006897803711,-5,0.42132128858765577,0.29550431174442016,0,0,1.5436284461667875,378.4,37.839999999999996,0.1,-20,33.400174492253349,0.3,113.52,-10,14.701359350078642,8.6053762180842757,0.86053762180842763,0.1,57.567447682224689,252.3,25.230000000000004,0.1,-20,22.269725223032566,0.3,75.69,-10,9.8022012791354154,6.4540321635632072,0.64540321635632081,0.1,39.17136188208751,1,68.8,13.76,0.2,-20,6.6248279984634753,0.3,20.639999999999997,-10,2.6729744272870257,5.3113599999999996,0,0,14.609162425750501,1,40.1,4.0100000000000007,0.1,-8,6.8247791991170157,0.3,12.03,-4,3.3926023462196566,2.6265500000000004,0,0,12.843931545336671,1,40.1,4.0100000000000007,0.1,-8,6.8247791991170157,0.3,12.03,-4,3.3926023462196566,3.2120100000000003,0,0,13.429391545336671,1,6.8,4.0100000000000007,0.1,-8,1.6725428053152334,0.3,2.04,-4,0.57530413851106399,0.4556,0,0,2.7034469438262971,3.4,2.0050000000000003,0.05,-2,2.9068353658536568,0.3,1.02,-1,1.0709999999999988,0.4556,0,0,4.4334353658536561,172,17.2,0.1,-20,15.181897496478797,0.3,51.6,-10,6.682436068217565,10.4748,0,0,32.339133564696361,53.802748893045042,5.3802748893045047,0.1,-20,4.7489989460639412,0.3,16.140824667913513,-10,2.0903106382100982,3.8468965458527209,0,0,10.686206130126759,42.266116555699696,4.22661165556997,0.1,-20,3.73069679722592,0.3,12.679834966709908,-10,1.6420966379959023,2.0414534296402955,0,0,7.4142468648621183,294.30182355412722,29.430182355412725,0.1,-20,25.977093710613659,0.3,88.290547066238162,-10,11.434029771280821,6.4157797534799741,0,0,43.826903235374452,9.28358886262507,1.9776330439075662,0.17561442801871624,-20,-10,1.0010517155406147,0.3,2.7850766587875211,-10,0.36068016894249216,24.230628014511524,0,0,25.59235989899463,0.82572459208164961,1.9776330439075662,0.70545156940338871,-10,-10,0.36304763912495081,0.3,0.24771737762449486,-5,5.7216471289681652E-2,11.687093539822978,0,0,12.10735765023761,0.5,0.5,0.5,0.5,0.5,0.5,0.5,0.5,0.5,0.5,0.5,0.5,0.5,0.5,0.5,0.5,0.5,0.5,0.5,0.5,0.5,0.5,0.5,0.5,0.5,0.5,0.5,0.5,0.5,0.5,0.5,0.5,0.5,0.5,0.5,0.5,0.5,0.5,0.5,0.5,0.5,0.5,0.5,0.5,0.5,0.5,0.5,0.5,0.5,0.5,0.5,0.5,0.5,0.5,0.5,0.5,0.5,0.5,0.5,0.5,882.24047321048135,null,null,null,null,1700.016687,{"$error":"#REF!"},{"$error":"#REF!"},37000,31000,185000,155000,2000000,53400,{"$error":"#REF!"},0.15,0.15,0.3,230,851.66666666666652,0.05,1447.8936897936524,375.5749310936863,1567.3220999466143,1606.4290572376919,1638.2575240385836,1663.4120120120942,1682.4559647952965,1602.3390140907584,1704.2757931808617,1707.9953444122248,1707.4960817095784,1703.1713625196285,1925.9570760426845,1904.0721522713236,1879.9042573488393,1853.7204427766333,1825.7675033851169,8157.8766580302799,8425.2775959130504,9389.4214318245977,25972.575685767926,1440.1998234981647,373.57918836468559,1558.9936109394755,1597.8927603626537,1629.5520959837615,1654.5729171911526,1673.5156735761079,1686.9024918990237,1695.2195550220792,1698.9193411767278,1698.4227314730608,1694.1209931217227,1915.7228604104362,1893.9542294847242,1869.9147587369482,1843.8700806012391,1816.0656784813195,8114.5270580531505,8473.5851126926136,9339.5276077146682,25927.639778460427,1522.7113001888042,394.98217008286798,1648.3109840505495,1689.4387313450427,1722.9118836952744,1749.3661899456088,1769.394208789573,1783.5479805101986,1792.3415422057551,1796.2532953486491,1795.7282340375596,1791.1800418414741,2025.4778538241551,2002.4620613213431,1977.0453287534378,1949.5085070846947,1920.1111438770267,8579.421997826048,8959.0510939436354,9874.6048948606585,27413.077986630346,1445.4887168125542,374.95109553999538,1564.7187545976981,1603.7607546503257,1635.5363538938648,1660.6490598882451,1679.6613803822677,1693.0973595596524,1701.444965707939,1705.1583387093142,1704.6599052894524,1700.3423695224812,1922.7580326576021,1900.9094600705405,1876.7817083814357,1850.6413855151695,1822.7348763722639,8144.3263034124011,8504.7029387888397,9373.8254629970124,26022.854705198253,1571.3812943956516,407.60687440295646,1700.995485725211,1743.4377876712101,1777.9808330016599,1805.2806908229254,1825.9488596158587,1840.5550243722246,1849.6296522138896,1853.666435625345,1853.1245919268349,1848.431027139236,2090.2176343718506,2066.4661945486046,2040.2370740863671,2011.820100709991,1981.4831178273155,8853.6436568368645,9245.4067312775296,10190.22412154413,28289.274509658524,7427.6748246888274,1926.6942594841917,8040.3409352595481,8240.9590912669246,8404.2386906131433,8533.2808698600256,8630.9760871591043,8606.4418704318578,8742.9115083305242,8761.992755272262,8759.4315444364875,8737.2457941445427,9880.1334573067288,9767.8640976965362,9643.8831273070282,9509.5605166877267,9366.1623199430433,41849.795674158748,43608.023472615678,48167.603518941061,133625.42266571548,1869.9267265385881,245.14229900772912,2041.1304291439289,2106.9848873802571,2161.9390787796924,2206.8817941560965,2242.6418947375155,2269.9920043471079,2289.6519858425495,2302.2922139884308,2308.5366562659019,2308.9657724897615,2454.6153498677863,2437.8281637642431,2417.0737360880953,2392.7679655517068,2365.2961374789015,10759.57808419749,11479.43863293375,12067.581352750734,34306.598069881977,2215.6535519789331,290.46614384841683,2418.5107476144226,2496.5408983332495,2561.6554547713386,2614.90753440958,2657.2792448877822,2689.6860588251807,2712.9809330114272,2727.9581863934832,2735.3571504896945,2735.8656051109979,2908.4440269720594,2888.5530932845691,2863.9614230617103,2835.1618096553484,2802.6107729836936,12748.893880016372,13601.847933830784,14298.73112595738,40649.472939804538,2425.2176643091307,317.93942799214102,2647.2617892798385,2732.6722992862337,2803.9456138061246,2862.2344577837898,2908.6138299681038,2944.0857915185734,2969.5839748035387,2985.9778281803692,2994.0766116782197,2994.6331576815346,3183.5346386022393,3161.7623521834448,3134.8447174448938,3103.3211378238834,3067.6913124582875,13954.727990124091,14888.357363862237,15651.154158512749,44494.23951249908,2633.3589646086266,345.22618535526357,2874.4597514103175,2967.200512582865,3044.5907709874823,3107.8821827581382,3158.2420070790099,3196.7583057666961,3224.4448390304324,3242.2456745552936,3251.0395261094654,3251.6438369837492,3456.7575533858153,3433.1166874690266,3403.888880089924,3369.6598283172907,3330.9721173481976,15152.375224817813,16166.132182445637,16994.395066610254,48312.902473873706,2812.7095127090861,368.7385535489783,3070.2309845907398,3169.2880537832316,3251.9491413642149,3319.5511501874103,3373.340838121856,3414.4803717628006,3444.0525556281409,3463.0657551531012,3472.45853078764,3473.1039995473402,3692.187424581628,3666.9364468962849,3635.7180171433752,3599.1577225440374,3557.8351022214106,16184.360168047453,17267.161212879022,18151.834713386736,51603.356094313218,11956.866420144364,1567.512609752529,13051.593702039247,13472.686651365837,13824.080059708855,14111.457119295013,14340.117814794268,14515.002532220358,14640.714288316089,14721.539658270678,14761.468475330923,14764.212371813384,15695.538993409529,15588.196743597568,15455.486773827999,15300.068463892268,15124.40544249049,68799.935347203224,73402.937325951425,77163.696417217856,219366.56909037248,3317.8204163322407,620.71723010141545,3608.4525290905431,3713.4139446179488,3800.196602818276,3870.2938061681907,3925.097859532812,3872.3310184378661,3993.9277790234109,4010.2875584006556,4016.0327379754804,4012.13713500939,4380.5724259104709,4341.9003160355669,4296.9779934369344,4246.4884083283396,4191.0636408640185,18917.454742227768,19904.716228846803,21457.002784575328,60279.173755649899,3655.8533754770979,664.04533221310248,3977.5043585538979,4094.4336586959034,4191.2075507550999,4269.4804516007325,4330.7949184638901,4376.5885507242047,4408.2004880335062,4426.877527570211,4433.7798819627551,4429.986598232721,4824.1668873824956,4782.5073227692938,4733.8761817986588,4679.0318902565878,4618.6764514650131,20863.420938069521,22075.433046523398,23638.25873367205,66577.112718264965,3947.9289644979349,712.921598075009,4295.5727733303884,4422.1110306312767,4526.8574975013989,4611.6006477293986,4678.0080387576763,4727.633772028772,4761.9255170092938,4782.2311235290181,4789.8048457157793,4785.8131995230087,5209.0124924263946,5164.2244135047877,5111.8900461983321,5052.8296449085783,4987.8024563353138,22534.149987950143,23847.408457805868,25525.759053373407,71907.317499129407,4078.8476814211808,720.17728089525895,4439.1785060080156,4570.9612672331905,4680.1271248813473,4768.5312426463834,4837.9033874612778,4889.8556653263486,4925.8898047383718,4947.4040132646078,4955.699431398918,4951.9862065062307,5379.515586043417,5334.0261475395673,5280.6705884713592,5220.3012138324602,5153.7069937204615,23296.701528230216,24670.835121234475,26368.220529607264,74335.757179071967,4384.0908071047379,776.34542795193477,4771.2264703159508,4912.7258414544413,5029.9299743658748,5124.8318410103357,5199.289697737715,5255.0353961350247,5293.68220784203,5316.7321907784462,5325.5831227144754,5321.5350266865762,5782.4050589534781,5733.402641444889,5675.9550912297418,5610.9778232540284,5539.3182200487263,25038.003824884319,26512.567944156552,28342.058834930867,79892.630603971731,19384.541244833192,3494.2068692367206,21091.934637298793,21713.645742632762,22228.318750321996,22644.737989155037,22971.093901953373,23121.444402652218,23383.625796646615,23483.53241354294,23520.90001976741,23501.458165957927,25575.672450716258,25356.060841294104,25099.369901135025,24809.628980579997,24490.567762433533,110649.73102136195,117010.96079856712,125331.29993615892,352991.99175608804,301.25268804041667,301.25268804041667,386.33915493449621,367.94205231856773,778.01793810709466,814.47035409320915,1093.5282303909567,1108.1229307390604,1343.6473978681431,1340.1335519142071,1537.8072156422877,1713.6159645665277,null,null,null,null,null,3440.2977298443243,7043.3270607302265,0,10483.624790574551,520.28686020252587,520.28686020252587,667.23781686953339,775.41787955861025,1343.6975876699084,1406.6537497661864,1888.6084410858559,1913.8146255322263,2320.5837279112338,2314.515042215844,2655.9128584969549,2624.1667145304359,null,null,null,null,null,6081.6154749500938,11828.992968686694,0,17910.608443636789,658.30452756895306,658.30452756895306,844.23749552210074,981.114727119284,1700.1432734669831,1779.7999584930319,2389.6038563953066,2421.496542167391,2936.1702005931006,2928.4916609734123,3360.4528449874115,3320.2853299018284,null,null,null,null,null,7694.8993109967068,14966.896578623142,0,22661.795889619851,870.77282977430195,870.77282977430195,1116.7158088554211,1297.7702742252761,2248.8658474303497,2354.231789977825,3160.8503738491686,3203.0364489494218,3883.8214339967949,3873.6646396969572,4445.0416343920597,4391.9100223321502,null,null,null,null,null,10178.434094338041,19797.474179367386,0,29975.908273705427,1157.6366438805542,1157.6366438805542,1484.6020648885194,1725.3023675204618,2989.7229485578273,3129.8002131890462,4202.1479006640138,4258.2315825701307,5163.2915687651339,5149.7887619895755,5909.397840169976,5838.7627686956639,null,null,null,null,null,13531.57549481987,26319.472522190481,0,39851.048017010347,3508.2535494667518,null,4499.1323410700707,5147.5473007422006,9060.4475952321627,9484.9560655192981,12734.738802385302,12904.70212995823,15647.514329134407,15606.593656789997,17908.612393688691,17888.740800026608,0,0,0,0,0,40926.822104949038,79956.163309597934,0,120882.98541454694,2569.2907682494533,894.69815889700305,2853.3282616612637,2987.9673857838802,3103.3136040679228,3200.8990319807322,3282.1536173166583,3348.4113962668926,3400.9163853458658,3440.8281296684127,4074.7938580219393,4063.8491560523967,4044.706911281718,4018.1726599902136,3984.9938092496432,3945.863346425429,3901.4233272052238,15427.661900810457,18328.798925355506,19895.160054152228,53651.620880318187,3489.2790711076823,1215.0635495899571,3875.022130406096,4057.8716092423911,4214.5199537441495,4347.047885369906,4457.3973746327938,4547.3801372870394,4618.6856359818485,4672.8886152152763,5533.8590336201469,5518.995352173979,5492.9988262541601,5456.9634312560147,5411.9041989872749,5358.7622554351583,5298.4095577565167,20951.858953395338,24891.808774278295,27019.038269689125,72862.705997362747,3789.651657984607,1319.6615981187417,4208.6011872242461,4407.1911585370335,4577.3244858988892,4721.2610084812995,4841.1098702148211,4938.83874736492,5016.2825390036387,5075.1515506056412,6010.2381135006926,5994.0949005652074,5965.8604786269789,5926.7229973255753,5877.7848668995302,5820.0682296266996,5754.5201045955018,22755.48771035629,27034.605851040098,29344.956677074282,79135.050238470678,4111.7168723162395,1431.8136199405487,4566.2710117169245,4781.7382391596266,4966.3304222388151,5122.4994535527285,5252.5337235572933,5358.5681323515528,5442.5935187128971,5506.4655391796177,6521.0208452407833,6503.5056942478495,6472.8717575326082,6430.4081601547641,6377.311001172242,6314.6892900743251,6243.5705287835299,24689.372850225387,29332.153729732701,31838.850737717468,85860.377317675564,4372.2438661045808,1522.5363301008372,4855.5995079261738,5084.7191902359682,5281.0075206978318,5447.0717489609788,5585.3452626940807,5698.098233738403,5787.4476445864557,5855.3667300618154,6934.2063854904582,6915.581437841859,6883.0064707278416,6837.8522908722061,6781.3907846746442,6714.8012307887002,6639.1762358110027,26253.743230515032,31190.700431718989,33856.227012874398,91300.670675108413,18332.182235762564,6383.7732566470886,20358.822098934703,21319.4875829589,22142.495986647609,22838.779128345646,23418.53984841565,23891.296647008807,24265.925723630706,24550.700564730763,29074.118235874023,28996.026540881292,28859.444444423309,28670.119539598774,28433.384660983334,28154.184352350312,27837.099754151775,110078.12464530251,130778.0677121256,141954.23275150749,382810.42510893557,2891.8829890041484,2891.8829890041484,3293.9408956766451,3519.9988593801349,3717.0582394754097,3887.3682027376185,4033.0294660077911,4156.0033341303779,4258.1202137560131,4341.0876324328774,6363.8380281355812,6319.9682335108409,6265.8460428455201,6202.5473528024941,6131.0688417593828,6052.3330747321606,5967.1933017488955,18451.395663277599,25439.017441965691,30618.98861388845,74509.401719131754,3172.9304782789877,3172.9304782789877,3614.0623605041101,3862.0897549802221,4078.3003400946536,4265.161867771928,4424.9792129037605,4559.9042896380661,4671.9453925951739,4762.9759952941477,6982.3072769813489,6934.1739987782048,6874.7919459890063,6805.3415762346576,6726.9164300261009,6640.5287318096616,6547.1146546704667,20244.593536254673,27911.306953286941,33594.693338729892,81750.593828271521,3700.7092767749914,3700.7092767749914,4215.2181385377608,4504.501905048126,4756.6765188782783,4974.6202127857223,5161.021249860989,5318.3894892719745,5449.0672812790563,5555.2397291737343,8143.7300596746345,8087.5903899316709,8018.3308473304969,7937.3282444103161,7845.8580189851855,7745.1007668558477,7636.1483822331957,23612.038025110873,32554.016949331068,39182.766259815042,95348.82123425699,4153.7955612812084,4153.7955612812084,4731.2969174786585,5055.9983558820077,5339.0472833320264,5583.674321192967,5792.8968627421364,5969.5320549347107,6116.2090273204158,6235.3804103747461,9140.785520884785,9077.7725432230181,9000.0333967197748,8909.1134602163365,8806.4443262898239,8693.3511337798573,8571.0594599980759,26502.913740627795,36539.679556737668,43980.001777003868,107022.59507436934,4681.566545869995,4681.566545869995,5332.4437952391536,5698.4009948650591,6017.4134185736702,6293.1221624849404,6528.9280023988267,6728.0060249910157,6893.3194105054927,7027.6324145764347,10302.191108401059,10231.171857736252,10143.555367659932,10041.083369024582,9925.3693490174082,9797.9068153396565,9660.077064123243,29870.308373561646,41182.320816210253,49567.991965164823,120620.62115493671,18600.884851209332,18600.884851209332,21186.962107436328,22640.98987015555,23908.495800354038,25003.946766973175,25940.854793913502,26731.835192966144,27388.661325456153,27922.31618185194,40932.851994077406,40650.677023179989,40302.557600544729,39895.414002688383,39435.656966077906,38929.220522517186,38381.592862773876,118681.24933883258,163626.34171753161,196944.44195460208,479252.03301096626,5461.1737572536022,3786.5811479011513,6147.2691573379088,6507.9662451640152,6820.3718435433329,7088.2672347183507,7315.1830833244494,7504.4147303972704,7659.0365991018789,7781.9157621012901,10438.63188615752,10383.817389563237,10310.552954127237,10220.720012792708,10116.062651009026,9998.1964211575905,9868.6166289541197,33879.057564088056,43767.816367321197,50514.148668040689,128161.02259944992,6662.20954938667,4387.9940278689446,7489.0844909102061,7919.9613642226132,8292.8202938388022,8612.2097531418331,8882.3765875365534,9107.2844269251054,9290.6310285770232,9435.8646105094231,12516.166310601497,12453.169350952183,12367.790772243166,12262.305007490671,12138.820629013375,11999.29098724482,11845.524212426983,41196.452489650008,52803.115727565237,60613.731608419024,154613.29982563423,7490.3609347595984,5020.3708748937333,8423.8193257620078,8911.6930635851604,9334.0010047771684,9695.8812212670218,10002.13112007581,10257.228236636895,10465.349820282696,10630.391279779375,14153.968173175326,14081.685290496878,13984.191325957476,13864.051241735891,13723.642885884716,13565.168996482547,13390.668486828697,46367.525735467163,59588.622800371166,68527.722936889331,174483.87147272762,8265.5124335974469,5585.6091812217574,9297.5679291955821,9837.7365950416352,10305.377705570841,10706.173774745695,11045.43058629943,11328.100187286263,11558.802546033312,11741.845949554365,15661.806366125569,15581.278237470868,15472.905154252383,15339.521620371101,15183.755327462066,15008.040423854181,14814.629988781606,51192.286590853182,65871.83328647037,75818.852514721337,192882.97239204487,9053.8104119745767,6204.1028759708324,10188.043303165327,10783.120185101026,11298.420939271502,11740.19391144592,12114.273265092907,12426.104258729418,12680.767055091948,12882.99914463825,17236.397493891516,17146.75329557811,17026.561838387774,16878.935659896786,16706.760133692052,16512.708046128355,16299.253299934246,56124.051604076682,72373.021247929239,83424.218978039207,211921.29183004514,36933.067086971896,24984.65810785642,41545.784206371027,43960.47745311445,46050.991787001651,47842.725895318821,49359.394642329149,50623.131839974951,51654.587049086855,52473.016746582703,70006.970229951432,69646.703564061288,69162.002044968045,68565.533542287158,67869.041627061233,67083.404874867498,66218.692616925648,228759.37398413511,294404.40942965721,338898.67470610957,862062.45811990206,375.66352020018871,null,1196.0058840395022,1920.3316646464912,2572.9620060935408,3159.0825833559593,3683.5477722938545,4150.9004430486466,4565.3906195993695,4930.9930685805248,5251.4238770247021,5530.1560754388656,5770.4343595436867,5975.2889610910433,6147.5487154172397,6289.853370780188,6404.6651820600082,12531.929910429348,24428.864083692108,30587.790588892167,67548.584583013624,681.77092770213721,null,2170.5648732256559,3485.1036369039753,4669.5263168006277,5733.24410737174,6685.0669466485497,7533.2394381770655,8285.474715213868,8948.9863616980074,9530.518498278414,10036.374135770211,10472.44189282452,10844.221169307284,11156.845861878255,11415.106703525669,11623.472304331657,22743.50588095055,44334.593149137567,55512.087931867383,122590.18696195551,838.52754364063514,null,2669.6333878492101,4286.4183162455101,5743.1701372030484,7051.46392007337,8222.1352335156735,9265.3243268113783,10190.517780306776,11006.587765834784,11721.829050291401,12343.993868278603,12880.324782851398,13337.585646901889,13722.090771557887,14039.73240214936,14296.006596785281,27972.82099488681,54528.252791522944,68275.740200245811,150776.81398665556,881.72818582841012,null,2807.1719548714495,4507.2530703947514,6039.0562294399351,7414.7528448336607,8645.7367298963763,9742.6705559625643,10715.529648639467,11573.643270911847,12325.733533129629,12979.95206227698,13543.914555693455,14024.733337577569,14429.048030131014,14763.05444507715,15032.531795492978,29413.970829436174,57337.529070920486,71793.282163972166,158544.78206432881,887.89970614094932,null,2826.8203215889121,4538.8008924160713,6081.3256711880613,7466.6512626565591,8706.2512293793334,9810.8628744127345,10790.531344115563,11654.651200208567,12412.005602106517,13070.803232848175,13638.713094670889,14122.897293388378,14530.041924212888,14866.386165495403,15137.749681022646,29619.849377228937,57738.854253691563,72295.788158790208,159654.49178971071,3665.5898835123207,null,11670.19642157473,18737.907580606799,25106.040360725212,30825.194718291288,35942.737911733784,40502.997638412387,44547.444107875039,48114.86166723373,51241.510560830662,53961.27937461283,56305.82868558394,58304.726408266164,59985.575303197285,61374.133087027767,62494.425559692565,122282.0769929318,238368.09334896464,298464.68904376769,659114.85938566423,362.08558622205408,null,1878.997064284935,3234.1986117598249,4456.0725808713805,5554.2438168436047,6537.7228430840723,7414.9425429777284,8193.7927411965175,8881.6528013922489,9485.4223507729785,10011.55023603719,10466.061809437753,10854.584638351102,11182.372726620923,11454.329331113677,11675.028452351748,21661.23491684382,43987.360672376664,55632.376957875196,121280.97254709568,427.88003023834921,null,2220.4289573431188,3821.8836994741791,5265.7839560568318,6563.503499542102,7725.69015236425,8762.3091341703566,9682.6839268875319,10495.534795731024,11209.015096732539,11830.745494246989,12367.846205157495,12826.967380121314,13214.317726165324,13535.691469229805,13796.493749856936,25597.29026478048,51980.288447768442,65741.316530530879,143318.89524307978,461.57315277895196,null,2395.2751283850107,4122.8353371343528,5680.4345393171234,7080.3421273756076,8334.0443792940168,9452.2912191762589,10445.140300205107,11321.998558960961,12091.661381961829,12762.349517604423,13341.743859417198,13837.018219656864,14254.87020577072,14601.55030608766,14882.889285272897,27612.931511506111,56073.440977908584,70918.071876205329,154604.44436562003,470.85865899092909,null,2443.4610810343515,4205.7747648359746,5794.7083221053936,7222.777969691927,8501.7010560069448,9642.4437622881214,10655.26607237924,11549.764163000707,12334.910358206122,13019.090783884032,13610.140850748614,14115.378687245404,14541.636637158037,14895.290930418563,15182.289629678871,28168.423193674593,57201.475139758215,72344.736735249491,157714.63506868231,472.18515987835428,null,2450.3447885556852,4217.6232545076346,5811.0331482180018,7243.1259471656858,8525.6520098230758,9669.6084113040997,10685.284039832686,11582.302106434954,12369.660211955304,13055.76810763826,13648.483278081671,14155.144468329478,14582.603270213363,14937.253876751549,15225.061107451153,28247.779148270081,57362.622877165304,72548.54600082722,158158.9480262626,2194.5825881086384,null,11388.507019603101,19602.315667711966,27008.032546568731,33663.99336061893,39624.810440572357,44941.595069916562,49662.167080501087,53831.252425519895,57490.669399628772,60679.504139410899,63434.276002842729,65789.09339370417,67775.800565928366,69424.115913601257,70761.762224611608,131287.65903507508,266605.18811497721,337185.04810068809,735077.89525074034,737.74910642224279,null,3075.0029483244371,5154.5302764063163,7029.0345869649209,8713.3264001995631,10221.270615377927,11565.842986026375,12759.183360795887,13812.645869972774,14736.84622779768,15541.706311476057,16236.496168981441,16829.873599442144,17329.921442038161,17744.182701893864,18079.693634411757,34193.164827273162,68416.224756068768,86220.167546767363,188829.55713010926,1109.6509579404865,null,4390.9938305687747,7306.9873363781544,9935.3102728574595,12296.747606913843,14410.757099012801,16295.548572347423,17968.1586421014,19444.52115742903,20739.533595010951,21867.119630017201,22840.288097982015,23671.188549428596,24371.163588043579,24950.798172755472,25419.966054188593,48340.79614573103,96314.881596905994,121253.40446239826,265909.08220503532,1300.1006964195872,null,5064.9085162342208,8409.253653379863,11423.604676520172,14131.806047448978,16556.17961280969,18717.615545987639,20635.658080511883,22328.586324795746,23813.490432253231,25106.343385883025,26222.068642268598,27174.603866558755,27976.960977328607,28641.28270823702,29178.895882058176,55585.752506392921,110601.69376943153,139193.81207645114,305381.25835227559,1352.5868448193391,null,5250.6330359058011,8713.027835230725,11833.76455154533,14637.530814525588,17147.437785903319,19385.114318250686,21370.795721018709,23123.407433912555,24660.643891335749,25999.042846161014,27154.055406442068,28140.112024822971,28970.684667289053,29658.345375495715,30214.821425171849,57582.394023110763,114539.0042106787,144138.01889922167,316259.41713301116,1360.0848660193037,null,5277.1651101445968,8756.4241469237058,11892.358819406063,14709.777209822245,17231.903239202409,19480.471285716834,21475.815383948247,23236.953306643522,24781.665814061824,26126.571340486436,27287.196372752558,28278.041761717854,29112.645194426252,29803.640042246952,30362.810788473798,57867.628525499022,115101.47713085686,144844.33415961743,317813.43981597334,5860.1724716209592,null,23058.70344117783,38340.223248318769,52114.072907293943,64489.188078910214,75567.548352306141,85444.592708328943,94209.611188376119,101946.11409275362,108732.17996045944,114640.78351402373,119740.10468842667,124093.81980197033,127761.37586912565,130798.24900062903,133256.18778430417,253569.73602800688,504973.28146394191,635649.73714445578,1394192.7546364046,14115.216568056243,null,14934.758887237065,15004.096387064652,15032.964649069121,15025.060658485716,14983.821073696947,14912.4386360797,14813.877607320115,14690.888289607743,14546.020681048662,14381.637315731923,14199.92533513685,14002.90783497094,13792.454529072225,13570.291769687732,13338.011961244461,74980.701655553494,73344.862529788137,68903.59143011221,217229.15561545384,13869.839674394263,null,14675.135187829275,14743.267334537417,14771.633754829294,14763.86716608082,14723.344484299709,14653.202948706181,14556.355290687779,14435.504001576553,14293.154750678443,14131.62900212987,13953.075876457398,13759.483300163865,13552.688484250999,13334.387770306781,13106.145880628796,73677.247927576507,72069.845993778828,67705.781311807848,213452.87523316315,14894.264342259714,null,15759.038884165921,15832.203262925836,15862.664823563113,15854.324595516284,15810.808913397808,15735.486732534344,15631.485918298697,15501.708567703325,15348.845418483712,15175.389397834437,14983.648360062227,14775.757059679127,14553.688403867525,14319.264025798338,14074.16421796734,79119.040479568968,77392.916034854512,72706.52206737455,229218.47858179803,16395.203013334311,null,17347.123420379023,17427.660788022607,17461.19204940449,17452.011352133173,17404.110467188366,17321.197849398999,17206.716568298893,17063.861173722154,16895.593556932094,16704.657864703171,16493.594520584633,16264.753404557425,16020.306239443051,15762.258229726056,15492.458995901743,87092.098077127666,85192.027013055296,80033.371390212909,252317.49648039587,29441.821140564662,null,31151.24006886156,31295.865711579478,31356.079750979909,31339.593438075575,31253.575028552208,31104.684010779194,30899.103305291701,30642.56955132278,30340.401589556597,29997.527244214125,29618.508501853121,29207.565178845736,28768.597164374543,28305.205320944027,27820.711119825788,156396.35399804875,152984.28570116439,143720.58728584321,453101.2269850563,88716.344738609187,null,93867.296448472844,94303.09348412999,94484.535027845937,94434.857210291564,94175.659967135027,93727.010177498421,93107.538689897192,92334.531583932563,91424.015996699512,90390.840824613522,89248.752594094229,88010.466778217087,86687.734821008344,85291.407116462942,83831.492175568128,471265.44213787536,460983.93727264123,433069.85348535073,1365319.2328958674,43186.880237709272,null,45816.970527825244,46140.057921848755,46328.481730664083,46394.334433148135,46348.862203126533,46202.518089267651,44002.39818025491,45645.3580174409,45251.918174459846,44792.444579523595,44274.118315228756,43703.586287942664,43086.995818096009,42430.027147445762,41737.923983256325,231028.70681661274,225894.63704094687,215232.65155196952,672155.99540952907,48465.383337614323,null,51416.935601204474,51779.512252185341,51990.966102843311,52064.867631551577,52013.837572258511,51849.606594277808,49380.577708836012,51224.347804736492,50782.819898450769,50267.187285269953,49685.508753393311,49045.243625266216,48353.290575660554,47616.024112127816,46839.328852433464,259266.11916004322,253504.53929157104,241539.39591888135,754310.05437049561,49469.254870669414,null,52481.94312641921,52852.029887779987,53067.863617159885,53143.295880504098,53091.20882711903,52923.576105619824,50403.405814876023,52285.366226942562,51834.69287981544,51308.379882693756,50714.652946794966,50061.125900748906,49354.84031272358,48602.302726503942,47809.519648920381,264636.34133898222,258755.4209099476,246542.44153569179,769934.20378462155,49592.329609186454,null,52612.513142968615,52983.520644524535,53199.891347422148,53275.511278967773,53223.294638013773,53055.244862459083,50528.804630913422,52415.447179111172,51963.652600130066,51436.030186994976,50840.826115700125,50185.673157347199,49477.630398847163,48723.220571638842,47928.465126162744,265294.73105189687,259399.17945960874,247155.81536969607,771849.7258812018,49471.758332392892,null,52484.599049499804,52854.704539625418,53070.54919157696,53145.985272277721,53093.895582953526,52926.254378162972,50405.95655063141,52288.012201970676,51837.316047880384,51310.976415943871,50717.21943365239,50063.659314944351,49357.337984336264,48604.762314886,47811.939117391696,264649.73363593343,258768.51559458932,246554.91816521069,769973.16739573353,240185.60638757236,null,254812.96144791736,256609.82524596405,257657.75198966637,258023.9944964493,257771.09882347134,256957.20002978732,244721.14288551177,253858.53143020178,251670.39960073651,249115.01835042617,246232.32556476953,243059.28828624933,239630.09508966358,235976.33687260238,232127.1767281646,1284875.6320034685,1256322.2922966636,1197025.2225414494,3738223.1468415814,57302.096805765512,null,60751.729415062306,61144.154308913407,61361.446379733206,61419.395091633851,61332.683276823482,61114.956725347351,58816.275787575025,60336.246307048641,59797.93885550851,59174.08189525552,58474.043650365609,57706.494122913602,56879.450347168233,56000.318917133496,55075.935944500787,306009.40847216628,299239.49957073509,284136.24298208172,889385.15102498303,62335.223012008588,null,66092.070789033751,66522.779586722754,66762.599857672612,66828.734797632394,66737.182056558217,66502.809542983989,63936.932999523793,65659.851806313047,65075.97464912921,64398.816287399823,63638.584629850709,62804.726925430077,61905.979059911551,60950.411882434593,59945.474733062263,332943.36708761973,325574.38528534985,309245.17723068921,967762.92960365885,64363.519212929124,null,68240.982010585125,68684.233150705826,68930.528440722992,68997.620476020384,68902.017740516836,68659.062838154176,66034.891733174722,67787.074794645887,67183.538298299158,66483.769280528199,65698.301306857189,64836.882960428033,63908.528716591107,62921.566752302278,61883.683866887717,343755.3818185511,336148.33694480208,319248.96360306634,999152.68236641935,65987.532622520768,null,69959.636563347638,70411.181432547135,70661.083396826638,70727.522631100946,70627.405105202139,70376.442711858079,67735.521199212322,69479.308352833323,68859.246157062153,68140.688051698147,67334.420636284762,66450.42656190462,65497.936638290215,64485.478801364894,63420.924122064491,352386.82912902453,344591.20647266402,327189.18675990897,1024167.2223615975,78913.579472957557,null,83635.839118361357,84150.570251204888,84426.628942556868,84485.578710353293,84347.470611505734,84030.938388942159,81305.059855923115,82930.58175329346,82177.717637436988,81308.503660157992,80335.727935505507,79271.224493790083,78125.935148710807,76909.96763583002,75632.650237217487,421046.08763398213,411752.80129575368,390275.5054510539,1223074.3943807897,328901.95112618152,null,348680.25789639022,350912.91873009404,352142.28701751231,352458.85170674085,351946.7587906064,350684.21020728571,337828.68157540896,346193.06301413436,343094.41559743602,339505.85917503969,335481.07815886376,331069.75506446639,326317.82991067192,321267.74398906529,315958.66890373273,1756141.0741413438,1717306.2295693047,1630095.0760268001,5103542.3797374489,46917.461421885455,null,51279.807261181835,49905.995902620081,54425.849378480372,55602.500619000966,56543.675212173846,57269.131361962893,57797.279499272801,58145.265838104264,58329.051030155264,58363.484195212506,58262.372589379593,58038.54715871621,57703.924212176389,57269.563434788382,56745.72244977708,267757.82837345713,289904.21192470775,288020.12984483765,845682.17014300241,123441.71349185241,null,130621.44666563417,123977.54859398077,121128.14720144538,118268.98914199954,115407.4648496632,112550.28303155841,109703.518835927,106872.65897858344,104062.64400825238,101277.90788094925,98522.415003846749,95799.694899890164,93112.8746357575,90464.709147574191,87857.609591064247,609403.59645272302,534467.01273527043,465757.30327813281,1609627.912466126,170359.17491373786,null,181901.25392681599,173883.54449660087,175553.99657992576,173871.4897610005,171951.14006183704,169819.41439352132,167500.7983351998,165017.92481668771,162391.69503840763,159641.39207616175,156784.78759322636,153838.24205860638,150816.79884793388,147734.27258236258,144603.33204084134,877161.42482618021,824371.22465997818,753777.43312297051,2455310.0826091282,8157.8766580302799,8425.2775959130504,9389.4214318245977,25972.575685767926,1731.5050457178618,8114.5270580531505,8473.5851126926136,9339.5276077146682,25927.639778460427,1728.5093185640285,8579.421997826048,8959.0510939436354,9874.6048948606585,27413.077986630346,1827.5385324420231,8144.3263034124011,8504.7029387888397,9373.8254629970124,26022.854705198253,1734.8569803465502,8853.6436568368645,9245.4067312775296,10190.22412154413,28289.274509658524,1885.9516339772349,41849.795674158748,43608.023472615678,48167.603518941061,133625.42266571548,8908.3615110476985,10759.57808419749,11479.43863293375,12067.581352750734,34306.598069881977,2287.106537992132,12748.893880016372,13601.847933830784,14298.73112595738,40649.472939804538,2709.9648626536359,13954.727990124091,14888.357363862237,15651.154158512749,44494.23951249908,2966.2826341666055,15152.375224817813,16166.132182445637,16994.395066610254,48312.902473873706,3220.8601649249135,16184.360168047453,17267.161212879022,18151.834713386736,51603.356094313218,3440.2237396208811,68799.935347203224,73402.937325951425,77163.696417217856,219366.56909037248,14624.437939358166,18917.454742227768,19904.716228846803,21457.002784575332,60279.173755649899,4018.6115837099937,20863.420938069525,22075.433046523398,23638.258733672046,66577.112718264965,4438.4741812176644,22534.149987950139,23847.408457805872,25525.759053373407,71907.317499129422,4793.8211666086281,23296.701528230216,24670.835121234479,26368.220529607264,74335.757179071952,4955.7171452714638,25038.003824884319,26512.567944156552,28342.058834930867,79892.630603971746,5326.1753735981165,110649.73102136198,117010.9607985671,125331.29993615892,352991.99175608798,23532.799450405866,15427.661900810457,18328.798925355506,19895.160054152228,53651.620880318187,3576.7747253545458,20951.858953395338,24891.808774278295,27019.038269689125,72862.705997362747,4857.5137331575161,22755.48771035629,27034.605851040098,29344.956677074282,79135.050238470678,5275.6700158980448,24689.372850225387,29332.153729732701,31838.850737717468,85860.377317675564,5724.0251545117044,26253.743230515032,31190.700431718989,33856.227012874398,91300.670675108413,6086.7113783405612,110078.12464530251,130778.0677121256,141954.23275150749,382810.42510893557,25520.695007262369,18451.395663277599,25439.017441965691,30618.98861388845,74509.401719131754,4967.2934479421174,20244.593536254673,27911.306953286941,33594.693338729892,81750.593828271521,5450.0395885514345,23612.038025110873,32554.016949331068,39182.766259815042,95348.82123425699,6356.5880822837989,26502.913740627795,36539.679556737668,43980.001777003868,107022.59507436934,7134.8396716246225,29870.308373561646,41182.320816210253,49567.991965164823,120620.62115493671,8041.3747436624481,118681.24933883258,163626.34171753161,196944.44195460208,479252.03301096626,31950.135534064419,33879.057564088056,43767.816367321197,50514.148668040682,128161.02259944993,8544.0681732966623,41196.452489650008,52803.115727565237,60613.731608419017,154613.29982563428,10307.553321708951,46367.525735467163,59588.622800371166,68527.722936889331,174483.87147272768,11632.258098181843,51192.286590853182,65871.83328647037,75818.852514721337,192882.9723920449,12858.864826136327,56124.051604076682,72373.021247929239,83424.218978039222,211921.29183004511,14128.086122003009,228759.37398413511,294404.40942965721,338898.67470610957,862062.45811990183,57470.830541326788,12531.929910429348,24428.864083692108,30587.790588892167,67548.584583013624,4503.2389722009084,22743.50588095055,44334.593149137567,55512.087931867383,122590.18696195551,8172.6791307970334,27972.82099488681,54528.252791522944,68275.740200245811,150776.81398665556,10051.78759911037,29413.970829436174,57337.529070920486,71793.282163972166,158544.78206432881,10569.652137621921,29619.849377228937,57738.854253691563,72295.788158790208,159654.49178971071,10643.632785980713,122282.0769929318,238368.09334896464,298464.68904376769,659114.85938566423,43940.990625710947,21661.23491684382,43987.360672376664,55632.376957875196,121280.97254709568,8085.3981698063781,25597.29026478048,51980.288447768442,65741.316530530879,143318.89524307978,9554.5930162053191,27612.931511506111,56073.440977908584,70918.071876205329,154604.44436562003,10306.962957708001,28168.423193674593,57201.475139758215,72344.736735249491,157714.63506868231,10514.309004578821,28247.779148270081,57362.622877165304,72548.54600082722,158158.9480262626,10543.929868417506,131287.65903507508,266605.18811497721,337185.04810068809,735077.89525074034,49005.193016716024,34193.164827273169,68416.224756068768,86220.167546767363,188829.55713010929,12588.637142007286,48340.79614573103,96314.881596906009,121253.40446239826,265909.08220503526,17727.272147002353,55585.752506392921,110601.69376943153,139193.81207645114,305381.25835227559,20358.75055681837,57582.39402311077,114539.0042106787,144138.01889922167,316259.41713301116,21083.961142200744,57867.628525499022,115101.47713085686,144844.33415961743,317813.43981597328,21187.562654398222,253569.73602800688,504973.28146394185,635649.73714445578,1394192.7546364046,92946.183642426971,36117.468469270083,51182.940604960662,59872.372074868996,147172.78114909976,9811.5187432733164,51809.891892399042,77699.987036108476,91870.653809271171,221380.53273777867,14758.702182518577,59307.730703069145,90521.90973650667,107495.30177218076,257324.9422117566,17154.996147450438,62247.669983073967,95174.385739442019,113005.95836468664,270428.01408720261,18028.534272480174,64727.236264580832,98174.961416688078,116342.23929320874,279244.43697447766,18616.29579829851,274209.99731239304,412754.18453370593,488586.52531421627,1175550.7071603152,78370.047144021024,50872.20866431891,80905.816747276112,98318.946924514385,230096.97233610941,15339.798155740627,58590.777681051528,93493.443334886164,113634.74099521815,265718.96201115585,17714.597467410389,65179.697526741074,103515.81529110188,125751.99229453312,294447.50511237606,19629.833674158403,69823.712159120201,109907.28687894152,133319.13357886361,313050.13261692534,20870.008841128358,74302.447689879176,115812.10490625458,140268.37267937878,330382.92527551251,22025.528351700836,318768.84372111084,503634.46715846023,611293.18647250801,1433696.497352079,95579.766490138602,86989.677133588993,132088.75735223677,158191.31899938337,377269.75348520919,25151.316899013946,110400.66957345058,171193.43037099464,205505.39480448933,487099.49474893452,32473.299649928966,124487.42822981022,194037.72502760857,233247.29406671389,551772.44732413266,36784.829821608844,132071.38214219417,205081.67261838354,246325.09194355024,583478.14670412801,38898.543113608532,139029.68395446002,213987.06632294267,256610.61197258753,609627.36224999023,40641.824149999346,592978.84103350388,916388.65169216623,1099879.7117867242,2609247.204512394,173949.81363415963,null,null,null,null,null,null,null,null,null,null,null,null,null,null,null,null,null,null,null,null,null,null,null,null,null,null,null,null,null,null,null,null,null,null,null,null,null,null,null,null,null,null,null,null,null,null,null,null,null,null,null,null,null,null,null,null,null,null,null,null,null,null,null,null,null,null,null,null,null,null,null,null,null,null,null,null,null,null,null,null,null,null,null,null,null,null,null,null,null,null,null,null,null,null,null,null,null,null,null,null,null,null,null,null,null,null,null,null,null,null,null,null,null,null,null,null,null,null,null,null,null,null,null,null,null,null,null,null,null,null,null,null,null,null,null,null,null,null,null,null,null,null,null,null,null,null,null,null,null,null,null,null,null,null,null,null,null,null,null,null,null,null,null,null,null,null,null,null,null,null,null,null,null,null,null,null,null,null,null,null,null,null,null,null,null,null,null,null,null,null,null,null,null,null,null,null,null,null,null,null,null,null,null,null,null,null,null,null,null,null,null,null,null,null,null,null,null,null,null,null,null,null,null,null,null,null,null,null,null,null,null,null,null,null,null,null,null,null,null,null,null,null,null,null,null,null,null,null,null,null,null,null,null,null,null,null,null,null,null,null,null,null,null,null,null,null,null,null,null,null,null,null,null,null,null,null,null,null,null,null,null,null,null,null,null,null,null,null,null,null,null,null,null,null,null,null,null,null,null,null,null,null,null,null,null,null,null,null,null,null,null,null,null,null,null,null,null,null,null,null,null,null,null,null,null,null,null,null,null,null,null,null,null,null,null,null,null,null,null,null,null,null,null,null,null,null,null,null,null,null,null,null,null,null,null,null,null,null,null,null,null,null,null,null,null,null,null,null,null,null,null,null,null,null,null,null,null,null,null,null,null,null,null,null,null,null,null,null,null,null,null,null,null,null,null,null,null,null,null,null,null,null,null,null,null,null,null,null,null,null,null,null,null,null,null,null,null,null,null,null,null,null,null,null,null,null,null,null,null,null,null,null,null,null,null,null,null,null,null,null,null,null,null,null,null,null,null,null,null,null,null,null,null,null,null,null,null,null,null,null,null,null,null,null,null,null,null,null,null,null,null,null,null,null,null,null,null,null,null,null,null,null,null,null,null,null,null,null,null,null,null,null,null,null,null,null,null,null,null,null,null,null,null,null,null,null,null,null,null,null,null,null,null,null,null,null,null,null,null,null,null,null,null,null,null,null,null,null,null,null,null,null,null,null,null,null,null,null,null,null,null,null,null,null,null,null,null,null,null,null,null,null,null,null,null,null,null,null,null,null,null,null,null,null,null,null,null,null,null,null,null,null,null,null,null,null,null,null,null,null,null,null,null,null,null,null,null,null,null,null,null,null,null,null,null,null,null,null,null,null,null,null,null,null,null,null,null,null,null,null,null,null,null,null,null,null,null,null,null,null,null,null,null,null,null,null,null,null,null,null,null,null,null,null,null,null,null,null,null,null,null,null,null,null,null,null,null,null,null,null,null,null,null,null,null,null,null,null,null,null,null,null,null,null,null,null,null,null,null,null,null,null,null,null,null,null,null,null,null,null,null,null,null,null,null,null,null,null,null,null,null,null,null,null,null,null,null,null,null,null,null,null,null,null,null,null,null,null,null,null,null,null,null,null,null,null,null,null,null,null,null,null,null,null,null,null,null,null,null,null,null,null,null,null,null,null,null,null,null,null,null,null,null,null,null,null,null,null,null,null,null,null,null,null,null,null,null,null,null,null,null,null,null,null,null,null,null,null,null,null,null,null,null,null,null,null,null,null,null,null,null,null,null,null,null,null,null,null,null,null,null,null,null,null,null,null,null,null,null,null,null,null,null,null,null,null,null,null,null,null,null,null,null,null,null,null,null,null,null,null,null,null,null,null,null,null,null,null,null,null,null,null,null,null,null,null,null,null,null,null,null,null,null,null,null,null,null,null,null,null,null,null,null,null,null,null,null,null,null,null,null,null,null,null,null,null,null,null,null,null,null,null,null,null,null,null,null,null,null,null,null,null,null,null,null,null,null,null,null,null,null,null,null,null,null,null,null,null,null,null,null,null,null,null,null,null,null,null,null,null,null,null,null,null,null,null,null,null,null,null,null,null,null,null,null,null,null,null,null,null,null,null,null,null,null,null,null,null,null,null,null,null,null,null,null,null,null,null,null,null,null,null,null,null,null,null,null,null,null,null,null,null,null,null,null,null,null,null,null,null,null,null,null,null,null,null,null,null,null,null,null,null,null,null,null,null,null,null,null,null,null,null,null,null,null,null,null,null,null,null,null,null,null,null,null,null,null,null,null,null,null,null,null,null,null,null,null,null,null,null,null,null,null,null,null,null,null,null,null,null,null,null,null,null,null,null,null,null,null,null,null,null,null,null,null,null,null,null,null,null,null,null,null,null,null,null,null,null,null,null,null,null,null,null,null,null,null,null,null,null,null,null,null,null,null,null,null,null,null,null,null,null,null,null,null,null,null,null,null,null,null,null,null,null,null,null,null,null,null,null,null,null,null,null,null,null,null,null,null,null,null,null,null,null,null,null,null,null,null,null,null,null,null,null,null,null,null,null,null,null,null,null,null,null,null,null,null,null,null,null,null,null,null,null,null,null,null,null,null,null,null,null,null,null,null,null,null,null,null,null,null,null,null,null,null,null,null,null,null,null,null,null,null,null,null,null,null,null,null,null,null,null,null,null,null,null,null,null,null,null,null,null,null,null,null,null,null,null,null,null,null,null,null,null,null,null,null,null,null,null,null,null,null,null,null,null,null,null,null,null,null,null,null,null,null,null,null,null,null,null,null,null,null,null,null,null,null,null,null,null,null,null,null,null,null,null,null,null,null,null,null,null,null,null,null,null,null,null,null,null,null,null,null,null,null,null,null,null,null,null,null,null,null,null,null,null,null,null,null,null,null,null,null,null,null,null,null,null,null,null,null,null,null,null,null,null,null,null,null,null,null,null,null,null,null,null,null,null,null,null,null,null,null,null,null,null,null,null,null,null,null,null,null,null,null,null,null,null,null,null,null,null,null,null,null,null,null,null,null,null,null,null,null,null,null,null,null,null,null,null,null,null,null,null,null,null,null,null,null,null,null,null,null,null,null,null,null,null,null,null,null,null,null,null,null,null,null,null,null,null,null,null,null,null,null,null,null,null,null,null,null,null,null,null,null,null,null,null,null,null,null,null,null,null,null,null,null,null,null,null,null,null,null,null,null,null,null,null,null,null,null,null,null,null,null,null,null,null,null,null,null,null,null,null,null,null,null,null,null,null,null,null,null,null,null,null,null,null,null,null,null,null,null,null,null,null,null,null,null,null,null,null,null,null,null,null,null,null,null,null,null,null,null,null,null,null,null,null,null,null,null,null,null,null,null,null,null,null,null,null,null,null,null,null,null,null,null,null,null,null,null,null,null,null,null,null,null,null,null,null,null,null,null,null,null,null,null,null,null,null,null,null,null,null,null,null,null,null,null,null,null,null,null,null,null,null,null,null,null,null,null,null,null,null,null,null,null,null,null,null,null,null,null,null,null,null,null,null,null,null,null,null,null,null,null,null,null,null,null,null,null,null,null,null,null,null,null,null,null,null,null,null,null,null,null,null,null,null,null,null,null,null,null,null,null,null,null,null,null,null,null,null,null,null,null,null,null,null,null,null,null,null,null,null,null,null,null,null,null,null,null,null,null,null,null,null,null,null,null,null,null,null,null,null,null,null,null,null,null,null,null,null,null,null,null,null,null,null,null,null,null,null,null,null,null,null,null,null,null,null,null,null,null,null,null,null,null,null,null,null,null,null,null,null,null,null,null,null,null,null,null,null,null,null,null,null,null,null,null,null,null,null,null,null,null,null,null,null,null,null,null,null,null,null,null,null,null,null,null,null,null,null,null,null,null,null,null,null,null,null,null,null,null,null,null,null,null,null,null,null,null,null,null,null,null,null,null,null,null,null,null,null,null,null,null,null,null,null,null,null,null,null,null,null,null,null,null,null,null,null,null,null,null,null,null,null,null,null,null,null,null,null,null,null,null,null,null,null,null,null,null,null,null,null,null,null,null,null,null,null,null,null,null,null,null,null,null,null,null,null,null,null,null,null,null,null,null,null,null,null,null,null,null,null,null,null,null,null,null,null,null,null,null,null,null,null,null,null,null,null,null,null,null,null,null,null,null,null,null,null,null,null,null,null,null,null,null,null,null,null,null,null,null,null,null,null,null,null,null,null,null,null,null,null,null,null,null,null,null,null,null,null,null,null,null,null,null,null,null,null,null,null,null,null,null,null,null,null,null,null,null,null,null,null,null,null,null,null,null,null,null,null,null,null,null,null,null,null,null,null,null,null,null,null,null,null,null,null,null,null,null,null,null,null,null,null,null,null,null,null,null,null,null,null,null,null,null,null,null,null,null,null,null,null,null,null,null,null,null,null,null,null,null,null,null,null,null,null,null,null,null,null,null,null,null,null,null,null,null,null,null,null,null,null,null,null,null,null,null,null,null,null,null,null,null,null,null,null,null,null,null,null,null,null,null,null,null,null,null,null,null,null,null,null,null,null,null,null,null,null,null,null,null,null,null,null,null,null,null,null,null,null,null,null,null,null,null,null,null,null,null,null,null,null,null,null,null,null,null,null,null,null,null,null,null,null,null,null,null,null,null,null,null,null,null,null,null,null,null,null,null,null,null,null,null,null,null,null,null,null,null,null,null,null,null,null,null,null,null,null,null,null,null,null,null,null,null,null,null,null,null,null,null,null,null,null,null,null,null,null,null,null,null,null,null,null,null,null,null,null,null,null,null,null,null,null,null,null,null,null,null,null,null,null,null,null,null,null,null,null,null,null,null,null,null,null,null,null,null,null,null,null,null,null,null,null,null,null,null,null,null,null,null,null,null,null,null,null,null,null,null,null,null,null,null,null,null,null,null,null,null,null,null,null,null,null,null,null,null,null,null,null,null,null,null,null,null,null,null,null,null,null,null,null,null,null,null,null,null,null,null,null,null,null,null,null,null,null,null,null,null,null,null,null,null,null,null,null,null,null,null,null,null,null,null,null,null,null,null,null,null,null,null,null,null,null,null,null,null,null,null,null,null,null,null,null,null,null,null,null,null,null,null,null,null,null,null,null,null,null,null,null,null,null,null,null,null,null,null,null,null,null,null,null,null,null,null,null,null,null,null,null,null,null,null,null,null,null,null,null,null,null,null,null,null,null,null,null,null,null,null,null,null,null,null,null,null,null,null,null,null,null,null,null,null,null,null,null,null,null,null,null,null,null,null,null,null,null,null,null,null,null,null,null,null,null,null,null,null,null,3440.2977298443243,7043.3270607302265,0,10483.624790574551,1048.3624790574552,6081.6154749500938,11828.992968686694,0,17910.608443636789,1791.0608443636788,7694.8993109967068,14966.896578623142,0,22661.795889619847,2266.1795889619848,10178.434094338041,19797.474179367386,0,29975.908273705427,2997.5908273705427,13531.57549481987,26319.472522190481,0,39851.048017010355,3985.1048017010353,40926.822104949038,79956.163309597934,0,120882.98541454697,12088.298541454697,74980.701655553494,73344.862529788137,68903.59143011221,217229.15561545384,14481.943707696923,73677.247927576507,72069.845993778828,67705.781311807848,213452.87523316318,14230.19168221088,79119.040479568968,77392.916034854512,72706.52206737455,229218.47858179803,15281.231905453202,87092.098077127666,85192.027013055296,80033.371390212909,252317.49648039587,16821.166432026392,156396.35399804875,152984.28570116439,143720.58728584321,453101.22698505636,30206.748465670426,471265.44213787536,460983.93727264123,433069.85348535073,1365319.2328958674,91021.282193057836,231028.70681661274,225894.63704094687,215232.65155196952,672155.99540952919,44810.399693968611,259266.11916004322,253504.53929157104,241539.39591888135,754310.05437049561,50287.33695803304,264636.34133898222,258755.4209099476,246542.44153569179,769934.20378462155,51328.946918974769,265294.73105189687,259399.17945960874,247155.81536969607,771849.72588120168,51456.648392080111,264649.73363593343,258768.51559458932,246554.91816521069,769973.16739573353,51331.544493048903,1284875.6320034685,1256322.2922966636,1197025.2225414494,3738223.1468415819,249214.87645610547,306009.40847216622,299239.49957073503,284136.24298208172,889385.15102498303,59292.343401665537,332943.36708761973,325574.38528534985,309245.17723068921,967762.92960365885,64517.528640243923,343755.38181855122,336148.33694480208,319248.96360306634,999152.68236641958,66610.178824427974,352386.82912902453,344591.20647266402,327189.18675990897,1024167.2223615976,68277.814824106506,421046.08763398218,411752.80129575368,390275.5054510539,1223074.3943807899,81538.292958719336,1756141.0741413438,1717306.2295693047,1630095.0760268001,5103542.3797374498,340236.15864916332,267757.82837345713,289904.21192470775,288020.12984483765,845682.17014300241,56378.811342866829,609403.59645272302,534467.01273527043,465757.30327813281,1609627.9124661263,107308.52749774176,877161.4248261801,824371.22465997818,753777.4331229704,2455310.0826091287,163687.3388406086,{"$error":"#REF!"},{"$error":"#REF!"},{"$error":"#REF!"},{"$error":"#REF!"},{"$error":"#REF!"},{"$error":"#REF!"},{"$error":"#REF!"},{"$error":"#REF!"},{"$error":"#REF!"},{"$error":"#REF!"},{"$error":"#REF!"},{"$error":"#REF!"},{"$error":"#REF!"},{"$error":"#REF!"},{"$error":"#REF!"},{"$error":"#REF!"},{"$error":"#REF!"},{"$error":"#REF!"},{"$error":"#REF!"},{"$error":"#REF!"},{"$error":"#REF!"},{"$error":"#REF!"},{"$error":"#REF!"},{"$error":"#REF!"},{"$error":"#REF!"},{"$error":"#REF!"},{"$error":"#REF!"},{"$error":"#REF!"},{"$error":"#REF!"},{"$error":"#REF!"},{"$error":"#REF!"},{"$error":"#REF!"},{"$error":"#REF!"},{"$error":"#REF!"},{"$error":"#REF!"},{"$error":"#REF!"},{"$error":"#REF!"},{"$error":"#REF!"},{"$error":"#REF!"},{"$error":"#REF!"},{"$error":"#REF!"},{"$error":"#REF!"},{"$error":"#REF!"},{"$error":"#REF!"},{"$error":"#REF!"},{"$error":"#REF!"},{"$error":"#REF!"},{"$error":"#REF!"},{"$error":"#REF!"},{"$error":"#REF!"},{"$error":"#REF!"},{"$error":"#REF!"},{"$error":"#REF!"},{"$error":"#REF!"},{"$error":"#REF!"},{"$error":"#REF!"},{"$error":"#REF!"},{"$error":"#REF!"},{"$error":"#REF!"},{"$error":"#REF!"},{"$error":"#REF!"},{"$error":"#REF!"},{"$error":"#REF!"},{"$error":"#REF!"},{"$error":"#REF!"},{"$error":"#REF!"},{"$error":"#REF!"},{"$error":"#REF!"},{"$error":"#REF!"},{"$error":"#REF!"},{"$error":"#REF!"},{"$error":"#REF!"},{"$error":"#REF!"},{"$error":"#REF!"},{"$error":"#REF!"},{"$error":"#REF!"},{"$error":"#REF!"},{"$error":"#REF!"},{"$error":"#REF!"},{"$error":"#REF!"},{"$error":"#REF!"},{"$error":"#REF!"},{"$error":"#REF!"},{"$error":"#REF!"},{"$error":"#REF!"},{"$error":"#REF!"},{"$error":"#REF!"},{"$error":"#REF!"},{"$error":"#REF!"},{"$error":"#REF!"},{"$error":"#REF!"},{"$error":"#REF!"},{"$error":"#REF!"},{"$error":"#REF!"},{"$error":"#REF!"},{"$error":"#REF!"},{"$error":"#REF!"},{"$error":"#REF!"},{"$error":"#REF!"},null,null,null,null,null,null,{"$error":"#REF!"},{"$error":"#REF!"},{"$error":"#REF!"},{"$error":"#REF!"},{"$error":"#REF!"},{"$error":"#REF!"},{"$error":"#REF!"},{"$error":"#REF!"},{"$error":"#REF!"},{"$error":"#REF!"},{"$error":"#REF!"},{"$error":"#REF!"},{"$error":"#REF!"},{"$error":"#REF!"},{"$error":"#REF!"},{"$error":"#REF!"},{"$error":"#REF!"},{"$error":"#REF!"},{"$error":"#REF!"},{"$error":"#REF!"},{"$error":"#REF!"},{"$error":"#REF!"},{"$error":"#REF!"},{"$error":"#REF!"},{"$error":"#REF!"},{"$error":"#REF!"},{"$error":"#REF!"},{"$error":"#REF!"},{"$error":"#REF!"},{"$error":"#REF!"},{"$error":"#REF!"},{"$error":"#REF!"},{"$error":"#REF!"},{"$error":"#REF!"},{"$error":"#REF!"},{"$error":"#REF!"},{"$error":"#REF!"},{"$error":"#REF!"},{"$error":"#REF!"},{"$error":"#REF!"},{"$error":"#REF!"},{"$error":"#REF!"},{"$error":"#REF!"},{"$error":"#REF!"},{"$error":"#REF!"},{"$error":"#REF!"},{"$error":"#REF!"},{"$error":"#REF!"},{"$error":"#REF!"},{"$error":"#REF!"},{"$error":"#REF!"},{"$error":"#REF!"},{"$error":"#REF!"},{"$error":"#REF!"},{"$error":"#REF!"},{"$error":"#REF!"},{"$error":"#REF!"},{"$error":"#REF!"},{"$error":"#REF!"},{"$error":"#REF!"},{"$error":"#REF!"},{"$error":"#REF!"},{"$error":"#REF!"},{"$error":"#REF!"},{"$error":"#REF!"},{"$error":"#REF!"},{"$error":"#REF!"},{"$error":"#REF!"},1973851.01165872,{"$error":"#REF!"},{"$error":"#REF!"},{"$error":"#REF!"},{"$error":"#REF!"},{"$error":"#REF!"},{"$error":"#REF!"},{"$error":"#REF!"},{"$error":"#REF!"},{"$error":"#REF!"},{"$error":"#REF!"},{"$error":"#REF!"},{"$error":"#REF!"},{"$error":"#REF!"},{"$error":"#REF!"},{"$error":"#REF!"},{"$error":"#REF!"},{"$error":"#REF!"},{"$error":"#REF!"},{"$error":"#REF!"},{"$error":"#REF!"},{"$error":"#REF!"},{"$error":"#REF!"},{"$error":"#REF!"},{"$error":"#REF!"},{"$error":"#REF!"},{"$error":"#REF!"},{"$error":"#REF!"},0,0,0,0,0,0,{"$error":"#REF!"},{"$error":"#REF!"},{"$error":"#REF!"},{"$error":"#REF!"},{"$error":"#REF!"},{"$error":"#REF!"},{"$error":"#REF!"},{"$error":"#REF!"},{"$error":"#REF!"},{"$error":"#REF!"},{"$error":"#REF!"},{"$error":"#REF!"},{"$error":"#REF!"},{"$error":"#REF!"},{"$error":"#REF!"},{"$error":"#REF!"},{"$error":"#REF!"},{"$error":"#REF!"},{"$error":"#REF!"},{"$error":"#REF!"},{"$error":"#REF!"},{"$error":"#REF!"},{"$error":"#REF!"},{"$error":"#REF!"},{"$error":"#REF!"},{"$error":"#REF!"},{"$error":"#REF!"},{"$error":"#REF!"},{"$error":"#REF!"},{"$error":"#REF!"},{"$error":"#REF!"},{"$error":"#REF!"},{"$error":"#REF!"},{"$error":"#REF!"},{"$error":"#REF!"},{"$error":"#REF!"},{"$error":"#REF!"},{"$error":"#REF!"},{"$error":"#REF!"},{"$error":"#REF!"},{"$error":"#REF!"},{"$error":"#REF!"},{"$error":"#REF!"},{"$error":"#REF!"},{"$error":"#REF!"},{"$error":"#REF!"},{"$error":"#REF!"},{"$error":"#REF!"},{"$error":"#REF!"},{"$error":"#REF!"},{"$error":"#REF!"},{"$error":"#REF!"},{"$error":"#REF!"},{"$error":"#REF!"},{"$error":"#REF!"},{"$error":"#REF!"},{"$error":"#REF!"},{"$error":"#REF!"},{"$error":"#REF!"},{"$error":"#REF!"},{"$error":"#REF!"},{"$error":"#REF!"},{"$error":"#REF!"},{"$error":"#REF!"},{"$error":"#REF!"},{"$error":"#REF!"},{"$error":"#REF!"},{"$error":"#REF!"},{"$error":"#REF!"},{"$error":"#REF!"},{"$error":"#REF!"},{"$error":"#REF!"},{"$error":"#REF!"},{"$error":"#REF!"},{"$error":"#REF!"},{"$error":"#REF!"},{"$error":"#REF!"},{"$error":"#REF!"},{"$error":"#REF!"},{"$error":"#REF!"},{"$error":"#REF!"},{"$error":"#REF!"},{"$error":"#REF!"},{"$error":"#REF!"},{"$error":"#REF!"},{"$error":"#REF!"},{"$error":"#REF!"},{"$error":"#REF!"},{"$error":"#REF!"},{"$error":"#REF!"},{"$error":"#REF!"},{"$error":"#REF!"},{"$error":"#REF!"},{"$error":"#REF!"},{"$error":"#REF!"},{"$error":"#REF!"},{"$error":"#REF!"},{"$error":"#REF!"},{"$error":"#REF!"},0,0,0,0,0,0,49736.755180740154,48651.658238235861,45705.641349908728,144094.05476888473,9606.2703179256478,48433.301452763182,47376.641702226552,44507.831231604374,140317.77438659413,9354.5182924396086,53875.094004755621,52699.711743302236,49508.571987171083,156083.37773522895,10405.558515681931,61848.151602314319,60498.822721503042,56835.421310009449,179182.39563382679,11945.493042255119,131152.40752323539,128291.08140961209,120522.63720563972,379966.12613848719,25331.075075899145,345045.70976380864,337517.91581487976,317080.10308433336,999643.72866302182,66642.91524420146,104003.66994754274,101692.43293378125,96892.658762594336,302588.76164391835,20172.584109594558,132241.08229097319,129302.33518440538,123199.40312950616,384742.82060488476,25649.521373658983,137611.30446991225,134553.21680278203,128202.44874631663,400366.97001901094,26691.13133460073,138269.69418282685,135196.97535244311,128815.82258032089,402282.49211559084,26818.832807706054,137624.69676686346,134566.31148742369,128214.92537583553,400405.93363012269,26693.728908674846,649750.44765811844,635311.27176083543,605325.25859457359,1890386.9780135276,126025.79853423517,153740.42512828289,150344.0911720171,142598.30011250306,446682.81641280308,29778.854427520204,180674.38374373637,176678.97688663192,167707.23436111055,525060.59499147884,35004.039666098586,191486.39847466786,187252.92854608427,177711.02073348771,556450.3477542398,37096.689850282652,200117.84578514117,195695.79807394615,185651.24389033034,581464.88774941768,38764.325849961177,268777.10429009888,262857.39289703581,248737.56258147524,780372.05976860994,52024.803984573999,994796.15742192708,972829.18757571513,922405.36167890695,2890030.7066765493,192668.71377843662,13274.280148453172,3.5082535494667519,19.384541244833191,36.933067086971896,5.8601724716209596,62.177780803426046,328.90195112618153,170.35917491373786,499.26112603991942,553.50076299566217,2.6428955169185292E-4,1.4603082824865676E-3,2.7823028197333653E-3,4.4146819308343697E-4,4.6840792953033701E-3,2.4777385097187955E-2,1.2833778781864078E-2,3.7611163879052036E-2,4.169723380895804E-2,4732.6748666885287,2297.9379001206594,1877.7487442385104,7395.2358585844177,3599.8782321005815,3629.3238486731666,12566.81029156586,5705.2292797056089,7248.6554359909005,18001.787496707697,7435.2614674139959,6513.0865699427277,1718.7631082880328,619.27246978909852,41602.955047633819,1469.4551977022106,231.58680038094133,47304.151018632874,7925.8387263150616,2920.2112288841522,1242.248586255482,52809.822741116164,23244.674410643336,14966.785041298344,141683.78513046762,62363.274172877129,45167.817152760719,25761.271350011342,11339.033798139042,19278.506194716447,58799.693359925135,25881.164841195201,22627.669296621421,20.936654264579115,64.062022860237761,84.998677124816879,28.493407421923674,72.074199874042463,100.56760729596614,5.515634915859521,25.998232242877421,31.513867158736943,20.393275309380535,42.567514534662529,62.960789844043063,108.69414760068514,138.61373710638148,247.30788470706662,108.30885539519412,142.40050775707556,250.70936315226967,63.951471945562034,63.039549449265429,126.99102139482747,106.81874807579879,102.32075646824801,209.13950454404682,2.4583155692265109E-2,7.521959631339073E-2,9.9802752005655831E-2,3.3456055681319388E-2,8.4627240556605643E-2,0.11808329623792503,6.47628365854347E-3,3.0526300089484256E-2,3.7002583748027729E-2,2.394513734956619E-2,4.9981426068096912E-2,7.3926563417663099E-2,0.12762522223172426,0.16275585570220921,0.29038107793393347,0.1271728243387798,0.16720216174999089,0.29437498608877066,7.5089790934123726E-2,7.4019040449235352E-2,0.14910883138335906,0.12542318756453871,0.12014178841672958,0.24556497598126831,2147,4.7E-2]

{"sheet":"CALCULATIONS","index":4,"n_rows":18,"n_cols":6478,"rows_kept":18,"cut":false,"hidden":true,"merged":[[1,0,5,0],[4,100,5,100],[2,6362,3,6364],[4,6362,4,6364],[2,6326,2,6334],[3,6331,4,6334],[3,6340,4,6343],[4,4895,4,4913],[4,4914,4,4932],[4,4933,4,4951],[4,4952,4,4970],[4,5798,4,5802],[4,5803,4,5807],[4,5808,4,5812],[4,5813,4,5817],[4,5731,4,5749],[4,5750,4,5768],[4,5769,4,5787],[3,5848,3,5877],[3,5878,3,5907],[4,5853,4,5857],[4,5858,4,5862],[4,5863,4,5867],[2,6202,2,6207],[3,6214,3,6219],[3,6220,3,6225],[3,5965,3,5970],[3,5971,3,5976],[2,6148,2,6165],[2,6121,2,6123],[3,6052,3,6057],[3,6046,3,6051],[2,6166,2,6183],[3,6148,3,6153],[3,6154,3,6159],[3,6079,3,6084],[3,6064,3,6068],[2,6064,2,6078],[3,6074,3,6078],[2,6124,2,6126],[2,6127,2,6129],[3,6097,3,6102],[3,6103,3,6108],[3,6109,3,6114],[3,6115,3,6120],[3,6091,3,6096],[2,6097,2,6102],[2,6103,2,6120],[2,5788,2,5817],[2,5818,2,5907],[2,5908,2,5922],[3,5818,3,5847],[2,5941,2,5958],[3,5947,3,5952],[4,5913,4,5917],[3,6040,3,6045],[3,6028,3,6033],[3,5953,3,5958],[3,5908,3,5912],[4,5818,4,5822],[4,5878,4,5882],[4,5823,4,5827],[4,5828,4,5832],[4,5908,4,5912],[4,5873,4,5877],[2,6019,2,6021],[3,6034,3,6039],[3,5941,3,5946],[4,5868,4,5872],[3,5977,3,5982],[2,6022,2,6024],[2,6025,2,6027],[4,5712,4,5730],[4,5484,4,5502],[4,5503,4,5521],[4,5427,4,5445],[4,5389,4,5407],[4,5408,4,5426],[4,5256,4,5274],[4,5275,4,5293],[4,5522,4,5540],[4,5541,4,5559],[4,5560,4,5578],[4,5636,4,5654],[4,5655,4,5673],[4,5674,4,5692],[4,5351,4,5369],[4,5370,4,5388],[4,5294,4,5312],[4,5313,4,5331],[1,1076,1,1078],[4,601,4,619],[2,119,2,346],[4,195,4,213],[4,214,4,232],[4,1212,5,1212],[4,1274,4,1276],[2,354,2,581],[4,354,4,372],[4,373,4,391],[4,392,4,410],[4,582,4,600],[4,290,4,308],[3,233,3,346],[4,328,4,346],[1,119,1,1075],[4,791,4,809],[2,582,2,809],[4,810,4,828],[4,829,4,847],[3,696,3,809],[2,810,2,1037],[2,1226,2,1277],[2,1079,2,1130],[2,1038,2,1075],[4,1057,4,1075],[4,1038,4,1056],[3,1038,3,1056],[4,1118,4,1122],[2,1346,2,1365],[4,3218,4,3222],[2,1306,2,1325],[3,1381,3,1384],[2,1366,2,1386],[4,1265,4,1269],[4,1316,4,1320],[4,1235,4,1237],[4,1110,4,1113],[4,1127,4,1129],[3,1226,3,1238],[3,1239,3,1251],[3,1252,3,1264],[4,1244,4,1247],[4,1252,4,1256],[4,1257,4,1260],[4,1195,4,1197],[4,1140,4,1142],[4,1270,4,1273],[2,6028,2,6045],[2,6001,2,6018],[2,3448,2,3537],[4,3458,4,3462],[3,3478,3,3507],[2,5959,2,5976],[3,5959,3,5964],[3,5788,3,5817],[4,5833,4,5837],[4,5838,4,5842],[4,5843,4,5847],[4,5848,4,5852],[4,5579,4,5597],[4,5598,4,5616],[4,5617,4,5635],[4,5693,4,5711],[4,5332,4,5350],[3,3448,3,3477],[2,5104,2,5445],[2,5446,2,5787],[3,5674,3,5787],[2,4078,2,4419],[2,4420,2,4761],[4,4515,4,4533],[4,3403,4,3407],[4,3408,4,3412],[4,3413,4,3417],[4,3418,4,3422],[4,4553,4,4571],[4,5180,4,5198],[4,5047,4,5065],[4,5066,4,5084],[4,5085,4,5103],[4,5104,4,5122],[4,4648,4,4666],[4,4971,4,4989],[4,4990,4,5008],[4,4572,4,4590],[4,4591,4,4609],[4,4610,4,4628],[4,4629,4,4647],[4,5123,4,5141],[4,5142,4,5160],[4,4781,4,4799],[4,4743,4,4761],[4,5009,4,5027],[4,3918,4,3922],[4,3923,4,3927],[2,347,2,352],[4,905,4,923],[4,886,4,904],[3,810,3,923],[4,848,4,866],[4,867,4,885],[4,449,4,467],[4,506,4,524],[3,6069,3,6073],[4,715,4,733],[3,354,3,467],[4,772,4,790],[3,5913,3,5917],[3,5918,3,5922],[4,5446,4,5464],[4,5465,4,5483],[4,5883,4,5887],[4,5918,4,5922],[4,5788,4,5792],[4,5793,4,5797],[4,5888,4,5892],[4,5893,4,5897],[4,5898,4,5902],[4,5903,4,5907],[4,99,5,99],[4,1019,4,1037],[4,696,4,714],[4,639,4,657],[4,176,4,194],[4,157,4,175],[4,138,4,156],[4,103,4,108],[4,111,4,116],[4,101,5,101],[4,102,5,102],[4,119,4,137],[4,233,4,251],[4,981,4,999],[4,962,4,980],[4,943,4,961],[4,924,4,942],[4,109,5,109],[4,117,5,117],[4,110,5,110],[4,94,5,94],[4,1131,4,1135],[3,1079,3,1091],[4,1311,4,1315],[3,1316,3,1325],[4,1251,5,1251],[4,1239,4,1243],[4,1200,4,1204],[4,1231,4,1234],[4,1153,4,1155],[4,1291,5,1291],[4,1292,4,1297],[3,1306,3,1315],[4,1306,4,1310],[4,1284,4,1287],[4,1298,4,1301],[3,1265,3,1277],[4,1117,5,1117],[4,1130,5,1130],[4,1198,5,1198],[3,1292,3,1305],[4,1114,4,1116],[4,1181,4,1183],[3,119,3,232],[4,1079,4,1083],[4,1084,4,1087],[4,1105,4,1109],[4,1091,5,1091],[4,1088,4,1090],[4,309,4,327],[4,734,4,752],[4,525,4,543],[4,544,4,562],[4,563,4,581],[4,1143,5,1143],[4,1156,5,1156],[4,1170,5,1170],[4,1209,4,1211],[4,1136,4,1139],[4,1144,4,1148],[4,1149,4,1152],[4,1158,4,1162],[1,35,1,118],[4,50,5,50],[4,58,5,58],[4,66,5,66],[4,91,5,91],[3,51,3,58],[3,59,3,66],[4,90,5,90],[4,57,5,57],[4,65,5,65],[4,73,5,73],[4,81,5,81],[4,89,5,89],[4,67,4,72],[4,75,4,80],[4,83,4,88],[3,91,3,96],[3,75,3,82],[3,67,3,74],[4,35,4,40],[2,35,2,50],[2,51,2,66],[2,67,2,82],[2,91,2,102],[2,103,2,118],[4,118,5,118],[3,43,3,50],[3,103,3,110],[3,111,3,118],[3,35,3,42],[2,83,2,90],[4,42,5,42],[4,41,5,41],[4,49,5,49],[4,95,5,95],[4,92,5,92],[4,98,5,98],[4,93,5,93],[4,82,5,82],[3,83,3,90],[4,59,4,64],[2,3358,2,3447],[4,1361,4,1365],[4,2500,4,2520],[4,2941,4,2961],[3,3238,3,3267],[4,3358,4,3362],[4,3278,4,3282],[4,3088,4,3092],[4,2479,4,2499],[4,1366,5,1366],[4,3193,4,3197],[4,3198,4,3202],[4,3203,4,3207],[4,3208,4,3212],[4,3213,4,3217],[4,3093,4,3097],[4,2311,4,2331],[4,2332,4,2352],[4,2353,4,2373],[4,96,5,96],[4,3348,4,3352],[4,3363,4,3367],[4,3283,4,3287],[4,3328,4,3332],[2,3088,2,3177],[4,3253,4,3257],[3,347,3,352],[3,1092,3,1104],[3,1105,3,1117],[3,1118,3,1130],[4,411,4,429],[4,430,4,448],[4,658,4,676],[4,468,4,486],[4,487,4,505],[4,677,4,695],[3,1346,3,1355],[3,1057,3,1075],[3,468,3,581],[4,1278,4,1283],[3,924,3,1037],[4,1000,4,1018],[4,3228,4,3232],[4,3233,4,3237],[4,620,4,638],[3,582,3,695],[4,1123,4,1126],[1,1366,1,1386],[3,1,4,17],[3,18,4,34],[1,1079,1,1305],[2,1157,2,1212],[3,1171,3,1184],[3,1157,3,1170],[3,1185,3,1198],[3,1199,3,1212],[4,1213,4,1217],[4,1218,4,1221],[4,1222,4,1224],[2,1213,2,1225],[3,1213,3,1225],[4,1225,5,1225],[4,1305,5,1305],[4,1261,4,1263],[3,1144,3,1156],[1,1306,1,1365],[2,1131,2,1156],[4,74,5,74],[4,1167,4,1169],[4,1163,4,1166],[4,1172,4,1176],[4,1177,4,1180],[2,3718,2,3807],[3,2395,3,2520],[4,1331,4,1335],[3,1326,3,1335],[4,1226,4,1230],[4,3698,4,3702],[4,3708,4,3712],[4,3628,4,3632],[3,3718,3,3747],[3,3748,3,3777],[4,3748,4,3752],[3,3628,3,3657],[4,3658,4,3662],[4,3663,4,3667],[4,3668,4,3672],[4,3673,4,3677],[4,3468,4,3472],[4,3498,4,3502],[4,3503,4,3507],[4,3733,4,3737],[4,3693,4,3697],[4,3753,4,3757],[4,3758,4,3762],[4,97,5,97],[4,1092,4,1096],[4,1097,4,1100],[4,1101,4,1103],[4,1104,5,1104],[3,1131,3,1143],[4,3618,4,3622],[3,3598,3,3627],[4,3623,4,3627],[3,3358,3,3387],[3,3388,3,3417],[3,3508,3,3537],[3,97,3,102],[4,252,4,270],[4,271,4,289],[4,753,4,771],[4,3428,4,3432],[4,3433,4,3437],[4,3438,4,3442],[4,3443,4,3447],[3,3418,3,3447],[4,3528,4,3532],[4,3608,4,3612],[4,3613,4,3617],[4,4534,4,4552],[2,4762,2,5103],[3,4078,3,4191],[3,4192,3,4305],[3,4306,3,4419],[3,4420,3,4533],[3,4534,3,4647],[3,4648,3,4761],[3,4762,3,4875],[3,4876,3,4989],[3,4990,3,5103],[3,5446,3,5559],[3,5560,3,5673],[4,5028,4,5046],[4,5161,4,5179],[4,4800,4,4818],[4,4819,4,4837],[4,4838,4,4856],[4,4857,4,4875],[4,4876,4,4894],[4,5199,4,5217],[4,5218,4,5236],[4,5237,4,5255],[3,3838,3,3867],[4,3948,4,3952],[4,3823,4,3827],[4,3828,4,3832],[4,3833,4,3837],[3,3958,3,3987],[3,5104,3,5217],[3,5218,3,5331],[3,5332,3,5445],[4,4724,4,4742],[4,4686,4,4704],[4,4705,4,4723],[4,4667,4,4685],[4,4439,4,4457],[4,4458,4,4476],[4,4477,4,4495],[4,4496,4,4514],[3,3868,3,3897],[3,3898,3,3927],[3,3928,3,3957],[4,3878,4,3882],[4,3933,4,3937],[4,3938,4,3942],[4,4073,4,4077],[3,4018,3,4047],[3,4048,3,4077],[4,3963,4,3967],[4,3983,4,3987],[4,3988,4,3992],[4,3993,4,3997],[4,4382,4,4400],[4,4173,4,4191],[4,4154,4,4172],[4,4249,4,4267],[4,4268,4,4286],[4,4287,4,4305],[4,4344,4,4362],[4,4363,4,4381],[4,4097,4,4115],[4,4116,4,4134],[4,4192,4,4210],[4,4211,4,4229],[4,4230,4,4248],[4,4135,4,4153],[4,4306,4,4324],[4,4325,4,4343],[4,4038,4,4042],[4,4043,4,4047],[4,4048,4,4052],[4,4053,4,4057],[4,4058,4,4062],[4,4063,4,4067],[4,4068,4,4072],[4,3998,4,4002],[4,3818,4,3822],[4,3838,4,3842],[4,4033,4,4037],[4,3883,4,3887],[4,3743,4,3747],[4,3968,4,3972],[4,3973,4,3977],[4,3978,4,3982],[4,3763,4,3767],[4,3768,4,3772],[4,3843,4,3847],[4,4023,4,4027],[4,3958,4,3962],[4,4008,4,4012],[4,4003,4,4007],[4,3898,4,3902],[4,3683,4,3687],[4,3943,4,3947],[4,4762,4,4780],[4,4401,4,4419],[4,4420,4,4438],[4,3423,4,3427],[4,3533,4,3537],[4,3478,4,3482],[4,3483,4,3487],[4,3448,4,3452],[4,3453,4,3457],[4,3463,4,3467],[4,3488,4,3492],[4,3493,4,3497],[4,3508,4,3512],[4,3513,4,3517],[4,3953,4,3957],[4,4013,4,4017],[4,3903,4,3907],[4,3908,4,3912],[4,4078,4,4096],[4,3803,4,3807],[4,3863,4,3867],[4,3688,4,3692],[2,1278,2,1305],[4,1205,4,1208],[4,1184,5,1184],[4,1248,4,1250],[2,1326,2,1345],[3,1336,3,1345],[4,1321,4,1325],[4,1341,4,1345],[4,1326,4,1330],[4,1336,4,1340],[4,1264,5,1264],[4,1277,5,1277],[4,1302,4,1304],[3,1278,3,1291],[4,1288,4,1290],[4,1186,4,1190],[4,1191,4,1194],[4,1238,5,1238],[4,1386,5,1386],[4,3678,4,3682],[4,3648,4,3652],[4,3653,4,3657],[3,1356,3,1365],[4,1346,4,1350],[4,1371,5,1371],[4,2374,4,2394],[4,2395,4,2415],[4,2416,4,2436],[4,2437,4,2457],[4,2458,4,2478],[4,1356,4,1360],[4,1378,5,1378],[4,1379,5,1379],[4,1380,5,1380],[4,1367,4,1368],[4,1369,4,1370],[4,1387,4,1407],[4,1351,4,1355],[3,1366,3,1371],[4,1381,5,1381],[4,1382,5,1382],[4,1383,5,1383],[4,1384,5,1384],[4,1372,5,1372],[3,1373,5,1373],[3,1374,3,1377],[2,3178,2,3267],[3,3178,3,3207],[3,3208,3,3237],[3,1378,3,1380],[4,1385,5,1385],[4,1618,4,1638],[4,2899,4,2919],[2,1387,2,1764],[3,3088,3,3117],[3,3118,3,3147],[3,1387,3,1512],[3,1639,3,1764],[4,1639,4,1659],[4,1660,4,1680],[4,1681,4,1701],[4,1702,4,1722],[4,1723,4,1743],[4,1744,4,1764],[4,2836,4,2856],[4,3248,4,3252],[4,3188,4,3192],[4,3223,4,3227],[2,3538,2,3627],[4,3268,4,3272],[4,3098,4,3102],[4,3103,4,3107],[4,3108,4,3112],[4,3113,4,3117],[4,3118,4,3122],[4,3123,4,3127],[4,3128,4,3132],[4,3133,4,3137],[4,3138,4,3142],[4,3143,4,3147],[4,3148,4,3152],[4,3153,4,3157],[3,3148,3,3177],[2,3268,2,3357],[3,3268,3,3297],[3,3298,3,3327],[4,3288,4,3292],[4,3258,4,3262],[4,3263,4,3267],[4,3393,4,3397],[4,3398,4,3402],[4,3378,4,3382],[2,6229,2,6231],[2,6232,2,6234],[3,6085,3,6090],[3,5989,3,5994],[3,5983,3,5988],[4,3313,4,3317],[4,3318,4,3322],[4,3323,4,3327],[4,3568,4,3572],[4,3573,4,3577],[4,3578,4,3582],[3,3568,3,3597],[3,3328,3,3357],[4,4018,4,4022],[2,3628,2,3717],[3,3688,3,3717],[2,3808,2,3897],[2,3898,2,3987],[2,3988,2,4077],[3,3778,3,3807],[3,3808,3,3837],[4,3548,4,3552],[4,3473,4,3477],[4,4028,4,4032],[1,6344,1,6376],[2,6344,2,6361],[2,6365,2,6376],[3,6371,3,6376],[3,6365,3,6370],[3,6356,3,6361],[3,6350,3,6355],[3,6344,3,6349],[3,6196,3,6201],[2,6184,2,6201],[1,3088,1,6324],[3,3538,3,3567],[3,5935,3,5940],[2,5923,2,5940],[3,5929,3,5934],[3,5923,3,5928],[3,6013,3,6018],[3,6058,3,6063],[2,6046,2,6063],[2,6235,2,6324],[2,6079,2,6096],[2,5977,2,5994],[4,6371,4,6373],[4,6374,4,6376],[2,6130,2,6147],[4,6359,4,6361],[4,6344,4,6346],[4,6347,4,6349],[4,6350,4,6352],[4,6353,4,6355],[4,6356,4,6358],[4,6260,4,6264],[4,6265,4,6269],[4,6270,4,6274],[4,6275,4,6279],[4,6280,4,6284],[4,6285,4,6289],[4,6315,4,6319],[3,6184,3,6189],[3,6190,3,6195],[3,6160,3,6165],[4,6235,4,6239],[4,6240,4,6244],[4,6305,4,6309],[3,6202,3,6207],[3,6208,3,6213],[2,6208,2,6225],[2,6226,2,6228],[4,3853,4,3857],[4,3858,4,3862],[4,3928,4,3932],[4,3888,4,3892],[4,3798,4,3802],[4,3713,4,3717],[4,3718,4,3722],[4,3773,4,3777],[4,3778,4,3782],[4,3723,4,3727],[4,3728,4,3732],[4,3793,4,3797],[4,3808,4,3812],[4,3813,4,3817],[4,3868,4,3872],[4,3873,4,3877],[4,3893,4,3897],[3,3988,3,4017],[3,6007,3,6012],[3,5995,3,6000],[2,5995,2,6000],[4,3738,4,3742],[4,3703,4,3707],[4,3783,4,3787],[4,3788,4,3792],[4,3913,4,3917],[4,3173,4,3177],[4,3303,4,3307],[4,3308,4,3312],[4,3598,4,3602],[4,3603,4,3607],[4,3638,4,3642],[4,3643,4,3647],[4,3593,4,3597],[4,3538,4,3542],[4,3543,4,3547],[4,3553,4,3557],[4,3558,4,3562],[4,3633,4,3637],[4,3563,4,3567],[4,3518,4,3522],[4,3523,4,3527],[4,3333,4,3337],[4,3353,4,3357],[4,3368,4,3372],[4,3373,4,3377],[4,3383,4,3387],[4,3388,4,3392],[4,3273,4,3277],[4,3158,4,3162],[4,3163,4,3167],[4,1975,4,1995],[4,1996,4,2016],[3,2017,3,2142],[4,2101,4,2121],[4,2017,4,2037],[4,2038,4,2058],[4,2059,4,2079],[4,2080,4,2100],[3,2269,3,2394],[4,2269,4,2289],[4,2605,4,2625],[4,2626,4,2646],[3,2521,3,2646],[4,3168,4,3172],[4,3338,4,3342],[4,3343,4,3347],[4,3178,4,3182],[4,3183,4,3187],[4,3238,4,3242],[1,1387,1,3087],[4,1408,4,1428],[4,1429,4,1449],[4,1450,4,1470],[4,1471,4,1491],[4,1492,4,1512],[3,1513,3,1638],[4,1513,4,1533],[4,1534,4,1554],[4,1555,4,1575],[4,1576,4,1596],[4,1597,4,1617],[4,2122,4,2142],[3,2143,3,2268],[4,2143,4,2163],[4,2164,4,2184],[4,2185,4,2205],[4,2206,4,2226],[4,2227,4,2247],[4,2290,4,2310],[4,2521,4,2541],[4,2542,4,2562],[4,2563,4,2583],[4,2584,4,2604],[2,3025,2,3087],[3,3025,3,3045],[4,3025,4,3045],[3,3046,3,3066],[4,3046,4,3066],[3,3067,3,3087],[4,3067,4,3087],[2,2647,2,3024],[3,2647,3,2772],[4,2647,4,2667],[4,2668,4,2688],[4,2689,4,2709],[4,2920,4,2940],[4,2962,4,2982],[4,2857,4,2877],[4,2983,4,3003],[4,2710,4,2730],[4,2731,4,2751],[4,2752,4,2772],[3,2773,3,2898],[4,2773,4,2793],[4,2794,4,2814],[4,2815,4,2835],[4,2878,4,2898],[1,1,2,34],[3,6327,4,6330],[2,6325,4,6325],[2,1765,2,1890],[3,1765,3,1890],[4,1765,4,1785],[4,1786,4,1806],[4,1807,4,1827],[4,1828,4,1848],[4,1849,4,1869],[4,1870,4,1890],[2,1891,2,2268],[3,1891,3,2016],[4,1891,4,1911],[4,1912,4,1932],[4,1933,4,1953],[4,1954,4,1974],[4,2248,4,2268],[2,2269,2,2646],[4,43,4,48],[4,51,4,56],[4,3848,4,3852],[1,6325,1,6343],[2,6335,2,6343],[4,6416,4,6418],[1,6377,1,6400],[1,6401,1,6424],[2,6377,2,6388],[2,6389,2,6400],[2,6401,2,6412],[2,6413,2,6424],[3,6377,3,6382],[3,6383,3,6388],[3,6389,3,6394],[3,6395,3,6400],[3,6401,3,6406],[3,6407,3,6412],[3,6413,3,6418],[3,6419,3,6424],[4,6413,4,6415],[4,3243,4,3247],[4,3004,4,3024],[4,3583,4,3587],[4,3588,4,3592],[4,3293,4,3297],[4,3298,4,3302],[3,6001,3,6006],[4,6310,4,6314],[3,6235,3,6264],[3,6265,3,6294],[3,6295,3,6324],[3,6130,3,6135],[4,6250,4,6254],[4,6245,4,6249],[3,6166,3,6171],[3,6172,3,6177],[3,6178,3,6183],[4,6320,4,6324],[3,6136,3,6141],[3,6142,3,6147],[4,6290,4,6294],[4,6295,4,6299],[4,6300,4,6304],[4,6255,4,6259],[3,2899,3,3024],[2,6444,3,6446],[4,6365,4,6367],[4,6368,4,6370],[3,6426,3,6431],[3,6432,3,6437],[3,6438,3,6443],[3,6447,3,6452],[3,6453,3,6458],[3,6336,4,6339],[4,6419,4,6421],[4,6422,4,6424],[4,6377,4,6379],[4,6380,4,6382],[4,6383,4,6385],[4,6386,4,6388],[4,6389,4,6391],[4,6392,4,6394],[4,6395,4,6397],[4,6398,4,6400],[4,6401,4,6403],[4,6404,4,6406],[4,6407,4,6409],[4,6410,4,6412],[2,6447,2,6458],[3,3658,3,3687],[4,6453,4,6455],[4,6456,4,6458],[1,6425,5,6425],[1,6459,1,6477],[2,6459,4,6459],[2,6460,2,6468],[2,6469,2,6477],[3,6461,4,6464],[3,6465,4,6468],[3,6470,4,6473],[3,6474,4,6477],[4,6426,4,6428],[4,6429,4,6431],[4,6432,4,6434],[4,6435,4,6437],[4,6438,4,6440],[4,6441,4,6443],[4,6444,4,6446],[4,6447,4,6449],[4,6450,4,6452],[1,6426,1,6458],[2,6426,2,6443]]}
["This sheet takes data from the User Interface sheet",null,null,null,null,null,null,null,null,null,null,null,null,null,null,null,null,null,null,null,null,null,null,null,null,null,null,null,null,null,null,null,null,null,null,null,null,null,null,null,null,null,null,null,null,null,null,null,null,null,null,null,null,null,null,null,null,null,null,null,null,null,null,null,null,null,null,null,null,null,null,null,null,null,null,null,null,null,null,null,null,null,null,null,null,null,null,null,null,null,null,null,null,null,null,null,null,null,null,null,null,null,null,null,null,null,null,null,null,null,null,null,null,null,null,null,null,null,null,null,null,null,null,null,null,null,null,null,null,null,null,null,null,null,null,null,null,null,null,null,null,null,null,null,null,null,null,null,null,null,null,null,null,null,null,null,null,null,null,null,null,null,null,null,null,null,null,null,null,null,null,null,null,null,null,null,null,null,null,null,null,null,null,null,null,null,null,null,null,null,null,null,null,null,null,null,null,null,null,null,null,null,null,null,null,null,null,null,null,null,null,null,null,null,null,null,null,null,null,null,null,null,null,null,null,null,null,null,null,null,null,null,null,null,null,null,null,null,null,null,null,null,null,null,null,null,null,null,null,null,null,null,null,null,null,null,null,null,null,null,null,null,null,null,null,null,null,null,null,null,null,null,null,null,null,null,null,null,null,null,null,null,null,null,null,null,null,null,null,null,null,null,null,null,null,null,null,null,null,null,null,null,null,null,null,null,null,null,null,null,null,null,null,null,null,null,null,null,null,null,null,null,null,null,null,null,null,null,null,null,null,null,null,null,null,null,null,null,null,null,null,null,null,null,null,null,null,null,null,null,null,null,null,null,null,null,null,null,null,null,null,null,null,null,null,null,null,null,null,null,null,null,null,null,null,null,null,null,null,null,null,null,null,null,null,null,null,null,null,null,null,null,null,null,null,null,null,null,null,null,null,null,null,null,null,null,null,null,null,null,null,null,null,null,null,null,null,null,null,null,null,null,null,null,null,null,null,null,null,null,null,null,null,null,null,null,null,null,null,null,null,null,null,null,null,null,null,null,null,null,null,null,null,null,null,null,null,null,null,null,null,null,null,null,null,null,null,null,null,null,null,null,null,null,null,null,null,null,null,null,null,null,null,null,null,null,null,null,null,null,null,null,null,null,null,null,null,null,null,null,null,null,null,null,null,null,null,null,null,null,null,null,null,null,null,null,null,null,null,null,null,null,null,null,null,null,null,null,null,null,null,null,null,null,null,null,null,null,null,null,null,null,null,null,null,null,null,null,null,null,null,null,null,null,null,null,null,null,null,null,null,null,null,null,null,null,null,null,null,null,null,null,null,null,null,null,null,null,null,null,null,null,null,null,null,null,null,null,null,null,null,null,null,null,null,null,null,null,null,null,null,null,null,null,null,null,null,null,null,null,null,null,null,null,null,null,null,null,null,null,null,null,null,null,null,null,null,null,null,null,null,null,null,null,null,null,null,null,null,null,null,null,null,null,null,null,null,null,null,null,null,null,null,null,null,null,null,null,null,null,null,null,null,null,null,null,null,null,null,null,null,null,null,null,null,null,null,null,null,null,null,null,null,null,null,null,null,null,null,null,null,null,null,null,null,null,null,null,null,null,null,null,null,null,null,null,null,null,null,null,null,null,null,null,null,null,null,null,null,null,null,null,null,null,null,null,null,null,null,null,null,null,null,null,null,null,null,null,null,null,null,null,null,null,null,null,null,null,null,null,null,null,null,null,null,null,null,null,null,null,null,null,null,null,null,null,null,null,null,null,null,null,null,null,null,null,null,null,null,null,null,null,null,null,null,null,null,null,null,null,null,null,null,null,null,null,null,null,null,null,null,null,null,null,null,null,null,null,null,null,null,null,null,null,null,null,null,null,null,null,null,null,null,null,null,null,null,null,null,null,null,null,null,null,null,null,null,null,null,null,null,null,null,null,null,null,null,null,null,null,null,null,null,null,null,null,null,null,null,null,null,null,null,null,null,null,null,null,null,null,null,null,null,null,null,null,null,null,null,null,null,null,null,null,null,null,null,null,null,null,null,null,null,null,null,null,null,null,null,null,null,null,null,null,null,null,null,null,null,null,null,null,null,null,null,null,null,null,null,null,null,null,null,null,null,null,null,null,null,null,null,null,null,null,null,null,null,null,null,null,null,null,null,null,null,null,null,null,null,null,null,null,null,null,null,null,null,null,null,null,null,null,null,null,null,null,null,null,null,null,null,null,null,null,null,null,null,null,null,null,null,null,null,null,null,null,null,null,null,null,null,null,null,null,null,null,null,null,null,null,null,null,null,null,null,null,null,null,null,null,null,null,null,null,null,null,null,null,null,null,null,null,null,null,null,null,null,null,null,null,null,null,null,null,null,null,null,null,null,null,null,null,null,null,null,null,null,null,null,null,null,null,null,null,null,null,null,null,null,null,null,null,null,null,null,null,null,null,null,null,null,null,null,null,null,null,null,null,null,null,null,null,null,null,null,null,null,null,null,null,null,null,null,null,null,null,null,null,null,null,null,null,null,null,null,null,null,null,null,null,null,null,null,null,null,null,null,null,null,null,null,null,null,null,null,null,null,null,null,null,null,null,null,null,null,null,null,null,null,null,null,null,null,null,null,null,null,null,null,null,null,null,null,null,null,null,null,null,null,null,null,null,null,null,null,null,null,null,null,null,null,null,null,null,null,null,null,null,null,null,null,null,null,null,null,null,null,null,null,null,null,null,null,null,null,null,null,null,null,null,null,null,null,null,null,null,null,null,null,null,null,null,null,null,null,null,null,null,null,null,null,null,null,null,null,null,null,null,null,null,null,null,null,null,null,null,null,null,null,null,null,null,null,null,null,null,null,null,null,null,null,null,null,null,null,null,null,null,null,null,null,null,null,null,null,null,null,null,null,null,null,null,null,null,null,null,null,null,null,null,null,null,null,null,null,null,null,null,null,null,null,null,null,null,null,null,null,null,null,null,null,null,null,null,null,null,null,null,null,null,null,null,null,null,null,null,null,null,null,null,null,null,null,null,null,null,null,null,null,null,null,null,null,null,null,null,null,null,null,null,null,null,null,null,null,null,null,null,null,null,null,null,null,null,null,null,null,null,null,null,null,null,null,null,null,null,null,null,null,null,null,null,null,"8: H: VSL - link to BOE",null,null,null,"(DALY)",null,null,"(VOSL)",null,"4. L/H: Values"]
["1. Country","2. Population Size (Thousand)",null,null,null,null,null,null,null,null,null,null,null,null,null,null,null,null,null,null,null,null,null,null,null,null,null,null,null,null,null,null,null,null,null,"3. Coverage of WASH Services",null,null,null,null,null,null,null,null,null,null,null,null,null,null,null,null,null,null,null,null,null,null,null,null,null,null,null,null,null,null,null,null,null,null,null,null,null,null,null,null,null,null,null,null,null,null,null,null,null,null,null,null,null,null,null,null,null,null,null,null,null,null,null,null,null,null,null,null,null,null,null,null,null,null,null,null,null,null,null,null,null,null,null,"4. Total Population to be Served with New Services (Thousand, Per Year)",null,null,null,null,null,null,null,null,null,null,null,null,null,null,null,null,null,null,null,null,null,null,null,null,null,null,null,null,null,null,null,null,null,null,null,null,null,null,null,null,null,null,null,null,null,null,null,null,null,null,null,null,null,null,null,null,null,null,null,null,null,null,null,null,null,null,null,null,null,null,null,null,null,null,null,null,null,null,null,null,null,null,null,null,null,null,null,null,null,null,null,null,null,null,null,null,null,null,null,null,null,null,null,null,null,null,null,null,null,null,null,null,null,null,null,null,null,null,null,null,null,null,null,null,null,null,null,null,null,null,null,null,null,null,null,null,null,null,null,null,null,null,null,null,null,null,null,null,null,null,null,null,null,null,null,null,null,null,null,null,null,null,null,null,null,null,null,null,null,null,null,null,null,null,null,null,null,null,null,null,null,null,null,null,null,null,null,null,null,null,null,null,null,null,null,null,null,null,null,null,null,null,null,null,null,null,null,null,null,null,null,null,null,null,null,null,null,null,null,null,null,null,null,null,null,null,null,null,null,null,null,null,null,null,null,null,null,null,null,null,null,null,null,null,null,null,null,null,null,null,null,null,null,null,null,null,null,null,null,null,null,null,null,null,null,null,null,null,null,null,null,null,null,null,null,null,null,null,null,null,null,null,null,null,null,null,null,null,null,null,null,null,null,null,null,null,null,null,null,null,null,null,null,null,null,null,null,null,null,null,null,null,null,null,null,null,null,null,null,null,null,null,null,null,null,null,null,null,null,null,null,null,null,null,null,null,null,null,null,null,null,null,null,null,null,null,null,null,null,null,null,null,null,null,null,null,null,null,null,null,null,null,null,null,null,null,null,null,null,null,null,null,null,null,null,null,null,null,null,null,null,null,null,null,null,null,null,null,null,null,null,null,null,null,null,null,null,null,null,null,null,null,null,null,null,null,null,null,null,null,null,null,null,null,null,null,null,null,null,null,null,null,null,null,null,null,null,null,null,null,null,null,null,null,null,null,null,null,null,null,null,null,null,null,null,null,null,null,null,null,null,null,null,null,null,null,null,null,null,null,null,null,null,null,null,null,null,null,null,null,null,null,null,null,null,null,null,null,null,null,null,null,null,null,null,null,null,null,null,null,null,null,null,null,null,null,null,null,null,null,null,null,null,null,null,null,null,null,null,null,null,null,null,null,null,null,null,null,null,null,null,null,null,null,null,null,null,null,null,null,null,null,null,null,null,null,null,null,null,null,null,null,null,null,null,null,null,null,null,null,null,null,null,null,null,null,null,null,null,null,null,null,null,null,null,null,null,null,null,null,null,null,null,null,null,null,null,null,null,null,null,null,null,null,null,null,null,null,null,null,null,null,null,null,null,null,null,null,null,null,null,null,null,null,null,null,null,null,null,null,null,null,null,null,null,null,null,null,null,null,null,null,null,null,null,null,null,null,null,null,null,null,null,null,null,null,null,null,null,null,null,null,null,null,null,null,null,null,null,null,null,null,null,null,null,null,null,null,null,null,null,null,null,null,null,null,null,null,null,null,null,null,null,null,null,null,null,null,null,null,null,null,null,null,null,null,null,null,null,null,null,null,null,null,null,null,null,null,null,null,null,null,null,null,null,null,null,null,null,null,null,null,null,null,null,null,null,null,null,null,null,null,null,null,null,null,null,null,null,null,null,null,null,null,null,null,null,null,null,null,null,null,null,null,null,null,null,null,null,null,null,null,null,null,null,null,null,null,null,null,null,null,null,null,null,null,null,null,null,null,null,null,null,null,null,null,null,null,null,null,null,null,null,null,null,null,null,null,null,null,null,null,null,null,null,null,null,null,null,null,null,null,null,null,null,null,null,null,null,null,null,null,null,null,null,null,null,null,null,null,null,null,null,null,null,null,null,null,null,null,null,null,null,null,null,null,null,null,null,null,null,null,null,null,null,null,null,null,null,null,null,null,null,null,null,null,null,null,null,null,null,null,null,null,null,null,null,null,null,null,null,null,null,null,null,null,null,null,null,null,null,null,null,null,null,null,null,null,null,null,null,null,null,null,null,null,null,null,null,null,null,null,null,null,null,null,null,null,null,null,null,null,null,null,null,null,null,null,null,null,null,null,null,null,null,null,null,null,null,null,null,null,null,null,null,null,null,null,null,null,null,null,null,null,null,null,null,null,null,null,null,null,null,null,null,null,"Proportion of global unserved",null,null,"5. Unit Costs of WASH Services (Per Capita, US$)",null,null,null,null,null,null,null,null,null,null,null,null,null,null,null,null,null,null,null,null,null,null,null,null,null,null,null,null,null,null,null,null,null,null,null,null,null,null,null,null,null,null,null,null,null,null,null,null,null,null,null,null,null,null,null,null,null,null,null,null,null,null,null,null,null,null,null,null,null,null,null,null,null,null,null,null,null,null,null,null,null,null,null,null,null,null,null,null,null,null,null,null,null,null,null,null,null,null,null,null,null,null,null,null,null,null,null,null,null,null,null,null,null,null,null,null,null,null,null,null,null,null,null,null,null,null,null,null,null,null,null,null,null,null,null,null,null,null,null,null,null,null,null,null,null,null,null,null,null,null,null,null,null,null,null,null,null,null,null,null,null,null,null,null,null,null,null,null,null,null,null,null,null,null,null,null,null,null,null,null,null,null,null,null,null,null,null,null,null,null,null,null,null,null,null,null,null,null,null,null,null,null,null,null,null,null,null,null,null,null,null,null,null,null,null,null,null,null,null,null,null,null,null,null,null,null,"6. Coverage per Technology Type",null,null,null,null,null,null,null,null,null,null,null,null,null,null,null,null,null,null,null,null,null,null,null,null,null,null,null,null,null,null,null,null,null,null,null,null,null,null,null,null,null,null,null,null,null,null,null,null,null,null,null,null,null,null,null,null,null,null,null,"7. Economic Variables",null,null,null,null,null,null,null,null,null,null,null,null,null,null,null,null,null,null,null,null,"8. Costs of Extending to Unserved Population, by Year (2015 Prices, Thousand US$)",null,null,null,null,null,null,null,null,null,null,null,null,null,null,null,null,null,null,null,null,null,null,null,null,null,null,null,null,null,null,null,null,null,null,null,null,null,null,null,null,null,null,null,null,null,null,null,null,null,null,null,null,null,null,null,null,null,null,null,null,null,null,null,null,null,null,null,null,null,null,null,null,null,null,null,null,null,null,null,null,null,null,null,null,null,null,null,null,null,null,null,null,null,null,null,null,null,null,null,null,null,null,null,null,null,null,null,null,null,null,null,null,null,null,null,null,null,null,null,null,null,null,null,null,null,null,null,null,null,null,null,null,null,null,null,null,null,null,null,null,null,null,null,null,null,null,null,null,null,null,null,null,null,null,null,null,null,null,null,null,null,null,null,null,null,null,null,null,null,null,null,null,null,null,null,null,null,null,null,null,null,null,null,null,null,null,null,null,null,null,null,null,null,null,null,null,null,null,null,null,null,null,null,null,null,null,null,null,null,null,null,null,null,null,null,null,null,null,null,null,null,null,null,null,null,null,null,null,null,null,null,null,null,null,null,null,null,null,null,null,null,null,null,null,null,null,null,null,null,null,null,null,null,null,null,null,null,null,null,null,null,null,null,null,null,null,null,null,null,null,null,null,null,null,null,null,null,null,null,null,null,null,null,null,null,null,null,null,null,null,null,null,null,null,null,null,null,null,null,null,null,null,null,null,null,null,null,null,null,null,null,null,null,null,null,null,null,null,null,null,null,null,null,null,null,null,null,null,null,null,null,null,null,null,null,null,null,null,null,null,null,null,null,null,null,null,null,null,null,null,null,null,null,null,null,null,null,null,null,null,null,null,null,null,null,null,null,null,null,null,null,null,null,null,null,null,null,null,null,null,null,null,null,null,null,null,null,null,null,null,null,null,null,null,null,null,null,null,null,null,null,null,null,null,null,null,null,null,null,null,null,null,null,null,null,null,null,null,null,null,null,null,null,null,null,null,null,null,null,null,null,null,null,null,null,null,null,null,null,null,null,null,null,null,null,null,null,null,null,null,null,null,null,null,null,null,null,null,null,null,null,null,null,null,null,null,null,null,null,null,null,null,null,null,null,null,null,null,null,null,null,null,null,null,null,null,null,null,null,null,null,null,null,null,null,null,null,null,null,null,null,null,null,null,null,null,null,null,null,null,null,null,null,null,null,null,null,null,null,null,null,null,null,null,null,null,null,null,null,null,null,null,null,null,null,null,null,null,null,null,null,null,null,null,null,null,null,null,null,null,null,null,null,null,null,null,null,null,null,null,null,null,null,null,null,null,null,null,null,null,null,null,null,null,null,null,null,null,null,null,null,null,null,null,null,null,null,null,null,null,null,null,null,null,null,null,null,null,null,null,null,null,null,null,null,null,null,null,null,null,null,null,null,null,null,null,null,null,null,null,null,null,null,null,null,null,null,null,null,null,null,null,null,null,null,null,null,null,null,null,null,null,null,null,null,null,null,null,null,null,null,null,null,null,null,null,null,null,null,null,null,null,null,null,null,null,null,null,null,null,null,null,null,null,null,null,null,null,null,null,null,null,null,null,null,null,null,null,null,null,null,null,null,null,null,null,null,null,null,null,null,null,null,null,null,null,null,null,null,null,null,null,null,null,null,null,null,null,null,null,null,null,null,null,null,null,null,null,null,null,null,null,null,null,null,null,null,null,null,null,null,null,null,null,null,null,null,null,null,null,null,null,null,null,null,null,null,null,null,null,null,null,null,null,null,null,null,null,null,null,null,null,null,null,null,null,null,null,null,null,null,null,null,null,null,null,null,null,null,null,null,null,null,null,null,null,null,null,null,null,null,null,null,null,null,null,null,null,null,null,null,null,null,null,null,null,null,null,null,null,null,null,null,null,null,null,null,null,null,null,null,null,null,null,null,null,null,null,null,null,null,null,null,null,null,null,null,null,null,null,null,null,null,null,null,null,null,null,null,null,null,null,null,null,null,null,null,null,null,null,null,null,null,null,null,null,null,null,null,null,null,null,null,null,null,null,null,null,null,null,null,null,null,null,null,null,null,null,null,null,null,null,null,null,null,null,null,null,null,null,null,null,null,null,null,null,null,null,null,null,null,null,null,null,null,null,null,null,null,null,null,null,null,null,null,null,null,null,null,null,null,null,null,null,null,null,null,null,null,null,null,null,null,null,null,null,null,null,null,null,null,null,null,null,null,null,null,null,null,null,null,null,null,null,null,null,null,null,null,null,null,null,null,null,null,null,null,null,null,null,null,null,null,null,null,null,null,null,null,null,null,null,null,null,null,null,null,null,null,null,null,null,null,null,null,null,null,null,null,null,null,null,null,null,null,null,null,null,null,null,null,null,null,null,null,null,null,null,null,null,null,null,null,null,null,null,null,null,null,null,null,null,null,null,null,null,null,null,null,null,null,null,null,null,null,null,null,null,null,null,null,null,null,null,null,null,null,null,null,null,null,null,null,null,null,null,null,null,null,null,null,null,null,null,null,null,null,null,null,null,null,null,null,null,null,null,null,null,null,null,null,null,null,null,null,null,null,null,null,null,null,null,null,null,null,null,null,null,null,null,null,null,null,null,null,null,null,null,null,null,null,null,null,null,null,null,null,null,null,null,null,null,null,null,null,null,null,null,null,null,null,null,null,null,null,null,null,null,null,null,null,null,null,null,null,null,null,null,null,null,null,null,null,null,null,null,null,null,null,null,null,null,null,null,null,null,null,null,null,null,null,null,null,null,null,null,null,null,null,null,null,null,null,null,null,null,null,null,null,null,null,null,null,null,null,null,null,null,null,null,null,null,null,null,null,null,null,null,null,null,null,null,null,null,null,null,null,null,null,null,null,null,null,null,null,null,null,null,null,null,null,null,null,null,null,null,null,null,null,null,null,null,null,null,null,null,null,null,null,null,null,null,null,null,null,null,null,null,null,null,null,null,null,null,null,null,null,null,null,null,null,null,null,null,null,null,null,null,null,null,null,null,null,null,null,null,null,null,null,null,null,null,null,null,null,null,null,null,null,null,null,null,null,null,null,null,null,null,null,null,null,null,null,null,null,null,null,null,null,null,null,null,null,null,null,null,null,null,null,null,null,null,null,null,null,null,null,null,null,null,null,null,null,null,null,null,null,null,null,null,null,null,null,null,null,null,null,null,null,null,null,null,null,null,null,null,null,null,null,null,null,null,null,null,null,null,null,null,null,null,null,null,null,null,null,null,null,null,null,null,null,null,null,null,null,null,null,null,null,null,null,null,null,null,null,null,null,null,null,null,null,null,null,null,null,null,null,null,null,null,null,null,null,null,null,null,null,null,null,null,null,null,null,null,null,null,null,null,null,null,null,null,null,null,null,null,null,null,null,null,null,null,null,null,null,null,null,null,null,null,null,null,null,null,null,null,null,null,null,null,null,null,null,null,null,null,null,null,null,null,null,null,null,null,null,null,null,null,null,null,null,null,null,null,null,null,null,null,null,null,null,null,null,null,null,null,null,null,null,null,null,null,null,null,null,null,null,null,null,null,null,null,null,null,null,null,null,null,null,null,null,null,null,null,null,null,null,null,null,null,null,null,null,null,null,null,null,null,null,null,null,null,null,null,null,null,null,null,null,null,null,null,null,null,null,null,null,null,null,null,null,null,null,null,null,null,null,null,null,null,null,null,null,null,null,null,null,null,null,null,null,null,null,null,null,null,null,null,null,null,null,null,null,null,null,null,null,null,null,null,null,null,null,null,null,null,null,null,null,null,null,null,null,null,null,null,null,null,null,null,null,null,null,null,null,null,null,null,null,null,null,null,null,null,null,null,null,null,null,null,null,null,null,null,null,null,null,null,null,null,null,null,null,null,null,null,null,null,null,null,"9. Summary WASH Costs of Extending to Unserved Population (2015 Prices, Thousands))",null,null,null,null,null,null,null,null,null,null,null,null,null,null,null,null,null,null,null,null,null,null,null,null,null,null,null,null,null,null,null,null,null,null,null,null,null,null,null,null,null,null,null,null,null,null,null,null,null,null,null,null,null,null,null,null,null,null,null,null,null,null,null,null,null,null,null,null,null,null,null,null,null,null,null,null,null,null,null,null,null,null,null,null,null,null,null,null,null,null,null,null,null,null,null,null,null,null,null,null,null,null,null,null,null,null,null,null,null,null,null,null,null,null,null,null,null,null,null,null,null,null,null,null,null,null,null,null,null,null,null,null,null,null,null,null,null,null,null,null,null,null,null,null,null,null,null,null,null,null,null,null,null,null,null,null,null,null,null,null,null,null,null,null,null,null,null,null,null,null,null,null,null,null,null,null,null,null,null,null,null,null,null,null,null,null,null,null,null,null,null,null,null,null,null,null,null,null,null,null,null,null,null,null,null,null,null,null,null,null,null,null,null,null,null,null,null,null,null,null,null,null,null,null,null,null,null,null,null,null,null,null,null,null,null,null,null,null,null,null,null,null,null,null,null,null,null,null,null,null,null,null,null,null,null,null,null,null,null,null,null,null,null,null,null,null,null,null,null,null,null,null,null,null,null,null,null,null,null,null,null,null,null,null,null,null,null,null,null,null,null,null,null,null,null,null,null,null,null,null,null,null,null,null,null,null,null,null,null,null,null,null,null,null,null,null,null,null,null,null,null,null,null,null,null,null,null,null,null,null,null,null,null,null,null,null,null,null,null,null,null,null,null,null,null,null,null,null,null,null,null,null,null,null,null,null,null,null,null,null,null,null,null,null,null,null,null,null,null,null,null,null,null,null,null,null,null,null,null,null,null,null,null,null,null,null,null,null,null,null,null,null,null,null,null,null,null,null,null,null,null,null,null,null,null,null,null,null,null,null,null,null,null,null,null,null,null,null,null,null,null,null,null,null,null,null,null,null,null,null,null,null,null,null,null,null,null,null,null,null,null,null,null,null,null,null,null,null,null,null,null,null,null,null,null,null,null,null,null,null,null,null,null,null,null,null,null,null,null,null,null,null,null,null,null,null,null,null,null,null,null,null,null,null,null,null,null,null,null,null,null,null,null,null,null,null,null,null,null,null,null,null,null,null,null,null,null,null,null,null,null,null,null,null,null,null,null,null,null,null,null,null,null,null,null,null,null,null,null,null,null,null,null,null,null,null,null,null,null,null,null,null,null,null,null,null,null,null,null,null,null,null,null,null,null,null,null,null,null,null,null,null,null,null,null,null,null,null,null,null,null,null,null,null,null,null,null,null,null,null,null,null,null,null,null,null,null,null,null,null,null,null,null,null,null,null,null,null,null,null,null,null,null,null,null,null,null,null,null,null,null,null,null,null,null,null,null,null,null,null,null,null,null,null,null,null,null,null,null,null,null,null,null,null,null,null,null,null,null,null,null,null,null,null,null,null,null,null,null,null,null,null,null,null,null,null,null,null,null,null,null,null,null,null,null,null,null,null,null,null,null,null,null,null,null,null,null,null,null,null,null,null,null,null,null,null,null,null,null,null,null,null,null,null,null,null,null,null,null,null,null,null,null,null,null,null,null,null,null,null,null,null,null,null,null,null,null,null,null,null,null,null,null,null,null,null,null,null,null,null,null,null,null,null,null,null,null,null,null,null,null,null,null,null,null,null,null,null,null,null,null,null,null,null,null,null,null,null,null,null,null,null,null,null,null,null,null,null,null,null,null,null,null,null,null,null,null,null,null,null,null,null,null,null,null,null,null,null,null,null,null,null,null,null,null,null,null,null,null,null,null,null,null,null,null,null,null,null,null,null,null,null,null,null,null,null,null,null,null,null,null,null,null,null,null,null,null,null,null,null,null,null,null,null,null,null,null,null,null,null,null,null,null,null,null,null,null,null,null,null,null,null,null,null,null,null,null,null,null,null,null,null,null,null,null,null,null,null,null,null,null,null,null,null,null,null,null,null,null,null,null,null,null,null,null,null,null,null,null,null,null,null,null,null,null,null,null,null,null,null,null,null,null,null,null,null,null,null,null,null,null,null,null,null,null,null,null,null,null,null,null,null,null,null,null,null,null,null,null,null,null,null,null,null,null,null,null,null,null,null,null,null,null,null,null,null,null,null,null,null,null,null,null,null,null,null,null,null,null,null,null,null,null,null,null,null,null,null,null,null,null,null,null,null,null,null,null,null,null,null,null,null,null,null,null,null,null,null,null,null,null,null,null,null,null,null,null,null,null,null,null,null,null,null,null,null,null,null,null,null,null,null,null,null,null,null,null,null,null,null,null,null,null,null,null,null,null,null,null,null,null,null,null,null,null,null,null,null,null,null,null,null,null,null,null,null,null,null,null,null,null,null,null,null,null,null,null,null,null,null,null,null,null,null,null,null,null,null,null,null,null,null,null,null,null,null,null,null,null,null,null,null,null,null,null,null,null,null,null,null,null,null,null,null,null,null,null,null,null,null,null,null,null,null,null,null,null,null,null,null,null,null,null,null,null,null,null,null,null,null,null,null,null,null,null,null,null,null,null,null,null,null,null,null,null,null,null,null,null,null,null,null,null,null,null,null,null,null,null,null,null,null,null,null,null,null,null,null,null,null,null,null,null,null,null,null,null,null,null,null,null,null,null,null,null,null,null,null,null,null,null,null,null,null,null,null,null,null,null,null,null,null,null,null,null,null,null,null,null,null,null,null,null,null,null,null,null,null,null,null,null,null,null,null,null,null,null,null,null,null,null,null,null,null,null,null,null,null,null,null,null,null,null,null,null,null,null,null,null,null,null,null,null,null,null,null,null,null,null,null,null,null,null,null,null,null,null,null,null,null,null,null,null,null,null,null,null,null,null,null,null,null,null,null,null,null,null,null,null,null,null,null,null,null,null,null,null,null,null,null,null,null,null,null,null,null,null,null,null,null,null,null,null,null,null,null,null,null,null,null,null,null,null,null,null,null,null,null,null,null,null,null,null,null,null,null,null,null,null,null,null,null,null,null,null,null,null,null,null,null,null,null,null,null,null,null,null,null,null,null,null,null,null,null,null,null,null,null,null,null,null,null,null,null,null,null,null,null,null,null,null,null,null,null,null,null,null,null,null,null,null,null,null,null,null,null,null,null,null,null,null,null,null,null,null,null,null,null,null,null,null,null,null,null,null,null,null,null,null,null,null,null,null,null,null,null,null,null,null,null,null,null,null,null,null,null,null,null,null,null,null,null,null,null,null,null,null,null,null,null,null,null,null,null,null,null,null,null,null,null,null,null,null,null,null,null,null,null,null,null,null,null,null,null,null,null,null,null,null,null,null,null,null,null,null,null,null,null,null,null,null,null,null,null,null,null,null,null,null,null,null,null,null,null,null,null,null,null,null,null,null,null,null,null,null,null,null,null,null,null,null,null,null,null,null,null,null,null,null,null,null,null,null,null,null,null,null,null,null,null,null,null,null,null,null,null,null,null,null,null,null,null,null,null,null,null,null,null,null,null,null,null,null,null,null,null,null,null,null,null,null,null,null,null,null,null,null,null,null,null,null,null,null,null,null,null,null,null,null,null,null,null,null,null,null,null,null,null,null,null,null,null,null,null,null,null,null,null,null,null,null,null,null,null,null,null,null,null,null,null,null,null,null,null,null,null,null,null,null,null,null,null,null,null,null,null,null,null,null,null,null,null,null,null,null,null,null,null,null,null,null,null,null,null,null,null,null,null,null,null,null,null,null,null,null,null,null,null,null,null,null,null,null,null,null,null,null,null,null,null,null,null,null,null,null,null,null,null,null,null,null,null,null,null,null,null,null,null,null,null,null,null,null,null,null,null,null,null,null,null,null,null,null,null,null,null,null,null,null,null,null,null,null,null,null,null,null,null,null,null,null,null,null,null,null,null,null,null,null,null,null,null,null,null,null,null,null,null,null,null,null,null,null,null,null,null,null,null,null,null,null,null,null,null,null,null,null,null,null,null,null,null,null,null,null,null,null,null,null,null,null,null,null,null,null,null,null,null,null,null,null,null,null,null,null,null,null,null,null,null,null,null,null,null,null,null,null,null,null,null,null,null,null,null,null,null,null,null,null,null,null,null,null,null,null,null,null,null,null,null,null,null,null,null,null,null,null,null,null,null,null,null,null,null,null,null,null,null,null,null,null,null,null,null,null,null,null,null,null,null,null,null,null,null,null,null,null,null,null,null,null,null,null,null,null,null,null,null,null,null,null,null,null,null,null,null,null,null,null,null,null,null,null,null,null,null,null,null,null,null,null,null,null,null,null,null,null,null,null,null,null,null,null,null,null,null,null,null,null,null,null,null,null,null,null,null,null,null,null,null,null,null,null,null,null,null,null,null,null,null,null,null,null,null,null,null,null,null,null,null,null,null,null,null,null,null,null,null,null,null,null,null,null,null,null,null,null,null,null,null,null,null,null,null,null,null,null,null,null,null,null,null,null,null,null,null,null,null,null,null,null,null,null,null,null,null,null,null,null,null,null,null,null,null,null,null,null,null,null,null,null,null,null,null,null,null,null,null,null,null,null,null,null,null,null,null,null,null,null,null,null,null,null,null,null,null,null,null,null,null,null,null,null,null,null,null,null,null,null,null,null,null,null,null,null,null,null,null,null,null,null,null,null,null,null,null,null,null,null,null,null,null,null,null,null,null,null,null,null,null,null,null,null,null,null,null,null,null,null,null,null,null,null,null,null,null,null,null,null,null,null,null,null,null,null,null,null,null,null,null,null,null,null,null,null,null,null,null,null,null,null,null,null,null,null,null,null,null,null,null,null,null,null,null,null,null,null,null,null,null,null,null,null,null,null,null,null,null,null,null,null,null,null,null,null,null,null,null,null,null,null,null,null,null,null,null,null,null,null,null,null,null,null,null,null,null,null,null,null,null,null,null,null,null,null,null,null,null,null,null,null,null,null,null,null,null,null,null,null,null,null,null,null,null,null,null,null,null,null,null,null,null,null,null,null,null,null,null,null,null,null,null,null,null,null,null,null,null,null,null,null,null,null,null,null,null,null,null,null,null,null,null,null,null,null,null,null,null,null,null,null,null,null,null,null,null,null,null,null,null,null,null,null,null,null,null,null,null,null,null,null,null,null,null,null,null,null,null,null,null,null,null,null,null,null,null,null,null,null,null,null,null,null,null,null,null,null,null,null,null,null,null,null,null,null,null,null,null,null,null,null,null,null,null,null,null,null,null,null,null,null,null,null,null,null,null,null,null,null,null,null,null,null,null,null,null,null,null,null,null,null,null,null,null,null,null,null,null,null,null,null,null,null,null,null,null,null,null,null,null,null,null,null,null,null,null,null,null,null,null,null,null,null,null,null,null,null,null,null,null,null,null,null,null,null,null,null,null,null,null,null,null,null,null,null,null,null,null,null,null,null,null,null,null,null,null,null,null,null,null,null,null,null,null,null,null,null,null,null,null,null,null,null,null,null,null,null,null,null,null,null,null,null,null,null,null,null,null,null,null,null,null,null,null,null,null,null,null,null,null,null,null,null,null,null,null,null,null,null,null,null,null,null,null,null,null,null,null,null,null,null,null,null,null,null,null,null,null,null,null,null,null,null,null,null,null,null,null,null,null,null,null,null,null,null,null,null,null,null,null,null,null,null,null,null,null,null,null,null,null,null,null,null,null,null,null,null,null,null,null,null,null,null,null,null,null,null,null,null,null,null,null,null,null,null,null,null,null,null,null,null,null,null,null,null,null,null,null,null,null,null,null,null,null,null,null,null,null,null,null,null,null,null,null,null,null,null,null,null,null,null,null,null,null,null,null,null,null,null,null,null,null,null,null,null,null,null,null,null,null,null,null,null,null,null,null,null,null,null,null,null,null,null,null,null,null,null,null,null,null,null,null,null,null,null,null,null,null,null,null,null,null,null,null,null,null,null,null,null,null,null,null,null,null,null,null,null,null,null,null,null,null,null,null,null,null,null,null,null,null,null,null,null,null,null,null,null,null,null,null,null,null,null,null,null,null,null,null,null,null,null,null,null,null,null,null,null,null,null,null,null,null,null,null,null,null,null,null,null,null,null,null,null,null,null,null,null,null,null,null,null,null,null,null,null,null,null,null,null,null,null,null,null,null,null,null,null,null,null,null,null,null,null,null,null,null,null,null,null,null,null,null,null,null,null,null,null,null,null,null,null,null,null,null,null,null,null,null,null,null,null,null,null,null,null,null,null,null,null,null,null,null,null,null,null,null,null,null,null,null,null,null,null,null,null,null,null,null,null,null,null,null,null,null,null,null,null,null,null,null,null,null,null,null,null,null,null,null,null,null,null,null,null,null,null,null,null,null,null,null,null,null,null,null,null,null,null,null,null,null,null,null,null,null,null,null,null,null,null,null,null,null,null,null,null,null,null,null,null,null,null,null,null,null,null,null,null,null,null,null,null,null,null,null,null,null,null,null,null,null,null,null,null,null,null,null,null,null,null,null,null,null,null,null,null,null,null,null,null,null,null,null,null,null,null,null,null,null,null,null,null,null,null,null,null,null,null,null,null,null,null,null,null,null,null,null,null,null,null,null,null,null,null,null,null,null,null,null,null,null,null,null,null,null,null,null,null,null,null,null,null,null,null,null,null,null,null,null,null,null,null,null,null,null,null,null,null,null,null,null,null,null,null,null,null,null,null,null,null,null,null,null,null,null,null,null,null,null,null,null,null,null,null,null,null,null,null,null,null,null,null,null,null,null,null,null,null,null,null,null,null,null,null,null,null,null,null,null,null,null,null,null,null,null,null,null,null,null,null,null,null,null,null,null,null,null,null,null,null,null,null,null,null,null,null,null,null,null,null,null,null,null,null,null,null,null,null,null,null,null,null,null,null,null,null,null,null,null,null,null,null,null,null,null,null,null,null,null,null,null,null,null,null,null,null,null,null,null,null,null,null,null,null,null,null,null,null,null,null,null,null,null,null,null,null,null,null,null,null,null,null,null,null,null,null,null,null,null,null,null,null,null,null,null,null,null,null,null,null,null,null,null,null,null,null,null,null,null,null,null,null,null,null,null,null,null,null,null,null,null,null,null,null,null,null,null,null,null,null,null,null,null,null,null,null,null,null,null,null,null,null,null,null,null,null,null,null,null,null,null,null,null,null,null,null,null,null,null,null,null,null,null,null,null,null,null,null,null,null,null,null,null,null,null,null,null,null,null,null,null,null,null,null,null,null,null,null,null,null,null,null,null,null,null,null,null,null,null,null,null,null,null,null,null,null,null,null,null,null,null,null,null,null,null,null,null,null,null,null,null,null,null,null,null,null,null,null,null,null,null,null,null,null,null,null,null,"10. Capital Costs as a Percent of GDP",null,null,null,null,null,null,null,null,null,null,null,null,null,null,null,null,null,null,"11. Cost Breakdown by Capital, Capital Maintenance and Operational (Annual Values, Average for 2015 to target year)",null,null,null,null,null,null,null,null,null,null,null,null,null,null,null,null,null,null,null,null,null,null,null,null,null,null,null,null,null,null,null,null,"11. Cost per person per year at PPP values",null,null,null,null,null,null,null,null,null,null,null,null,null,null,null,null,null,null,null,null,null,null,null,"12. Cost as % of $1.90 poverty income in 2011, adjusted to 2015 figure",null,null,null,null,null,null,null,null,null,null,null,null,null,null,null,null,null,null,null,null,null,null,null,"15 years in PV terms","14. Existing System - Cost Breakdown by Capital, Capital Maintenance and Operational (Thousands, Annual Values in base year 2015)",null,null,null,null,null,null,null,null,null,null,null,null,null,null,null,null,null,null,null,null,null,null,null,null,null,null,null,null,null,null,null,null,"15. Capital Costs of Existing System as a Percent of GDP"]
[null,null,null,null,null,null,null,null,null,null,null,null,null,null,null,null,null,null,null,null,null,null,null,null,null,null,null,null,null,null,null,null,null,null,null,"Basic water supply within 30 minutes (no water quality)",null,null,null,null,null,null,null,null,null,null,null,null,null,null,null,"Safely managed water supply at home",null,null,null,null,null,null,null,null,null,null,null,null,null,null,null,"Current JMP improved sanitation definition (private only)",null,null,null,null,null,null,null,null,null,null,null,null,null,null,null,"Population with Any Fixed Point Defecation",null,null,null,null,null,null,null,"Safely managed fecal sludge",null,null,null,null,null,null,null,null,null,null,null,"Handwashing station, soap & water at home",null,null,null,null,null,null,null,null,null,null,null,null,null,null,null,"Basic Water",null,null,null,null,null,null,null,null,null,null,null,null,null,null,null,null,null,null,null,null,null,null,null,null,null,null,null,null,null,null,null,null,null,null,null,null,null,null,null,null,null,null,null,null,null,null,null,null,null,null,null,null,null,null,null,null,null,null,null,null,null,null,null,null,null,null,null,null,null,null,null,null,null,null,null,null,null,null,null,null,null,null,null,null,null,null,null,null,null,null,null,null,null,null,null,null,null,null,null,null,null,null,null,null,null,null,null,null,null,null,null,null,null,null,null,null,null,null,null,null,null,null,null,null,null,null,null,null,null,null,null,null,null,null,null,null,null,null,null,null,null,null,null,null,null,null,null,null,null,null,null,null,null,null,null,null,null,null,null,null,null,null,null,null,null,null,null,null,null,null,null,null,null,null,null,null,null,null,null,null,null,null,null,null,null,null,null,null,null,null,null,null,null,null,null,null,null,null,null,null,null,null,null,null,null,null,null,null,null,null,null,null,null,null,null,null,null,null,null,null,null,null,null,null,null,null,null,"Open defecation (Population to Serve)",null,null,null,null,null,null,"Basic Sanitation",null,null,null,null,null,null,null,null,null,null,null,null,null,null,null,null,null,null,null,null,null,null,null,null,null,null,null,null,null,null,null,null,null,null,null,null,null,null,null,null,null,null,null,null,null,null,null,null,null,null,null,null,null,null,null,null,null,null,null,null,null,null,null,null,null,null,null,null,null,null,null,null,null,null,null,null,null,null,null,null,null,null,null,null,null,null,null,null,null,null,null,null,null,null,null,null,null,null,null,null,null,null,null,null,null,null,null,null,null,null,null,null,null,null,null,null,null,null,null,null,null,null,null,null,null,null,null,null,null,null,null,null,null,null,null,null,null,null,null,null,null,null,null,null,null,null,null,null,null,null,null,null,null,null,null,null,null,null,null,null,null,null,null,null,null,null,null,null,null,null,null,null,null,null,null,null,null,null,null,null,null,null,null,null,null,null,null,null,null,null,null,null,null,null,null,null,null,null,null,null,null,null,null,null,null,null,null,null,null,null,null,null,null,null,null,null,null,null,null,null,null,null,null,null,null,null,null,"Basic Hygiene",null,null,null,null,null,null,null,null,null,null,null,null,null,null,null,null,null,null,null,null,null,null,null,null,null,null,null,null,null,null,null,null,null,null,null,null,null,null,null,null,null,null,null,null,null,null,null,null,null,null,null,null,null,null,null,null,null,null,null,null,null,null,null,null,null,null,null,null,null,null,null,null,null,null,null,null,null,null,null,null,null,null,null,null,null,null,null,null,null,null,null,null,null,null,null,null,null,null,null,null,null,null,null,null,null,null,null,null,null,null,null,null,null,null,null,null,null,null,null,null,null,null,null,null,null,null,null,null,null,null,null,null,null,null,null,null,null,null,null,null,null,null,null,null,null,null,null,null,null,null,null,null,null,null,null,null,null,null,null,null,null,null,null,null,null,null,null,null,null,null,null,null,null,null,null,null,null,null,null,null,null,null,null,null,null,null,null,null,null,null,null,null,null,null,null,null,null,null,null,null,null,null,null,null,null,null,null,null,null,null,null,null,null,null,null,null,null,null,null,null,null,null,null,null,null,null,null,"Safely Managed Water",null,null,null,null,null,null,null,null,null,null,null,null,null,null,null,null,null,null,null,null,null,null,null,null,null,null,null,null,null,null,null,null,null,null,null,null,null,null,null,null,null,null,null,null,null,null,null,null,null,null,null,null,null,null,null,null,null,null,null,null,null,null,null,null,null,null,null,null,null,null,null,null,null,null,null,null,null,null,null,null,null,null,null,null,null,null,null,null,null,null,null,null,null,null,null,null,null,null,null,null,null,null,null,null,null,null,null,null,null,null,null,null,null,null,null,null,null,null,null,null,null,null,null,null,null,null,null,null,null,null,null,null,null,null,null,null,null,null,null,null,null,null,null,null,null,null,null,null,null,null,null,null,null,null,null,null,null,null,null,null,null,null,null,null,null,null,null,null,null,null,null,null,null,null,null,null,null,null,null,null,null,null,null,null,null,null,null,null,null,null,null,null,null,null,null,null,null,null,null,null,null,null,null,null,null,null,null,null,null,null,null,null,null,null,null,null,null,null,null,null,null,null,null,null,null,null,null,"Safely Managed Sanitation",null,null,null,null,null,null,null,null,null,null,null,null,null,null,null,null,null,null,null,null,null,null,null,null,null,null,null,null,null,null,null,null,null,null,null,null,null,"Water","Sanitation","Wat + San","Basic Water Supply",null,null,null,null,null,null,null,null,null,null,null,null,null,null,null,null,null,null,null,null,null,null,null,null,null,null,null,null,null,null,null,null,null,null,null,null,null,null,null,null,null,null,null,null,null,null,null,null,null,null,null,"Safely managed water supply",null,null,null,null,null,null,null,null,null,null,null,null,null,null,null,null,null,null,null,null,null,null,null,null,null,"Basic Sanitation",null,null,null,null,null,null,null,null,null,null,null,null,null,null,null,null,null,null,null,null,null,null,null,null,null,null,null,null,null,null,null,null,null,null,null,null,null,null,null,null,null,null,null,null,null,null,null,null,null,null,null,null,null,null,null,"Unimproved Sanitation (ODF)",null,null,null,null,null,null,null,null,null,null,null,null,"Safely managed sanitation (incremental only)",null,null,null,null,null,null,null,null,null,null,null,null,null,null,null,null,null,null,null,null,null,null,null,null,null,null,null,null,null,null,null,null,null,null,null,null,null,null,null,null,null,null,null,null,null,null,null,null,null,null,null,"Handwashing",null,null,null,null,null,null,null,null,null,null,null,null,null,null,null,null,null,null,null,null,null,null,null,null,null,null,null,"Basic Water Supply",null,null,null,null,null,null,null,null,null,null,null,null,null,null,null,null,null,null,null,"Basic Sanitation",null,null,null,null,null,null,null,null,null,null,null,null,null,null,null,null,null,null,null,"Safely Managed Sanitation",null,null,null,null,null,null,null,null,null,null,null,null,null,null,null,null,null,null,null,null,null,null,null,null,null,null,null,null,null,null,null,null,null,null,null,null,null,null,null,null,"Basic Water",null,null,null,null,null,null,null,null,null,null,null,null,null,null,null,null,null,null,null,null,null,null,null,null,null,null,null,null,null,null,null,null,null,null,null,null,null,null,null,null,null,null,null,null,null,null,null,null,null,null,null,null,null,null,null,null,null,null,null,null,null,null,null,null,null,null,null,null,null,null,null,null,null,null,null,null,null,null,null,null,null,null,null,null,null,null,null,null,null,null,null,null,null,null,null,null,null,null,null,null,null,null,null,null,null,null,null,null,null,null,null,null,null,null,null,null,null,null,null,null,null,null,null,null,null,null,null,null,null,null,null,null,null,null,null,null,null,null,null,null,null,null,null,null,null,null,null,null,null,null,null,null,null,null,null,null,null,null,null,null,null,null,null,null,null,null,null,null,null,null,null,null,null,null,null,null,null,null,null,null,null,null,null,null,null,null,null,null,null,null,null,null,null,null,null,null,null,null,null,null,null,null,null,null,null,null,null,null,null,null,null,null,null,null,null,null,null,null,null,null,null,null,null,null,null,null,null,null,null,null,null,null,null,null,null,null,null,null,null,null,null,null,null,null,null,null,null,null,null,null,null,null,null,null,null,null,null,null,null,null,null,null,null,null,null,null,null,null,null,null,null,null,null,null,null,null,null,null,null,null,null,null,null,null,null,null,null,null,null,null,null,null,null,null,null,null,null,null,null,null,null,null,null,null,null,null,null,null,null,null,null,null,null,null,null,null,null,null,null,null,null,null,null,null,null,null,null,null,null,null,null,null,null,null,null,null,null,null,null,null,null,null,null,null,null,null,null,null,null,null,null,null,null,null,null,null,null,null,null,null,null,null,null,null,null,null,null,null,null,null,null,null,null,null,null,null,null,"Ending Open Defecation",null,null,null,null,null,null,null,null,null,null,null,null,null,null,null,null,null,null,null,null,null,null,null,null,null,null,null,null,null,null,null,null,null,null,null,null,null,null,null,null,null,null,null,null,null,null,null,null,null,null,null,null,null,null,null,null,null,null,null,null,null,null,null,null,null,null,null,null,null,null,null,null,null,null,null,null,null,null,null,null,null,null,null,null,null,null,null,null,null,null,null,null,null,null,null,null,null,null,null,null,null,null,null,null,null,null,null,null,null,null,null,null,null,null,null,null,null,null,null,null,null,null,null,null,null,"Basic Sanitation",null,null,null,null,null,null,null,null,null,null,null,null,null,null,null,null,null,null,null,null,null,null,null,null,null,null,null,null,null,null,null,null,null,null,null,null,null,null,null,null,null,null,null,null,null,null,null,null,null,null,null,null,null,null,null,null,null,null,null,null,null,null,null,null,null,null,null,null,null,null,null,null,null,null,null,null,null,null,null,null,null,null,null,null,null,null,null,null,null,null,null,null,null,null,null,null,null,null,null,null,null,null,null,null,null,null,null,null,null,null,null,null,null,null,null,null,null,null,null,null,null,null,null,null,null,null,null,null,null,null,null,null,null,null,null,null,null,null,null,null,null,null,null,null,null,null,null,null,null,null,null,null,null,null,null,null,null,null,null,null,null,null,null,null,null,null,null,null,null,null,null,null,null,null,null,null,null,null,null,null,null,null,null,null,null,null,null,null,null,null,null,null,null,null,null,null,null,null,null,null,null,null,null,null,null,null,null,null,null,null,null,null,null,null,null,null,null,null,null,null,null,null,null,null,null,null,null,null,null,null,null,null,null,null,null,null,null,null,null,null,null,null,null,null,null,null,null,null,null,null,null,null,null,null,null,null,null,null,null,null,null,null,null,null,null,null,null,null,null,null,null,null,null,null,null,null,null,null,null,null,null,null,null,null,null,null,null,null,null,null,null,null,null,null,null,null,null,null,null,null,null,null,null,null,null,null,null,null,null,null,null,null,null,null,null,null,null,null,null,null,null,null,null,null,null,null,null,null,null,null,null,null,null,null,null,null,null,null,null,null,null,null,null,null,null,null,null,null,null,null,null,null,null,null,null,null,null,null,null,null,null,null,null,null,null,null,null,null,null,null,null,null,null,null,null,null,null,"Basic Hygiene",null,null,null,null,null,null,null,null,null,null,null,null,null,null,null,null,null,null,null,null,null,null,null,null,null,null,null,null,null,null,null,null,null,null,null,null,null,null,null,null,null,null,null,null,null,null,null,null,null,null,null,null,null,null,null,null,null,null,null,null,null,null,null,null,null,null,null,null,null,null,null,null,null,null,null,null,null,null,null,null,null,null,null,null,null,null,null,null,null,null,null,null,null,null,null,null,null,null,null,null,null,null,null,null,null,null,null,null,null,null,null,null,null,null,null,null,null,null,null,null,null,null,null,null,null,null,null,null,null,null,null,null,null,null,null,null,null,null,null,null,null,null,null,null,null,null,null,null,null,null,null,null,null,null,null,null,null,null,null,null,null,null,null,null,null,null,null,null,null,null,null,null,null,null,null,null,null,null,null,null,null,null,null,null,null,null,null,null,null,null,null,null,null,null,null,null,null,null,null,null,null,null,null,null,null,null,null,null,null,null,null,null,null,null,null,null,null,null,null,null,null,null,null,null,null,null,null,null,null,null,null,null,null,null,null,null,null,null,null,null,null,null,null,null,null,null,null,null,null,null,null,null,null,null,null,null,null,null,null,null,null,null,null,null,null,null,null,null,null,null,null,null,null,null,null,null,null,null,null,null,null,null,null,null,null,null,null,null,null,null,null,null,null,null,null,null,null,null,null,null,null,null,null,null,null,null,null,null,null,null,null,null,null,null,null,null,null,null,null,null,null,null,null,null,null,null,null,null,null,null,null,null,null,null,null,null,null,null,null,null,null,null,null,null,null,null,null,null,null,null,null,null,null,null,null,null,null,null,null,null,null,null,null,null,null,null,null,null,null,null,null,null,null,null,null,null,null,"Advanced Water",null,null,null,null,null,null,null,null,null,null,null,null,null,null,null,null,null,null,null,null,null,null,null,null,null,null,null,null,null,null,null,null,null,null,null,null,null,null,null,null,null,null,null,null,null,null,null,null,null,null,null,null,null,null,null,null,null,null,null,null,null,null,null,null,null,null,null,null,null,null,null,null,null,null,null,null,null,null,null,null,null,null,null,null,null,null,null,null,null,null,null,null,null,null,null,null,null,null,null,null,null,null,null,null,null,null,null,null,null,null,null,null,null,null,null,null,null,null,null,null,null,null,null,null,null,null,null,null,null,null,null,null,null,null,null,null,null,null,null,null,null,null,null,null,null,null,null,null,null,null,null,null,null,null,null,null,null,null,null,null,null,null,null,null,null,null,null,null,null,null,null,null,null,null,null,null,null,null,null,null,null,null,null,null,null,null,null,null,null,null,null,null,null,null,null,null,null,null,null,null,null,null,null,null,null,null,null,null,null,null,null,null,null,null,null,null,null,null,null,null,null,null,null,null,null,null,null,null,null,null,null,null,null,null,null,null,null,null,null,null,null,null,null,null,null,null,null,null,null,null,null,null,null,null,null,null,null,null,null,null,null,null,null,null,null,null,null,null,null,null,null,null,null,null,null,null,null,null,null,null,null,null,null,null,null,null,null,null,null,null,null,null,null,null,null,null,null,null,null,null,null,null,null,null,null,null,null,null,null,null,null,null,null,null,null,null,null,null,null,null,null,null,null,null,null,null,null,null,null,null,null,null,null,null,null,null,null,null,null,null,null,null,null,null,null,null,null,null,null,null,null,null,null,null,null,null,null,null,null,null,null,null,null,null,null,null,null,null,null,null,null,null,null,null,null,null,null,"Safe Fecal Management",null,null,null,null,null,null,null,null,null,null,null,null,null,null,null,null,null,null,null,null,null,null,null,null,null,null,null,null,null,null,null,null,null,null,null,null,null,null,null,null,null,null,null,null,null,null,null,null,null,null,null,null,null,null,null,null,null,null,null,null,null,null,"Basic Water",null,null,null,null,null,null,null,null,null,null,null,null,null,null,null,null,null,null,null,null,null,null,null,null,null,null,null,null,null,null,null,null,null,null,null,null,null,null,null,null,null,null,null,null,null,null,null,null,null,null,null,null,null,null,null,null,null,null,null,null,null,null,null,null,null,null,null,null,null,null,null,null,null,null,null,null,null,null,null,null,null,null,null,null,null,null,null,null,null,"Basic Sanitation",null,null,null,null,null,null,null,null,null,null,null,null,null,null,null,null,null,null,null,null,null,null,null,null,null,null,null,null,null,null,null,null,null,null,null,null,null,null,null,null,null,null,null,null,null,null,null,null,null,null,null,null,null,null,null,null,null,null,null,null,null,null,null,null,null,null,null,null,null,null,null,null,null,null,null,null,null,null,null,null,null,null,null,null,null,null,null,null,null,"Basic Hygiene",null,null,null,null,null,null,null,null,null,null,null,null,null,null,null,null,null,null,null,null,null,null,null,null,null,null,null,null,null,null,null,null,null,null,null,null,null,null,null,null,null,null,null,null,null,null,null,null,null,null,null,null,null,null,null,null,null,null,null,null,null,null,null,null,null,null,null,null,null,null,null,null,null,null,null,null,null,null,null,null,null,null,null,null,null,null,null,null,null,"Basic WASH",null,null,null,null,null,null,null,null,null,null,null,null,null,null,null,null,null,null,null,null,null,null,null,null,null,null,null,null,null,null,null,null,null,null,null,null,null,null,null,null,null,null,null,null,null,null,null,null,null,null,null,null,null,null,null,null,null,null,null,null,null,null,null,null,null,null,null,null,null,null,null,null,null,null,null,null,null,null,null,null,null,null,null,null,null,null,null,null,null,"Basic & Advanced Water",null,null,null,null,null,null,null,null,null,null,null,null,null,null,null,null,null,null,null,null,null,null,null,null,null,null,null,null,null,null,null,null,null,null,null,null,null,null,null,null,null,null,null,null,null,null,null,null,null,null,null,null,null,null,null,null,null,null,null,null,null,null,null,null,null,null,null,null,null,null,null,null,null,null,null,null,null,null,null,null,null,null,null,null,null,null,null,null,null,"Basic Sanitation & Fecal Sludge Management",null,null,null,null,null,null,null,null,null,null,null,null,null,null,null,null,null,null,null,null,null,null,null,null,null,null,null,null,null,null,null,null,null,null,null,null,null,null,null,null,null,null,null,null,null,null,null,null,null,null,null,null,null,null,null,null,null,null,null,null,null,null,null,null,null,null,null,null,null,null,null,null,null,null,null,null,null,null,null,null,null,null,null,null,null,null,null,null,null,"Basic WASH and Advanced WatSan Services",null,null,null,null,null,null,null,null,null,null,null,null,null,null,null,null,null,null,null,null,null,null,null,null,null,null,null,null,null,null,null,null,null,null,null,null,null,null,null,null,null,null,null,null,null,null,null,null,null,null,null,null,null,null,null,null,null,null,null,null,null,null,null,null,null,null,null,null,null,null,null,null,null,null,null,null,null,null,null,null,null,null,null,null,null,null,null,null,null,"Basic WASH",null,null,null,null,null,null,null,null,null,null,null,null,null,null,null,null,null,null,null,null,null,null,null,null,null,null,null,null,null,null,null,null,null,null,null,null,null,null,null,null,null,null,null,null,null,null,null,null,null,null,null,null,null,null,null,null,null,null,null,null,null,null,null,null,null,null,null,null,null,null,null,null,null,null,null,null,null,null,null,null,null,null,null,null,null,null,null,null,null,"Basic & Advanced Water",null,null,null,null,null,null,null,null,null,null,null,null,null,null,null,null,null,null,null,null,null,null,null,null,null,null,null,null,null,null,null,null,null,null,null,null,null,null,null,null,null,null,null,null,null,null,null,null,null,null,null,null,null,null,null,null,null,null,null,null,null,null,null,null,null,null,null,null,null,null,null,null,null,null,null,null,null,null,null,null,null,null,null,null,null,null,null,null,null,"Basic Sanitation & Fecal Sludge Management",null,null,null,null,null,null,null,null,null,null,null,null,null,null,null,null,null,null,null,null,null,null,null,null,null,null,null,null,null,null,null,null,null,null,null,null,null,null,null,null,null,null,null,null,null,null,null,null,null,null,null,null,null,null,null,null,null,null,null,null,null,null,null,null,null,null,null,null,null,null,null,null,null,null,null,null,null,null,null,null,null,null,null,null,null,null,null,null,null,"Basic WASH and Advanced WatSan Services",null,null,null,null,null,null,null,null,null,null,null,null,null,null,null,null,null,null,null,null,null,null,null,null,null,null,null,null,null,null,null,null,null,null,null,null,null,null,null,null,null,null,null,null,null,null,null,null,null,null,null,null,null,null,null,null,null,null,null,null,null,null,null,null,null,null,null,null,null,null,null,null,null,null,null,null,null,null,null,null,null,null,null,null,null,null,null,null,null,"Basic Water",null,null,null,null,null,null,null,null,null,null,null,null,null,null,null,null,null,null,null,null,null,null,null,null,null,null,null,null,null,null,null,null,null,null,null,null,null,null,null,null,null,null,null,null,null,null,null,null,null,null,null,null,null,null,null,null,null,null,null,null,null,null,null,null,null,null,null,null,null,null,null,null,null,null,null,null,null,null,null,null,null,null,null,null,null,null,null,null,null,null,null,null,null,null,null,null,null,null,null,null,null,null,null,null,null,null,null,null,null,null,null,null,null,null,null,null,null,null,null,null,null,null,null,null,null,null,null,null,null,null,null,null,null,null,null,null,null,null,null,null,null,null,null,null,null,null,null,null,null,null,null,null,null,null,null,null,null,null,null,null,null,null,null,null,null,null,null,null,null,null,null,null,null,null,null,null,null,null,null,null,null,null,null,null,null,null,null,null,null,null,null,null,null,null,null,null,null,null,null,null,null,null,null,null,null,null,null,null,null,null,null,null,null,null,null,null,null,null,null,null,null,null,null,null,null,null,null,null,null,null,null,null,null,null,null,null,null,null,null,null,null,null,null,null,null,null,null,null,null,null,null,null,null,null,null,null,null,null,null,null,null,null,null,null,null,null,null,null,null,null,null,null,null,null,null,null,null,null,null,null,null,null,null,null,null,null,null,null,null,null,null,null,null,null,null,null,null,null,null,null,null,null,null,null,null,null,null,null,null,null,null,null,null,null,null,null,null,null,null,null,null,null,null,null,null,null,null,null,null,null,null,null,null,null,null,null,null,null,null,null,null,"Basic Sanitation",null,null,null,null,null,null,null,null,null,null,null,null,null,null,null,null,null,null,null,null,null,null,null,null,null,null,null,null,null,null,null,null,null,null,null,null,null,null,null,null,null,null,null,null,null,null,null,null,null,null,null,null,null,null,null,null,null,null,null,null,null,null,null,null,null,null,null,null,null,null,null,null,null,null,null,null,null,null,null,null,null,null,null,null,null,null,null,null,null,null,null,null,null,null,null,null,null,null,null,null,null,null,null,null,null,null,null,null,null,null,null,null,null,null,null,null,null,null,null,null,null,null,null,null,null,null,null,null,null,null,null,null,null,null,null,null,null,null,null,null,null,null,null,null,null,null,null,null,null,null,null,null,null,null,null,null,null,null,null,null,null,null,null,null,null,null,null,null,null,null,null,null,null,null,null,null,null,null,null,null,null,null,null,null,null,null,null,null,null,null,null,null,null,null,null,null,null,null,null,null,null,null,null,null,null,null,null,null,null,null,null,null,null,null,null,null,null,null,null,null,null,null,null,null,null,null,null,null,null,null,null,null,null,null,null,null,null,null,null,null,null,null,null,null,null,null,null,null,null,null,null,null,null,null,null,null,null,null,null,null,null,null,null,null,null,null,null,null,null,null,null,null,null,null,null,null,null,null,null,null,null,null,null,null,null,null,null,null,null,null,null,null,null,null,null,null,null,null,null,null,null,null,null,null,null,null,null,null,null,null,null,null,null,null,null,null,null,null,null,null,null,null,null,null,null,null,null,null,null,null,null,null,null,null,null,null,null,null,null,null,null,"Basic Hygiene",null,null,null,null,null,null,null,null,null,null,null,null,null,null,null,null,null,null,null,null,null,null,null,null,null,null,null,null,null,null,null,null,null,null,null,null,null,null,null,null,null,null,null,null,null,null,null,null,null,null,null,null,null,null,null,null,null,null,null,null,null,null,null,null,null,null,null,null,null,null,null,null,null,null,null,null,null,null,null,null,null,null,null,null,null,null,null,null,null,null,null,null,null,null,null,null,null,null,null,null,null,null,null,null,null,null,null,null,null,null,null,null,null,null,null,null,null,null,null,null,null,null,null,null,null,null,null,null,null,null,null,null,null,null,null,null,null,null,null,null,null,null,null,null,null,null,null,null,null,null,null,null,null,null,null,null,null,null,null,null,null,null,null,null,null,null,null,null,null,null,null,null,null,null,null,null,null,null,null,null,null,null,null,null,null,null,null,null,null,null,null,null,null,null,null,null,null,null,null,null,null,null,null,null,null,null,null,null,null,null,null,null,null,null,null,null,null,null,null,null,null,null,null,null,null,null,null,null,null,null,null,null,null,null,null,null,null,null,null,null,null,null,null,null,null,null,null,null,null,null,null,null,null,null,null,null,null,null,null,null,null,null,null,null,null,null,null,null,null,null,null,null,null,null,null,null,null,null,null,null,null,null,null,null,null,null,null,null,null,null,null,null,null,null,null,null,null,null,null,null,null,null,null,null,null,null,null,null,null,null,null,null,null,null,null,null,null,null,null,null,null,null,null,null,null,null,null,null,null,null,null,null,null,null,null,null,null,null,null,null,null,"Advanced Water",null,null,null,null,null,null,null,null,null,null,null,null,null,null,null,null,null,null,null,null,null,null,null,null,null,null,null,null,null,null,null,null,null,null,null,null,null,null,null,null,null,null,null,null,null,null,null,null,null,null,null,null,null,null,null,null,null,null,null,null,null,null,null,null,null,null,null,null,null,null,null,null,null,null,null,null,null,null,null,null,null,null,null,null,null,null,null,null,null,null,null,null,null,null,null,null,null,null,null,null,null,null,null,null,null,null,null,null,null,null,null,null,null,null,null,null,null,null,null,null,null,null,null,null,null,null,null,null,null,null,null,null,null,null,null,null,null,null,null,null,null,null,null,null,null,null,null,null,null,null,null,null,null,null,null,null,null,null,null,null,null,null,null,null,null,null,null,null,null,null,null,null,null,null,null,null,null,null,null,null,null,null,null,null,null,null,null,null,null,null,null,null,null,null,null,null,null,null,null,null,null,null,null,null,null,null,null,null,null,null,null,null,null,null,null,null,null,null,null,null,null,null,null,null,null,null,null,null,null,null,null,null,null,null,null,null,null,null,null,null,null,null,null,null,null,null,null,null,null,null,null,null,null,null,null,null,null,null,null,null,null,null,null,null,null,null,null,null,null,null,null,null,null,null,null,null,null,null,null,null,null,null,null,null,null,null,null,null,null,null,null,null,null,null,null,null,null,null,null,null,null,null,null,null,null,null,null,null,null,null,null,null,null,null,null,null,null,null,null,null,null,null,null,null,null,null,null,null,null,null,null,null,null,null,null,null,null,null,null,null,null,"Full Fecal Sludge Management",null,null,null,null,null,null,null,null,null,null,null,null,null,null,null,null,null,null,null,null,null,null,null,null,null,null,null,null,null,null,null,null,null,null,null,null,null,null,null,null,null,null,null,null,null,null,null,null,null,null,null,null,null,null,null,null,null,null,null,null,null,null,null,null,null,null,null,null,null,null,null,null,null,null,null,null,null,null,null,null,null,null,null,null,null,null,null,null,null,null,null,null,null,null,null,null,null,null,null,null,null,null,null,null,null,null,null,null,null,null,null,null,null,null,null,null,null,null,null,null,null,null,null,null,null,null,null,null,null,null,null,null,null,null,null,null,null,null,null,null,null,null,null,null,null,null,null,null,null,null,null,null,null,null,null,null,null,null,null,null,null,null,null,null,null,null,null,null,null,null,null,null,null,null,null,null,null,null,null,null,null,null,null,null,null,null,null,null,null,null,null,null,null,null,null,null,null,null,null,null,null,null,null,null,null,null,null,null,null,null,null,null,null,null,null,null,null,null,null,null,null,null,null,null,null,null,null,null,null,null,null,null,null,null,null,null,null,null,null,null,null,null,null,null,null,null,null,null,null,null,null,null,null,null,null,null,null,null,null,null,null,null,null,null,null,null,null,null,null,null,null,null,null,null,null,null,null,null,null,null,null,null,null,null,null,null,null,null,null,null,null,null,null,null,null,null,null,null,null,null,null,null,null,null,null,null,null,null,null,null,null,null,null,null,null,null,null,null,null,null,null,null,null,null,null,null,null,null,null,null,null,null,null,null,null,null,null,null,null,null,null,"Ending Open Defecation",null,null,null,null,null,null,null,null,null,null,null,null,null,null,null,null,null,null,null,null,null,null,null,null,null,null,null,null,null,"Safe Water 100% (Incremental)",null,null,null,null,null,null,null,null,null,null,null,null,null,null,null,null,null,null,null,null,null,null,null,null,null,null,null,null,null,null,null,null,null,null,null,null,null,null,null,null,null,null,null,null,null,null,null,null,null,null,null,null,null,null,null,null,null,null,null,null,null,null,null,null,null,null,null,null,null,null,null,null,null,null,null,null,null,null,null,null,null,null,null,null,null,null,null,null,null,"Safe Sanitation 100% (Incremental Cost)",null,null,null,null,null,null,null,null,null,null,null,null,null,null,"Basic Water",null,null,null,null,null,null,null,null,null,null,null,null,null,null,null,null,null,"Basic Sanitation",null,null,null,null,null,null,null,null,null,null,null,null,null,null,null,null,null,"Basic Hygiene",null,null,null,null,null,null,null,null,null,null,null,null,null,null,null,null,null,"Basic WASH",null,null,null,null,null,null,null,null,null,null,null,null,null,null,null,null,null,"Ending OD",null,null,null,null,null,"Safe Water",null,null,null,null,null,null,null,null,null,null,null,null,null,null,null,null,null,"Safe Sanitation",null,null,"Safe WatSan (Incr)",null,null,"Safe WASH (Total)",null,null,"Basic Water",null,null,null,null,null,null,null,null,null,null,null,null,null,null,null,null,null,"Basic Sanitation",null,null,null,null,null,null,null,null,null,null,null,null,null,null,null,null,null,"Basic Hygiene",null,null,null,null,null,null,null,null,null,null,null,null,null,null,"Basic WASH",null,null,null,null,null,null,null,null,null,null,null,null,null,null,null,null,null,"Ending OD",null,null,null,null,null,"Safe Water",null,null,null,null,null,null,null,null,null,null,null,null,null,null,null,null,null,"Safe Sanitation",null,null,"Safe WatSan (Incr)",null,null,"Safe WASH (Total)",null,null,"Basic Water",null,null,null,null,null,null,null,null,null,null,null,null,null,null,null,null,null,"Basic Sanitation",null,null,null,null,null,null,null,null,null,null,null,null,null,null,null,null,null,"Basic Hygiene",null,null,null,null,null,null,null,null,null,null,null,null,null,null,null,null,null,"Basic WASH",null,null,null,null,null,null,null,null,null,null,null,null,null,null,null,null,null,"Ending OD",null,null,null,null,null,"Safe Water",null,null,null,null,null,null,null,null,null,null,null,null,null,null,null,null,null,"Safe Sanitation (Incr)",null,null,"Safe WatSan (Incr)",null,null,"Safe WASH (Total)",null,null,"Safe Water 50% (Incremental)",null,null,null,null,null,null,null,null,null,null,null,null,null,null,null,null,null,null,null,null,null,null,null,null,null,null,null,null,null,null,null,null,null,null,null,null,null,null,null,null,null,null,null,null,null,null,null,null,null,null,null,null,null,null,null,null,null,null,null,null,null,null,null,null,null,null,null,null,null,null,null,null,null,null,null,null,null,null,null,null,null,null,null,null,null,null,null,null,null,"TOTAL GDP (US$ Million)","Total Costs",null,null,null,null,null,null,null,null,"Proportion of GDP",null,null,null,null,null,null,null,null,"Basic WASH",null,null,null,null,null,null,null,null,null,null,null,null,null,null,null,null,null,"Open Defecation Free",null,null,"Safe Services",null,null,null,null,null,null,null,null,null,null,null,"Basic WASH Cost (Annual)",null,null,null,null,null,null,null,null,null,null,null,"Safe water, adequate sanitation, FSM. Handwashing",null,null,null,null,null,null,null,null,null,null,null,"Basic WASH Cost (Annual)",null,null,null,null,null,null,null,null,null,null,null,"Safe water, adequate sanitation, FSM. Handwashing",null,null,null,null,null,null,null,null,null,null,null,null,"Basic WASH",null,null,null,null,null,null,null,null,null,null,null,null,null,null,null,null,null,"Open Defecation Free",null,null,"Safe Services",null,null,null,null,null,null,null,null,null,null,null,"TOTAL GDP (US$ Million)","Total Costs",null,null,null,null,null,null,null,null,"Proportion of GDP"]
[null,"Urban",null,null,null,null,null,null,null,null,null,null,null,null,null,null,null,null,"Rural",null,null,null,null,null,null,null,null,null,null,null,null,null,null,null,null,"Urban",null,null,null,null,null,null,null,"Rural",null,null,null,null,null,null,null,"Urban",null,null,null,null,null,null,null,"Rural",null,null,null,null,null,null,null,"Urban",null,null,null,null,null,null,null,"Rural",null,null,null,null,null,null,null,"Rural",null,null,null,null,null,null,null,"Urban",null,null,null,null,null,"Rural",null,null,null,null,null,"Urban",null,null,null,null,null,null,null,"Rural",null,null,null,null,null,null,null,"Basic Urban Water",null,null,null,null,null,null,null,null,null,null,null,null,null,null,null,null,null,null,null,null,null,null,null,null,null,null,null,null,null,null,null,null,null,null,null,null,null,null,null,null,null,null,null,null,null,null,null,null,null,null,null,null,null,null,null,null,null,null,null,null,null,null,null,null,null,null,null,null,null,null,null,null,null,null,null,null,null,null,null,null,null,null,null,null,null,null,null,null,null,null,null,null,null,null,null,null,null,null,null,null,null,null,null,null,null,null,null,null,null,null,null,null,null,"Basic Rural Water",null,null,null,null,null,null,null,null,null,null,null,null,null,null,null,null,null,null,null,null,null,null,null,null,null,null,null,null,null,null,null,null,null,null,null,null,null,null,null,null,null,null,null,null,null,null,null,null,null,null,null,null,null,null,null,null,null,null,null,null,null,null,null,null,null,null,null,null,null,null,null,null,null,null,null,null,null,null,null,null,null,null,null,null,null,null,null,null,null,null,null,null,null,null,null,null,null,null,null,null,null,null,null,null,null,null,null,null,null,null,null,null,null,"Rural ODF",null,null,null,null,null,null,"Basic Urban Sanitation",null,null,null,null,null,null,null,null,null,null,null,null,null,null,null,null,null,null,null,null,null,null,null,null,null,null,null,null,null,null,null,null,null,null,null,null,null,null,null,null,null,null,null,null,null,null,null,null,null,null,null,null,null,null,null,null,null,null,null,null,null,null,null,null,null,null,null,null,null,null,null,null,null,null,null,null,null,null,null,null,null,null,null,null,null,null,null,null,null,null,null,null,null,null,null,null,null,null,null,null,null,null,null,null,null,null,null,null,null,null,null,null,null,"Basic Rural Sanitation",null,null,null,null,null,null,null,null,null,null,null,null,null,null,null,null,null,null,null,null,null,null,null,null,null,null,null,null,null,null,null,null,null,null,null,null,null,null,null,null,null,null,null,null,null,null,null,null,null,null,null,null,null,null,null,null,null,null,null,null,null,null,null,null,null,null,null,null,null,null,null,null,null,null,null,null,null,null,null,null,null,null,null,null,null,null,null,null,null,null,null,null,null,null,null,null,null,null,null,null,null,null,null,null,null,null,null,null,null,null,null,null,null,"Basic Urban Hygiene",null,null,null,null,null,null,null,null,null,null,null,null,null,null,null,null,null,null,null,null,null,null,null,null,null,null,null,null,null,null,null,null,null,null,null,null,null,null,null,null,null,null,null,null,null,null,null,null,null,null,null,null,null,null,null,null,null,null,null,null,null,null,null,null,null,null,null,null,null,null,null,null,null,null,null,null,null,null,null,null,null,null,null,null,null,null,null,null,null,null,null,null,null,null,null,null,null,null,null,null,null,null,null,null,null,null,null,null,null,null,null,null,null,"Basic Rural Hygiene",null,null,null,null,null,null,null,null,null,null,null,null,null,null,null,null,null,null,null,null,null,null,null,null,null,null,null,null,null,null,null,null,null,null,null,null,null,null,null,null,null,null,null,null,null,null,null,null,null,null,null,null,null,null,null,null,null,null,null,null,null,null,null,null,null,null,null,null,null,null,null,null,null,null,null,null,null,null,null,null,null,null,null,null,null,null,null,null,null,null,null,null,null,null,null,null,null,null,null,null,null,null,null,null,null,null,null,null,null,null,null,null,null,"Safely managed Urban Water",null,null,null,null,null,null,null,null,null,null,null,null,null,null,null,null,null,null,null,null,null,null,null,null,null,null,null,null,null,null,null,null,null,null,null,null,null,null,null,null,null,null,null,null,null,null,null,null,null,null,null,null,null,null,null,null,null,null,null,null,null,null,null,null,null,null,null,null,null,null,null,null,null,null,null,null,null,null,null,null,null,null,null,null,null,null,null,null,null,null,null,null,null,null,null,null,null,null,null,null,null,null,null,null,null,null,null,null,null,null,null,null,null,"Safely Managed Rural Water",null,null,null,null,null,null,null,null,null,null,null,null,null,null,null,null,null,null,null,null,null,null,null,null,null,null,null,null,null,null,null,null,null,null,null,null,null,null,null,null,null,null,null,null,null,null,null,null,null,null,null,null,null,null,null,null,null,null,null,null,null,null,null,null,null,null,null,null,null,null,null,null,null,null,null,null,null,null,null,null,null,null,null,null,null,null,null,null,null,null,null,null,null,null,null,null,null,null,null,null,null,null,null,null,null,null,null,null,null,null,null,null,null,"Safely Managed Urban Sanitation",null,null,null,null,null,null,null,null,null,null,null,null,null,null,null,null,null,null,"Safely Managed Rural Sanitation",null,null,null,null,null,null,null,null,null,null,null,null,null,null,null,null,null,null,"%","%","%","Urban Tubewell",null,null,null,null,null,null,null,null,null,null,null,null,"Urban Dug Well",null,null,null,null,null,null,null,null,null,null,null,null,"Rural Tubewell",null,null,null,null,null,null,null,null,null,null,null,null,"Rural Dug Well",null,null,null,null,null,null,null,null,null,null,null,null,"Urban",null,null,null,null,null,null,null,null,null,null,null,null,"Rural",null,null,null,null,null,null,null,null,null,null,null,null,"Urban - septic tank",null,null,null,null,null,null,null,null,null,null,null,null,null,"Urban - any pit latrine",null,null,null,null,null,null,null,null,null,null,null,null,null,"Rural - wet pit latrine",null,null,null,null,null,null,null,null,null,null,null,null,null,"Rural - dry pit latrine",null,null,null,null,null,null,null,null,null,null,null,null,null,"Rural Unimproved Pit Latrine",null,null,null,null,null,null,null,null,null,null,null,null,"Urban - sewerage with treatment (incremental cost only)",null,null,null,null,null,null,null,null,null,null,null,null,"Urban - septic tank with FSM (incremental cost only)",null,null,null,null,null,null,null,null,null,null,null,null,"Rural - pit latrine with FSM (incremental cost only)",null,null,null,null,null,null,null,null,null,null,null,null,"Rural - pit latrine with sewerage and treatment (incremental cost only)",null,null,null,null,null,null,null,null,null,null,null,null,"Urban",null,null,null,null,null,null,null,null,null,null,null,null,null,"Rural",null,null,null,null,null,null,null,null,null,null,null,null,null,"Urban",null,null,null,null,null,null,null,null,null,"Rural",null,null,null,null,null,null,null,null,null,"Urban",null,null,null,null,null,null,null,null,null,"Rural",null,null,null,null,null,null,null,null,null,"Urban",null,null,null,null,null,null,null,null,null,"Rural",null,null,null,null,null,null,null,null,null,"GDP Values",null,null,null,null,null,"Human Capital","Value for VSL calculation","DALY Value",null,null,null,"Value-of-statistical-life",null,null,"Value of time, as % of unit of value",null,null,null,"Poverty","Discount rate","Urban",null,null,null,null,null,null,null,null,null,null,null,null,null,null,null,null,null,null,null,null,null,null,null,null,null,null,null,null,null,null,null,null,null,null,null,null,null,null,null,null,null,null,null,null,null,null,null,null,null,null,null,null,null,null,null,null,null,null,null,null,null,null,null,null,null,null,null,null,null,null,null,null,null,null,null,null,null,null,null,null,null,null,null,null,null,null,null,null,null,null,null,null,null,null,null,null,null,null,null,null,null,null,null,null,null,null,null,null,null,null,null,null,null,null,null,null,null,null,null,null,null,null,null,null,null,"Rural",null,null,null,null,null,null,null,null,null,null,null,null,null,null,null,null,null,null,null,null,null,null,null,null,null,null,null,null,null,null,null,null,null,null,null,null,null,null,null,null,null,null,null,null,null,null,null,null,null,null,null,null,null,null,null,null,null,null,null,null,null,null,null,null,null,null,null,null,null,null,null,null,null,null,null,null,null,null,null,null,null,null,null,null,null,null,null,null,null,null,null,null,null,null,null,null,null,null,null,null,null,null,null,null,null,null,null,null,null,null,null,null,null,null,null,null,null,null,null,null,null,null,null,null,null,"Total",null,null,null,null,null,null,null,null,null,null,null,null,null,null,null,null,null,null,null,null,null,null,null,null,null,null,null,null,null,null,null,null,null,null,null,null,null,null,null,null,null,null,null,null,null,null,null,null,null,null,null,null,null,null,null,null,null,null,null,null,null,null,null,null,null,null,null,null,null,null,null,null,null,null,null,null,null,null,null,null,null,null,null,null,null,null,null,null,null,null,null,null,null,null,null,null,null,null,null,null,null,null,null,null,null,null,null,null,null,null,null,null,null,null,null,null,null,null,null,null,null,null,null,null,null,"Rural",null,null,null,null,null,null,null,null,null,null,null,null,null,null,null,null,null,null,null,null,null,null,null,null,null,null,null,null,null,null,null,null,null,null,null,null,null,null,null,null,null,null,null,null,null,null,null,null,null,null,null,null,null,null,null,null,null,null,null,null,null,null,null,null,null,null,null,null,null,null,null,null,null,null,null,null,null,null,null,null,null,null,null,null,null,null,null,null,null,null,null,null,null,null,null,null,null,null,null,null,null,null,null,null,null,null,null,null,null,null,null,null,null,null,null,null,null,null,null,null,null,null,null,null,null,"Urban",null,null,null,null,null,null,null,null,null,null,null,null,null,null,null,null,null,null,null,null,null,null,null,null,null,null,null,null,null,null,null,null,null,null,null,null,null,null,null,null,null,null,null,null,null,null,null,null,null,null,null,null,null,null,null,null,null,null,null,null,null,null,null,null,null,null,null,null,null,null,null,null,null,null,null,null,null,null,null,null,null,null,null,null,null,null,null,null,null,null,null,null,null,null,null,null,null,null,null,null,null,null,null,null,null,null,null,null,null,null,null,null,null,null,null,null,null,null,null,null,null,null,null,null,null,"Rural",null,null,null,null,null,null,null,null,null,null,null,null,null,null,null,null,null,null,null,null,null,null,null,null,null,null,null,null,null,null,null,null,null,null,null,null,null,null,null,null,null,null,null,null,null,null,null,null,null,null,null,null,null,null,null,null,null,null,null,null,null,null,null,null,null,null,null,null,null,null,null,null,null,null,null,null,null,null,null,null,null,null,null,null,null,null,null,null,null,null,null,null,null,null,null,null,null,null,null,null,null,null,null,null,null,null,null,null,null,null,null,null,null,null,null,null,null,null,null,null,null,null,null,null,null,"Total",null,null,null,null,null,null,null,null,null,null,null,null,null,null,null,null,null,null,null,null,null,null,null,null,null,null,null,null,null,null,null,null,null,null,null,null,null,null,null,null,null,null,null,null,null,null,null,null,null,null,null,null,null,null,null,null,null,null,null,null,null,null,null,null,null,null,null,null,null,null,null,null,null,null,null,null,null,null,null,null,null,null,null,null,null,null,null,null,null,null,null,null,null,null,null,null,null,null,null,null,null,null,null,null,null,null,null,null,null,null,null,null,null,null,null,null,null,null,null,null,null,null,null,null,null,"Urban",null,null,null,null,null,null,null,null,null,null,null,null,null,null,null,null,null,null,null,null,null,null,null,null,null,null,null,null,null,null,null,null,null,null,null,null,null,null,null,null,null,null,null,null,null,null,null,null,null,null,null,null,null,null,null,null,null,null,null,null,null,null,null,null,null,null,null,null,null,null,null,null,null,null,null,null,null,null,null,null,null,null,null,null,null,null,null,null,null,null,null,null,null,null,null,null,null,null,null,null,null,null,null,null,null,null,null,null,null,null,null,null,null,null,null,null,null,null,null,null,null,null,null,null,null,"Rural",null,null,null,null,null,null,null,null,null,null,null,null,null,null,null,null,null,null,null,null,null,null,null,null,null,null,null,null,null,null,null,null,null,null,null,null,null,null,null,null,null,null,null,null,null,null,null,null,null,null,null,null,null,null,null,null,null,null,null,null,null,null,null,null,null,null,null,null,null,null,null,null,null,null,null,null,null,null,null,null,null,null,null,null,null,null,null,null,null,null,null,null,null,null,null,null,null,null,null,null,null,null,null,null,null,null,null,null,null,null,null,null,null,null,null,null,null,null,null,null,null,null,null,null,null,"Total",null,null,null,null,null,null,null,null,null,null,null,null,null,null,null,null,null,null,null,null,null,null,null,null,null,null,null,null,null,null,null,null,null,null,null,null,null,null,null,null,null,null,null,null,null,null,null,null,null,null,null,null,null,null,null,null,null,null,null,null,null,null,null,null,null,null,null,null,null,null,null,null,null,null,null,null,null,null,null,null,null,null,null,null,null,null,null,null,null,null,null,null,null,null,null,null,null,null,null,null,null,null,null,null,null,null,null,null,null,null,null,null,null,null,null,null,null,null,null,null,null,null,null,null,null,"Urban",null,null,null,null,null,null,null,null,null,null,null,null,null,null,null,null,null,null,null,null,null,null,null,null,null,null,null,null,null,null,null,null,null,null,null,null,null,null,null,null,null,null,null,null,null,null,null,null,null,null,null,null,null,null,null,null,null,null,null,null,null,null,null,null,null,null,null,null,null,null,null,null,null,null,null,null,null,null,null,null,null,null,null,null,null,null,null,null,null,null,null,null,null,null,null,null,null,null,null,null,null,null,null,null,null,null,null,null,null,null,null,null,null,null,null,null,null,null,null,null,null,null,null,null,null,"Rural",null,null,null,null,null,null,null,null,null,null,null,null,null,null,null,null,null,null,null,null,null,null,null,null,null,null,null,null,null,null,null,null,null,null,null,null,null,null,null,null,null,null,null,null,null,null,null,null,null,null,null,null,null,null,null,null,null,null,null,null,null,null,null,null,null,null,null,null,null,null,null,null,null,null,null,null,null,null,null,null,null,null,null,null,null,null,null,null,null,null,null,null,null,null,null,null,null,null,null,null,null,null,null,null,null,null,null,null,null,null,null,null,null,null,null,null,null,null,null,null,null,null,null,null,null,"Total",null,null,null,null,null,null,null,null,null,null,null,null,null,null,null,null,null,null,null,null,null,null,null,null,null,null,null,null,null,null,null,null,null,null,null,null,null,null,null,null,null,null,null,null,null,null,null,null,null,null,null,null,null,null,null,null,null,null,null,null,null,null,null,null,null,null,null,null,null,null,null,null,null,null,null,null,null,null,null,null,null,null,null,null,null,null,null,null,null,null,null,null,null,null,null,null,null,null,null,null,null,null,null,null,null,null,null,null,null,null,null,null,null,null,null,null,null,null,null,null,null,null,null,null,null,"Urban",null,null,null,null,null,null,null,null,null,null,null,null,null,null,null,null,null,null,null,null,"Rural",null,null,null,null,null,null,null,null,null,null,null,null,null,null,null,null,null,null,null,null,"Total",null,null,null,null,null,null,null,null,null,null,null,null,null,null,null,null,null,null,null,null,"Urban",null,null,null,null,null,null,null,null,null,null,null,null,null,null,null,null,null,null,null,null,null,null,null,null,null,null,null,null,null,"Rural",null,null,null,null,null,null,null,null,null,null,null,null,null,null,null,null,null,null,null,null,null,null,null,null,null,null,null,null,null,"Total",null,null,null,null,null,null,null,null,null,null,null,null,null,null,null,null,null,null,null,null,null,null,null,null,null,null,null,null,null,"Urban",null,null,null,null,null,null,null,null,null,null,null,null,null,null,null,null,null,null,null,null,null,null,null,null,null,null,null,null,null,"Rural",null,null,null,null,null,null,null,null,null,null,null,null,null,null,null,null,null,null,null,null,null,null,null,null,null,null,null,null,null,"Total",null,null,null,null,null,null,null,null,null,null,null,null,null,null,null,null,null,null,null,null,null,null,null,null,null,null,null,null,null,"Urban",null,null,null,null,null,null,null,null,null,null,null,null,null,null,null,null,null,null,null,null,null,null,null,null,null,null,null,null,null,"Rural",null,null,null,null,null,null,null,null,null,null,null,null,null,null,null,null,null,null,null,null,null,null,null,null,null,null,null,null,null,"Total",null,null,null,null,null,null,null,null,null,null,null,null,null,null,null,null,null,null,null,null,null,null,null,null,null,null,null,null,null,"Urban",null,null,null,null,null,null,null,null,null,null,null,null,null,null,null,null,null,null,null,null,null,null,null,null,null,null,null,null,null,"Rural",null,null,null,null,null,null,null,null,null,null,null,null,null,null,null,null,null,null,null,null,null,null,null,null,null,null,null,null,null,"Total",null,null,null,null,null,null,null,null,null,null,null,null,null,null,null,null,null,null,null,null,null,null,null,null,null,null,null,null,null,"Urban",null,null,null,null,null,null,null,null,null,null,null,null,null,null,null,null,null,null,null,null,null,null,null,null,null,null,null,null,null,"Rural",null,null,null,null,null,null,null,null,null,null,null,null,null,null,null,null,null,null,null,null,null,null,null,null,null,null,null,null,null,"Total",null,null,null,null,null,null,null,null,null,null,null,null,null,null,null,null,null,null,null,null,null,null,null,null,null,null,null,null,null,"Urban",null,null,null,null,null,null,null,null,null,null,null,null,null,null,null,null,null,null,null,null,null,null,null,null,null,null,null,null,null,"Rural",null,null,null,null,null,null,null,null,null,null,null,null,null,null,null,null,null,null,null,null,null,null,null,null,null,null,null,null,null,"Total",null,null,null,null,null,null,null,null,null,null,null,null,null,null,null,null,null,null,null,null,null,null,null,null,null,null,null,null,null,"Urban",null,null,null,null,null,null,null,null,null,null,null,null,null,null,null,null,null,null,null,null,null,null,null,null,null,null,null,null,null,"Rural",null,null,null,null,null,null,null,null,null,null,null,null,null,null,null,null,null,null,null,null,null,null,null,null,null,null,null,null,null,"Total",null,null,null,null,null,null,null,null,null,null,null,null,null,null,null,null,null,null,null,null,null,null,null,null,null,null,null,null,null,"Urban",null,null,null,null,null,null,null,null,null,null,null,null,null,null,null,null,null,null,null,null,null,null,null,null,null,null,null,null,null,"Rural",null,null,null,null,null,null,null,null,null,null,null,null,null,null,null,null,null,null,null,null,null,null,null,null,null,null,null,null,null,"Total",null,null,null,null,null,null,null,null,null,null,null,null,null,null,null,null,null,null,null,null,null,null,null,null,null,null,null,null,null,"Urban",null,null,null,null,null,null,null,null,null,null,null,null,null,null,null,null,null,null,null,null,null,null,null,null,null,null,null,null,null,"Rural",null,null,null,null,null,null,null,null,null,null,null,null,null,null,null,null,null,null,null,null,null,null,null,null,null,null,null,null,null,"Total",null,null,null,null,null,null,null,null,null,null,null,null,null,null,null,null,null,null,null,null,null,null,null,null,null,null,null,null,null,"Urban",null,null,null,null,null,null,null,null,null,null,null,null,null,null,null,null,null,null,null,null,null,null,null,null,null,null,null,null,null,"Rural",null,null,null,null,null,null,null,null,null,null,null,null,null,null,null,null,null,null,null,null,null,null,null,null,null,null,null,null,null,"Total",null,null,null,null,null,null,null,null,null,null,null,null,null,null,null,null,null,null,null,null,null,null,null,null,null,null,null,null,null,"Urban",null,null,null,null,null,null,null,null,null,null,null,null,null,null,null,null,null,null,null,null,null,null,null,null,null,null,null,null,null,"Rural",null,null,null,null,null,null,null,null,null,null,null,null,null,null,null,null,null,null,null,null,null,null,null,null,null,null,null,null,null,"Total",null,null,null,null,null,null,null,null,null,null,null,null,null,null,null,null,null,null,null,null,null,null,null,null,null,null,null,null,null,"Urban",null,null,null,null,null,null,null,null,null,null,null,null,null,null,null,null,null,null,null,null,null,null,null,null,null,null,null,null,null,null,null,null,null,null,null,null,null,null,null,null,null,null,null,null,null,null,null,null,null,null,null,null,null,null,null,null,null,null,null,null,null,null,null,null,null,null,null,null,null,null,null,null,null,null,null,null,null,null,null,null,null,null,null,null,null,null,null,null,null,null,null,null,null,null,null,null,null,null,null,null,null,null,null,null,null,null,null,null,null,null,null,null,null,"Rural",null,null,null,null,null,null,null,null,null,null,null,null,null,null,null,null,null,null,null,null,null,null,null,null,null,null,null,null,null,null,null,null,null,null,null,null,null,null,null,null,null,null,null,null,null,null,null,null,null,null,null,null,null,null,null,null,null,null,null,null,null,null,null,null,null,null,null,null,null,null,null,null,null,null,null,null,null,null,null,null,null,null,null,null,null,null,null,null,null,null,null,null,null,null,null,null,null,null,null,null,null,null,null,null,null,null,null,null,null,null,null,null,null,"Total",null,null,null,null,null,null,null,null,null,null,null,null,null,null,null,null,null,null,null,null,null,null,null,null,null,null,null,null,null,null,null,null,null,null,null,null,null,null,null,null,null,null,null,null,null,null,null,null,null,null,null,null,null,null,null,null,null,null,null,null,null,null,null,null,null,null,null,null,null,null,null,null,null,null,null,null,null,null,null,null,null,null,null,null,null,null,null,null,null,null,null,null,null,null,null,null,null,null,null,null,null,null,null,null,null,null,null,null,null,null,null,null,null,"Urban",null,null,null,null,null,null,null,null,null,null,null,null,null,null,null,null,null,null,null,null,null,null,null,null,null,null,null,null,null,null,null,null,null,null,null,null,null,null,null,null,null,null,null,null,null,null,null,null,null,null,null,null,null,null,null,null,null,null,null,null,null,null,null,null,null,null,null,null,null,null,null,null,null,null,null,null,null,null,null,null,null,null,null,null,null,null,null,null,null,null,null,null,null,null,null,null,null,null,null,null,null,null,null,null,null,null,null,null,null,null,null,null,null,"Rural",null,null,null,null,null,null,null,null,null,null,null,null,null,null,null,null,null,null,null,null,null,null,null,null,null,null,null,null,null,null,null,null,null,null,null,null,null,null,null,null,null,null,null,null,null,null,null,null,null,null,null,null,null,null,null,null,null,null,null,null,null,null,null,null,null,null,null,null,null,null,null,null,null,null,null,null,null,null,null,null,null,null,null,null,null,null,null,null,null,null,null,null,null,null,null,null,null,null,null,null,null,null,null,null,null,null,null,null,null,null,null,null,null,"Total",null,null,null,null,null,null,null,null,null,null,null,null,null,null,null,null,null,null,null,null,null,null,null,null,null,null,null,null,null,null,null,null,null,null,null,null,null,null,null,null,null,null,null,null,null,null,null,null,null,null,null,null,null,null,null,null,null,null,null,null,null,null,null,null,null,null,null,null,null,null,null,null,null,null,null,null,null,null,null,null,null,null,null,null,null,null,null,null,null,null,null,null,null,null,null,null,null,null,null,null,null,null,null,null,null,null,null,null,null,null,null,null,null,"Urban",null,null,null,null,null,null,null,null,null,null,null,null,null,null,null,null,null,null,null,null,null,null,null,null,null,null,null,null,null,null,null,null,null,null,null,null,null,null,null,null,null,null,null,null,null,null,null,null,null,null,null,null,null,null,null,null,null,null,null,null,null,null,null,null,null,null,null,null,null,null,null,null,null,null,null,null,null,null,null,null,null,null,null,null,null,null,null,null,null,null,null,null,null,null,null,null,null,null,null,null,null,null,null,null,null,null,null,null,null,null,null,null,null,"Rural",null,null,null,null,null,null,null,null,null,null,null,null,null,null,null,null,null,null,null,null,null,null,null,null,null,null,null,null,null,null,null,null,null,null,null,null,null,null,null,null,null,null,null,null,null,null,null,null,null,null,null,null,null,null,null,null,null,null,null,null,null,null,null,null,null,null,null,null,null,null,null,null,null,null,null,null,null,null,null,null,null,null,null,null,null,null,null,null,null,null,null,null,null,null,null,null,null,null,null,null,null,null,null,null,null,null,null,null,null,null,null,null,null,"Total",null,null,null,null,null,null,null,null,null,null,null,null,null,null,null,null,null,null,null,null,null,null,null,null,null,null,null,null,null,null,null,null,null,null,null,null,null,null,null,null,null,null,null,null,null,null,null,null,null,null,null,null,null,null,null,null,null,null,null,null,null,null,null,null,null,null,null,null,null,null,null,null,null,null,null,null,null,null,null,null,null,null,null,null,null,null,null,null,null,null,null,null,null,null,null,null,null,null,null,null,null,null,null,null,null,null,null,null,null,null,null,null,null,"Urban",null,null,null,null,null,null,null,null,null,null,null,null,null,null,null,null,null,null,null,null,null,null,null,null,null,null,null,null,null,null,null,null,null,null,null,null,null,null,null,null,null,null,null,null,null,null,null,null,null,null,null,null,null,null,null,null,null,null,null,null,null,null,null,null,null,null,null,null,null,null,null,null,null,null,null,null,null,null,null,null,null,null,null,null,null,null,null,null,null,null,null,null,null,null,null,null,null,null,null,null,null,null,null,null,null,null,null,null,null,null,null,null,null,"Rural",null,null,null,null,null,null,null,null,null,null,null,null,null,null,null,null,null,null,null,null,null,null,null,null,null,null,null,null,null,null,null,null,null,null,null,null,null,null,null,null,null,null,null,null,null,null,null,null,null,null,null,null,null,null,null,null,null,null,null,null,null,null,null,null,null,null,null,null,null,null,null,null,null,null,null,null,null,null,null,null,null,null,null,null,null,null,null,null,null,null,null,null,null,null,null,null,null,null,null,null,null,null,null,null,null,null,null,null,null,null,null,null,null,"Total",null,null,null,null,null,null,null,null,null,null,null,null,null,null,null,null,null,null,null,null,null,null,null,null,null,null,null,null,null,null,null,null,null,null,null,null,null,null,null,null,null,null,null,null,null,null,null,null,null,null,null,null,null,null,null,null,null,null,null,null,null,null,null,null,null,null,null,null,null,null,null,null,null,null,null,null,null,null,null,null,null,null,null,null,null,null,null,null,null,null,null,null,null,null,null,null,null,null,null,null,null,null,null,null,null,null,null,null,null,null,null,null,null,"Urban",null,null,null,null,null,null,null,null,null,null,null,null,null,null,null,null,null,null,null,null,null,null,null,null,null,null,null,null,null,null,null,null,null,null,null,null,null,null,null,null,null,null,null,null,null,null,null,null,null,null,null,null,null,null,null,null,null,null,null,null,null,null,null,null,null,null,null,null,null,null,null,null,null,null,null,null,null,null,null,null,null,null,null,null,null,null,null,null,null,null,null,null,null,null,null,null,null,null,null,null,null,null,null,null,null,null,null,null,null,null,null,null,null,"Rural",null,null,null,null,null,null,null,null,null,null,null,null,null,null,null,null,null,null,null,null,null,null,null,null,null,null,null,null,null,null,null,null,null,null,null,null,null,null,null,null,null,null,null,null,null,null,null,null,null,null,null,null,null,null,null,null,null,null,null,null,null,null,null,null,null,null,null,null,null,null,null,null,null,null,null,null,null,null,null,null,null,null,null,null,null,null,null,null,null,null,null,null,null,null,null,null,null,null,null,null,null,null,null,null,null,null,null,null,null,null,null,null,null,"Total",null,null,null,null,null,null,null,null,null,null,null,null,null,null,null,null,null,null,null,null,null,null,null,null,null,null,null,null,null,null,null,null,null,null,null,null,null,null,null,null,null,null,null,null,null,null,null,null,null,null,null,null,null,null,null,null,null,null,null,null,null,null,null,null,null,null,null,null,null,null,null,null,null,null,null,null,null,null,null,null,null,null,null,null,null,null,null,null,null,null,null,null,null,null,null,null,null,null,null,null,null,null,null,null,null,null,null,null,null,null,null,null,null,"Rural",null,null,null,null,null,null,null,null,null,null,null,null,null,null,null,null,null,null,null,null,null,null,null,null,null,null,null,null,null,"Urban",null,null,null,null,null,null,null,null,null,null,null,null,null,null,null,null,null,null,null,null,null,null,null,null,null,null,null,null,null,"Rural",null,null,null,null,null,null,null,null,null,null,null,null,null,null,null,null,null,null,null,null,null,null,null,null,null,null,null,null,null,"Total",null,null,null,null,null,null,null,null,null,null,null,null,null,null,null,null,null,null,null,null,null,null,null,null,null,null,null,null,null,"Urban",null,null,null,null,"Rural",null,null,null,null,"Total",null,null,null,null,"Urban",null,null,null,null,null,"Rural",null,null,null,null,null,"Total",null,null,null,null,null,"Urban",null,null,null,null,null,"Rural",null,null,null,null,null,"Total",null,null,null,null,null,"Urban",null,null,null,null,null,"Rural",null,null,null,null,null,"Total",null,null,null,null,null,"Urban",null,null,null,null,null,"Rural",null,null,null,null,null,"Total",null,null,null,null,null,"Rural",null,null,null,null,null,"Urban",null,null,null,null,null,"Rural",null,null,null,null,null,"Total",null,null,null,null,null,"Urban","Rural","Total","Urban","Rural","Total","Urban","Rural","Total","Urban",null,null,null,null,null,"Rural",null,null,null,null,null,"Total",null,null,null,null,null,"Urban",null,null,null,null,null,"Rural",null,null,null,null,null,"Total",null,null,null,null,null,"Urban",null,null,null,null,"Rural",null,null,null,null,"Total",null,null,null,null,"Urban",null,null,null,null,null,"Rural",null,null,null,null,null,"Total",null,null,null,null,null,"Rural",null,null,null,null,null,"Urban",null,null,null,null,null,"Rural",null,null,null,null,null,"Total",null,null,null,null,null,"Urban","Rural","Total","Urban","Rural","Total","Urban","Rural","Total","Urban",null,null,null,null,null,"Rural",null,null,null,null,null,"Total",null,null,null,null,null,"Urban",null,null,null,null,null,"Rural",null,null,null,null,null,"Total",null,null,null,null,null,"Urban",null,null,null,null,null,"Rural",null,null,null,null,null,"Total",null,null,null,null,null,"Urban",null,null,null,null,null,"Rural",null,null,null,null,null,"Total",null,null,null,null,null,"Rural",null,null,null,null,null,"Urban",null,null,null,null,null,"Rural",null,null,null,null,null,"Total",null,null,null,null,null,"Urban","Rural","Total","Urban","Rural","Total","Urban","Rural","Total","Urban",null,null,null,null,null,null,null,null,null,null,null,null,null,null,null,null,null,null,null,null,null,null,null,null,null,null,null,null,null,"Rural",null,null,null,null,null,null,null,null,null,null,null,null,null,null,null,null,null,null,null,null,null,null,null,null,null,null,null,null,null,"Total",null,null,null,null,null,null,null,null,null,null,null,null,null,null,null,null,null,null,null,null,null,null,null,null,null,null,null,null,null,null,null,"Universal Basic (USD Millions)",null,null,null,"Universal Safe (USD Millions)",null,null,null,null,"Universal Basic (%)",null,null,null,"Universal Safe (%)",null,null,null,"Water",null,null,null,null,null,"Sanitation",null,null,null,null,null,"Hygiene",null,null,null,null,null,null,null,null,"Safe Water",null,null,null,null,null,"Safe Sanitation",null,null,null,null,null,"Urban",null,null,null,null,null,"Rural",null,null,null,null,null,"Urban",null,null,null,null,null,"Rural",null,null,null,null,null,"Urban",null,null,null,null,null,"Rural",null,null,null,null,null,"Urban",null,null,null,null,null,"Rural",null,null,null,null,null,null,"Water",null,null,null,null,null,"Sanitation",null,null,null,null,null,"Hygiene",null,null,null,null,null,null,null,null,"Safe Water",null,null,null,null,null,"Safe Sanitation",null,null,null,null,null,null,null,"Universal Basic (USD Millions)",null,null,null,"Universal Safe (USD Millions)",null,null,null,null,"Universal Basic (%)",null,null,null,"Universal Safe (%)"]
[null,null,null,null,null,null,null,null,null,null,null,null,null,null,null,null,null,null,null,null,null,null,null,null,null,null,null,null,null,null,null,null,null,null,null,{"$f":"\"Coverage in Baseyear - \" & 'HOJA DE VERIFICACIÓN DE DATOS'!$E$6","v":"Coverage in Baseyear - 2020"},null,null,null,null,null,"Target Year","Coverage in target year",{"$f":"\"Coverage in Baseyear - \" & 'HOJA DE VERIFICACIÓN DE DATOS'!$E$6","v":"Coverage in Baseyear - 2020"},null,null,null,null,null,"Target Year","Coverage in target year",{"$f":"\"Coverage in Baseyear - \" & 'HOJA DE VERIFICACIÓN DE DATOS'!$E$6","v":"Coverage in Baseyear - 2020"},null,null,null,null,null,"Target Year","Coverage in target year",{"$f":"\"Coverage in Baseyear - \" & 'HOJA DE VERIFICACIÓN DE DATOS'!$E$6","v":"Coverage in Baseyear - 2020"},null,null,null,null,null,"Target Year","Coverage in target year",{"$f":"\"Coverage in Baseyear - \" & 'HOJA DE VERIFICACIÓN DE DATOS'!$E$6","v":"Coverage in Baseyear - 2020"},null,null,null,null,null,"Target Year","Coverage in target year",{"$f":"\"Coverage in Baseyear - \" & 'HOJA DE VERIFICACIÓN DE DATOS'!$E$6","v":"Coverage in Baseyear - 2020"},null,null,null,null,null,"Target Year","Coverage in target year",{"$f":"\"Coverage in Baseyear - \" & 'HOJA DE VERIFICACIÓN DE DATOS'!$E$6","v":"Coverage in Baseyear - 2020"},null,null,null,null,null,"Target Year","Coverage in target year","Households Connected in 2015","Proportion of Collected Sewage Treated 2015","Non-connected households with safely managed fecal sludge","All population","Target Year","Coverage in target year","Households Connected in 2015","Proportion of Collected Sewage Treated 2015","Non-connected households with safely managed fecal sludge","All population","Target Year","Coverage in target year","Forecast for 2015",null,null,null,null,null,"Target Year","Coverage in target year","Forecast for 2015",null,null,null,null,null,"Target Year","Coverage in target year","Q5 (Richest)",null,null,null,null,null,null,null,null,null,null,null,null,null,null,null,null,null,null,"Q4",null,null,null,null,null,null,null,null,null,null,null,null,null,null,null,null,null,null,"Q3",null,null,null,null,null,null,null,null,null,null,null,null,null,null,null,null,null,null,"Q2",null,null,null,null,null,null,null,null,null,null,null,null,null,null,null,null,null,null,"Q1 (Poorest)",null,null,null,null,null,null,null,null,null,null,null,null,null,null,null,null,null,null,"Total",null,null,null,null,null,null,null,null,null,null,null,null,null,null,null,null,null,null,"Q5 (Richest)",null,null,null,null,null,null,null,null,null,null,null,null,null,null,null,null,null,null,"Q4",null,null,null,null,null,null,null,null,null,null,null,null,null,null,null,null,null,null,"Q3",null,null,null,null,null,null,null,null,null,null,null,null,null,null,null,null,null,null,"Q2",null,null,null,null,null,null,null,null,null,null,null,null,null,null,null,null,null,null,"Q1 (Poorest)",null,null,null,null,null,null,null,null,null,null,null,null,null,null,null,null,null,null,"Total",null,null,null,null,null,null,null,null,null,null,null,null,null,null,null,null,null,null,"Q5 (Rich)","Q4","Q3","Q2","Q1 (Poor)","Annual Total","Total","Q5 (Richest)",null,null,null,null,null,null,null,null,null,null,null,null,null,null,null,null,null,null,"Q4",null,null,null,null,null,null,null,null,null,null,null,null,null,null,null,null,null,null,"Q3",null,null,null,null,null,null,null,null,null,null,null,null,null,null,null,null,null,null,"Q2",null,null,null,null,null,null,null,null,null,null,null,null,null,null,null,null,null,null,"Q1 (Poorest)",null,null,null,null,null,null,null,null,null,null,null,null,null,null,null,null,null,null,"Total",null,null,null,null,null,null,null,null,null,null,null,null,null,null,null,null,null,null,"Q5 (Richest)",null,null,null,null,null,null,null,null,null,null,null,null,null,null,null,null,null,null,"Q4",null,null,null,null,null,null,null,null,null,null,null,null,null,null,null,null,null,null,"Q3",null,null,null,null,null,null,null,null,null,null,null,null,null,null,null,null,null,null,"Q2",null,null,null,null,null,null,null,null,null,null,null,null,null,null,null,null,null,null,"Q1 (Poorest)",null,null,null,null,null,null,null,null,null,null,null,null,null,null,null,null,null,null,"Total",null,null,null,null,null,null,null,null,null,null,null,null,null,null,null,null,null,null,"Q5 (Richest)",null,null,null,null,null,null,null,null,null,null,null,null,null,null,null,null,null,null,"Q4",null,null,null,null,null,null,null,null,null,null,null,null,null,null,null,null,null,null,"Q3",null,null,null,null,null,null,null,null,null,null,null,null,null,null,null,null,null,null,"Q2",null,null,null,null,null,null,null,null,null,null,null,null,null,null,null,null,null,null,"Q1 (Poorest)",null,null,null,null,null,null,null,null,null,null,null,null,null,null,null,null,null,null,"Total",null,null,null,null,null,null,null,null,null,null,null,null,null,null,null,null,null,null,"Q5 (Richest)",null,null,null,null,null,null,null,null,null,null,null,null,null,null,null,null,null,null,"Q4",null,null,null,null,null,null,null,null,null,null,null,null,null,null,null,null,null,null,"Q3",null,null,null,null,null,null,null,null,null,null,null,null,null,null,null,null,null,null,"Q2",null,null,null,null,null,null,null,null,null,null,null,null,null,null,null,null,null,null,"Q1 (Poorest)",null,null,null,null,null,null,null,null,null,null,null,null,null,null,null,null,null,null,"Total",null,null,null,null,null,null,null,null,null,null,null,null,null,null,null,null,null,null,"Q5 (Richest)",null,null,null,null,null,null,null,null,null,null,null,null,null,null,null,null,null,null,"Q4",null,null,null,null,null,null,null,null,null,null,null,null,null,null,null,null,null,null,"Q3",null,null,null,null,null,null,null,null,null,null,null,null,null,null,null,null,null,null,"Q2",null,null,null,null,null,null,null,null,null,null,null,null,null,null,null,null,null,null,"Q1 (Poorest)",null,null,null,null,null,null,null,null,null,null,null,null,null,null,null,null,null,null,"Total",null,null,null,null,null,null,null,null,null,null,null,null,null,null,null,null,null,null,"Q5 (Richest)",null,null,null,null,null,null,null,null,null,null,null,null,null,null,null,null,null,null,"Q4",null,null,null,null,null,null,null,null,null,null,null,null,null,null,null,null,null,null,"Q3",null,null,null,null,null,null,null,null,null,null,null,null,null,null,null,null,null,null,"Q2",null,null,null,null,null,null,null,null,null,null,null,null,null,null,null,null,null,null,"Q1 (Poorest)",null,null,null,null,null,null,null,null,null,null,null,null,null,null,null,null,null,null,"Total",null,null,null,null,null,null,null,null,null,null,null,null,null,null,null,null,null,null,"All Quintiles",null,null,null,null,null,null,null,null,null,null,null,null,null,null,null,null,null,null,"All Quintiles",null,null,null,null,null,null,null,null,null,null,null,null,null,null,null,null,null,null,"Total","Total","Total","New facility / replacement",null,null,null,null,"Maintenance",null,null,null,"Annual",null,null,"Total Annualized","New facility / replacement",null,null,null,null,"Maintenance",null,null,null,"Annual",null,null,"Total Annualized","New facility / replacement",null,null,null,null,"Maintenance",null,null,null,"Annual",null,null,"Total Annualized","New facility / replacement",null,null,null,null,"Maintenance",null,null,null,"Annual",null,null,"Total Annualized","New facility / replacement",null,null,null,null,"Maintenance",null,null,null,"Annual",null,null,"Total Annualized","New facility / replacement",null,null,null,null,"Maintenance",null,null,null,"Annual",null,null,"Total Annualized",1,"New facility / replacement",null,null,null,null,"Maintenance",null,null,null,"Annual",null,null,"Total Annualized",1,"New facility / replacement",null,null,null,null,"Maintenance",null,null,null,"Annual",null,null,"Total Annualized",1,"New facility / replacement",null,null,null,null,"Maintenance",null,null,null,"Annual",null,null,"Total Annualized",1,"New facility / replacement",null,null,null,null,"Maintenance",null,null,null,"Annual",null,null,"Total Annualized","New facility / replacement",null,null,null,null,"Maintenance",null,null,null,"Annual",null,null,"Total Annualized","New facility / replacement",null,null,null,null,"Maintenance",null,null,null,"Annual",null,null,"Total Annualized","New facility / replacement",null,null,null,null,"Maintenance",null,null,null,"Annual",null,null,"Total Annualized","New facility / replacement",null,null,null,null,"Maintenance",null,null,null,"Annual",null,null,"Total Annualized","New facility / replacement",null,null,null,null,"Maintenance",null,null,null,"Annual",null,null,"Total Annualized","New facility / replacement",null,null,null,null,null,"Maintenance",null,null,null,"Annual",null,null,"Total Annualized","New facility / replacement",null,null,null,null,null,"Maintenance",null,null,null,"Annual",null,null,"Total Annualized","Tubewell or Borehole",null,null,null,null,"Dug well",null,null,null,null,"Tubewell or Borehole",null,null,null,null,"Dug well",null,null,null,null,"Septic tank",null,null,null,null,"Any pit latrine",null,null,null,null,"Wet pit latrine",null,null,null,null,"Dry pit latrine",null,null,null,null,"Sewerage with treatment",null,null,null,null,"Septic tank with FSM",null,null,null,null,"Septic tank with FSM",null,null,null,null,"(Dry) pit latrine with FSM",null,null,null,null,"Actual per capita - 2018 (US$)","Average wage",null,"Minimum wage",null,"PPP Value (I$)","Adult (40 years productive life)",null,"VSL DALY 1000, 3%","VSL DALY 1000, 5%","VSL DALY 5000, 3%","VSL DALY 5000, 5%","VSL to be used for benefits transfer (in US$)","GDP per capita of VSL source country, US$","VSL Value (US$) in 2015","0-4 yrs","5-14 yrs","15+ yrs","Working days per year","Poverty Line, US$ 1.9 per day PPP at 2015 prices",{"$f":"'HOJA DE VERIFICACIÓN DE DATOS'!D43","v":0.05},"Q5 (Richest)",null,null,null,null,null,null,null,null,null,null,null,null,null,null,null,null,null,null,null,null,"Q4",null,null,null,null,null,null,null,null,null,null,null,null,null,null,null,null,null,null,null,null,"Q3",null,null,null,null,null,null,null,null,null,null,null,null,null,null,null,null,null,null,null,null,"Q2",null,null,null,null,null,null,null,null,null,null,null,null,null,null,null,null,null,null,null,null,"Q1 (Poorest)",null,null,null,null,null,null,null,null,null,null,null,null,null,null,null,null,null,null,null,null,"Total",null,null,null,null,null,null,null,null,null,null,null,null,null,null,null,null,null,null,null,null,"Q5 (Richest)",null,null,null,null,null,null,null,null,null,null,null,null,null,null,null,null,null,null,null,null,"Q4",null,null,null,null,null,null,null,null,null,null,null,null,null,null,null,null,null,null,null,null,"Q3",null,null,null,null,null,null,null,null,null,null,null,null,null,null,null,null,null,null,null,null,"Q2",null,null,null,null,null,null,null,null,null,null,null,null,null,null,null,null,null,null,null,null,"Q1 (Poorest)",null,null,null,null,null,null,null,null,null,null,null,null,null,null,null,null,null,null,null,null,"Total",null,null,null,null,null,null,null,null,null,null,null,null,null,null,null,null,null,null,null,null,"Q5 (Richest)",null,null,null,null,null,null,null,null,null,null,null,null,null,null,null,null,null,null,null,null,"Q4",null,null,null,null,null,null,null,null,null,null,null,null,null,null,null,null,null,null,null,null,"Q3",null,null,null,null,null,null,null,null,null,null,null,null,null,null,null,null,null,null,null,null,"Q2",null,null,null,null,null,null,null,null,null,null,null,null,null,null,null,null,null,null,null,null,"Q1 (Poorest)",null,null,null,null,null,null,null,null,null,null,null,null,null,null,null,null,null,null,null,null,"Total",null,null,null,null,null,null,null,null,null,null,null,null,null,null,null,null,null,null,null,null,"Q5 (Richest)",null,null,null,null,null,null,null,null,null,null,null,null,null,null,null,null,null,null,null,null,"Q4",null,null,null,null,null,null,null,null,null,null,null,null,null,null,null,null,null,null,null,null,"Q3",null,null,null,null,null,null,null,null,null,null,null,null,null,null,null,null,null,null,null,null,"Q2",null,null,null,null,null,null,null,null,null,null,null,null,null,null,null,null,null,null,null,null,"Q1 (Poorest)",null,null,null,null,null,null,null,null,null,null,null,null,null,null,null,null,null,null,null,null,"Total",null,null,null,null,null,null,null,null,null,null,null,null,null,null,null,null,null,null,null,null,"Q5 (Richest)",null,null,null,null,null,null,null,null,null,null,null,null,null,null,null,null,null,null,null,null,"Q4",null,null,null,null,null,null,null,null,null,null,null,null,null,null,null,null,null,null,null,null,"Q3",null,null,null,null,null,null,null,null,null,null,null,null,null,null,null,null,null,null,null,null,"Q2",null,null,null,null,null,null,null,null,null,null,null,null,null,null,null,null,null,null,null,null,"Q1 (Poorest)",null,null,null,null,null,null,null,null,null,null,null,null,null,null,null,null,null,null,null,null,"Total",null,null,null,null,null,null,null,null,null,null,null,null,null,null,null,null,null,null,null,null,"Q5 (Richest)",null,null,null,null,null,null,null,null,null,null,null,null,null,null,null,null,null,null,null,null,"Q4",null,null,null,null,null,null,null,null,null,null,null,null,null,null,null,null,null,null,null,null,"Q3",null,null,null,null,null,null,null,null,null,null,null,null,null,null,null,null,null,null,null,null,"Q2",null,null,null,null,null,null,null,null,null,null,null,null,null,null,null,null,null,null,null,null,"Q1 (Poorest)",null,null,null,null,null,null,null,null,null,null,null,null,null,null,null,null,null,null,null,null,"Total",null,null,null,null,null,null,null,null,null,null,null,null,null,null,null,null,null,null,null,null,"Q5 (Richest)",null,null,null,null,null,null,null,null,null,null,null,null,null,null,null,null,null,null,null,null,"Q4",null,null,null,null,null,null,null,null,null,null,null,null,null,null,null,null,null,null,null,null,"Q3",null,null,null,null,null,null,null,null,null,null,null,null,null,null,null,null,null,null,null,null,"Q2",null,null,null,null,null,null,null,null,null,null,null,null,null,null,null,null,null,null,null,null,"Q1 (Poorest)",null,null,null,null,null,null,null,null,null,null,null,null,null,null,null,null,null,null,null,null,"Total",null,null,null,null,null,null,null,null,null,null,null,null,null,null,null,null,null,null,null,null,"Q5 (Richest)",null,null,null,null,null,null,null,null,null,null,null,null,null,null,null,null,null,null,null,null,"Q4",null,null,null,null,null,null,null,null,null,null,null,null,null,null,null,null,null,null,null,null,"Q3",null,null,null,null,null,null,null,null,null,null,null,null,null,null,null,null,null,null,null,null,"Q2",null,null,null,null,null,null,null,null,null,null,null,null,null,null,null,null,null,null,null,null,"Q1 (Poorest)",null,null,null,null,null,null,null,null,null,null,null,null,null,null,null,null,null,null,null,null,"Total",null,null,null,null,null,null,null,null,null,null,null,null,null,null,null,null,null,null,null,null,"Q5 (Richest)",null,null,null,null,null,null,null,null,null,null,null,null,null,null,null,null,null,null,null,null,"Q4",null,null,null,null,null,null,null,null,null,null,null,null,null,null,null,null,null,null,null,null,"Q3",null,null,null,null,null,null,null,null,null,null,null,null,null,null,null,null,null,null,null,null,"Q2",null,null,null,null,null,null,null,null,null,null,null,null,null,null,null,null,null,null,null,null,"Q1 (Poorest)",null,null,null,null,null,null,null,null,null,null,null,null,null,null,null,null,null,null,null,null,"Total",null,null,null,null,null,null,null,null,null,null,null,null,null,null,null,null,null,null,null,null,"Q5 (Richest)",null,null,null,null,null,null,null,null,null,null,null,null,null,null,null,null,null,null,null,null,"Q4",null,null,null,null,null,null,null,null,null,null,null,null,null,null,null,null,null,null,null,null,"Q3",null,null,null,null,null,null,null,null,null,null,null,null,null,null,null,null,null,null,null,null,"Q2",null,null,null,null,null,null,null,null,null,null,null,null,null,null,null,null,null,null,null,null,"Q1 (Poorest)",null,null,null,null,null,null,null,null,null,null,null,null,null,null,null,null,null,null,null,null,"Total",null,null,null,null,null,null,null,null,null,null,null,null,null,null,null,null,null,null,null,null,"Q5 (Richest)",null,null,null,null,null,null,null,null,null,null,null,null,null,null,null,null,null,null,null,null,"Q4",null,null,null,null,null,null,null,null,null,null,null,null,null,null,null,null,null,null,null,null,"Q3",null,null,null,null,null,null,null,null,null,null,null,null,null,null,null,null,null,null,null,null,"Q2",null,null,null,null,null,null,null,null,null,null,null,null,null,null,null,null,null,null,null,null,"Q1 (Poorest)",null,null,null,null,null,null,null,null,null,null,null,null,null,null,null,null,null,null,null,null,"Total",null,null,null,null,null,null,null,null,null,null,null,null,null,null,null,null,null,null,null,null,"Q5 (Richest)",null,null,null,null,null,null,null,null,null,null,null,null,null,null,null,null,null,null,null,null,"Q4",null,null,null,null,null,null,null,null,null,null,null,null,null,null,null,null,null,null,null,null,"Q3",null,null,null,null,null,null,null,null,null,null,null,null,null,null,null,null,null,null,null,null,"Q2",null,null,null,null,null,null,null,null,null,null,null,null,null,null,null,null,null,null,null,null,"Q1 (Poorest)",null,null,null,null,null,null,null,null,null,null,null,null,null,null,null,null,null,null,null,null,"Total",null,null,null,null,null,null,null,null,null,null,null,null,null,null,null,null,null,null,null,null,"Q5 (Richest)",null,null,null,null,null,null,null,null,null,null,null,null,null,null,null,null,null,null,null,null,"Q4",null,null,null,null,null,null,null,null,null,null,null,null,null,null,null,null,null,null,null,null,"Q3",null,null,null,null,null,null,null,null,null,null,null,null,null,null,null,null,null,null,null,null,"Q2",null,null,null,null,null,null,null,null,null,null,null,null,null,null,null,null,null,null,null,null,"Q1 (Poorest)",null,null,null,null,null,null,null,null,null,null,null,null,null,null,null,null,null,null,null,null,"Total",null,null,null,null,null,null,null,null,null,null,null,null,null,null,null,null,null,null,null,null,"All Wealth Quintiles",null,null,null,null,null,null,null,null,null,null,null,null,null,null,null,null,null,null,null,null,"All Wealth Quintiles",null,null,null,null,null,null,null,null,null,null,null,null,null,null,null,null,null,null,null,null,"All Wealth Quintiles",null,null,null,null,null,null,null,null,null,null,null,null,null,null,null,null,null,null,null,null,"Q5 (Richest)",null,null,null,null,"Q4",null,null,null,null,"Q3",null,null,null,null,"Q2",null,null,null,null,"Q1 (Poorest)",null,null,null,null,"Total",null,null,null,null,"Q5 (Richest)",null,null,null,null,"Q4",null,null,null,null,"Q3",null,null,null,null,"Q2",null,null,null,null,"Q1 (Poorest)",null,null,null,null,"Total",null,null,null,null,"Q5 (Richest)",null,null,null,null,"Q4",null,null,null,null,"Q3",null,null,null,null,"Q2",null,null,null,null,"Q1 (Poorest)",null,null,null,null,"Total",null,null,null,null,"Q5 (Richest)",null,null,null,null,"Q4",null,null,null,null,"Q3",null,null,null,null,"Q2",null,null,null,null,"Q1 (Poorest)",null,null,null,null,"Total",null,null,null,null,"Q5 (Richest)",null,null,null,null,"Q4",null,null,null,null,"Q3",null,null,null,null,"Q2",null,null,null,null,"Q1 (Poorest)",null,null,null,null,"Total",null,null,null,null,"Q5 (Richest)",null,null,null,null,"Q4",null,null,null,null,"Q3",null,null,null,null,"Q2",null,null,null,null,"Q1 (Poorest)",null,null,null,null,"Total",null,null,null,null,"Q5 (Richest)",null,null,null,null,"Q4",null,null,null,null,"Q3",null,null,null,null,"Q2",null,null,null,null,"Q1 (Poorest)",null,null,null,null,"Total",null,null,null,null,"Q5 (Richest)",null,null,null,null,"Q4",null,null,null,null,"Q3",null,null,null,null,"Q2",null,null,null,null,"Q1 (Poorest)",null,null,null,null,"Total",null,null,null,null,"Q5 (Richest)",null,null,null,null,"Q4",null,null,null,null,"Q3",null,null,null,null,"Q2",null,null,null,null,"Q1 (Poorest)",null,null,null,null,"Total",null,null,null,null,"Q5 (Richest)",null,null,null,null,"Q4",null,null,null,null,"Q3",null,null,null,null,"Q2",null,null,null,null,"Q1 (Poorest)",null,null,null,null,"Total",null,null,null,null,"Q5 (Richest)",null,null,null,null,"Q4",null,null,null,null,"Q3",null,null,null,null,"Q2",null,null,null,null,"Q1 (Poorest)",null,null,null,null,"Total",null,null,null,null,"Q5 (Richest)",null,null,null,null,"Q4",null,null,null,null,"Q3",null,null,null,null,"Q2",null,null,null,null,"Q1 (Poorest)",null,null,null,null,"Total",null,null,null,null,"Q5 (Richest)",null,null,null,null,"Q4",null,null,null,null,"Q3",null,null,null,null,"Q2",null,null,null,null,"Q1 (Poorest)",null,null,null,null,"Total",null,null,null,null,"Q5 (Richest)",null,null,null,null,"Q4",null,null,null,null,"Q3",null,null,null,null,"Q2",null,null,null,null,"Q1 (Poorest)",null,null,null,null,"Total",null,null,null,null,"Q5 (Richest)",null,null,null,null,"Q4",null,null,null,null,"Q3",null,null,null,null,"Q2",null,null,null,null,"Q1 (Poorest)",null,null,null,null,"Total",null,null,null,null,"Q5 (Richest)",null,null,null,null,"Q4",null,null,null,null,"Q3",null,null,null,null,"Q2",null,null,null,null,"Q1 (Poorest)",null,null,null,null,"Total",null,null,null,null,"Q5 (Richest)",null,null,null,null,"Q4",null,null,null,null,"Q3",null,null,null,null,"Q2",null,null,null,null,"Q1 (Poorest)",null,null,null,null,"Total",null,null,null,null,"Q5 (Richest)",null,null,null,null,"Q4",null,null,null,null,"Q3",null,null,null,null,"Q2",null,null,null,null,"Q1 (Poorest)",null,null,null,null,"Total",null,null,null,null,"Q5 (Richest)",null,null,null,null,"Q4",null,null,null,null,"Q3",null,null,null,null,"Q2",null,null,null,null,"Q1 (Poorest)",null,null,null,null,"Total",null,null,null,null,"Q5 (Richest)",null,null,null,null,"Q4",null,null,null,null,"Q3",null,null,null,null,"Q2",null,null,null,null,"Q1 (Poorest)",null,null,null,null,"Total",null,null,null,null,"Q5 (Richest)",null,null,null,null,"Q4",null,null,null,null,"Q3",null,null,null,null,"Q2",null,null,null,null,"Q1 (Poorest)",null,null,null,null,"Total",null,null,null,null,"Q5 (Richest)",null,null,null,null,"Q4",null,null,null,null,"Q3",null,null,null,null,"Q2",null,null,null,null,"Q1 (Poorest)",null,null,null,null,"Total",null,null,null,null,"Q5 (Richest)",null,null,null,null,"Q4",null,null,null,null,"Q3",null,null,null,null,"Q2",null,null,null,null,"Q1 (Poorest)",null,null,null,null,"Total",null,null,null,null,"Q5 (Richest)",null,null,null,null,"Q4",null,null,null,null,"Q3",null,null,null,null,"Q2",null,null,null,null,"Q1 (Poorest)",null,null,null,null,"Total",null,null,null,null,"Q5 (Richest)",null,null,null,null,"Q4",null,null,null,null,"Q3",null,null,null,null,"Q2",null,null,null,null,"Q1 (Poorest)",null,null,null,null,"Total",null,null,null,null,"Q5 (Richest)",null,null,null,null,"Q4",null,null,null,null,"Q3",null,null,null,null,"Q2",null,null,null,null,"Q1 (Poorest)",null,null,null,null,"Total",null,null,null,null,"Q5 (Richest)",null,null,null,null,"Q4",null,null,null,null,"Q3",null,null,null,null,"Q2",null,null,null,null,"Q1 (Poorest)",null,null,null,null,"Total",null,null,null,null,"Q5 (Richest)",null,null,null,null,"Q4",null,null,null,null,"Q3",null,null,null,null,"Q2",null,null,null,null,"Q1 (Poorest)",null,null,null,null,"Total",null,null,null,null,"Q5 (Richest)",null,null,null,null,"Q4",null,null,null,null,"Q3",null,null,null,null,"Q2",null,null,null,null,"Q1 (Poorest)",null,null,null,null,"Total",null,null,null,null,"Q5 (Richest)",null,null,null,null,"Q4",null,null,null,null,"Q3",null,null,null,null,"Q2",null,null,null,null,"Q1 (Poorest)",null,null,null,null,"Total",null,null,null,null,"Q5 (Richest)",null,null,null,null,"Q4",null,null,null,null,"Q3",null,null,null,null,"Q2",null,null,null,null,"Q1 (Poorest)",null,null,null,null,"Total",null,null,null,null,"Q5 (Richest)",null,null,null,null,"Q4",null,null,null,null,"Q3",null,null,null,null,"Q2",null,null,null,null,"Q1 (Poorest)",null,null,null,null,"Total",null,null,null,null,"Q5 (Richest)",null,null,null,null,"Q4",null,null,null,null,"Q3",null,null,null,null,"Q2",null,null,null,null,"Q1 (Poorest)",null,null,null,null,"Total",null,null,null,null,"Q5 (Richest)",null,null,null,null,null,null,null,null,null,null,null,null,null,null,null,null,null,null,"Q4",null,null,null,null,null,null,null,null,null,null,null,null,null,null,null,null,null,null,"Q3",null,null,null,null,null,null,null,null,null,null,null,null,null,null,null,null,null,null,"Q2",null,null,null,null,null,null,null,null,null,null,null,null,null,null,null,null,null,null,"Q1 (Poorest)",null,null,null,null,null,null,null,null,null,null,null,null,null,null,null,null,null,null,"Total",null,null,null,null,null,null,null,null,null,null,null,null,null,null,null,null,null,null,"Q5 (Richest)",null,null,null,null,null,null,null,null,null,null,null,null,null,null,null,null,null,null,"Q4",null,null,null,null,null,null,null,null,null,null,null,null,null,null,null,null,null,null,"Q3",null,null,null,null,null,null,null,null,null,null,null,null,null,null,null,null,null,null,"Q2",null,null,null,null,null,null,null,null,null,null,null,null,null,null,null,null,null,null,"Q1 (Poorest)",null,null,null,null,null,null,null,null,null,null,null,null,null,null,null,null,null,null,"Total",null,null,null,null,null,null,null,null,null,null,null,null,null,null,null,null,null,null,"Q5 (Richest)",null,null,null,null,null,null,null,null,null,null,null,null,null,null,null,null,null,null,"Q4",null,null,null,null,null,null,null,null,null,null,null,null,null,null,null,null,null,null,"Q3",null,null,null,null,null,null,null,null,null,null,null,null,null,null,null,null,null,null,"Q2",null,null,null,null,null,null,null,null,null,null,null,null,null,null,null,null,null,null,"Q1 (Poorest)",null,null,null,null,null,null,null,null,null,null,null,null,null,null,null,null,null,null,"Total",null,null,null,null,null,null,null,null,null,null,null,null,null,null,null,null,null,null,"Q5 (Richest)",null,null,null,null,null,null,null,null,null,null,null,null,null,null,null,null,null,null,"Q4",null,null,null,null,null,null,null,null,null,null,null,null,null,null,null,null,null,null,"Q3",null,null,null,null,null,null,null,null,null,null,null,null,null,null,null,null,null,null,"Q2",null,null,null,null,null,null,null,null,null,null,null,null,null,null,null,null,null,null,"Q1 (Poorest)",null,null,null,null,null,null,null,null,null,null,null,null,null,null,null,null,null,null,"Total",null,null,null,null,null,null,null,null,null,null,null,null,null,null,null,null,null,null,"Q5 (Richest)",null,null,null,null,null,null,null,null,null,null,null,null,null,null,null,null,null,null,"Q4",null,null,null,null,null,null,null,null,null,null,null,null,null,null,null,null,null,null,"Q3",null,null,null,null,null,null,null,null,null,null,null,null,null,null,null,null,null,null,"Q2",null,null,null,null,null,null,null,null,null,null,null,null,null,null,null,null,null,null,"Q1 (Poorest)",null,null,null,null,null,null,null,null,null,null,null,null,null,null,null,null,null,null,"Total",null,null,null,null,null,null,null,null,null,null,null,null,null,null,null,null,null,null,"Q5 (Richest)",null,null,null,null,null,null,null,null,null,null,null,null,null,null,null,null,null,null,"Q4",null,null,null,null,null,null,null,null,null,null,null,null,null,null,null,null,null,null,"Q3",null,null,null,null,null,null,null,null,null,null,null,null,null,null,null,null,null,null,"Q2",null,null,null,null,null,null,null,null,null,null,null,null,null,null,null,null,null,null,"Q1 (Poorest)",null,null,null,null,null,null,null,null,null,null,null,null,null,null,null,null,null,null,"Total",null,null,null,null,null,null,null,null,null,null,null,null,null,null,null,null,null,null,"Q5 (Richest)",null,null,null,null,null,null,null,null,null,null,null,null,null,null,null,null,null,null,"Q4",null,null,null,null,null,null,null,null,null,null,null,null,null,null,null,null,null,null,"Q3",null,null,null,null,null,null,null,null,null,null,null,null,null,null,null,null,null,null,"Q2",null,null,null,null,null,null,null,null,null,null,null,null,null,null,null,null,null,null,"Q1 (Poorest)",null,null,null,null,null,null,null,null,null,null,null,null,null,null,null,null,null,null,"Total",null,null,null,null,null,null,null,null,null,null,null,null,null,null,null,null,null,null,"Q5 (Richest)",null,null,null,null,null,null,null,null,null,null,null,null,null,null,null,null,null,null,"Q4",null,null,null,null,null,null,null,null,null,null,null,null,null,null,null,null,null,null,"Q3",null,null,null,null,null,null,null,null,null,null,null,null,null,null,null,null,null,null,"Q2",null,null,null,null,null,null,null,null,null,null,null,null,null,null,null,null,null,null,"Q1 (Poorest)",null,null,null,null,null,null,null,null,null,null,null,null,null,null,null,null,null,null,"Total",null,null,null,null,null,null,null,null,null,null,null,null,null,null,null,null,null,null,"Q5 (Richest)",null,null,null,null,null,null,null,null,null,null,null,null,null,null,null,null,null,null,"Q4",null,null,null,null,null,null,null,null,null,null,null,null,null,null,null,null,null,null,"Q3",null,null,null,null,null,null,null,null,null,null,null,null,null,null,null,null,null,null,"Q2",null,null,null,null,null,null,null,null,null,null,null,null,null,null,null,null,null,null,"Q1 (Poorest)",null,null,null,null,null,null,null,null,null,null,null,null,null,null,null,null,null,null,"Total",null,null,null,null,null,null,null,null,null,null,null,null,null,null,null,null,null,null,"Q5 (Richest)",null,null,null,null,null,null,null,null,null,null,null,null,null,null,null,null,null,null,"Q4",null,null,null,null,null,null,null,null,null,null,null,null,null,null,null,null,null,null,"Q3",null,null,null,null,null,null,null,null,null,null,null,null,null,null,null,null,null,null,"Q2",null,null,null,null,null,null,null,null,null,null,null,null,null,null,null,null,null,null,"Q1 (Poorest)",null,null,null,null,null,null,null,null,null,null,null,null,null,null,null,null,null,null,"Total",null,null,null,null,null,null,null,null,null,null,null,null,null,null,null,null,null,null,"Q5 (Richest)",null,null,null,null,null,null,null,null,null,null,null,null,null,null,null,null,null,null,"Q4",null,null,null,null,null,null,null,null,null,null,null,null,null,null,null,null,null,null,"Q3",null,null,null,null,null,null,null,null,null,null,null,null,null,null,null,null,null,null,"Q2",null,null,null,null,null,null,null,null,null,null,null,null,null,null,null,null,null,null,"Q1 (Poorest)",null,null,null,null,null,null,null,null,null,null,null,null,null,null,null,null,null,null,"Total",null,null,null,null,null,null,null,null,null,null,null,null,null,null,null,null,null,null,"Q5 (Richest)",null,null,null,null,null,null,null,null,null,null,null,null,null,null,null,null,null,null,"Q4",null,null,null,null,null,null,null,null,null,null,null,null,null,null,null,null,null,null,"Q3",null,null,null,null,null,null,null,null,null,null,null,null,null,null,null,null,null,null,"Q2",null,null,null,null,null,null,null,null,null,null,null,null,null,null,null,null,null,null,"Q1 (Poorest)",null,null,null,null,null,null,null,null,null,null,null,null,null,null,null,null,null,null,"Total",null,null,null,null,null,null,null,null,null,null,null,null,null,null,null,null,null,null,"Q5 (Richest)",null,null,null,null,null,null,null,null,null,null,null,null,null,null,null,null,null,null,"Q4",null,null,null,null,null,null,null,null,null,null,null,null,null,null,null,null,null,null,"Q3",null,null,null,null,null,null,null,null,null,null,null,null,null,null,null,null,null,null,"Q2",null,null,null,null,null,null,null,null,null,null,null,null,null,null,null,null,null,null,"Q1 (Poorest)",null,null,null,null,null,null,null,null,null,null,null,null,null,null,null,null,null,null,"Total",null,null,null,null,null,null,null,null,null,null,null,null,null,null,null,null,null,null,"Q5 (Richest)",null,null,null,null,null,null,null,null,null,null,null,null,null,null,null,null,null,null,"Q4",null,null,null,null,null,null,null,null,null,null,null,null,null,null,null,null,null,null,"Q3",null,null,null,null,null,null,null,null,null,null,null,null,null,null,null,null,null,null,"Q2",null,null,null,null,null,null,null,null,null,null,null,null,null,null,null,null,null,null,"Q1 (Poorest)",null,null,null,null,null,null,null,null,null,null,null,null,null,null,null,null,null,null,"Total",null,null,null,null,null,null,null,null,null,null,null,null,null,null,null,null,null,null,"Q5 (Richest)",null,null,null,null,null,null,null,null,null,null,null,null,null,null,null,null,null,null,"Q4",null,null,null,null,null,null,null,null,null,null,null,null,null,null,null,null,null,null,"Q3",null,null,null,null,null,null,null,null,null,null,null,null,null,null,null,null,null,null,"Q2",null,null,null,null,null,null,null,null,null,null,null,null,null,null,null,null,null,null,"Q1 (Poorest)",null,null,null,null,null,null,null,null,null,null,null,null,null,null,null,null,null,null,"Total",null,null,null,null,null,null,null,null,null,null,null,null,null,null,null,null,null,null,"Q5 (Richest)",null,null,null,null,"Q4",null,null,null,null,"Q3",null,null,null,null,"Q2",null,null,null,null,"Q1 (Poorest)",null,null,null,null,"Total",null,null,null,null,"Q5 (Richest)",null,null,null,null,"Q4",null,null,null,null,"Q3",null,null,null,null,"Q2",null,null,null,null,"Q1 (Poorest)",null,null,null,null,"Total",null,null,null,null,"Q5 (Richest)",null,null,null,null,"Q4",null,null,null,null,"Q3",null,null,null,null,"Q2",null,null,null,null,"Q1 (Poorest)",null,null,null,null,"Total",null,null,null,null,"Q5 (Richest)",null,null,null,null,"Q4",null,null,null,null,"Q3",null,null,null,null,"Q2",null,null,null,null,"Q1 (Poorest)",null,null,null,null,"Total",null,null,null,null,"Total",null,null,null,null,"Total",null,null,null,null,"Total",null,null,null,null,"Q5 (Rich)","Q4","Q3","Q2","Q1 (Poor)","Total","Q5 (Rich)","Q4","Q3","Q2","Q1 (Poor)","Total","Q5 (Rich)","Q4","Q3","Q2","Q1 (Poor)","Total","Q5 (Rich)","Q4","Q3","Q2","Q1 (Poor)","Total","Q5 (Rich)","Q4","Q3","Q2","Q1 (Poor)","Total","Q5 (Rich)","Q4","Q3","Q2","Q1 (Poor)","Total","Q5 (Rich)","Q4","Q3","Q2","Q1 (Poor)","Total","Q5 (Rich)","Q4","Q3","Q2","Q1 (Poor)","Total","Q5 (Rich)","Q4","Q3","Q2","Q1 (Poor)","Total","Q5 (Rich)","Q4","Q3","Q2","Q1 (Poor)","Total","Q5 (Rich)","Q4","Q3","Q2","Q1 (Poor)","Total","Q5 (Rich)","Q4","Q3","Q2","Q1 (Poor)","Total","Q5 (Rich)","Q4","Q3","Q2","Q1 (Poor)","Total","Q5 (Rich)","Q4","Q3","Q2","Q1 (Poor)","Total","Q5 (Rich)","Q4","Q3","Q2","Q1 (Poor)","Total","Q5 (Rich)","Q4","Q3","Q2","Q1 (Poor)","Total","Total","Total","Total","Total","Total","Total","Total","Total","Total","Q5 (Rich)","Q4","Q3","Q2","Q1 (Poor)","Total","Q5 (Rich)","Q4","Q3","Q2","Q1 (Poor)","Total","Q5 (Rich)","Q4","Q3","Q2","Q1 (Poor)","Total","Q5 (Rich)","Q4","Q3","Q2","Q1 (Poor)","Total","Q5 (Rich)","Q4","Q3","Q2","Q1 (Poor)","Total","Q5 (Rich)","Q4","Q3","Q2","Q1 (Poor)","Total","Q5 (Rich)","Q4","Q3","Q2","Q1 (Poor)","Q5 (Rich)","Q4","Q3","Q2","Q1 (Poor)","Q5 (Rich)","Q4","Q3","Q2","Q1 (Poor)","Q5 (Rich)","Q4","Q3","Q2","Q1 (Poor)","Total","Q5 (Rich)","Q4","Q3","Q2","Q1 (Poor)","Total","Q5 (Rich)","Q4","Q3","Q2","Q1 (Poor)","Total","Q5 (Rich)","Q4","Q3","Q2","Q1 (Poor)","Total","Q5 (Rich)","Q4","Q3","Q2","Q1 (Poor)","Total","Q5 (Rich)","Q4","Q3","Q2","Q1 (Poor)","Total","Q5 (Rich)","Q4","Q3","Q2","Q1 (Poor)","Total","Total","Total","Total","Total","Total","Total","Total","Total","Total","Q5 (Rich)","Q4","Q3","Q2","Q1 (Poor)","Total","Q5 (Rich)","Q4","Q3","Q2","Q1 (Poor)","Total","Q5 (Rich)","Q4","Q3","Q2","Q1 (Poor)","Total","Q5 (Rich)","Q4","Q3","Q2","Q1 (Poor)","Total","Q5 (Rich)","Q4","Q3","Q2","Q1 (Poor)","Total","Q5 (Rich)","Q4","Q3","Q2","Q1 (Poor)","Total","Q5 (Rich)","Q4","Q3","Q2","Q1 (Poor)","Total","Q5 (Rich)","Q4","Q3","Q2","Q1 (Poor)","Total","Q5 (Rich)","Q4","Q3","Q2","Q1 (Poor)","Total","Q5 (Rich)","Q4","Q3","Q2","Q1 (Poor)","Total","Q5 (Rich)","Q4","Q3","Q2","Q1 (Poor)","Total","Q5 (Rich)","Q4","Q3","Q2","Q1 (Poor)","Total","Q5 (Rich)","Q4","Q3","Q2","Q1 (Poor)","Total","Q5 (Rich)","Q4","Q3","Q2","Q1 (Poor)","Total","Q5 (Rich)","Q4","Q3","Q2","Q1 (Poor)","Total","Q5 (Rich)","Q4","Q3","Q2","Q1 (Poor)","Total","Total","Total","Total","Total","Total","Total","Total","Total","Total","Q5 (Richest)",null,null,null,null,"Q4",null,null,null,null,"Q3",null,null,null,null,"Q2",null,null,null,null,"Q1 (Poorest)",null,null,null,null,"Total",null,null,null,null,"Q5 (Richest)",null,null,null,null,"Q4",null,null,null,null,"Q3",null,null,null,null,"Q2",null,null,null,null,"Q1 (Poorest)",null,null,null,null,"Total",null,null,null,null,"Q5 (Richest)",null,null,null,null,"Q4",null,null,null,null,"Q3",null,null,null,null,"Q2",null,null,null,null,"Q1 (Poorest)",null,null,null,null,"Total",null,null,null,null,null,null,null,null,null,null,null,null,null,null,null,null,null,null,null,null,null,null,null,"Urban",null,null,"Rural",null,null,"Urban",null,null,"Rural",null,null,"Urban",null,null,"Rural",null,null,"Rural",null,null,"Urban",null,null,"Rural",null,null,"Urban",null,null,"Rural",null,null,"Low technology",null,null,"High technology",null,null,"Low technology",null,null,"High technology",null,null,"Low technology",null,null,"High technology",null,null,"Low technology",null,null,"High technology",null,null,"Low technology",null,null,"High technology",null,null,"Low technology",null,null,"High technology",null,null,"Low technology",null,null,"High technology",null,null,"Low technology",null,null,"High technology",null,null,null,"Urban",null,null,"Rural",null,null,"Urban",null,null,"Rural",null,null,"Urban",null,null,"Rural",null,null,"Rural",null,null,"Urban",null,null,"Rural",null,null,"Urban",null,null,"Rural"]
[null,2015,2016,2017,2018,2019,2020,2021,2022,2023,2024,2025,2026,2027,2028,2029,2030,"2030 data",2015,2016,2017,2018,2019,2020,2021,2022,2023,2024,2025,2026,2027,2028,2029,2030,"2030 data","All population","Q5 (Rich)","Q4","Q3","Q2","Q1 (Poor)",null,null,"All population","Q5 (Rich)","Q4","Q3","Q2","Q1 (Poor)",null,null,"All population","Q5 (Rich)","Q4","Q3","Q2","Q1 (Poor)",null,null,"All population","Q5 (Rich)","Q4","Q3","Q2","Q1 (Poor)",null,null,"All population","Q5 (Rich)","Q4","Q3","Q2","Q1 (Poor)",null,null,"All population","Q5 (Rich)","Q4","Q3","Q2","Q1 (Poor)",null,null,"All population","Q5 (Rich)","Q4","Q3","Q2","Q1 (Poor)",null,null,null,null,null,null,null,null,null,null,null,null,null,null,"All population","Q5 (Rich)","Q4","Q3","Q2","Q1 (Poor)",null,null,"All population","Q5 (Rich)","Q4","Q3","Q2","Q1 (Poor)",null,null,{"$f":"'HOJA DE VERIFICACIÓN DE DATOS'!$E$6","v":2020},{"$f":"DP6+1","v":2021},{"$f":"DQ6+1","v":2022},2023,2024,2025,2026,2027,2028,2029,2030,2031,2032,2033,2034,{"$f":"DP6&\"-\"&DT6","v":"2020-2024"},{"$f":"DU6&\"-\"&DY6","v":"2025-2029"},{"$f":"DZ6&\"-\"&ED6","v":"2030-2034"},{"$f":"DP6&\"-\"&ED6","v":"2020-2034"},{"$f":"'HOJA DE VERIFICACIÓN DE DATOS'!$E$6","v":2020},{"$f":"EI6+1","v":2021},{"$f":"EJ6+1","v":2022},2023,2024,2025,2026,2027,2028,2029,2030,2031,2032,2033,2034,{"$f":"EI6&\"-\"&EM6","v":"2020-2024"},{"$f":"EN6&\"-\"&ER6","v":"2025-2029"},{"$f":"ES6&\"-\"&EW6","v":"2030-2034"},{"$f":"EI6&\"-\"&EW6","v":"2020-2034"},{"$f":"'HOJA DE VERIFICACIÓN DE DATOS'!$E$6","v":2020},{"$f":"FB6+1","v":2021},{"$f":"FC6+1","v":2022},2023,2024,2025,2026,2027,2028,2029,2030,2031,2032,2033,2034,{"$f":"FB6&\"-\"&FF6","v":"2020-2024"},{"$f":"FG6&\"-\"&FK6","v":"2025-2029"},{"$f":"FL6&\"-\"&FP6","v":"2030-2034"},{"$f":"FB6&\"-\"&FP6","v":"2020-2034"},{"$f":"'HOJA DE VERIFICACIÓN DE DATOS'!$E$6","v":2020},{"$f":"FU6+1","v":2021},{"$f":"FV6+1","v":2022},2023,2024,2025,2026,2027,2028,2029,2030,2031,2032,2033,2034,{"$f":"FU6&\"-\"&FY6","v":"2020-2024"},{"$f":"FZ6&\"-\"&GD6","v":"2025-2029"},{"$f":"GE6&\"-\"&GI6","v":"2030-2034"},{"$f":"FU6&\"-\"&GI6","v":"2020-2034"},{"$f":"'HOJA DE VERIFICACIÓN DE DATOS'!$E$6","v":2020},{"$f":"GN6+1","v":2021},{"$f":"GO6+1","v":2022},2023,2024,2025,2026,2027,2028,2029,2030,2031,2032,2033,2034,{"$f":"GN6&\"-\"&GR6","v":"2020-2024"},{"$f":"GS6&\"-\"&GW6","v":"2025-2029"},{"$f":"GX6&\"-\"&HB6","v":"2030-2034"},{"$f":"GN6&\"-\"&HB6","v":"2020-2034"},{"$f":"'HOJA DE VERIFICACIÓN DE DATOS'!$E$6","v":2020},{"$f":"HG6+1","v":2021},{"$f":"HH6+1","v":2022},2023,2024,2025,2026,2027,2028,2029,2030,2031,2032,2033,2034,{"$f":"HG6&\"-\"&HK6","v":"2020-2024"},{"$f":"HL6&\"-\"&HP6","v":"2025-2029"},{"$f":"HQ6&\"-\"&HU6","v":"2030-2034"},{"$f":"HG6&\"-\"&HU6","v":"2020-2034"},{"$f":"'HOJA DE VERIFICACIÓN DE DATOS'!$E$6","v":2020},{"$f":"HZ6+1","v":2021},{"$f":"IA6+1","v":2022},2023,2024,2025,2026,2027,2028,2029,2030,2031,2032,2033,2034,{"$f":"HZ6&\"-\"&ID6","v":"2020-2024"},{"$f":"IE6&\"-\"&II6","v":"2025-2029"},{"$f":"IJ6&\"-\"&IN6","v":"2030-2034"},{"$f":"HZ6&\"-\"&IN6","v":"2020-2034"},{"$f":"'HOJA DE VERIFICACIÓN DE DATOS'!$E$6","v":2020},{"$f":"IS6+1","v":2021},{"$f":"IT6+1","v":2022},2023,2024,2025,2026,2027,2028,2029,2030,2031,2032,2033,2034,{"$f":"IS6&\"-\"&IW6","v":"2020-2024"},{"$f":"IX6&\"-\"&JB6","v":"2025-2029"},{"$f":"JC6&\"-\"&JG6","v":"2030-2034"},{"$f":"IS6&\"-\"&JG6","v":"2020-2034"},{"$f":"'HOJA DE VERIFICACIÓN DE DATOS'!$E$6","v":2020},{"$f":"JL6+1","v":2021},{"$f":"JM6+1","v":2022},2023,2024,2025,2026,2027,2028,2029,2030,2031,2032,2033,2034,{"$f":"JL6&\"-\"&JP6","v":"2020-2024"},{"$f":"JQ6&\"-\"&JU6","v":"2025-2029"},{"$f":"JV6&\"-\"&JZ6","v":"2030-2034"},{"$f":"JL6&\"-\"&JZ6","v":"2020-2034"},{"$f":"'HOJA DE VERIFICACIÓN DE DATOS'!$E$6","v":2020},{"$f":"KE6+1","v":2021},{"$f":"KF6+1","v":2022},2023,2024,2025,2026,2027,2028,2029,2030,2031,2032,2033,2034,{"$f":"KE6&\"-\"&KI6","v":"2020-2024"},{"$f":"KJ6&\"-\"&KN6","v":"2025-2029"},{"$f":"KO6&\"-\"&KS6","v":"2030-2034"},{"$f":"KE6&\"-\"&KS6","v":"2020-2034"},{"$f":"'HOJA DE VERIFICACIÓN DE DATOS'!$E$6","v":2020},{"$f":"KX6+1","v":2021},{"$f":"KY6+1","v":2022},2023,2024,2025,2026,2027,2028,2029,2030,2031,2032,2033,2034,{"$f":"KX6&\"-\"&LB6","v":"2020-2024"},{"$f":"LC6&\"-\"&LG6","v":"2025-2029"},{"$f":"LH6&\"-\"&LL6","v":"2030-2034"},{"$f":"KX6&\"-\"&LL6","v":"2020-2034"},{"$f":"'HOJA DE VERIFICACIÓN DE DATOS'!$E$6","v":2020},{"$f":"LQ6+1","v":2021},{"$f":"LR6+1","v":2022},2023,2024,2025,2026,2027,2028,2029,2030,2031,2032,2033,2034,{"$f":"LQ6&\"-\"&LU6","v":"2020-2024"},{"$f":"LV6&\"-\"&LZ6","v":"2025-2029"},{"$f":"MA6&\"-\"&ME6","v":"2030-2034"},{"$f":"LQ6&\"-\"&ME6","v":"2020-2034"},"Annual until target year","Annual until target year","Annual until target year","Annual until target year","Annual until target year","Annual until target year","Total",{"$f":"'HOJA DE VERIFICACIÓN DE DATOS'!$E$6","v":2020},{"$f":"MQ6+1","v":2021},{"$f":"MR6+1","v":2022},2023,2024,2025,2026,2027,2028,2029,2030,2031,2032,2033,2034,{"$f":"MQ6&\"-\"&MU6","v":"2020-2024"},{"$f":"MV6&\"-\"&MZ6","v":"2025-2029"},{"$f":"NA6&\"-\"&NE6","v":"2030-2034"},{"$f":"MQ6&\"-\"&NE6","v":"2020-2034"},{"$f":"'HOJA DE VERIFICACIÓN DE DATOS'!$E$6","v":2020},{"$f":"NJ6+1","v":2021},{"$f":"NK6+1","v":2022},2023,2024,2025,2026,2027,2028,2029,2030,2031,2032,2033,2034,{"$f":"NJ6&\"-\"&NN6","v":"2020-2024"},{"$f":"NO6&\"-\"&NS6","v":"2025-2029"},{"$f":"NT6&\"-\"&NX6","v":"2030-2034"},{"$f":"NJ6&\"-\"&NX6","v":"2020-2034"},{"$f":"'HOJA DE VERIFICACIÓN DE DATOS'!$E$6","v":2020},{"$f":"OC6+1","v":2021},{"$f":"OD6+1","v":2022},2023,2024,2025,2026,2027,2028,2029,2030,2031,2032,2033,2034,{"$f":"OC6&\"-\"&OG6","v":"2020-2024"},{"$f":"OH6&\"-\"&OL6","v":"2025-2029"},{"$f":"OM6&\"-\"&OQ6","v":"2030-2034"},{"$f":"OC6&\"-\"&OQ6","v":"2020-2034"},{"$f":"'HOJA DE VERIFICACIÓN DE DATOS'!$E$6","v":2020},{"$f":"OV6+1","v":2021},{"$f":"OW6+1","v":2022},2023,2024,2025,2026,2027,2028,2029,2030,2031,2032,2033,2034,{"$f":"OV6&\"-\"&OZ6","v":"2020-2024"},{"$f":"PA6&\"-\"&PE6","v":"2025-2029"},{"$f":"PF6&\"-\"&PJ6","v":"2030-2034"},{"$f":"OV6&\"-\"&PJ6","v":"2020-2034"},{"$f":"'HOJA DE VERIFICACIÓN DE DATOS'!$E$6","v":2020},{"$f":"PO6+1","v":2021},{"$f":"PP6+1","v":2022},2023,2024,2025,2026,2027,2028,2029,2030,2031,2032,2033,2034,{"$f":"PO6&\"-\"&PS6","v":"2020-2024"},{"$f":"PT6&\"-\"&PX6","v":"2025-2029"},{"$f":"PY6&\"-\"&QC6","v":"2030-2034"},{"$f":"PO6&\"-\"&QC6","v":"2020-2034"},{"$f":"'HOJA DE VERIFICACIÓN DE DATOS'!$E$6","v":2020},{"$f":"QH6+1","v":2021},{"$f":"QI6+1","v":2022},2023,2024,2025,2026,2027,2028,2029,2030,2031,2032,2033,2034,{"$f":"QH6&\"-\"&QL6","v":"2020-2024"},{"$f":"QM6&\"-\"&QQ6","v":"2025-2029"},{"$f":"QR6&\"-\"&QV6","v":"2030-2034"},{"$f":"QH6&\"-\"&QV6","v":"2020-2034"},{"$f":"'HOJA DE VERIFICACIÓN DE DATOS'!$E$6","v":2020},{"$f":"RA6+1","v":2021},{"$f":"RB6+1","v":2022},2023,2024,2025,2026,2027,2028,2029,2030,2031,2032,2033,2034,{"$f":"RA6&\"-\"&RE6","v":"2020-2024"},{"$f":"RF6&\"-\"&RJ6","v":"2025-2029"},{"$f":"RK6&\"-\"&RO6","v":"2030-2034"},{"$f":"RA6&\"-\"&RO6","v":"2020-2034"},{"$f":"'HOJA DE VERIFICACIÓN DE DATOS'!$E$6","v":2020},{"$f":"RT6+1","v":2021},{"$f":"RU6+1","v":2022},2023,2024,2025,2026,2027,2028,2029,2030,2031,2032,2033,2034,{"$f":"RT6&\"-\"&RX6","v":"2020-2024"},{"$f":"RY6&\"-\"&SC6","v":"2025-2029"},{"$f":"SD6&\"-\"&SH6","v":"2030-2034"},{"$f":"RT6&\"-\"&SH6","v":"2020-2034"},{"$f":"'HOJA DE VERIFICACIÓN DE DATOS'!$E$6","v":2020},{"$f":"SM6+1","v":2021},{"$f":"SN6+1","v":2022},2023,2024,2025,2026,2027,2028,2029,2030,2031,2032,2033,2034,{"$f":"SM6&\"-\"&SQ6","v":"2020-2024"},{"$f":"SR6&\"-\"&SV6","v":"2025-2029"},{"$f":"SW6&\"-\"&TA6","v":"2030-2034"},{"$f":"SM6&\"-\"&TA6","v":"2020-2034"},{"$f":"'HOJA DE VERIFICACIÓN DE DATOS'!$E$6","v":2020},{"$f":"TF6+1","v":2021},{"$f":"TG6+1","v":2022},2023,2024,2025,2026,2027,2028,2029,2030,2031,2032,2033,2034,{"$f":"TF6&\"-\"&TJ6","v":"2020-2024"},{"$f":"TK6&\"-\"&TO6","v":"2025-2029"},{"$f":"TP6&\"-\"&TT6","v":"2030-2034"},{"$f":"TF6&\"-\"&TT6","v":"2020-2034"},{"$f":"'HOJA DE VERIFICACIÓN DE DATOS'!$E$6","v":2020},{"$f":"TY6+1","v":2021},{"$f":"TZ6+1","v":2022},2023,2024,2025,2026,2027,2028,2029,2030,2031,2032,2033,2034,{"$f":"TY6&\"-\"&UC6","v":"2020-2024"},{"$f":"UD6&\"-\"&UH6","v":"2025-2029"},{"$f":"UI6&\"-\"&UM6","v":"2030-2034"},{"$f":"TY6&\"-\"&UM6","v":"2020-2034"},{"$f":"'HOJA DE VERIFICACIÓN DE DATOS'!$E$6","v":2020},{"$f":"UR6+1","v":2021},{"$f":"US6+1","v":2022},2023,2024,2025,2026,2027,2028,2029,2030,2031,2032,2033,2034,{"$f":"UR6&\"-\"&UV6","v":"2020-2024"},{"$f":"UW6&\"-\"&VA6","v":"2025-2029"},{"$f":"VB6&\"-\"&VF6","v":"2030-2034"},{"$f":"UR6&\"-\"&VF6","v":"2020-2034"},{"$f":"'HOJA DE VERIFICACIÓN DE DATOS'!$E$6","v":2020},{"$f":"VK6+1","v":2021},{"$f":"VL6+1","v":2022},2023,2024,2025,2026,2027,2028,2029,2030,2031,2032,2033,2034,{"$f":"VK6&\"-\"&VO6","v":"2020-2024"},{"$f":"VP6&\"-\"&VT6","v":"2025-2029"},{"$f":"VU6&\"-\"&VY6","v":"2030-2034"},{"$f":"VK6&\"-\"&VY6","v":"2020-2034"},{"$f":"'HOJA DE VERIFICACIÓN DE DATOS'!$E$6","v":2020},{"$f":"WD6+1","v":2021},{"$f":"WE6+1","v":2022},2023,2024,2025,2026,2027,2028,2029,2030,2031,2032,2033,2034,{"$f":"WD6&\"-\"&WH6","v":"2020-2024"},{"$f":"WI6&\"-\"&WM6","v":"2025-2029"},{"$f":"WN6&\"-\"&WR6","v":"2030-2034"},{"$f":"WD6&\"-\"&WR6","v":"2020-2034"},{"$f":"'HOJA DE VERIFICACIÓN DE DATOS'!$E$6","v":2020},{"$f":"WW6+1","v":2021},{"$f":"WX6+1","v":2022},2023,2024,2025,2026,2027,2028,2029,2030,2031,2032,2033,2034,{"$f":"WW6&\"-\"&XA6","v":"2020-2024"},{"$f":"XB6&\"-\"&XF6","v":"2025-2029"},{"$f":"XG6&\"-\"&XK6","v":"2030-2034"},{"$f":"WW6&\"-\"&XK6","v":"2020-2034"},{"$f":"'HOJA DE VERIFICACIÓN DE DATOS'!$E$6","v":2020},{"$f":"XP6+1","v":2021},{"$f":"XQ6+1","v":2022},2023,2024,2025,2026,2027,2028,2029,2030,2031,2032,2033,2034,{"$f":"XP6&\"-\"&XT6","v":"2020-2024"},{"$f":"XU6&\"-\"&XY6","v":"2025-2029"},{"$f":"XZ6&\"-\"&YD6","v":"2030-2034"},{"$f":"XP6&\"-\"&YD6","v":"2020-2034"},{"$f":"'HOJA DE VERIFICACIÓN DE DATOS'!$E$6","v":2020},{"$f":"YI6+1","v":2021},{"$f":"YJ6+1","v":2022},2023,2024,2025,2026,2027,2028,2029,2030,2031,2032,2033,2034,{"$f":"YI6&\"-\"&YM6","v":"2020-2024"},{"$f":"YN6&\"-\"&YR6","v":"2025-2029"},{"$f":"YS6&\"-\"&YW6","v":"2030-2034"},{"$f":"YI6&\"-\"&YW6","v":"2020-2034"},{"$f":"'HOJA DE VERIFICACIÓN DE DATOS'!$E$6","v":2020},{"$f":"ZB6+1","v":2021},{"$f":"ZC6+1","v":2022},2023,2024,2025,2026,2027,2028,2029,2030,2031,2032,2033,2034,{"$f":"ZB6&\"-\"&ZF6","v":"2020-2024"},{"$f":"ZG6&\"-\"&ZK6","v":"2025-2029"},{"$f":"ZL6&\"-\"&ZP6","v":"2030-2034"},{"$f":"ZB6&\"-\"&ZP6","v":"2020-2034"},{"$f":"'HOJA DE VERIFICACIÓN DE DATOS'!$E$6","v":2020},{"$f":"ZU6+1","v":2021},{"$f":"ZV6+1","v":2022},2023,2024,2025,2026,2027,2028,2029,2030,2031,2032,2033,2034,{"$f":"ZU6&\"-\"&ZY6","v":"2020-2024"},{"$f":"ZZ6&\"-\"&AAD6","v":"2025-2029"},{"$f":"AAE6&\"-\"&AAI6","v":"2030-2034"},{"$f":"ZU6&\"-\"&AAI6","v":"2020-2034"},{"$f":"'HOJA DE VERIFICACIÓN DE DATOS'!$E$6","v":2020},{"$f":"AAN6+1","v":2021},{"$f":"AAO6+1","v":2022},2023,2024,2025,2026,2027,2028,2029,2030,2031,2032,2033,2034,{"$f":"AAN6&\"-\"&AAR6","v":"2020-2024"},{"$f":"AAS6&\"-\"&AAW6","v":"2025-2029"},{"$f":"AAX6&\"-\"&ABB6","v":"2030-2034"},{"$f":"AAN6&\"-\"&ABB6","v":"2020-2034"},{"$f":"'HOJA DE VERIFICACIÓN DE DATOS'!$E$6","v":2020},{"$f":"ABG6+1","v":2021},{"$f":"ABH6+1","v":2022},2023,2024,2025,2026,2027,2028,2029,2030,2031,2032,2033,2034,{"$f":"ABG6&\"-\"&ABK6","v":"2020-2024"},{"$f":"ABL6&\"-\"&ABP6","v":"2025-2029"},{"$f":"ABQ6&\"-\"&ABU6","v":"2030-2034"},{"$f":"ABG6&\"-\"&ABU6","v":"2020-2034"},{"$f":"'HOJA DE VERIFICACIÓN DE DATOS'!$E$6","v":2020},{"$f":"ABZ6+1","v":2021},{"$f":"ACA6+1","v":2022},2023,2024,2025,2026,2027,2028,2029,2030,2031,2032,2033,2034,{"$f":"ABZ6&\"-\"&ACD6","v":"2020-2024"},{"$f":"ACE6&\"-\"&ACI6","v":"2025-2029"},{"$f":"ACJ6&\"-\"&ACN6","v":"2030-2034"},{"$f":"ABZ6&\"-\"&ACN6","v":"2020-2034"},{"$f":"'HOJA DE VERIFICACIÓN DE DATOS'!$E$6","v":2020},{"$f":"ACS6+1","v":2021},{"$f":"ACT6+1","v":2022},2023,2024,2025,2026,2027,2028,2029,2030,2031,2032,2033,2034,{"$f":"ACS6&\"-\"&ACW6","v":"2020-2024"},{"$f":"ACX6&\"-\"&ADB6","v":"2025-2029"},{"$f":"ADC6&\"-\"&ADG6","v":"2030-2034"},{"$f":"ACS6&\"-\"&ADG6","v":"2020-2034"},{"$f":"'HOJA DE VERIFICACIÓN DE DATOS'!$E$6","v":2020},{"$f":"ADL6+1","v":2021},{"$f":"ADM6+1","v":2022},2023,2024,2025,2026,2027,2028,2029,2030,2031,2032,2033,2034,{"$f":"ADL6&\"-\"&ADP6","v":"2020-2024"},{"$f":"ADQ6&\"-\"&ADU6","v":"2025-2029"},{"$f":"ADV6&\"-\"&ADZ6","v":"2030-2034"},{"$f":"ADL6&\"-\"&ADZ6","v":"2020-2034"},{"$f":"'HOJA DE VERIFICACIÓN DE DATOS'!$E$6","v":2020},{"$f":"AEE6+1","v":2021},{"$f":"AEF6+1","v":2022},2023,2024,2025,2026,2027,2028,2029,2030,2031,2032,2033,2034,{"$f":"AEE6&\"-\"&AEI6","v":"2020-2024"},{"$f":"AEJ6&\"-\"&AEN6","v":"2025-2029"},{"$f":"AEO6&\"-\"&AES6","v":"2030-2034"},{"$f":"AEE6&\"-\"&AES6","v":"2020-2034"},{"$f":"'HOJA DE VERIFICACIÓN DE DATOS'!$E$6","v":2020},{"$f":"AEX6+1","v":2021},{"$f":"AEY6+1","v":2022},2023,2024,2025,2026,2027,2028,2029,2030,2031,2032,2033,2034,{"$f":"AEX6&\"-\"&AFB6","v":"2020-2024"},{"$f":"AFC6&\"-\"&AFG6","v":"2025-2029"},{"$f":"AFH6&\"-\"&AFL6","v":"2030-2034"},{"$f":"AEX6&\"-\"&AFL6","v":"2020-2034"},{"$f":"'HOJA DE VERIFICACIÓN DE DATOS'!$E$6","v":2020},{"$f":"AFQ6+1","v":2021},{"$f":"AFR6+1","v":2022},2023,2024,2025,2026,2027,2028,2029,2030,2031,2032,2033,2034,{"$f":"AFQ6&\"-\"&AFU6","v":"2020-2024"},{"$f":"AFV6&\"-\"&AFZ6","v":"2025-2029"},{"$f":"AGA6&\"-\"&AGE6","v":"2030-2034"},{"$f":"AFQ6&\"-\"&AGE6","v":"2020-2034"},{"$f":"'HOJA DE VERIFICACIÓN DE DATOS'!$E$6","v":2020},{"$f":"AGJ6+1","v":2021},{"$f":"AGK6+1","v":2022},2023,2024,2025,2026,2027,2028,2029,2030,2031,2032,2033,2034,{"$f":"AGJ6&\"-\"&AGN6","v":"2020-2024"},{"$f":"AGO6&\"-\"&AGS6","v":"2025-2029"},{"$f":"AGT6&\"-\"&AGX6","v":"2030-2034"},{"$f":"AGJ6&\"-\"&AGX6","v":"2020-2034"},{"$f":"'HOJA DE VERIFICACIÓN DE DATOS'!$E$6","v":2020},{"$f":"AHC6+1","v":2021},{"$f":"AHD6+1","v":2022},2023,2024,2025,2026,2027,2028,2029,2030,2031,2032,2033,2034,{"$f":"AHC6&\"-\"&AHG6","v":"2020-2024"},{"$f":"AHH6&\"-\"&AHL6","v":"2025-2029"},{"$f":"AHM6&\"-\"&AHQ6","v":"2030-2034"},{"$f":"AHC6&\"-\"&AHQ6","v":"2020-2034"},{"$f":"'HOJA DE VERIFICACIÓN DE DATOS'!$E$6","v":2020},{"$f":"AHV6+1","v":2021},{"$f":"AHW6+1","v":2022},2023,2024,2025,2026,2027,2028,2029,2030,2031,2032,2033,2034,{"$f":"AHV6&\"-\"&AHZ6","v":"2020-2024"},{"$f":"AIA6&\"-\"&AIE6","v":"2025-2029"},{"$f":"AIF6&\"-\"&AIJ6","v":"2030-2034"},{"$f":"AHV6&\"-\"&AIJ6","v":"2020-2034"},{"$f":"'HOJA DE VERIFICACIÓN DE DATOS'!$E$6","v":2020},{"$f":"AIO6+1","v":2021},{"$f":"AIP6+1","v":2022},2023,2024,2025,2026,2027,2028,2029,2030,2031,2032,2033,2034,{"$f":"AIO6&\"-\"&AIS6","v":"2020-2024"},{"$f":"AIT6&\"-\"&AIX6","v":"2025-2029"},{"$f":"AIY6&\"-\"&AJC6","v":"2030-2034"},{"$f":"AIO6&\"-\"&AJC6","v":"2020-2034"},{"$f":"'HOJA DE VERIFICACIÓN DE DATOS'!$E$6","v":2020},{"$f":"AJH6+1","v":2021},{"$f":"AJI6+1","v":2022},2023,2024,2025,2026,2027,2028,2029,2030,2031,2032,2033,2034,{"$f":"AJH6&\"-\"&AJL6","v":"2020-2024"},{"$f":"AJM6&\"-\"&AJQ6","v":"2025-2029"},{"$f":"AJR6&\"-\"&AJV6","v":"2030-2034"},{"$f":"AJH6&\"-\"&AJV6","v":"2020-2034"},{"$f":"'HOJA DE VERIFICACIÓN DE DATOS'!$E$6","v":2020},{"$f":"AKA6+1","v":2021},{"$f":"AKB6+1","v":2022},2023,2024,2025,2026,2027,2028,2029,2030,2031,2032,2033,2034,{"$f":"AKA6&\"-\"&AKE6","v":"2020-2024"},{"$f":"AKF6&\"-\"&AKJ6","v":"2025-2029"},{"$f":"AKK6&\"-\"&AKO6","v":"2030-2034"},{"$f":"AKA6&\"-\"&AKO6","v":"2020-2034"},{"$f":"'HOJA DE VERIFICACIÓN DE DATOS'!$E$6","v":2020},{"$f":"AKT6+1","v":2021},{"$f":"AKU6+1","v":2022},2023,2024,2025,2026,2027,2028,2029,2030,2031,2032,2033,2034,{"$f":"AKT6&\"-\"&AKX6","v":"2020-2024"},{"$f":"AKY6&\"-\"&ALC6","v":"2025-2029"},{"$f":"ALD6&\"-\"&ALH6","v":"2030-2034"},{"$f":"AKT6&\"-\"&ALH6","v":"2020-2034"},{"$f":"'HOJA DE VERIFICACIÓN DE DATOS'!$E$6","v":2020},{"$f":"ALM6+1","v":2021},{"$f":"ALN6+1","v":2022},2023,2024,2025,2026,2027,2028,2029,2030,2031,2032,2033,2034,{"$f":"ALM6&\"-\"&ALQ6","v":"2020-2024"},{"$f":"ALR6&\"-\"&ALV6","v":"2025-2029"},{"$f":"ALW6&\"-\"&AMA6","v":"2030-2034"},{"$f":"ALM6&\"-\"&AMA6","v":"2020-2034"},{"$f":"'HOJA DE VERIFICACIÓN DE DATOS'!$E$6","v":2020},{"$f":"AMF6+1","v":2021},{"$f":"AMG6+1","v":2022},2023,2024,2025,2026,2027,2028,2029,2030,2031,2032,2033,2034,{"$f":"AMF6&\"-\"&AMJ6","v":"2020-2024"},{"$f":"AMK6&\"-\"&AMO6","v":"2025-2029"},{"$f":"AMP6&\"-\"&AMT6","v":"2030-2034"},{"$f":"AMF6&\"-\"&AMT6","v":"2020-2034"},{"$f":"'HOJA DE VERIFICACIÓN DE DATOS'!$E$6","v":2020},{"$f":"AMY6+1","v":2021},{"$f":"AMZ6+1","v":2022},2023,2024,2025,2026,2027,2028,2029,2030,2031,2032,2033,2034,{"$f":"AMY6&\"-\"&ANC6","v":"2020-2024"},{"$f":"AND6&\"-\"&ANH6","v":"2025-2029"},{"$f":"ANI6&\"-\"&ANM6","v":"2030-2034"},{"$f":"AMY6&\"-\"&ANM6","v":"2020-2034"},{"$f":"'HOJA DE VERIFICACIÓN DE DATOS'!$E$6","v":2020},{"$f":"ANR6+1","v":2021},{"$f":"ANS6+1","v":2022},2023,2024,2025,2026,2027,2028,2029,2030,2031,2032,2033,2034,{"$f":"ANR6&\"-\"&ANV6","v":"2020-2024"},{"$f":"ANW6&\"-\"&AOA6","v":"2025-2029"},{"$f":"AOB6&\"-\"&AOF6","v":"2030-2034"},{"$f":"ANR6&\"-\"&AOF6","v":"2020-2034"},2015,2015,2015,"CapEx","Software","Software (% of Capex)","Duration","Annualized","CapManEx %","CapManEx","Duration","Annualized","OpEx","Software","Software %",null,"CapEx","Software","Software (% of Capex)","Duration","Annualized","CapManEx %","CapManEx","Duration","Annualized","OpEx","Software","Software %",null,"CapEx","Software","Software (% of Capex)","Duration","Annualized","CapManEx %","CapManEx","Duration","Annualized","OpEx","Software","Software %",null,"CapEx","Software","Software (% of Capex)","Duration","Annualized","CapManEx %","CapManEx","Duration","Annualized","OpEx","Software","Software %",null,"CapEx","Software","Software (% of Capex)","Duration","Annualized","CapManEx %","CapManEx","Duration","Annualized","OpEx","Software","Software %",null,"CapEx","Software","Software (% of Capex)","Duration","Annualized","CapManEx %","CapManEx","Duration","Annualized","OpEx","Software","Software %",null,"Av. No. of HHs Sharing","CapEx","Software","Software (% of Capex)","Duration","Annualized","CapManEx %","CapManEx","Duration","Annualized","OpEx","Software","Software %",null,"Av. No. of HHs Sharing","CapEx","Software","Software (% of Capex)","Duration","Annualized","CapManEx %","CapManEx","Duration","Annualized","OpEx","Software","Software %",null,"Av. No. of HHs Sharing","CapEx","Software","Software (% of Capex)","Duration","Annualized","CapManEx %","CapManEx","Duration","Annualized","OpEx","Software","Software %",null,"Av. No. of HHs Sharing","CapEx","Software","Software (% of Capex)","Duration","Annualized","CapManEx %","CapManEx","Duration","Annualized","OpEx","Software","Software %",null,"CapEx","Software","Software (% of Capex)","Duration","Annualized","CapManEx %","CapManEx","Duration","Annualized","OpEx","Software","Software %",null,"CapEx","Software","Software (% of Capex)","Duration","Annualized","CapManEx %","CapManEx","Duration","Annualized","OpEx","Software","Software",null,"CapEx","Software","Software (% of Capex)","Duration","Annualized","CapManEx %","CapManEx","Duration","Annualized","OpEx","Software","Software",null,"CapEx","Software","Software (% of Capex)","Duration","Annualized","CapManEx %","CapManEx","Duration","Annualized","OpEx","Software","Software",null,"CapEx","Software","Software (% of Capex)","Duration","Annualized","CapManEx %","CapManEx","Duration","Annualized","OpEx","Software","Software",null,"CapEx","Software","Software (% of Capex)","Duration Hardware","Duration Software","Annualized","CapManEx %","CapManEx","Duration","Annualized","OpEx","Software","Software %",null,"CapEx","Software","Software (% of Capex)","Duration Hardware","Duration Software","Annualized","CapManEx %","CapManEx","Duration","Annualized","OpEx","Software","Software %",null,"Q5 (Rich)","Q4","Q3","Q2","Q1 (Poor)","Q5 (Rich)","Q4","Q3","Q2","Q1 (Poor)","Q5 (Rich)","Q4","Q3","Q2","Q1 (Poor)","Q5 (Rich)","Q4","Q3","Q2","Q1 (Poor)","Q5 (Rich)","Q4","Q3","Q2","Q1 (Poor)","Q5 (Rich)","Q4","Q3","Q2","Q1 (Poor)","Q5 (Rich)","Q4","Q3","Q2","Q1 (Poor)","Q5 (Rich)","Q4","Q3","Q2","Q1 (Poor)","Q5 (Rich)","Q4","Q3","Q2","Q1 (Poor)","Q5 (Rich)","Q4","Q3","Q2","Q1 (Poor)","Q5 (Rich)","Q4","Q3","Q2","Q1 (Poor)","Q5 (Rich)","Q4","Q3","Q2","Q1 (Poor)",null,"Urban","Rural","Urban","Rural",null,null,null,{"$f":"50*1000*0.74","v":37000},{"$f":"50*1000*0.62","v":31000},{"$f":"50*5000*0.74","v":185000},{"$f":"50*5000*0.62","v":155000},null,null,null,null,null,null,null,null,null,"Capital","Cap. Replace (10)",{"$f":"'HOJA DE VERIFICACIÓN DE DATOS'!$E$6","v":2020},{"$f":"BAL6+1","v":2021},{"$f":"BAM6+1","v":2022},2023,2024,2025,2026,2027,2028,2029,2030,2031,2032,2033,2034,{"$f":"BAL6&\"-\"&BAP6","v":"2020-2024"},{"$f":"BAQ6&\"-\"&BAU6","v":"2025-2029"},{"$f":"BAV6&\"-\"&BAZ6","v":"2030-2034"},{"$f":"BAL6&\"-\"&BAZ6","v":"2020-2034"},"Capital","Cap. Replace (10)",{"$f":"'HOJA DE VERIFICACIÓN DE DATOS'!$E$6","v":2020},{"$f":"BBG6+1","v":2021},{"$f":"BBH6+1","v":2022},{"$f":"BBI6+1","v":2023},{"$f":"BBJ6+1","v":2024},{"$f":"BBK6+1","v":2025},{"$f":"BBL6+1","v":2026},{"$f":"BBM6+1","v":2027},{"$f":"BBN6+1","v":2028},{"$f":"BBO6+1","v":2029},{"$f":"BBP6+1","v":2030},{"$f":"BBQ6+1","v":2031},{"$f":"BBR6+1","v":2032},{"$f":"BBS6+1","v":2033},{"$f":"BBT6+1","v":2034},{"$f":"BBG6&\"-\"&BBK6","v":"2020-2024"},{"$f":"BBL6&\"-\"&BBP6","v":"2025-2029"},{"$f":"BBQ6&\"-\"&BBU6","v":"2030-2034"},{"$f":"BBG6&\"-\"&BBU6","v":"2020-2034"},"Capital","Cap. Replace (10)",{"$f":"'HOJA DE VERIFICACIÓN DE DATOS'!$E$6","v":2020},{"$f":"BCB6+1","v":2021},{"$f":"BCC6+1","v":2022},{"$f":"BCD6+1","v":2023},{"$f":"BCE6+1","v":2024},{"$f":"BCF6+1","v":2025},{"$f":"BCG6+1","v":2026},{"$f":"BCH6+1","v":2027},{"$f":"BCI6+1","v":2028},{"$f":"BCJ6+1","v":2029},{"$f":"BCK6+1","v":2030},{"$f":"BCL6+1","v":2031},{"$f":"BCM6+1","v":2032},{"$f":"BCN6+1","v":2033},{"$f":"BCO6+1","v":2034},{"$f":"BCB6&\"-\"&BCF6","v":"2020-2024"},{"$f":"BCG6&\"-\"&BCK6","v":"2025-2029"},{"$f":"BCL6&\"-\"&BCP6","v":"2030-2034"},{"$f":"BCB6&\"-\"&BCP6","v":"2020-2034"},"Capital","Cap. Replace (10)",{"$f":"'HOJA DE VERIFICACIÓN DE DATOS'!$E$6","v":2020},{"$f":"BCW6+1","v":2021},{"$f":"BCX6+1","v":2022},{"$f":"BCY6+1","v":2023},{"$f":"BCZ6+1","v":2024},{"$f":"BDA6+1","v":2025},{"$f":"BDB6+1","v":2026},{"$f":"BDC6+1","v":2027},{"$f":"BDD6+1","v":2028},{"$f":"BDE6+1","v":2029},{"$f":"BDF6+1","v":2030},{"$f":"BDG6+1","v":2031},{"$f":"BDH6+1","v":2032},{"$f":"BDI6+1","v":2033},{"$f":"BDJ6+1","v":2034},{"$f":"BCW6&\"-\"&BDA6","v":"2020-2024"},{"$f":"BDB6&\"-\"&BDF6","v":"2025-2029"},{"$f":"BDG6&\"-\"&BDK6","v":"2030-2034"},{"$f":"BCW6&\"-\"&BDK6","v":"2020-2034"},"Capital","Cap. Replace (10)",{"$f":"'HOJA DE VERIFICACIÓN DE DATOS'!$E$6","v":2020},{"$f":"BDR6+1","v":2021},{"$f":"BDS6+1","v":2022},{"$f":"BDT6+1","v":2023},{"$f":"BDU6+1","v":2024},{"$f":"BDV6+1","v":2025},{"$f":"BDW6+1","v":2026},{"$f":"BDX6+1","v":2027},{"$f":"BDY6+1","v":2028},{"$f":"BDZ6+1","v":2029},{"$f":"BEA6+1","v":2030},{"$f":"BEB6+1","v":2031},{"$f":"BEC6+1","v":2032},{"$f":"BED6+1","v":2033},{"$f":"BEE6+1","v":2034},{"$f":"BDR6&\"-\"&BDV6","v":"2020-2024"},{"$f":"BDW6&\"-\"&BEA6","v":"2025-2029"},{"$f":"BEB6&\"-\"&BEF6","v":"2030-2034"},{"$f":"BDR6&\"-\"&BEF6","v":"2020-2034"},"Capital","Cap. Replace (10)",{"$f":"'HOJA DE VERIFICACIÓN DE DATOS'!$E$6","v":2020},{"$f":"BEM6+1","v":2021},{"$f":"BEN6+1","v":2022},{"$f":"BEO6+1","v":2023},{"$f":"BEP6+1","v":2024},{"$f":"BEQ6+1","v":2025},{"$f":"BER6+1","v":2026},{"$f":"BES6+1","v":2027},{"$f":"BET6+1","v":2028},{"$f":"BEU6+1","v":2029},{"$f":"BEV6+1","v":2030},{"$f":"BEW6+1","v":2031},{"$f":"BEX6+1","v":2032},{"$f":"BEY6+1","v":2033},{"$f":"BEZ6+1","v":2034},{"$f":"BEM6&\"-\"&BEQ6","v":"2020-2024"},{"$f":"BER6&\"-\"&BEV6","v":"2025-2029"},{"$f":"BEW6&\"-\"&BFA6","v":"2030-2034"},{"$f":"BEM6&\"-\"&BFA6","v":"2020-2034"},"Capital","Cap. Replace (10)",{"$f":"'HOJA DE VERIFICACIÓN DE DATOS'!$E$6","v":2020},{"$f":"BFH6+1","v":2021},{"$f":"BFI6+1","v":2022},{"$f":"BFJ6+1","v":2023},{"$f":"BFK6+1","v":2024},{"$f":"BFL6+1","v":2025},{"$f":"BFM6+1","v":2026},{"$f":"BFN6+1","v":2027},{"$f":"BFO6+1","v":2028},{"$f":"BFP6+1","v":2029},{"$f":"BFQ6+1","v":2030},{"$f":"BFR6+1","v":2031},{"$f":"BFS6+1","v":2032},{"$f":"BFT6+1","v":2033},{"$f":"BFU6+1","v":2034},{"$f":"BFH6&\"-\"&BFL6","v":"2020-2024"},{"$f":"BFM6&\"-\"&BFQ6","v":"2025-2029"},{"$f":"BFR6&\"-\"&BFV6","v":"2030-2034"},{"$f":"BFH6&\"-\"&BFV6","v":"2020-2034"},"Capital","Cap. Replace (10)",{"$f":"'HOJA DE VERIFICACIÓN DE DATOS'!$E$6","v":2020},{"$f":"BGC6+1","v":2021},{"$f":"BGD6+1","v":2022},{"$f":"BGE6+1","v":2023},{"$f":"BGF6+1","v":2024},{"$f":"BGG6+1","v":2025},{"$f":"BGH6+1","v":2026},{"$f":"BGI6+1","v":2027},{"$f":"BGJ6+1","v":2028},{"$f":"BGK6+1","v":2029},{"$f":"BGL6+1","v":2030},{"$f":"BGM6+1","v":2031},{"$f":"BGN6+1","v":2032},{"$f":"BGO6+1","v":2033},{"$f":"BGP6+1","v":2034},{"$f":"BGC6&\"-\"&BGG6","v":"2020-2024"},{"$f":"BGH6&\"-\"&BGL6","v":"2025-2029"},{"$f":"BGM6&\"-\"&BGQ6","v":"2030-2034"},{"$f":"BGC6&\"-\"&BGQ6","v":"2020-2034"},"Capital","Cap. Replace (10)",{"$f":"'HOJA DE VERIFICACIÓN DE DATOS'!$E$6","v":2020},{"$f":"BGX6+1","v":2021},{"$f":"BGY6+1","v":2022},{"$f":"BGZ6+1","v":2023},{"$f":"BHA6+1","v":2024},{"$f":"BHB6+1","v":2025},{"$f":"BHC6+1","v":2026},{"$f":"BHD6+1","v":2027},{"$f":"BHE6+1","v":2028},{"$f":"BHF6+1","v":2029},{"$f":"BHG6+1","v":2030},{"$f":"BHH6+1","v":2031},{"$f":"BHI6+1","v":2032},{"$f":"BHJ6+1","v":2033},{"$f":"BHK6+1","v":2034},{"$f":"BGX6&\"-\"&BHB6","v":"2020-2024"},{"$f":"BHC6&\"-\"&BHG6","v":"2025-2029"},{"$f":"BHH6&\"-\"&BHL6","v":"2030-2034"},{"$f":"BGX6&\"-\"&BHL6","v":"2020-2034"},"Capital","Cap. Replace (10)",{"$f":"'HOJA DE VERIFICACIÓN DE DATOS'!$E$6","v":2020},{"$f":"BHS6+1","v":2021},{"$f":"BHT6+1","v":2022},{"$f":"BHU6+1","v":2023},{"$f":"BHV6+1","v":2024},{"$f":"BHW6+1","v":2025},{"$f":"BHX6+1","v":2026},{"$f":"BHY6+1","v":2027},{"$f":"BHZ6+1","v":2028},{"$f":"BIA6+1","v":2029},{"$f":"BIB6+1","v":2030},{"$f":"BIC6+1","v":2031},{"$f":"BID6+1","v":2032},{"$f":"BIE6+1","v":2033},{"$f":"BIF6+1","v":2034},{"$f":"BHS6&\"-\"&BHW6","v":"2020-2024"},{"$f":"BHX6&\"-\"&BIB6","v":"2025-2029"},{"$f":"BIC6&\"-\"&BIG6","v":"2030-2034"},{"$f":"BHS6&\"-\"&BIG6","v":"2020-2034"},"Capital","Cap. Replace (10)",{"$f":"'HOJA DE VERIFICACIÓN DE DATOS'!$E$6","v":2020},{"$f":"BIN6+1","v":2021},{"$f":"BIO6+1","v":2022},{"$f":"BIP6+1","v":2023},{"$f":"BIQ6+1","v":2024},{"$f":"BIR6+1","v":2025},{"$f":"BIS6+1","v":2026},{"$f":"BIT6+1","v":2027},{"$f":"BIU6+1","v":2028},{"$f":"BIV6+1","v":2029},{"$f":"BIW6+1","v":2030},{"$f":"BIX6+1","v":2031},{"$f":"BIY6+1","v":2032},{"$f":"BIZ6+1","v":2033},{"$f":"BJA6+1","v":2034},{"$f":"BIN6&\"-\"&BIR6","v":"2020-2024"},{"$f":"BIS6&\"-\"&BIW6","v":"2025-2029"},{"$f":"BIX6&\"-\"&BJB6","v":"2030-2034"},{"$f":"BIN6&\"-\"&BJB6","v":"2020-2034"},"Capital","Cap. Replace (10)",{"$f":"'HOJA DE VERIFICACIÓN DE DATOS'!$E$6","v":2020},{"$f":"BJI6+1","v":2021},{"$f":"BJJ6+1","v":2022},{"$f":"BJK6+1","v":2023},{"$f":"BJL6+1","v":2024},{"$f":"BJM6+1","v":2025},{"$f":"BJN6+1","v":2026},{"$f":"BJO6+1","v":2027},{"$f":"BJP6+1","v":2028},{"$f":"BJQ6+1","v":2029},{"$f":"BJR6+1","v":2030},{"$f":"BJS6+1","v":2031},{"$f":"BJT6+1","v":2032},{"$f":"BJU6+1","v":2033},{"$f":"BJV6+1","v":2034},{"$f":"BJI6&\"-\"&BJM6","v":"2020-2024"},{"$f":"BJN6&\"-\"&BJR6","v":"2025-2029"},{"$f":"BJS6&\"-\"&BJW6","v":"2030-2034"},{"$f":"BJI6&\"-\"&BJW6","v":"2020-2034"},"Capital","Cap. Replace (10)",{"$f":"'HOJA DE VERIFICACIÓN DE DATOS'!$E$6","v":2020},{"$f":"BKD6+1","v":2021},{"$f":"BKE6+1","v":2022},{"$f":"BKF6+1","v":2023},{"$f":"BKG6+1","v":2024},{"$f":"BKH6+1","v":2025},{"$f":"BKI6+1","v":2026},{"$f":"BKJ6+1","v":2027},{"$f":"BKK6+1","v":2028},{"$f":"BKL6+1","v":2029},{"$f":"BKM6+1","v":2030},{"$f":"BKN6+1","v":2031},{"$f":"BKO6+1","v":2032},{"$f":"BKP6+1","v":2033},{"$f":"BKQ6+1","v":2034},{"$f":"BKD6&\"-\"&BKH6","v":"2020-2024"},{"$f":"BKI6&\"-\"&BKM6","v":"2025-2029"},{"$f":"BKN6&\"-\"&BKR6","v":"2030-2034"},{"$f":"BKD6&\"-\"&BKR6","v":"2020-2034"},"Capital","Cap. Replace (10)",{"$f":"'HOJA DE VERIFICACIÓN DE DATOS'!$E$6","v":2020},{"$f":"BKY6+1","v":2021},{"$f":"BKZ6+1","v":2022},{"$f":"BLA6+1","v":2023},{"$f":"BLB6+1","v":2024},{"$f":"BLC6+1","v":2025},{"$f":"BLD6+1","v":2026},{"$f":"BLE6+1","v":2027},{"$f":"BLF6+1","v":2028},{"$f":"BLG6+1","v":2029},{"$f":"BLH6+1","v":2030},{"$f":"BLI6+1","v":2031},{"$f":"BLJ6+1","v":2032},{"$f":"BLK6+1","v":2033},{"$f":"BLL6+1","v":2034},{"$f":"BKY6&\"-\"&BLC6","v":"2020-2024"},{"$f":"BLD6&\"-\"&BLH6","v":"2025-2029"},{"$f":"BLI6&\"-\"&BLM6","v":"2030-2034"},{"$f":"BKY6&\"-\"&BLM6","v":"2020-2034"},"Capital","Cap. Replace (10)",{"$f":"'HOJA DE VERIFICACIÓN DE DATOS'!$E$6","v":2020},{"$f":"BLT6+1","v":2021},{"$f":"BLU6+1","v":2022},{"$f":"BLV6+1","v":2023},{"$f":"BLW6+1","v":2024},{"$f":"BLX6+1","v":2025},{"$f":"BLY6+1","v":2026},{"$f":"BLZ6+1","v":2027},{"$f":"BMA6+1","v":2028},{"$f":"BMB6+1","v":2029},{"$f":"BMC6+1","v":2030},{"$f":"BMD6+1","v":2031},{"$f":"BME6+1","v":2032},{"$f":"BMF6+1","v":2033},{"$f":"BMG6+1","v":2034},{"$f":"BLT6&\"-\"&BLX6","v":"2020-2024"},{"$f":"BLY6&\"-\"&BMC6","v":"2025-2029"},{"$f":"BMD6&\"-\"&BMH6","v":"2030-2034"},{"$f":"BLT6&\"-\"&BMH6","v":"2020-2034"},"Capital","Cap. Replace (10)",{"$f":"'HOJA DE VERIFICACIÓN DE DATOS'!$E$6","v":2020},{"$f":"BMO6+1","v":2021},{"$f":"BMP6+1","v":2022},{"$f":"BMQ6+1","v":2023},{"$f":"BMR6+1","v":2024},{"$f":"BMS6+1","v":2025},{"$f":"BMT6+1","v":2026},{"$f":"BMU6+1","v":2027},{"$f":"BMV6+1","v":2028},{"$f":"BMW6+1","v":2029},{"$f":"BMX6+1","v":2030},{"$f":"BMY6+1","v":2031},{"$f":"BMZ6+1","v":2032},{"$f":"BNA6+1","v":2033},{"$f":"BNB6+1","v":2034},{"$f":"BMO6&\"-\"&BMS6","v":"2020-2024"},{"$f":"BMT6&\"-\"&BMX6","v":"2025-2029"},{"$f":"BMY6&\"-\"&BNC6","v":"2030-2034"},{"$f":"BMO6&\"-\"&BNC6","v":"2020-2034"},"Capital","Cap. Replace (10)",{"$f":"'HOJA DE VERIFICACIÓN DE DATOS'!$E$6","v":2020},{"$f":"BNJ6+1","v":2021},{"$f":"BNK6+1","v":2022},{"$f":"BNL6+1","v":2023},{"$f":"BNM6+1","v":2024},{"$f":"BNN6+1","v":2025},{"$f":"BNO6+1","v":2026},{"$f":"BNP6+1","v":2027},{"$f":"BNQ6+1","v":2028},{"$f":"BNR6+1","v":2029},{"$f":"BNS6+1","v":2030},{"$f":"BNT6+1","v":2031},{"$f":"BNU6+1","v":2032},{"$f":"BNV6+1","v":2033},{"$f":"BNW6+1","v":2034},{"$f":"BNJ6&\"-\"&BNN6","v":"2020-2024"},{"$f":"BNO6&\"-\"&BNS6","v":"2025-2029"},{"$f":"BNT6&\"-\"&BNX6","v":"2030-2034"},{"$f":"BNJ6&\"-\"&BNX6","v":"2020-2034"},"Capital","Cap. Replace (10)",{"$f":"'HOJA DE VERIFICACIÓN DE DATOS'!$E$6","v":2020},{"$f":"BOE6+1","v":2021},{"$f":"BOF6+1","v":2022},{"$f":"BOG6+1","v":2023},{"$f":"BOH6+1","v":2024},{"$f":"BOI6+1","v":2025},{"$f":"BOJ6+1","v":2026},{"$f":"BOK6+1","v":2027},{"$f":"BOL6+1","v":2028},{"$f":"BOM6+1","v":2029},{"$f":"BON6+1","v":2030},{"$f":"BOO6+1","v":2031},{"$f":"BOP6+1","v":2032},{"$f":"BOQ6+1","v":2033},{"$f":"BOR6+1","v":2034},{"$f":"BOE6&\"-\"&BOI6","v":"2020-2024"},{"$f":"BOJ6&\"-\"&BON6","v":"2025-2029"},{"$f":"BOO6&\"-\"&BOS6","v":"2030-2034"},{"$f":"BOE6&\"-\"&BOS6","v":"2020-2034"},"Capital","Cap. Replace (10)",{"$f":"'HOJA DE VERIFICACIÓN DE DATOS'!$E$6","v":2020},{"$f":"BOZ6+1","v":2021},{"$f":"BPA6+1","v":2022},{"$f":"BPB6+1","v":2023},{"$f":"BPC6+1","v":2024},{"$f":"BPD6+1","v":2025},{"$f":"BPE6+1","v":2026},{"$f":"BPF6+1","v":2027},{"$f":"BPG6+1","v":2028},{"$f":"BPH6+1","v":2029},{"$f":"BPI6+1","v":2030},{"$f":"BPJ6+1","v":2031},{"$f":"BPK6+1","v":2032},{"$f":"BPL6+1","v":2033},{"$f":"BPM6+1","v":2034},{"$f":"BOZ6&\"-\"&BPD6","v":"2020-2024"},{"$f":"BPE6&\"-\"&BPI6","v":"2025-2029"},{"$f":"BPJ6&\"-\"&BPN6","v":"2030-2034"},{"$f":"BOZ6&\"-\"&BPN6","v":"2020-2034"},"Capital","Cap. Replace (10)",{"$f":"'HOJA DE VERIFICACIÓN DE DATOS'!$E$6","v":2020},{"$f":"BPU6+1","v":2021},{"$f":"BPV6+1","v":2022},{"$f":"BPW6+1","v":2023},{"$f":"BPX6+1","v":2024},{"$f":"BPY6+1","v":2025},{"$f":"BPZ6+1","v":2026},{"$f":"BQA6+1","v":2027},{"$f":"BQB6+1","v":2028},{"$f":"BQC6+1","v":2029},{"$f":"BQD6+1","v":2030},{"$f":"BQE6+1","v":2031},{"$f":"BQF6+1","v":2032},{"$f":"BQG6+1","v":2033},{"$f":"BQH6+1","v":2034},{"$f":"BPU6&\"-\"&BPY6","v":"2020-2024"},{"$f":"BPZ6&\"-\"&BQD6","v":"2025-2029"},{"$f":"BQE6&\"-\"&BQI6","v":"2030-2034"},{"$f":"BPU6&\"-\"&BQI6","v":"2020-2034"},"Capital","Cap. Replace (10)",{"$f":"'HOJA DE VERIFICACIÓN DE DATOS'!$E$6","v":2020},{"$f":"BQP6+1","v":2021},{"$f":"BQQ6+1","v":2022},{"$f":"BQR6+1","v":2023},{"$f":"BQS6+1","v":2024},{"$f":"BQT6+1","v":2025},{"$f":"BQU6+1","v":2026},{"$f":"BQV6+1","v":2027},{"$f":"BQW6+1","v":2028},{"$f":"BQX6+1","v":2029},{"$f":"BQY6+1","v":2030},{"$f":"BQZ6+1","v":2031},{"$f":"BRA6+1","v":2032},{"$f":"BRB6+1","v":2033},{"$f":"BRC6+1","v":2034},{"$f":"BQP6&\"-\"&BQT6","v":"2020-2024"},{"$f":"BQU6&\"-\"&BQY6","v":"2025-2029"},{"$f":"BQZ6&\"-\"&BRD6","v":"2030-2034"},{"$f":"BQP6&\"-\"&BRD6","v":"2020-2034"},"Capital","Cap. Replace (10)",{"$f":"'HOJA DE VERIFICACIÓN DE DATOS'!$E$6","v":2020},{"$f":"BRK6+1","v":2021},{"$f":"BRL6+1","v":2022},{"$f":"BRM6+1","v":2023},{"$f":"BRN6+1","v":2024},{"$f":"BRO6+1","v":2025},{"$f":"BRP6+1","v":2026},{"$f":"BRQ6+1","v":2027},{"$f":"BRR6+1","v":2028},{"$f":"BRS6+1","v":2029},{"$f":"BRT6+1","v":2030},{"$f":"BRU6+1","v":2031},{"$f":"BRV6+1","v":2032},{"$f":"BRW6+1","v":2033},{"$f":"BRX6+1","v":2034},{"$f":"BRK6&\"-\"&BRO6","v":"2020-2024"},{"$f":"BRP6&\"-\"&BRT6","v":"2025-2029"},{"$f":"BRU6&\"-\"&BRY6","v":"2030-2034"},{"$f":"BRK6&\"-\"&BRY6","v":"2020-2034"},"Capital","Cap. Replace (10)",{"$f":"'HOJA DE VERIFICACIÓN DE DATOS'!$E$6","v":2020},{"$f":"BSF6+1","v":2021},{"$f":"BSG6+1","v":2022},{"$f":"BSH6+1","v":2023},{"$f":"BSI6+1","v":2024},{"$f":"BSJ6+1","v":2025},{"$f":"BSK6+1","v":2026},{"$f":"BSL6+1","v":2027},{"$f":"BSM6+1","v":2028},{"$f":"BSN6+1","v":2029},{"$f":"BSO6+1","v":2030},{"$f":"BSP6+1","v":2031},{"$f":"BSQ6+1","v":2032},{"$f":"BSR6+1","v":2033},{"$f":"BSS6+1","v":2034},{"$f":"BSF6&\"-\"&BSJ6","v":"2020-2024"},{"$f":"BSK6&\"-\"&BSO6","v":"2025-2029"},{"$f":"BSP6&\"-\"&BST6","v":"2030-2034"},{"$f":"BSF6&\"-\"&BST6","v":"2020-2034"},"Capital","Cap. Replace (10)",{"$f":"'HOJA DE VERIFICACIÓN DE DATOS'!$E$6","v":2020},{"$f":"BTA6+1","v":2021},{"$f":"BTB6+1","v":2022},{"$f":"BTC6+1","v":2023},{"$f":"BTD6+1","v":2024},{"$f":"BTE6+1","v":2025},{"$f":"BTF6+1","v":2026},{"$f":"BTG6+1","v":2027},{"$f":"BTH6+1","v":2028},{"$f":"BTI6+1","v":2029},{"$f":"BTJ6+1","v":2030},{"$f":"BTK6+1","v":2031},{"$f":"BTL6+1","v":2032},{"$f":"BTM6+1","v":2033},{"$f":"BTN6+1","v":2034},{"$f":"BTA6&\"-\"&BTE6","v":"2020-2024"},{"$f":"BTF6&\"-\"&BTJ6","v":"2025-2029"},{"$f":"BTK6&\"-\"&BTO6","v":"2030-2034"},{"$f":"BTA6&\"-\"&BTO6","v":"2020-2034"},"Capital","Cap. Replace (8)",{"$f":"'HOJA DE VERIFICACIÓN DE DATOS'!$E$6","v":2020},{"$f":"BTV6+1","v":2021},{"$f":"BTW6+1","v":2022},{"$f":"BTX6+1","v":2023},{"$f":"BTY6+1","v":2024},{"$f":"BTZ6+1","v":2025},{"$f":"BUA6+1","v":2026},{"$f":"BUB6+1","v":2027},{"$f":"BUC6+1","v":2028},{"$f":"BUD6+1","v":2029},{"$f":"BUE6+1","v":2030},{"$f":"BUF6+1","v":2031},{"$f":"BUG6+1","v":2032},{"$f":"BUH6+1","v":2033},{"$f":"BUI6+1","v":2034},{"$f":"BTV6&\"-\"&BTZ6","v":"2020-2024"},{"$f":"BUA6&\"-\"&BUE6","v":"2025-2029"},{"$f":"BUF6&\"-\"&BUJ6","v":"2030-2034"},{"$f":"BTV6&\"-\"&BUJ6","v":"2020-2034"},"Capital","Cap. Replace (8)",{"$f":"'HOJA DE VERIFICACIÓN DE DATOS'!$E$6","v":2020},{"$f":"BUQ6+1","v":2021},{"$f":"BUR6+1","v":2022},{"$f":"BUS6+1","v":2023},{"$f":"BUT6+1","v":2024},{"$f":"BUU6+1","v":2025},{"$f":"BUV6+1","v":2026},{"$f":"BUW6+1","v":2027},{"$f":"BUX6+1","v":2028},{"$f":"BUY6+1","v":2029},{"$f":"BUZ6+1","v":2030},{"$f":"BVA6+1","v":2031},{"$f":"BVB6+1","v":2032},{"$f":"BVC6+1","v":2033},{"$f":"BVD6+1","v":2034},{"$f":"BUQ6&\"-\"&BUU6","v":"2020-2024"},{"$f":"BUV6&\"-\"&BUZ6","v":"2025-2029"},{"$f":"BVA6&\"-\"&BVE6","v":"2030-2034"},{"$f":"BUQ6&\"-\"&BVE6","v":"2020-2034"},"Capital","Cap. Replace (8)",{"$f":"'HOJA DE VERIFICACIÓN DE DATOS'!$E$6","v":2020},{"$f":"BVL6+1","v":2021},{"$f":"BVM6+1","v":2022},{"$f":"BVN6+1","v":2023},{"$f":"BVO6+1","v":2024},{"$f":"BVP6+1","v":2025},{"$f":"BVQ6+1","v":2026},{"$f":"BVR6+1","v":2027},{"$f":"BVS6+1","v":2028},{"$f":"BVT6+1","v":2029},{"$f":"BVU6+1","v":2030},{"$f":"BVV6+1","v":2031},{"$f":"BVW6+1","v":2032},{"$f":"BVX6+1","v":2033},{"$f":"BVY6+1","v":2034},{"$f":"BVL6&\"-\"&BVP6","v":"2020-2024"},{"$f":"BVQ6&\"-\"&BVU6","v":"2025-2029"},{"$f":"BVV6&\"-\"&BVZ6","v":"2030-2034"},{"$f":"BVL6&\"-\"&BVZ6","v":"2020-2034"},"Capital","Cap. Replace (8)",{"$f":"'HOJA DE VERIFICACIÓN DE DATOS'!$E$6","v":2020},{"$f":"BWG6+1","v":2021},{"$f":"BWH6+1","v":2022},{"$f":"BWI6+1","v":2023},{"$f":"BWJ6+1","v":2024},{"$f":"BWK6+1","v":2025},{"$f":"BWL6+1","v":2026},{"$f":"BWM6+1","v":2027},{"$f":"BWN6+1","v":2028},{"$f":"BWO6+1","v":2029},{"$f":"BWP6+1","v":2030},{"$f":"BWQ6+1","v":2031},{"$f":"BWR6+1","v":2032},{"$f":"BWS6+1","v":2033},{"$f":"BWT6+1","v":2034},{"$f":"BWG6&\"-\"&BWK6","v":"2020-2024"},{"$f":"BWL6&\"-\"&BWP6","v":"2025-2029"},{"$f":"BWQ6&\"-\"&BWU6","v":"2030-2034"},{"$f":"BWG6&\"-\"&BWU6","v":"2020-2034"},"Capital","Cap. Replace (8)",{"$f":"'HOJA DE VERIFICACIÓN DE DATOS'!$E$6","v":2020},{"$f":"BXB6+1","v":2021},{"$f":"BXC6+1","v":2022},{"$f":"BXD6+1","v":2023},{"$f":"BXE6+1","v":2024},{"$f":"BXF6+1","v":2025},{"$f":"BXG6+1","v":2026},{"$f":"BXH6+1","v":2027},{"$f":"BXI6+1","v":2028},{"$f":"BXJ6+1","v":2029},{"$f":"BXK6+1","v":2030},{"$f":"BXL6+1","v":2031},{"$f":"BXM6+1","v":2032},{"$f":"BXN6+1","v":2033},{"$f":"BXO6+1","v":2034},{"$f":"BXB6&\"-\"&BXF6","v":"2020-2024"},{"$f":"BXG6&\"-\"&BXK6","v":"2025-2029"},{"$f":"BXL6&\"-\"&BXP6","v":"2030-2034"},{"$f":"BXB6&\"-\"&BXP6","v":"2020-2034"},"Capital","Cap. Replace (8)",{"$f":"'HOJA DE VERIFICACIÓN DE DATOS'!$E$6","v":2020},{"$f":"BXW6+1","v":2021},{"$f":"BXX6+1","v":2022},{"$f":"BXY6+1","v":2023},{"$f":"BXZ6+1","v":2024},{"$f":"BYA6+1","v":2025},{"$f":"BYB6+1","v":2026},{"$f":"BYC6+1","v":2027},{"$f":"BYD6+1","v":2028},{"$f":"BYE6+1","v":2029},{"$f":"BYF6+1","v":2030},{"$f":"BYG6+1","v":2031},{"$f":"BYH6+1","v":2032},{"$f":"BYI6+1","v":2033},{"$f":"BYJ6+1","v":2034},{"$f":"BXW6&\"-\"&BYA6","v":"2020-2024"},{"$f":"BYB6&\"-\"&BYF6","v":"2025-2029"},{"$f":"BYG6&\"-\"&BYK6","v":"2030-2034"},{"$f":"BXW6&\"-\"&BYK6","v":"2020-2034"},"Capital","Cap. Replace (8)",{"$f":"'HOJA DE VERIFICACIÓN DE DATOS'!$E$6","v":2020},{"$f":"BYR6+1","v":2021},{"$f":"BYS6+1","v":2022},{"$f":"BYT6+1","v":2023},{"$f":"BYU6+1","v":2024},{"$f":"BYV6+1","v":2025},{"$f":"BYW6+1","v":2026},{"$f":"BYX6+1","v":2027},{"$f":"BYY6+1","v":2028},{"$f":"BYZ6+1","v":2029},{"$f":"BZA6+1","v":2030},{"$f":"BZB6+1","v":2031},{"$f":"BZC6+1","v":2032},{"$f":"BZD6+1","v":2033},{"$f":"BZE6+1","v":2034},{"$f":"BYR6&\"-\"&BYV6","v":"2020-2024"},{"$f":"BYW6&\"-\"&BZA6","v":"2025-2029"},{"$f":"BZB6&\"-\"&BZF6","v":"2030-2034"},{"$f":"BYR6&\"-\"&BZF6","v":"2020-2034"},"Capital","Cap. Replace (8)",{"$f":"'HOJA DE VERIFICACIÓN DE DATOS'!$E$6","v":2020},{"$f":"BZM6+1","v":2021},{"$f":"BZN6+1","v":2022},{"$f":"BZO6+1","v":2023},{"$f":"BZP6+1","v":2024},{"$f":"BZQ6+1","v":2025},{"$f":"BZR6+1","v":2026},{"$f":"BZS6+1","v":2027},{"$f":"BZT6+1","v":2028},{"$f":"BZU6+1","v":2029},{"$f":"BZV6+1","v":2030},{"$f":"BZW6+1","v":2031},{"$f":"BZX6+1","v":2032},{"$f":"BZY6+1","v":2033},{"$f":"BZZ6+1","v":2034},{"$f":"BZM6&\"-\"&BZQ6","v":"2020-2024"},{"$f":"BZR6&\"-\"&BZV6","v":"2025-2029"},{"$f":"BZW6&\"-\"&CAA6","v":"2030-2034"},{"$f":"BZM6&\"-\"&CAA6","v":"2020-2034"},"Capital","Cap. Replace (8)",{"$f":"'HOJA DE VERIFICACIÓN DE DATOS'!$E$6","v":2020},{"$f":"CAH6+1","v":2021},{"$f":"CAI6+1","v":2022},{"$f":"CAJ6+1","v":2023},{"$f":"CAK6+1","v":2024},{"$f":"CAL6+1","v":2025},{"$f":"CAM6+1","v":2026},{"$f":"CAN6+1","v":2027},{"$f":"CAO6+1","v":2028},{"$f":"CAP6+1","v":2029},{"$f":"CAQ6+1","v":2030},{"$f":"CAR6+1","v":2031},{"$f":"CAS6+1","v":2032},{"$f":"CAT6+1","v":2033},{"$f":"CAU6+1","v":2034},{"$f":"CAH6&\"-\"&CAL6","v":"2020-2024"},{"$f":"CAM6&\"-\"&CAQ6","v":"2025-2029"},{"$f":"CAR6&\"-\"&CAV6","v":"2030-2034"},{"$f":"CAH6&\"-\"&CAV6","v":"2020-2034"},"Capital","Cap. Replace (8)",{"$f":"'HOJA DE VERIFICACIÓN DE DATOS'!$E$6","v":2020},{"$f":"CBC6+1","v":2021},{"$f":"CBD6+1","v":2022},{"$f":"CBE6+1","v":2023},{"$f":"CBF6+1","v":2024},{"$f":"CBG6+1","v":2025},{"$f":"CBH6+1","v":2026},{"$f":"CBI6+1","v":2027},{"$f":"CBJ6+1","v":2028},{"$f":"CBK6+1","v":2029},{"$f":"CBL6+1","v":2030},{"$f":"CBM6+1","v":2031},{"$f":"CBN6+1","v":2032},{"$f":"CBO6+1","v":2033},{"$f":"CBP6+1","v":2034},{"$f":"CBC6&\"-\"&CBG6","v":"2020-2024"},{"$f":"CBH6&\"-\"&CBL6","v":"2025-2029"},{"$f":"CBM6&\"-\"&CBQ6","v":"2030-2034"},{"$f":"CBC6&\"-\"&CBQ6","v":"2020-2034"},"Capital","Cap. Replace (8)",{"$f":"'HOJA DE VERIFICACIÓN DE DATOS'!$E$6","v":2020},{"$f":"CBX6+1","v":2021},{"$f":"CBY6+1","v":2022},{"$f":"CBZ6+1","v":2023},{"$f":"CCA6+1","v":2024},{"$f":"CCB6+1","v":2025},{"$f":"CCC6+1","v":2026},{"$f":"CCD6+1","v":2027},{"$f":"CCE6+1","v":2028},{"$f":"CCF6+1","v":2029},{"$f":"CCG6+1","v":2030},{"$f":"CCH6+1","v":2031},{"$f":"CCI6+1","v":2032},{"$f":"CCJ6+1","v":2033},{"$f":"CCK6+1","v":2034},{"$f":"CBX6&\"-\"&CCB6","v":"2020-2024"},{"$f":"CCC6&\"-\"&CCG6","v":"2025-2029"},{"$f":"CCH6&\"-\"&CCL6","v":"2030-2034"},{"$f":"CBX6&\"-\"&CCL6","v":"2020-2034"},"Capital","Cap. Replace (8)",{"$f":"'HOJA DE VERIFICACIÓN DE DATOS'!$E$6","v":2020},{"$f":"CCS6+1","v":2021},{"$f":"CCT6+1","v":2022},{"$f":"CCU6+1","v":2023},{"$f":"CCV6+1","v":2024},{"$f":"CCW6+1","v":2025},{"$f":"CCX6+1","v":2026},{"$f":"CCY6+1","v":2027},{"$f":"CCZ6+1","v":2028},{"$f":"CDA6+1","v":2029},{"$f":"CDB6+1","v":2030},{"$f":"CDC6+1","v":2031},{"$f":"CDD6+1","v":2032},{"$f":"CDE6+1","v":2033},{"$f":"CDF6+1","v":2034},{"$f":"CCS6&\"-\"&CCW6","v":"2020-2024"},{"$f":"CCX6&\"-\"&CDB6","v":"2025-2029"},{"$f":"CDC6&\"-\"&CDG6","v":"2030-2034"},{"$f":"CCS6&\"-\"&CDG6","v":"2020-2034"},"Capital","Cap. Replace (8)",{"$f":"'HOJA DE VERIFICACIÓN DE DATOS'!$E$6","v":2020},{"$f":"CDN6+1","v":2021},{"$f":"CDO6+1","v":2022},{"$f":"CDP6+1","v":2023},{"$f":"CDQ6+1","v":2024},{"$f":"CDR6+1","v":2025},{"$f":"CDS6+1","v":2026},{"$f":"CDT6+1","v":2027},{"$f":"CDU6+1","v":2028},{"$f":"CDV6+1","v":2029},{"$f":"CDW6+1","v":2030},{"$f":"CDX6+1","v":2031},{"$f":"CDY6+1","v":2032},{"$f":"CDZ6+1","v":2033},{"$f":"CEA6+1","v":2034},{"$f":"CDN6&\"-\"&CDR6","v":"2020-2024"},{"$f":"CDS6&\"-\"&CDW6","v":"2025-2029"},{"$f":"CDX6&\"-\"&CEB6","v":"2030-2034"},{"$f":"CDN6&\"-\"&CEB6","v":"2020-2034"},"Capital","Cap. Replace (8)",{"$f":"'HOJA DE VERIFICACIÓN DE DATOS'!$E$6","v":2020},{"$f":"CEI6+1","v":2021},{"$f":"CEJ6+1","v":2022},{"$f":"CEK6+1","v":2023},{"$f":"CEL6+1","v":2024},{"$f":"CEM6+1","v":2025},{"$f":"CEN6+1","v":2026},{"$f":"CEO6+1","v":2027},{"$f":"CEP6+1","v":2028},{"$f":"CEQ6+1","v":2029},{"$f":"CER6+1","v":2030},{"$f":"CES6+1","v":2031},{"$f":"CET6+1","v":2032},{"$f":"CEU6+1","v":2033},{"$f":"CEV6+1","v":2034},{"$f":"CEI6&\"-\"&CEM6","v":"2020-2024"},{"$f":"CEN6&\"-\"&CER6","v":"2025-2029"},{"$f":"CES6&\"-\"&CEW6","v":"2030-2034"},{"$f":"CEI6&\"-\"&CEW6","v":"2020-2034"},"Capital","Cap. Replace (8)",{"$f":"'HOJA DE VERIFICACIÓN DE DATOS'!$E$6","v":2020},{"$f":"CFD6+1","v":2021},{"$f":"CFE6+1","v":2022},{"$f":"CFF6+1","v":2023},{"$f":"CFG6+1","v":2024},{"$f":"CFH6+1","v":2025},{"$f":"CFI6+1","v":2026},{"$f":"CFJ6+1","v":2027},{"$f":"CFK6+1","v":2028},{"$f":"CFL6+1","v":2029},{"$f":"CFM6+1","v":2030},{"$f":"CFN6+1","v":2031},{"$f":"CFO6+1","v":2032},{"$f":"CFP6+1","v":2033},{"$f":"CFQ6+1","v":2034},{"$f":"CFD6&\"-\"&CFH6","v":"2020-2024"},{"$f":"CFI6&\"-\"&CFM6","v":"2025-2029"},{"$f":"CFN6&\"-\"&CFR6","v":"2030-2034"},{"$f":"CFD6&\"-\"&CFR6","v":"2020-2034"},"Capital","Cap. Replace (8)",{"$f":"'HOJA DE VERIFICACIÓN DE DATOS'!$E$6","v":2020},{"$f":"CFY6+1","v":2021},{"$f":"CFZ6+1","v":2022},{"$f":"CGA6+1","v":2023},{"$f":"CGB6+1","v":2024},{"$f":"CGC6+1","v":2025},{"$f":"CGD6+1","v":2026},{"$f":"CGE6+1","v":2027},{"$f":"CGF6+1","v":2028},{"$f":"CGG6+1","v":2029},{"$f":"CGH6+1","v":2030},{"$f":"CGI6+1","v":2031},{"$f":"CGJ6+1","v":2032},{"$f":"CGK6+1","v":2033},{"$f":"CGL6+1","v":2034},{"$f":"CFY6&\"-\"&CGC6","v":"2020-2024"},{"$f":"CGD6&\"-\"&CGH6","v":"2025-2029"},{"$f":"CGI6&\"-\"&CGM6","v":"2030-2034"},{"$f":"CFY6&\"-\"&CGM6","v":"2020-2034"},"Capital","Cap. Replace (8)",{"$f":"'HOJA DE VERIFICACIÓN DE DATOS'!$E$6","v":2020},{"$f":"CGT6+1","v":2021},{"$f":"CGU6+1","v":2022},{"$f":"CGV6+1","v":2023},{"$f":"CGW6+1","v":2024},{"$f":"CGX6+1","v":2025},{"$f":"CGY6+1","v":2026},{"$f":"CGZ6+1","v":2027},{"$f":"CHA6+1","v":2028},{"$f":"CHB6+1","v":2029},{"$f":"CHC6+1","v":2030},{"$f":"CHD6+1","v":2031},{"$f":"CHE6+1","v":2032},{"$f":"CHF6+1","v":2033},{"$f":"CHG6+1","v":2034},{"$f":"CGT6&\"-\"&CGX6","v":"2020-2024"},{"$f":"CGY6&\"-\"&CHC6","v":"2025-2029"},{"$f":"CHD6&\"-\"&CHH6","v":"2030-2034"},{"$f":"CGT6&\"-\"&CHH6","v":"2020-2034"},"Capital","Cap. Replace (8)",{"$f":"'HOJA DE VERIFICACIÓN DE DATOS'!$E$6","v":2020},{"$f":"CHO6+1","v":2021},{"$f":"CHP6+1","v":2022},{"$f":"CHQ6+1","v":2023},{"$f":"CHR6+1","v":2024},{"$f":"CHS6+1","v":2025},{"$f":"CHT6+1","v":2026},{"$f":"CHU6+1","v":2027},{"$f":"CHV6+1","v":2028},{"$f":"CHW6+1","v":2029},{"$f":"CHX6+1","v":2030},{"$f":"CHY6+1","v":2031},{"$f":"CHZ6+1","v":2032},{"$f":"CIA6+1","v":2033},{"$f":"CIB6+1","v":2034},{"$f":"CHO6&\"-\"&CHS6","v":"2020-2024"},{"$f":"CHT6&\"-\"&CHX6","v":"2025-2029"},{"$f":"CHY6&\"-\"&CIC6","v":"2030-2034"},{"$f":"CHO6&\"-\"&CIC6","v":"2020-2034"},"Capital",null,{"$f":"'HOJA DE VERIFICACIÓN DE DATOS'!$E$6","v":2020},{"$f":"CIJ6+1","v":2021},{"$f":"CIK6+1","v":2022},{"$f":"CIL6+1","v":2023},{"$f":"CIM6+1","v":2024},{"$f":"CIN6+1","v":2025},{"$f":"CIO6+1","v":2026},{"$f":"CIP6+1","v":2027},{"$f":"CIQ6+1","v":2028},{"$f":"CIR6+1","v":2029},{"$f":"CIS6+1","v":2030},{"$f":"CIT6+1","v":2031},{"$f":"CIU6+1","v":2032},{"$f":"CIV6+1","v":2033},{"$f":"CIW6+1","v":2034},{"$f":"CIJ6&\"-\"&CIN6","v":"2020-2024"},{"$f":"CIO6&\"-\"&CIS6","v":"2025-2029"},{"$f":"CIT6&\"-\"&CIX6","v":"2030-2034"},{"$f":"CIJ6&\"-\"&CIX6","v":"2020-2034"},"Capital",null,{"$f":"'HOJA DE VERIFICACIÓN DE DATOS'!$E$6","v":2020},{"$f":"CJE6+1","v":2021},{"$f":"CJF6+1","v":2022},{"$f":"CJG6+1","v":2023},{"$f":"CJH6+1","v":2024},{"$f":"CJI6+1","v":2025},{"$f":"CJJ6+1","v":2026},{"$f":"CJK6+1","v":2027},{"$f":"CJL6+1","v":2028},{"$f":"CJM6+1","v":2029},{"$f":"CJN6+1","v":2030},{"$f":"CJO6+1","v":2031},{"$f":"CJP6+1","v":2032},{"$f":"CJQ6+1","v":2033},{"$f":"CJR6+1","v":2034},{"$f":"CJE6&\"-\"&CJI6","v":"2020-2024"},{"$f":"CJJ6&\"-\"&CJN6","v":"2025-2029"},{"$f":"CJO6&\"-\"&CJS6","v":"2030-2034"},{"$f":"CJE6&\"-\"&CJS6","v":"2020-2034"},"Capital",null,{"$f":"'HOJA DE VERIFICACIÓN DE DATOS'!$E$6","v":2020},{"$f":"CJZ6+1","v":2021},{"$f":"CKA6+1","v":2022},{"$f":"CKB6+1","v":2023},{"$f":"CKC6+1","v":2024},{"$f":"CKD6+1","v":2025},{"$f":"CKE6+1","v":2026},{"$f":"CKF6+1","v":2027},{"$f":"CKG6+1","v":2028},{"$f":"CKH6+1","v":2029},{"$f":"CKI6+1","v":2030},{"$f":"CKJ6+1","v":2031},{"$f":"CKK6+1","v":2032},{"$f":"CKL6+1","v":2033},{"$f":"CKM6+1","v":2034},{"$f":"CJZ6&\"-\"&CKD6","v":"2020-2024"},{"$f":"CKE6&\"-\"&CKI6","v":"2025-2029"},{"$f":"CKJ6&\"-\"&CKN6","v":"2030-2034"},{"$f":"CJZ6&\"-\"&CKN6","v":"2020-2034"},"Capital",null,{"$f":"'HOJA DE VERIFICACIÓN DE DATOS'!$E$6","v":2020},{"$f":"CKU6+1","v":2021},{"$f":"CKV6+1","v":2022},{"$f":"CKW6+1","v":2023},{"$f":"CKX6+1","v":2024},{"$f":"CKY6+1","v":2025},{"$f":"CKZ6+1","v":2026},{"$f":"CLA6+1","v":2027},{"$f":"CLB6+1","v":2028},{"$f":"CLC6+1","v":2029},{"$f":"CLD6+1","v":2030},{"$f":"CLE6+1","v":2031},{"$f":"CLF6+1","v":2032},{"$f":"CLG6+1","v":2033},{"$f":"CLH6+1","v":2034},{"$f":"CKU6&\"-\"&CKY6","v":"2020-2024"},{"$f":"CKZ6&\"-\"&CLD6","v":"2025-2029"},{"$f":"CLE6&\"-\"&CLI6","v":"2030-2034"},{"$f":"CKU6&\"-\"&CLI6","v":"2020-2034"},"Capital",null,{"$f":"'HOJA DE VERIFICACIÓN DE DATOS'!$E$6","v":2020},{"$f":"CLP6+1","v":2021},{"$f":"CLQ6+1","v":2022},{"$f":"CLR6+1","v":2023},{"$f":"CLS6+1","v":2024},{"$f":"CLT6+1","v":2025},{"$f":"CLU6+1","v":2026},{"$f":"CLV6+1","v":2027},{"$f":"CLW6+1","v":2028},{"$f":"CLX6+1","v":2029},{"$f":"CLY6+1","v":2030},{"$f":"CLZ6+1","v":2031},{"$f":"CMA6+1","v":2032},{"$f":"CMB6+1","v":2033},{"$f":"CMC6+1","v":2034},{"$f":"CLP6&\"-\"&CLT6","v":"2020-2024"},{"$f":"CLU6&\"-\"&CLY6","v":"2025-2029"},{"$f":"CLZ6&\"-\"&CMD6","v":"2030-2034"},{"$f":"CLP6&\"-\"&CMD6","v":"2020-2034"},"Capital",null,{"$f":"'HOJA DE VERIFICACIÓN DE DATOS'!$E$6","v":2020},{"$f":"CMK6+1","v":2021},{"$f":"CML6+1","v":2022},{"$f":"CMM6+1","v":2023},{"$f":"CMN6+1","v":2024},{"$f":"CMO6+1","v":2025},{"$f":"CMP6+1","v":2026},{"$f":"CMQ6+1","v":2027},{"$f":"CMR6+1","v":2028},{"$f":"CMS6+1","v":2029},{"$f":"CMT6+1","v":2030},{"$f":"CMU6+1","v":2031},{"$f":"CMV6+1","v":2032},{"$f":"CMW6+1","v":2033},{"$f":"CMX6+1","v":2034},{"$f":"CMK6&\"-\"&CMO6","v":"2020-2024"},{"$f":"CMP6&\"-\"&CMT6","v":"2025-2029"},{"$f":"CMU6&\"-\"&CMY6","v":"2030-2034"},{"$f":"CMK6&\"-\"&CMY6","v":"2020-2034"},"Capital",null,{"$f":"'HOJA DE VERIFICACIÓN DE DATOS'!$E$6","v":2020},{"$f":"CNF6+1","v":2021},{"$f":"CNG6+1","v":2022},{"$f":"CNH6+1","v":2023},{"$f":"CNI6+1","v":2024},{"$f":"CNJ6+1","v":2025},{"$f":"CNK6+1","v":2026},{"$f":"CNL6+1","v":2027},{"$f":"CNM6+1","v":2028},{"$f":"CNN6+1","v":2029},{"$f":"CNO6+1","v":2030},{"$f":"CNP6+1","v":2031},{"$f":"CNQ6+1","v":2032},{"$f":"CNR6+1","v":2033},{"$f":"CNS6+1","v":2034},{"$f":"CNF6&\"-\"&CNJ6","v":"2020-2024"},{"$f":"CNK6&\"-\"&CNO6","v":"2025-2029"},{"$f":"CNP6&\"-\"&CNT6","v":"2030-2034"},{"$f":"CNF6&\"-\"&CNT6","v":"2020-2034"},"Capital",null,{"$f":"'HOJA DE VERIFICACIÓN DE DATOS'!$E$6","v":2020},{"$f":"COA6+1","v":2021},{"$f":"COB6+1","v":2022},{"$f":"COC6+1","v":2023},{"$f":"COD6+1","v":2024},{"$f":"COE6+1","v":2025},{"$f":"COF6+1","v":2026},{"$f":"COG6+1","v":2027},{"$f":"COH6+1","v":2028},{"$f":"COI6+1","v":2029},{"$f":"COJ6+1","v":2030},{"$f":"COK6+1","v":2031},{"$f":"COL6+1","v":2032},{"$f":"COM6+1","v":2033},{"$f":"CON6+1","v":2034},{"$f":"COA6&\"-\"&COE6","v":"2020-2024"},{"$f":"COF6&\"-\"&COJ6","v":"2025-2029"},{"$f":"COK6&\"-\"&COO6","v":"2030-2034"},{"$f":"COA6&\"-\"&COO6","v":"2020-2034"},"Capital",null,{"$f":"'HOJA DE VERIFICACIÓN DE DATOS'!$E$6","v":2020},{"$f":"COV6+1","v":2021},{"$f":"COW6+1","v":2022},{"$f":"COX6+1","v":2023},{"$f":"COY6+1","v":2024},{"$f":"COZ6+1","v":2025},{"$f":"CPA6+1","v":2026},{"$f":"CPB6+1","v":2027},{"$f":"CPC6+1","v":2028},{"$f":"CPD6+1","v":2029},{"$f":"CPE6+1","v":2030},{"$f":"CPF6+1","v":2031},{"$f":"CPG6+1","v":2032},{"$f":"CPH6+1","v":2033},{"$f":"CPI6+1","v":2034},{"$f":"COV6&\"-\"&COZ6","v":"2020-2024"},{"$f":"CPA6&\"-\"&CPE6","v":"2025-2029"},{"$f":"CPF6&\"-\"&CPJ6","v":"2030-2034"},{"$f":"COV6&\"-\"&CPJ6","v":"2020-2034"},"Capital",null,{"$f":"'HOJA DE VERIFICACIÓN DE DATOS'!$E$6","v":2020},{"$f":"CPQ6+1","v":2021},{"$f":"CPR6+1","v":2022},{"$f":"CPS6+1","v":2023},{"$f":"CPT6+1","v":2024},{"$f":"CPU6+1","v":2025},{"$f":"CPV6+1","v":2026},{"$f":"CPW6+1","v":2027},{"$f":"CPX6+1","v":2028},{"$f":"CPY6+1","v":2029},{"$f":"CPZ6+1","v":2030},{"$f":"CQA6+1","v":2031},{"$f":"CQB6+1","v":2032},{"$f":"CQC6+1","v":2033},{"$f":"CQD6+1","v":2034},{"$f":"CPQ6&\"-\"&CPU6","v":"2020-2024"},{"$f":"CPV6&\"-\"&CPZ6","v":"2025-2029"},{"$f":"CQA6&\"-\"&CQE6","v":"2030-2034"},{"$f":"CPQ6&\"-\"&CQE6","v":"2020-2034"},"Capital",null,{"$f":"'HOJA DE VERIFICACIÓN DE DATOS'!$E$6","v":2020},{"$f":"CQL6+1","v":2021},{"$f":"CQM6+1","v":2022},{"$f":"CQN6+1","v":2023},{"$f":"CQO6+1","v":2024},{"$f":"CQP6+1","v":2025},{"$f":"CQQ6+1","v":2026},{"$f":"CQR6+1","v":2027},{"$f":"CQS6+1","v":2028},{"$f":"CQT6+1","v":2029},{"$f":"CQU6+1","v":2030},{"$f":"CQV6+1","v":2031},{"$f":"CQW6+1","v":2032},{"$f":"CQX6+1","v":2033},{"$f":"CQY6+1","v":2034},{"$f":"CQL6&\"-\"&CQP6","v":"2020-2024"},{"$f":"CQQ6&\"-\"&CQU6","v":"2025-2029"},{"$f":"CQV6&\"-\"&CQZ6","v":"2030-2034"},{"$f":"CQL6&\"-\"&CQZ6","v":"2020-2034"},"Capital",null,{"$f":"'HOJA DE VERIFICACIÓN DE DATOS'!$E$6","v":2020},{"$f":"CRG6+1","v":2021},{"$f":"CRH6+1","v":2022},{"$f":"CRI6+1","v":2023},{"$f":"CRJ6+1","v":2024},{"$f":"CRK6+1","v":2025},{"$f":"CRL6+1","v":2026},{"$f":"CRM6+1","v":2027},{"$f":"CRN6+1","v":2028},{"$f":"CRO6+1","v":2029},{"$f":"CRP6+1","v":2030},{"$f":"CRQ6+1","v":2031},{"$f":"CRR6+1","v":2032},{"$f":"CRS6+1","v":2033},{"$f":"CRT6+1","v":2034},{"$f":"CRG6&\"-\"&CRK6","v":"2020-2024"},{"$f":"CRL6&\"-\"&CRP6","v":"2025-2029"},{"$f":"CRQ6&\"-\"&CRU6","v":"2030-2034"},{"$f":"CRG6&\"-\"&CRU6","v":"2020-2034"},"Capital",null,{"$f":"'HOJA DE VERIFICACIÓN DE DATOS'!$E$6","v":2020},{"$f":"CSB6+1","v":2021},{"$f":"CSC6+1","v":2022},{"$f":"CSD6+1","v":2023},{"$f":"CSE6+1","v":2024},{"$f":"CSF6+1","v":2025},{"$f":"CSG6+1","v":2026},{"$f":"CSH6+1","v":2027},{"$f":"CSI6+1","v":2028},{"$f":"CSJ6+1","v":2029},{"$f":"CSK6+1","v":2030},{"$f":"CSL6+1","v":2031},{"$f":"CSM6+1","v":2032},{"$f":"CSN6+1","v":2033},{"$f":"CSO6+1","v":2034},{"$f":"CSB6&\"-\"&CSF6","v":"2020-2024"},{"$f":"CSG6&\"-\"&CSK6","v":"2025-2029"},{"$f":"CSL6&\"-\"&CSP6","v":"2030-2034"},{"$f":"CSB6&\"-\"&CSP6","v":"2020-2034"},"Capital",null,{"$f":"'HOJA DE VERIFICACIÓN DE DATOS'!$E$6","v":2020},{"$f":"CSW6+1","v":2021},{"$f":"CSX6+1","v":2022},{"$f":"CSY6+1","v":2023},{"$f":"CSZ6+1","v":2024},{"$f":"CTA6+1","v":2025},{"$f":"CTB6+1","v":2026},{"$f":"CTC6+1","v":2027},{"$f":"CTD6+1","v":2028},{"$f":"CTE6+1","v":2029},{"$f":"CTF6+1","v":2030},{"$f":"CTG6+1","v":2031},{"$f":"CTH6+1","v":2032},{"$f":"CTI6+1","v":2033},{"$f":"CTJ6+1","v":2034},{"$f":"CSW6&\"-\"&CTA6","v":"2020-2024"},{"$f":"CTB6&\"-\"&CTF6","v":"2025-2029"},{"$f":"CTG6&\"-\"&CTK6","v":"2030-2034"},{"$f":"CSW6&\"-\"&CTK6","v":"2020-2034"},"Capital",null,{"$f":"'HOJA DE VERIFICACIÓN DE DATOS'!$E$6","v":2020},{"$f":"CTR6+1","v":2021},{"$f":"CTS6+1","v":2022},{"$f":"CTT6+1","v":2023},{"$f":"CTU6+1","v":2024},{"$f":"CTV6+1","v":2025},{"$f":"CTW6+1","v":2026},{"$f":"CTX6+1","v":2027},{"$f":"CTY6+1","v":2028},{"$f":"CTZ6+1","v":2029},{"$f":"CUA6+1","v":2030},{"$f":"CUB6+1","v":2031},{"$f":"CUC6+1","v":2032},{"$f":"CUD6+1","v":2033},{"$f":"CUE6+1","v":2034},{"$f":"CTR6&\"-\"&CTV6","v":"2020-2024"},{"$f":"CTW6&\"-\"&CUA6","v":"2025-2029"},{"$f":"CUB6&\"-\"&CUF6","v":"2030-2034"},{"$f":"CTR6&\"-\"&CUF6","v":"2020-2034"},"Capital",null,{"$f":"'HOJA DE VERIFICACIÓN DE DATOS'!$E$6","v":2020},{"$f":"CUM6+1","v":2021},{"$f":"CUN6+1","v":2022},{"$f":"CUO6+1","v":2023},{"$f":"CUP6+1","v":2024},{"$f":"CUQ6+1","v":2025},{"$f":"CUR6+1","v":2026},{"$f":"CUS6+1","v":2027},{"$f":"CUT6+1","v":2028},{"$f":"CUU6+1","v":2029},{"$f":"CUV6+1","v":2030},{"$f":"CUW6+1","v":2031},{"$f":"CUX6+1","v":2032},{"$f":"CUY6+1","v":2033},{"$f":"CUZ6+1","v":2034},{"$f":"CUM6&\"-\"&CUQ6","v":"2020-2024"},{"$f":"CUR6&\"-\"&CUV6","v":"2025-2029"},{"$f":"CUW6&\"-\"&CVA6","v":"2030-2034"},{"$f":"CUM6&\"-\"&CVA6","v":"2020-2034"},"Capital",null,{"$f":"'HOJA DE VERIFICACIÓN DE DATOS'!$E$6","v":2020},{"$f":"CVH6+1","v":2021},{"$f":"CVI6+1","v":2022},{"$f":"CVJ6+1","v":2023},{"$f":"CVK6+1","v":2024},{"$f":"CVL6+1","v":2025},{"$f":"CVM6+1","v":2026},{"$f":"CVN6+1","v":2027},{"$f":"CVO6+1","v":2028},{"$f":"CVP6+1","v":2029},{"$f":"CVQ6+1","v":2030},{"$f":"CVR6+1","v":2031},{"$f":"CVS6+1","v":2032},{"$f":"CVT6+1","v":2033},{"$f":"CVU6+1","v":2034},{"$f":"CVH6&\"-\"&CVL6","v":"2020-2024"},{"$f":"CVM6&\"-\"&CVQ6","v":"2025-2029"},{"$f":"CVR6&\"-\"&CVV6","v":"2030-2034"},{"$f":"CVH6&\"-\"&CVV6","v":"2020-2034"},"Capital",null,{"$f":"'HOJA DE VERIFICACIÓN DE DATOS'!$E$6","v":2020},{"$f":"CWC6+1","v":2021},{"$f":"CWD6+1","v":2022},{"$f":"CWE6+1","v":2023},{"$f":"CWF6+1","v":2024},{"$f":"CWG6+1","v":2025},{"$f":"CWH6+1","v":2026},{"$f":"CWI6+1","v":2027},{"$f":"CWJ6+1","v":2028},{"$f":"CWK6+1","v":2029},{"$f":"CWL6+1","v":2030},{"$f":"CWM6+1","v":2031},{"$f":"CWN6+1","v":2032},{"$f":"CWO6+1","v":2033},{"$f":"CWP6+1","v":2034},{"$f":"CWC6&\"-\"&CWG6","v":"2020-2024"},{"$f":"CWH6&\"-\"&CWL6","v":"2025-2029"},{"$f":"CWM6&\"-\"&CWQ6","v":"2030-2034"},{"$f":"CWC6&\"-\"&CWQ6","v":"2020-2034"},"Capital",null,{"$f":"'HOJA DE VERIFICACIÓN DE DATOS'!$E$6","v":2020},{"$f":"CWX6+1","v":2021},{"$f":"CWY6+1","v":2022},{"$f":"CWZ6+1","v":2023},{"$f":"CXA6+1","v":2024},{"$f":"CXB6+1","v":2025},{"$f":"CXC6+1","v":2026},{"$f":"CXD6+1","v":2027},{"$f":"CXE6+1","v":2028},{"$f":"CXF6+1","v":2029},{"$f":"CXG6+1","v":2030},{"$f":"CXH6+1","v":2031},{"$f":"CXI6+1","v":2032},{"$f":"CXJ6+1","v":2033},{"$f":"CXK6+1","v":2034},{"$f":"CWX6&\"-\"&CXB6","v":"2020-2024"},{"$f":"CXC6&\"-\"&CXG6","v":"2025-2029"},{"$f":"CXH6&\"-\"&CXL6","v":"2030-2034"},{"$f":"CWX6&\"-\"&CXL6","v":"2020-2034"},"Capital",null,{"$f":"'HOJA DE VERIFICACIÓN DE DATOS'!$E$6","v":2020},{"$f":"CXS6+1","v":2021},{"$f":"CXT6+1","v":2022},{"$f":"CXU6+1","v":2023},{"$f":"CXV6+1","v":2024},{"$f":"CXW6+1","v":2025},{"$f":"CXX6+1","v":2026},{"$f":"CXY6+1","v":2027},{"$f":"CXZ6+1","v":2028},{"$f":"CYA6+1","v":2029},{"$f":"CYB6+1","v":2030},{"$f":"CYC6+1","v":2031},{"$f":"CYD6+1","v":2032},{"$f":"CYE6+1","v":2033},{"$f":"CYF6+1","v":2034},{"$f":"CXS6&\"-\"&CXW6","v":"2020-2024"},{"$f":"CXX6&\"-\"&CYB6","v":"2025-2029"},{"$f":"CYC6&\"-\"&CYG6","v":"2030-2034"},{"$f":"CXS6&\"-\"&CYG6","v":"2020-2034"},"Capital",null,{"$f":"'HOJA DE VERIFICACIÓN DE DATOS'!$E$6","v":2020},{"$f":"CYN6+1","v":2021},{"$f":"CYO6+1","v":2022},{"$f":"CYP6+1","v":2023},{"$f":"CYQ6+1","v":2024},{"$f":"CYR6+1","v":2025},{"$f":"CYS6+1","v":2026},{"$f":"CYT6+1","v":2027},{"$f":"CYU6+1","v":2028},{"$f":"CYV6+1","v":2029},{"$f":"CYW6+1","v":2030},{"$f":"CYX6+1","v":2031},{"$f":"CYY6+1","v":2032},{"$f":"CYZ6+1","v":2033},{"$f":"CZA6+1","v":2034},{"$f":"CYN6&\"-\"&CYR6","v":"2020-2024"},{"$f":"CYS6&\"-\"&CYW6","v":"2025-2029"},{"$f":"CYX6&\"-\"&CZB6","v":"2030-2034"},{"$f":"CYN6&\"-\"&CZB6","v":"2020-2034"},"Capital",null,{"$f":"'HOJA DE VERIFICACIÓN DE DATOS'!$E$6","v":2020},{"$f":"CZI6+1","v":2021},{"$f":"CZJ6+1","v":2022},{"$f":"CZK6+1","v":2023},{"$f":"CZL6+1","v":2024},{"$f":"CZM6+1","v":2025},{"$f":"CZN6+1","v":2026},{"$f":"CZO6+1","v":2027},{"$f":"CZP6+1","v":2028},{"$f":"CZQ6+1","v":2029},{"$f":"CZR6+1","v":2030},{"$f":"CZS6+1","v":2031},{"$f":"CZT6+1","v":2032},{"$f":"CZU6+1","v":2033},{"$f":"CZV6+1","v":2034},{"$f":"CZI6&\"-\"&CZM6","v":"2020-2024"},{"$f":"CZN6&\"-\"&CZR6","v":"2025-2029"},{"$f":"CZS6&\"-\"&CZW6","v":"2030-2034"},{"$f":"CZI6&\"-\"&CZW6","v":"2020-2034"},"Capital",null,{"$f":"'HOJA DE VERIFICACIÓN DE DATOS'!$E$6","v":2020},{"$f":"DAD6+1","v":2021},{"$f":"DAE6+1","v":2022},{"$f":"DAF6+1","v":2023},{"$f":"DAG6+1","v":2024},{"$f":"DAH6+1","v":2025},{"$f":"DAI6+1","v":2026},{"$f":"DAJ6+1","v":2027},{"$f":"DAK6+1","v":2028},{"$f":"DAL6+1","v":2029},{"$f":"DAM6+1","v":2030},{"$f":"DAN6+1","v":2031},{"$f":"DAO6+1","v":2032},{"$f":"DAP6+1","v":2033},{"$f":"DAQ6+1","v":2034},{"$f":"DAD6&\"-\"&DAH6","v":"2020-2024"},{"$f":"DAI6&\"-\"&DAM6","v":"2025-2029"},{"$f":"DAN6&\"-\"&DAR6","v":"2030-2034"},{"$f":"DAD6&\"-\"&DAR6","v":"2020-2034"},"Capital",null,{"$f":"'HOJA DE VERIFICACIÓN DE DATOS'!$E$6","v":2020},{"$f":"DAY6+1","v":2021},{"$f":"DAZ6+1","v":2022},{"$f":"DBA6+1","v":2023},{"$f":"DBB6+1","v":2024},{"$f":"DBC6+1","v":2025},{"$f":"DBD6+1","v":2026},{"$f":"DBE6+1","v":2027},{"$f":"DBF6+1","v":2028},{"$f":"DBG6+1","v":2029},{"$f":"DBH6+1","v":2030},{"$f":"DBI6+1","v":2031},{"$f":"DBJ6+1","v":2032},{"$f":"DBK6+1","v":2033},{"$f":"DBL6+1","v":2034},{"$f":"DAY6&\"-\"&DBC6","v":"2020-2024"},{"$f":"DBD6&\"-\"&DBH6","v":"2025-2029"},{"$f":"DBI6&\"-\"&DBM6","v":"2030-2034"},{"$f":"DAY6&\"-\"&DBM6","v":"2020-2034"},"Capital",null,{"$f":"'HOJA DE VERIFICACIÓN DE DATOS'!$E$6","v":2020},{"$f":"DBT6+1","v":2021},{"$f":"DBU6+1","v":2022},{"$f":"DBV6+1","v":2023},{"$f":"DBW6+1","v":2024},{"$f":"DBX6+1","v":2025},{"$f":"DBY6+1","v":2026},{"$f":"DBZ6+1","v":2027},{"$f":"DCA6+1","v":2028},{"$f":"DCB6+1","v":2029},{"$f":"DCC6+1","v":2030},{"$f":"DCD6+1","v":2031},{"$f":"DCE6+1","v":2032},{"$f":"DCF6+1","v":2033},{"$f":"DCG6+1","v":2034},{"$f":"DBT6&\"-\"&DBX6","v":"2020-2024"},{"$f":"DBY6&\"-\"&DCC6","v":"2025-2029"},{"$f":"DCD6&\"-\"&DCH6","v":"2030-2034"},{"$f":"DBT6&\"-\"&DCH6","v":"2020-2034"},"Capital",null,{"$f":"'HOJA DE VERIFICACIÓN DE DATOS'!$E$6","v":2020},{"$f":"DCO6+1","v":2021},{"$f":"DCP6+1","v":2022},{"$f":"DCQ6+1","v":2023},{"$f":"DCR6+1","v":2024},{"$f":"DCS6+1","v":2025},{"$f":"DCT6+1","v":2026},{"$f":"DCU6+1","v":2027},{"$f":"DCV6+1","v":2028},{"$f":"DCW6+1","v":2029},{"$f":"DCX6+1","v":2030},{"$f":"DCY6+1","v":2031},{"$f":"DCZ6+1","v":2032},{"$f":"DDA6+1","v":2033},{"$f":"DDB6+1","v":2034},{"$f":"DCO6&\"-\"&DCS6","v":"2020-2024"},{"$f":"DCT6&\"-\"&DCX6","v":"2025-2029"},{"$f":"DCY6&\"-\"&DDC6","v":"2030-2034"},{"$f":"DCO6&\"-\"&DDC6","v":"2020-2034"},"Capital",null,{"$f":"'HOJA DE VERIFICACIÓN DE DATOS'!$E$6","v":2020},{"$f":"DDJ6+1","v":2021},{"$f":"DDK6+1","v":2022},{"$f":"DDL6+1","v":2023},{"$f":"DDM6+1","v":2024},{"$f":"DDN6+1","v":2025},{"$f":"DDO6+1","v":2026},{"$f":"DDP6+1","v":2027},{"$f":"DDQ6+1","v":2028},{"$f":"DDR6+1","v":2029},{"$f":"DDS6+1","v":2030},{"$f":"DDT6+1","v":2031},{"$f":"DDU6+1","v":2032},{"$f":"DDV6+1","v":2033},{"$f":"DDW6+1","v":2034},{"$f":"DDJ6&\"-\"&DDN6","v":"2020-2024"},{"$f":"DDO6&\"-\"&DDS6","v":"2025-2029"},{"$f":"DDT6&\"-\"&DDX6","v":"2030-2034"},{"$f":"DDJ6&\"-\"&DDX6","v":"2020-2034"},"Capital",null,{"$f":"'HOJA DE VERIFICACIÓN DE DATOS'!$E$6","v":2020},{"$f":"DEE6+1","v":2021},{"$f":"DEF6+1","v":2022},{"$f":"DEG6+1","v":2023},{"$f":"DEH6+1","v":2024},{"$f":"DEI6+1","v":2025},{"$f":"DEJ6+1","v":2026},{"$f":"DEK6+1","v":2027},{"$f":"DEL6+1","v":2028},{"$f":"DEM6+1","v":2029},{"$f":"DEN6+1","v":2030},{"$f":"DEO6+1","v":2031},{"$f":"DEP6+1","v":2032},{"$f":"DEQ6+1","v":2033},{"$f":"DER6+1","v":2034},{"$f":"DEE6&\"-\"&DEI6","v":"2020-2024"},{"$f":"DEJ6&\"-\"&DEN6","v":"2025-2029"},{"$f":"DEO6&\"-\"&DES6","v":"2030-2034"},{"$f":"DEE6&\"-\"&DES6","v":"2020-2034"},"Capital",null,{"$f":"'HOJA DE VERIFICACIÓN DE DATOS'!$E$6","v":2020},{"$f":"DEZ6+1","v":2021},{"$f":"DFA6+1","v":2022},{"$f":"DFB6+1","v":2023},{"$f":"DFC6+1","v":2024},{"$f":"DFD6+1","v":2025},{"$f":"DFE6+1","v":2026},{"$f":"DFF6+1","v":2027},{"$f":"DFG6+1","v":2028},{"$f":"DFH6+1","v":2029},{"$f":"DFI6+1","v":2030},{"$f":"DFJ6+1","v":2031},{"$f":"DFK6+1","v":2032},{"$f":"DFL6+1","v":2033},{"$f":"DFM6+1","v":2034},{"$f":"DEZ6&\"-\"&DFD6","v":"2020-2024"},{"$f":"DFE6&\"-\"&DFI6","v":"2025-2029"},{"$f":"DFJ6&\"-\"&DFN6","v":"2030-2034"},{"$f":"DEZ6&\"-\"&DFN6","v":"2020-2034"},"Capital",null,{"$f":"'HOJA DE VERIFICACIÓN DE DATOS'!$E$6","v":2020},{"$f":"DFU6+1","v":2021},{"$f":"DFV6+1","v":2022},{"$f":"DFW6+1","v":2023},{"$f":"DFX6+1","v":2024},{"$f":"DFY6+1","v":2025},{"$f":"DFZ6+1","v":2026},{"$f":"DGA6+1","v":2027},{"$f":"DGB6+1","v":2028},{"$f":"DGC6+1","v":2029},{"$f":"DGD6+1","v":2030},{"$f":"DGE6+1","v":2031},{"$f":"DGF6+1","v":2032},{"$f":"DGG6+1","v":2033},{"$f":"DGH6+1","v":2034},{"$f":"DFU6&\"-\"&DFY6","v":"2020-2024"},{"$f":"DFZ6&\"-\"&DGD6","v":"2025-2029"},{"$f":"DGE6&\"-\"&DGI6","v":"2030-2034"},{"$f":"DFU6&\"-\"&DGI6","v":"2020-2034"},"Capital",null,{"$f":"'HOJA DE VERIFICACIÓN DE DATOS'!$E$6","v":2020},{"$f":"DGP6+1","v":2021},{"$f":"DGQ6+1","v":2022},{"$f":"DGR6+1","v":2023},{"$f":"DGS6+1","v":2024},{"$f":"DGT6+1","v":2025},{"$f":"DGU6+1","v":2026},{"$f":"DGV6+1","v":2027},{"$f":"DGW6+1","v":2028},{"$f":"DGX6+1","v":2029},{"$f":"DGY6+1","v":2030},{"$f":"DGZ6+1","v":2031},{"$f":"DHA6+1","v":2032},{"$f":"DHB6+1","v":2033},{"$f":"DHC6+1","v":2034},{"$f":"DGP6&\"-\"&DGT6","v":"2020-2024"},{"$f":"DGU6&\"-\"&DGY6","v":"2025-2029"},{"$f":"DGZ6&\"-\"&DHD6","v":"2030-2034"},{"$f":"DGP6&\"-\"&DHD6","v":"2020-2034"},"Capital",null,{"$f":"'HOJA DE VERIFICACIÓN DE DATOS'!$E$6","v":2020},{"$f":"DHK6+1","v":2021},{"$f":"DHL6+1","v":2022},{"$f":"DHM6+1","v":2023},{"$f":"DHN6+1","v":2024},{"$f":"DHO6+1","v":2025},{"$f":"DHP6+1","v":2026},{"$f":"DHQ6+1","v":2027},{"$f":"DHR6+1","v":2028},{"$f":"DHS6+1","v":2029},{"$f":"DHT6+1","v":2030},{"$f":"DHU6+1","v":2031},{"$f":"DHV6+1","v":2032},{"$f":"DHW6+1","v":2033},{"$f":"DHX6+1","v":2034},{"$f":"DHK6&\"-\"&DHO6","v":"2020-2024"},{"$f":"DHP6&\"-\"&DHT6","v":"2025-2029"},{"$f":"DHU6&\"-\"&DHY6","v":"2030-2034"},{"$f":"DHK6&\"-\"&DHY6","v":"2020-2034"},"Capital",null,{"$f":"'HOJA DE VERIFICACIÓN DE DATOS'!$E$6","v":2020},{"$f":"DIF6+1","v":2021},{"$f":"DIG6+1","v":2022},{"$f":"DIH6+1","v":2023},{"$f":"DII6+1","v":2024},{"$f":"DIJ6+1","v":2025},{"$f":"DIK6+1","v":2026},{"$f":"DIL6+1","v":2027},{"$f":"DIM6+1","v":2028},{"$f":"DIN6+1","v":2029},{"$f":"DIO6+1","v":2030},{"$f":"DIP6+1","v":2031},{"$f":"DIQ6+1","v":2032},{"$f":"DIR6+1","v":2033},{"$f":"DIS6+1","v":2034},{"$f":"DIF6&\"-\"&DIJ6","v":"2020-2024"},{"$f":"DIK6&\"-\"&DIO6","v":"2025-2029"},{"$f":"DIP6&\"-\"&DIT6","v":"2030-2034"},{"$f":"DIF6&\"-\"&DIT6","v":"2020-2034"},"Capital",null,{"$f":"'HOJA DE VERIFICACIÓN DE DATOS'!$E$6","v":2020},{"$f":"DJA6+1","v":2021},{"$f":"DJB6+1","v":2022},{"$f":"DJC6+1","v":2023},{"$f":"DJD6+1","v":2024},{"$f":"DJE6+1","v":2025},{"$f":"DJF6+1","v":2026},{"$f":"DJG6+1","v":2027},{"$f":"DJH6+1","v":2028},{"$f":"DJI6+1","v":2029},{"$f":"DJJ6+1","v":2030},{"$f":"DJK6+1","v":2031},{"$f":"DJL6+1","v":2032},{"$f":"DJM6+1","v":2033},{"$f":"DJN6+1","v":2034},{"$f":"DJA6&\"-\"&DJE6","v":"2020-2024"},{"$f":"DJF6&\"-\"&DJJ6","v":"2025-2029"},{"$f":"DJK6&\"-\"&DJO6","v":"2030-2034"},{"$f":"DJA6&\"-\"&DJO6","v":"2020-2034"},"Capital",null,{"$f":"'HOJA DE VERIFICACIÓN DE DATOS'!$E$6","v":2020},{"$f":"DJV6+1","v":2021},{"$f":"DJW6+1","v":2022},{"$f":"DJX6+1","v":2023},{"$f":"DJY6+1","v":2024},{"$f":"DJZ6+1","v":2025},{"$f":"DKA6+1","v":2026},{"$f":"DKB6+1","v":2027},{"$f":"DKC6+1","v":2028},{"$f":"DKD6+1","v":2029},{"$f":"DKE6+1","v":2030},{"$f":"DKF6+1","v":2031},{"$f":"DKG6+1","v":2032},{"$f":"DKH6+1","v":2033},{"$f":"DKI6+1","v":2034},{"$f":"DJV6&\"-\"&DJZ6","v":"2020-2024"},{"$f":"DKA6&\"-\"&DKE6","v":"2025-2029"},{"$f":"DKF6&\"-\"&DKJ6","v":"2030-2034"},{"$f":"DJV6&\"-\"&DKJ6","v":"2020-2034"},"Capital",null,{"$f":"'HOJA DE VERIFICACIÓN DE DATOS'!$E$6","v":2020},{"$f":"DKQ6+1","v":2021},{"$f":"DKR6+1","v":2022},{"$f":"DKS6+1","v":2023},{"$f":"DKT6+1","v":2024},{"$f":"DKU6+1","v":2025},{"$f":"DKV6+1","v":2026},{"$f":"DKW6+1","v":2027},{"$f":"DKX6+1","v":2028},{"$f":"DKY6+1","v":2029},{"$f":"DKZ6+1","v":2030},{"$f":"DLA6+1","v":2031},{"$f":"DLB6+1","v":2032},{"$f":"DLC6+1","v":2033},{"$f":"DLD6+1","v":2034},{"$f":"DKQ6&\"-\"&DKU6","v":"2020-2024"},{"$f":"DKV6&\"-\"&DKZ6","v":"2025-2029"},{"$f":"DLA6&\"-\"&DLE6","v":"2030-2034"},{"$f":"DKQ6&\"-\"&DLE6","v":"2020-2034"},"Capital",null,{"$f":"'HOJA DE VERIFICACIÓN DE DATOS'!$E$6","v":2020},{"$f":"DLL6+1","v":2021},{"$f":"DLM6+1","v":2022},{"$f":"DLN6+1","v":2023},{"$f":"DLO6+1","v":2024},{"$f":"DLP6+1","v":2025},{"$f":"DLQ6+1","v":2026},{"$f":"DLR6+1","v":2027},{"$f":"DLS6+1","v":2028},{"$f":"DLT6+1","v":2029},{"$f":"DLU6+1","v":2030},{"$f":"DLV6+1","v":2031},{"$f":"DLW6+1","v":2032},{"$f":"DLX6+1","v":2033},{"$f":"DLY6+1","v":2034},{"$f":"DLL6&\"-\"&DLP6","v":"2020-2024"},{"$f":"DLQ6&\"-\"&DLU6","v":"2025-2029"},{"$f":"DLV6&\"-\"&DLZ6","v":"2030-2034"},{"$f":"DLL6&\"-\"&DLZ6","v":"2020-2034"},"Capital",null,{"$f":"'HOJA DE VERIFICACIÓN DE DATOS'!$E$6","v":2020},{"$f":"DMG6+1","v":2021},{"$f":"DMH6+1","v":2022},{"$f":"DMI6+1","v":2023},{"$f":"DMJ6+1","v":2024},{"$f":"DMK6+1","v":2025},{"$f":"DML6+1","v":2026},{"$f":"DMM6+1","v":2027},{"$f":"DMN6+1","v":2028},{"$f":"DMO6+1","v":2029},{"$f":"DMP6+1","v":2030},{"$f":"DMQ6+1","v":2031},{"$f":"DMR6+1","v":2032},{"$f":"DMS6+1","v":2033},{"$f":"DMT6+1","v":2034},{"$f":"DMG6&\"-\"&DMK6","v":"2020-2024"},{"$f":"DML6&\"-\"&DMP6","v":"2025-2029"},{"$f":"DMQ6&\"-\"&DMU6","v":"2030-2034"},{"$f":"DMG6&\"-\"&DMU6","v":"2020-2034"},"Capital",null,{"$f":"'HOJA DE VERIFICACIÓN DE DATOS'!$E$6","v":2020},{"$f":"DNB6+1","v":2021},{"$f":"DNC6+1","v":2022},{"$f":"DND6+1","v":2023},{"$f":"DNE6+1","v":2024},{"$f":"DNF6+1","v":2025},{"$f":"DNG6+1","v":2026},{"$f":"DNH6+1","v":2027},{"$f":"DNI6+1","v":2028},{"$f":"DNJ6+1","v":2029},{"$f":"DNK6+1","v":2030},{"$f":"DNL6+1","v":2031},{"$f":"DNM6+1","v":2032},{"$f":"DNN6+1","v":2033},{"$f":"DNO6+1","v":2034},{"$f":"DNB6&\"-\"&DNF6","v":"2020-2024"},{"$f":"DNG6&\"-\"&DNK6","v":"2025-2029"},{"$f":"DNL6&\"-\"&DNP6","v":"2030-2034"},{"$f":"DNB6&\"-\"&DNP6","v":"2020-2034"},{"$f":"DNQ6","v":"2020-2024"},{"$f":"DNR6","v":"2025-2029"},{"$f":"DNS6","v":"2030-2034"},{"$f":"DNT6","v":"2020-2034"},"Av. Annual",{"$f":"$DNU$6","v":"2020-2024"},{"$f":"$DNV$6","v":"2025-2029"},{"$f":"$DNW$6","v":"2030-2034"},{"$f":"$DNX$6","v":"2020-2034"},{"$f":"$DNY$6","v":"Av. Annual"},{"$f":"$DNU$6","v":"2020-2024"},{"$f":"$DNV$6","v":"2025-2029"},{"$f":"$DNW$6","v":"2030-2034"},{"$f":"$DNX$6","v":"2020-2034"},{"$f":"$DNY$6","v":"Av. Annual"},{"$f":"$DNU$6","v":"2020-2024"},{"$f":"$DNV$6","v":"2025-2029"},{"$f":"$DNW$6","v":"2030-2034"},{"$f":"$DNX$6","v":"2020-2034"},{"$f":"$DNY$6","v":"Av. Annual"},{"$f":"$DNU$6","v":"2020-2024"},{"$f":"$DNV$6","v":"2025-2029"},{"$f":"$DNW$6","v":"2030-2034"},{"$f":"$DNX$6","v":"2020-2034"},{"$f":"$DNY$6","v":"Av. Annual"},{"$f":"$DNU$6","v":"2020-2024"},{"$f":"$DNV$6","v":"2025-2029"},{"$f":"$DNW$6","v":"2030-2034"},{"$f":"$DNX$6","v":"2020-2034"},{"$f":"$DNY$6","v":"Av. Annual"},{"$f":"$DNU$6","v":"2020-2024"},{"$f":"$DNV$6","v":"2025-2029"},{"$f":"$DNW$6","v":"2030-2034"},{"$f":"$DNX$6","v":"2020-2034"},{"$f":"$DNY$6","v":"Av. Annual"},{"$f":"$DNU$6","v":"2020-2024"},{"$f":"$DNV$6","v":"2025-2029"},{"$f":"$DNW$6","v":"2030-2034"},{"$f":"$DNX$6","v":"2020-2034"},{"$f":"$DNY$6","v":"Av. Annual"},{"$f":"$DNU$6","v":"2020-2024"},{"$f":"$DNV$6","v":"2025-2029"},{"$f":"$DNW$6","v":"2030-2034"},{"$f":"$DNX$6","v":"2020-2034"},{"$f":"$DNY$6","v":"Av. Annual"},"2020-2024","2025-2029",{"$f":"$DNW$6","v":"2030-2034"},{"$f":"$DNX$6","v":"2020-2034"},{"$f":"$DNY$6","v":"Av. Annual"},"2020-2024","2025-2029","2030-2034","2020-2034","Av. Annual","2020-2024","2025-2029","2030-2034","2020-2034","Av. Annual","2020-2024","2025-2029","2030-2034","2020-2034","Av. Annual","2020-2024","2025-2029","2030-2034","2020-2034","Av. Annual","2020-2024","2025-2029","2030-2034","2020-2034","Av. Annual","2020-2024","2025-2029","2030-2034","2020-2034","Av. Annual","2020-2024","2025-2029","2030-2034","2020-2034","Av. Annual","2020-2024","2025-2029","2030-2034","2020-2034","Av. Annual","2020-2024","2025-2029","2030-2034","2020-2034","Av. Annual","2020-2024","2025-2029","2030-2034","2020-2034","Av. Annual","2020-2024","2025-2029","2030-2034","2020-2034","Av. Annual",{"$f":"$DNU$6","v":"2020-2024"},{"$f":"$DNV$6","v":"2025-2029"},{"$f":"$DNW$6","v":"2030-2034"},{"$f":"$DNX$6","v":"2020-2034"},{"$f":"$DNY$6","v":"Av. Annual"},"2020-2024","2025-2029","2030-2034","2020-2034","Av. Annual","2020-2024","2025-2029","2030-2034","2020-2034","Av. Annual","2020-2024","2025-2029","2030-2034","2020-2034","Av. Annual","2020-2024","2025-2029","2030-2034","2020-2034","Av. Annual","2020-2024","2025-2029","2030-2034","2020-2034","Av. Annual","2020-2024","2025-2029","2030-2034","2020-2034","Av. Annual","2020-2024","2025-2029","2030-2034","2020-2034","Av. Annual","2020-2024","2025-2029","2030-2034","2020-2034","Av. Annual","2020-2024","2025-2029","2030-2034","2020-2034","Av. Annual","2020-2024","2025-2029","2030-2034","2020-2034","Av. Annual","2020-2024","2025-2029","2030-2034","2020-2034","Av. Annual","2020-2024","2025-2029","2030-2034","2020-2034","Av. Annual",{"$f":"$DNU$6","v":"2020-2024"},{"$f":"$DNV$6","v":"2025-2029"},{"$f":"$DNW$6","v":"2030-2034"},{"$f":"$DNX$6","v":"2020-2034"},{"$f":"$DNY$6","v":"Av. Annual"},"2020-2024","2025-2029",{"$f":"$DNW$6","v":"2030-2034"},{"$f":"$DNX$6","v":"2020-2034"},{"$f":"$DNY$6","v":"Av. Annual"},{"$f":"$DNU$6","v":"2020-2024"},{"$f":"$DNV$6","v":"2025-2029"},{"$f":"$DNW$6","v":"2030-2034"},{"$f":"$DNX$6","v":"2020-2034"},{"$f":"$DNY$6","v":"Av. Annual"},"2020-2024","2025-2029","2030-2034","2020-2034","Av. Annual","2020-2024","2025-2029","2030-2034","2020-2034","Av. Annual","2020-2024","2025-2029","2030-2034","2020-2034","Av. Annual","2020-2024","2025-2029","2030-2034","2020-2034","Av. Annual","2020-2024","2025-2029","2030-2034","2020-2034","Av. Annual","2020-2024","2025-2029","2030-2034","2020-2034","Av. Annual","2020-2024","2025-2029","2030-2034","2020-2034","Av. Annual","2020-2024","2025-2029","2030-2034","2020-2034","Av. Annual","2020-2024","2025-2029","2030-2034","2020-2034","Av. Annual","2020-2024","2025-2029","2030-2034","2020-2034","Av. Annual","2020-2024","2025-2029","2030-2034","2020-2034","Av. Annual","2020-2024","2025-2029","2030-2034","2020-2034","Av. Annual",{"$f":"$DNU$6","v":"2020-2024"},{"$f":"$DNV$6","v":"2025-2029"},{"$f":"$DNW$6","v":"2030-2034"},{"$f":"$DNX$6","v":"2020-2034"},{"$f":"$DNY$6","v":"Av. Annual"},"2020-2024","2025-2029","2030-2034","2020-2034","Av. Annual","2020-2024","2025-2029","2030-2034","2020-2034","Av. Annual","2020-2024","2025-2029","2030-2034","2020-2034","Av. Annual","2020-2024","2025-2029","2030-2034","2020-2034","Av. Annual","2020-2024","2025-2029",{"$f":"$DNW$6","v":"2030-2034"},{"$f":"$DNX$6","v":"2020-2034"},{"$f":"$DNY$6","v":"Av. Annual"},"2020-2024","2025-2029","2030-2034","2020-2034","Av. Annual","2020-2024","2025-2029","2030-2034","2020-2034","Av. Annual","2020-2024","2025-2029","2030-2034","2020-2034","Av. Annual","2020-2024","2025-2029","2030-2034","2020-2034","Av. Annual","2020-2024","2025-2029","2030-2034","2020-2034","Av. Annual","2020-2024","2025-2029","2030-2034","2020-2034","Av. Annual","2020-2024","2025-2029","2030-2034","2020-2034","Av. Annual",{"$f":"$DNU$6","v":"2020-2024"},{"$f":"$DNV$6","v":"2025-2029"},"2030-2034","2020-2034","Av. Annual","2020-2024","2025-2029","2030-2034","2020-2034","Av. Annual","2020-2024","2025-2029","2030-2034","2020-2034","Av. Annual","2020-2024","2025-2029","2030-2034","2020-2034","Av. Annual","2020-2024","2025-2029","2030-2034","2020-2034","Av. Annual","2020-2024","2025-2029",{"$f":"$DNW$6","v":"2030-2034"},{"$f":"$DNX$6","v":"2020-2034"},{"$f":"$DNY$6","v":"Av. Annual"},"2020-2024","2025-2029","2030-2034","2020-2034","Av. Annual","2020-2024","2025-2029","2030-2034","2020-2034","Av. Annual","2020-2024","2025-2029","2030-2034","2020-2034","Av. Annual","2020-2024","2025-2029","2030-2034","2020-2034","Av. Annual",{"$f":"EBL6","v":"2020-2024"},"2025-2029","2030-2034","2020-2034","Av. Annual","2020-2024","2025-2029","2030-2034","2020-2034","Av. Annual","2020-2024","2025-2029","2030-2034","2020-2034","Av. Annual","2020-2024","2025-2029","2030-2034","2020-2034","Av. Annual","2020-2024","2025-2029","2030-2034","2020-2034","Av. Annual","2020-2024","2025-2029","2030-2034","2020-2034","Av. Annual","2020-2024","2025-2029","2030-2034","2020-2034",{"$f":"ECT6","v":"Av. Annual"},"2020-2024","2025-2029","2030-2034","2020-2034","Av. Annual","2020-2024","2025-2029","2030-2034","2020-2034","Av. Annual","2020-2024","2025-2029","2030-2034","2020-2034","Av. Annual","2020-2024","2025-2029","2030-2034","2020-2034","Av. Annual","2020-2024","2025-2029","2030-2034","2020-2034","Av. Annual","2020-2024","2025-2029","2030-2034","2020-2034","Av. Annual","2020-2024","2025-2029","2030-2034","2020-2034","Av. Annual","2020-2024","2025-2029","2030-2034","2020-2034","Av. Annual","2020-2024","2025-2029","2030-2034","2020-2034","Av. Annual","2020-2024","2025-2029","2030-2034","2020-2034","Av. Annual","2020-2024","2025-2029","2030-2034","2020-2034","Av. Annual","2020-2024","2025-2029","2030-2034","2020-2034","Av. Annual","2020-2024","2025-2029","2030-2034",{"$f":"EFF6","v":"2020-2034"},"Av. Annual","2020-2024","2025-2029","2030-2034","2020-2034","Av. Annual","2020-2024","2025-2029","2030-2034","2020-2034","Av. Annual","2020-2024","2025-2029","2030-2034","2020-2034","Av. Annual","2020-2024","2025-2029","2030-2034","2020-2034","Av. Annual","2020-2024","2025-2029","2030-2034","2020-2034","Av. Annual","2020-2024","2025-2029","2030-2034","2020-2034","Av. Annual","2020-2024","2025-2029","2030-2034","2020-2034","Av. Annual","2020-2024","2025-2029","2030-2034","2020-2034","Av. Annual","2020-2024","2025-2029","2030-2034","2020-2034","Av. Annual","2020-2024","2025-2029","2030-2034","2020-2034","Av. Annual","2020-2024","2025-2029","2030-2034","2020-2034","Av. Annual","2020-2024","2025-2029","2030-2034","2020-2034","Av. Annual","2020-2024","2025-2029",{"$f":"EHR6","v":"2030-2034"},"2020-2034","Av. Annual","2020-2024","2025-2029","2030-2034","2020-2034","Av. Annual","2020-2024","2025-2029","2030-2034","2020-2034","Av. Annual","2020-2024","2025-2029","2030-2034","2020-2034","Av. Annual","2020-2024","2025-2029","2030-2034","2020-2034","Av. Annual","2020-2024","2025-2029","2030-2034","2020-2034","Av. Annual","2020-2024","2025-2029","2030-2034","2020-2034","Av. Annual","2020-2024","2025-2029","2030-2034","2020-2034","Av. Annual","2020-2024","2025-2029","2030-2034","2020-2034","Av. Annual","2020-2024","2025-2029","2030-2034","2020-2034","Av. Annual","2020-2024","2025-2029","2030-2034","2020-2034","Av. Annual","2020-2024","2025-2029","2030-2034","2020-2034","Av. Annual","2020-2024","2025-2029","2030-2034","2020-2034","Av. Annual","2020-2024",{"$f":"EKD6","v":"2025-2029"},"2030-2034","2020-2034","Av. Annual","2020-2024","2025-2029","2030-2034","2020-2034","Av. Annual","2020-2024","2025-2029","2030-2034","2020-2034","Av. Annual","2020-2024","2025-2029","2030-2034","2020-2034","Av. Annual","2020-2024","2025-2029","2030-2034","2020-2034","Av. Annual","2020-2024","2025-2029","2030-2034","2020-2034","Av. Annual","2020-2024","2025-2029","2030-2034","2020-2034","Av. Annual","2020-2024","2025-2029","2030-2034","2020-2034","Av. Annual","2020-2024","2025-2029","2030-2034","2020-2034","Av. Annual","2020-2024","2025-2029","2030-2034","2020-2034","Av. Annual","2020-2024","2025-2029","2030-2034","2020-2034","Av. Annual","2020-2024","2025-2029","2030-2034","2020-2034","Av. Annual","2020-2024","2025-2029","2030-2034","2020-2034","Av. Annual",{"$f":"EMP6","v":"2020-2024"},"2025-2029","2030-2034","2020-2034","Av. Annual","2020-2024","2025-2029","2030-2034","2020-2034","Av. Annual","2020-2024","2025-2029","2030-2034","2020-2034","Av. Annual","2020-2024","2025-2029","2030-2034","2020-2034","Av. Annual","2020-2024","2025-2029","2030-2034","2020-2034","Av. Annual","2020-2024","2025-2029","2030-2034","2020-2034","Av. Annual","2020-2024","2025-2029","2030-2034","2020-2034","Av. Annual","2020-2024","2025-2029","2030-2034","2020-2034","Av. Annual","2020-2024","2025-2029","2030-2034","2020-2034","Av. Annual","2020-2024","2025-2029","2030-2034","2020-2034","Av. Annual","2020-2024","2025-2029","2030-2034","2020-2034","Av. Annual","2020-2024","2025-2029","2030-2034","2020-2034","Av. Annual","2020-2024","2025-2029","2030-2034","2020-2034",{"$f":"EPB6","v":"Av. Annual"},"2020-2024","2025-2029","2030-2034","2020-2034","Av. Annual","2020-2024","2025-2029","2030-2034","2020-2034","Av. Annual","2020-2024","2025-2029","2030-2034","2020-2034","Av. Annual","2020-2024","2025-2029","2030-2034","2020-2034","Av. Annual","2020-2024","2025-2029","2030-2034","2020-2034","Av. Annual","2020-2024","2025-2029","2030-2034","2020-2034","Av. Annual","2020-2024","2025-2029","2030-2034","2020-2034","Av. Annual","2020-2024","2025-2029","2030-2034","2020-2034","Av. Annual","2020-2024","2025-2029","2030-2034","2020-2034","Av. Annual","2020-2024","2025-2029","2030-2034","2020-2034","Av. Annual","2020-2024","2025-2029","2030-2034","2020-2034","Av. Annual","2020-2024","2025-2029","2030-2034","2020-2034","Av. Annual","2020-2024","2025-2029","2030-2034",{"$f":"ERN6","v":"2020-2034"},"Av. Annual","2020-2024","2025-2029","2030-2034","2020-2034","Av. Annual","2020-2024","2025-2029","2030-2034","2020-2034","Av. Annual","2020-2024","2025-2029","2030-2034","2020-2034","Av. Annual","2020-2024","2025-2029","2030-2034","2020-2034","Av. Annual","2020-2024","2025-2029","2030-2034","2020-2034","Av. Annual","2020-2024","2025-2029","2030-2034","2020-2034","Av. Annual","2020-2024","2025-2029","2030-2034","2020-2034","Av. Annual","2020-2024","2025-2029","2030-2034","2020-2034","Av. Annual","2020-2024","2025-2029","2030-2034","2020-2034","Av. Annual","2020-2024","2025-2029","2030-2034","2020-2034","Av. Annual","2020-2024","2025-2029","2030-2034","2020-2034","Av. Annual","2020-2024","2025-2029","2030-2034","2020-2034","Av. Annual","2020-2024","2025-2029",{"$f":"ETZ6","v":"2030-2034"},"2020-2034","Av. Annual","2020-2024","2025-2029","2030-2034","2020-2034","Av. Annual","2020-2024","2025-2029","2030-2034","2020-2034","Av. Annual","2020-2024","2025-2029","2030-2034","2020-2034","Av. Annual","2020-2024","2025-2029","2030-2034","2020-2034","Av. Annual","2020-2024","2025-2029","2030-2034","2020-2034","Av. Annual","2020-2024","2025-2029","2030-2034","2020-2034","Av. Annual","2020-2024","2025-2029","2030-2034","2020-2034","Av. Annual","2020-2024","2025-2029","2030-2034","2020-2034","Av. Annual","2020-2024","2025-2029","2030-2034","2020-2034","Av. Annual","2020-2024","2025-2029","2030-2034","2020-2034","Av. Annual","2020-2024","2025-2029","2030-2034","2020-2034","Av. Annual","2020-2024","2025-2029","2030-2034","2020-2034","Av. Annual","2020-2024",{"$f":"EWL6","v":"2025-2029"},"2030-2034","2020-2034","Av. Annual","2020-2024","2025-2029","2030-2034","2020-2034","Av. Annual","2020-2024","2025-2029","2030-2034","2020-2034","Av. Annual","2020-2024","2025-2029","2030-2034","2020-2034","Av. Annual","2020-2024","2025-2029","2030-2034","2020-2034","Av. Annual","2020-2024","2025-2029","2030-2034","2020-2034","Av. Annual","2020-2024","2025-2029","2030-2034","2020-2034","Av. Annual","2020-2024","2025-2029","2030-2034","2020-2034","Av. Annual","2020-2024","2025-2029","2030-2034","2020-2034","Av. Annual","2020-2024","2025-2029","2030-2034","2020-2034","Av. Annual","2020-2024","2025-2029","2030-2034","2020-2034","Av. Annual","2020-2024","2025-2029","2030-2034","2020-2034","Av. Annual","2020-2024","2025-2029","2030-2034","2020-2034","Av. Annual",{"$f":"EYX6","v":"2020-2024"},"2025-2029","2030-2034","2020-2034","Av. Annual","2020-2024","2025-2029","2030-2034","2020-2034","Av. Annual","2020-2024","2025-2029","2030-2034","2020-2034","Av. Annual","2020-2024","2025-2029","2030-2034","2020-2034","Av. Annual","2020-2024","2025-2029","2030-2034","2020-2034","Av. Annual","2020-2024","2025-2029","2030-2034","2020-2034","Av. Annual","2020-2024","2025-2029","2030-2034","2020-2034","Av. Annual","2020-2024","2025-2029","2030-2034","2020-2034","Av. Annual","2020-2024","2025-2029","2030-2034","2020-2034","Av. Annual","2020-2024","2025-2029","2030-2034","2020-2034","Av. Annual","2020-2024","2025-2029","2030-2034","2020-2034","Av. Annual","2020-2024","2025-2029","2030-2034","2020-2034","Av. Annual","2020-2024","2025-2029","2030-2034","2020-2034",{"$f":"FBJ6","v":"Av. Annual"},"2020-2024","2025-2029","2030-2034","2020-2034","Av. Annual","2020-2024","2025-2029","2030-2034","2020-2034","Av. Annual","2020-2024","2025-2029","2030-2034","2020-2034","Av. Annual","2020-2024","2025-2029","2030-2034","2020-2034","Av. Annual","2020-2024","2025-2029","2030-2034","2020-2034","Av. Annual","2020-2024","2025-2029","2030-2034","2020-2034","Av. Annual","2020-2024","2025-2029","2030-2034","2020-2034","Av. Annual","2020-2024","2025-2029","2030-2034","2020-2034","Av. Annual","2020-2024","2025-2029","2030-2034","2020-2034","Av. Annual","2020-2024","2025-2029","2030-2034","2020-2034","Av. Annual","2020-2024","2025-2029","2030-2034","2020-2034","Av. Annual","2020-2024","2025-2029","2030-2034","2020-2034","Av. Annual","2020-2024","2025-2029","2030-2034",{"$f":"FDV6","v":"2020-2034"},"Av. Annual","2020-2024","2025-2029","2030-2034","2020-2034","Av. Annual","2020-2024","2025-2029","2030-2034","2020-2034","Av. Annual","2020-2024","2025-2029","2030-2034","2020-2034","Av. Annual","2020-2024","2025-2029","2030-2034","2020-2034","Av. Annual","2020-2024","2025-2029","2030-2034","2020-2034","Av. Annual","2020-2024","2025-2029","2030-2034","2020-2034","Av. Annual","2020-2024","2025-2029","2030-2034","2020-2034","Av. Annual","2020-2024","2025-2029","2030-2034","2020-2034","Av. Annual","2020-2024","2025-2029","2030-2034","2020-2034","Av. Annual","2020-2024","2025-2029","2030-2034","2020-2034","Av. Annual","2020-2024","2025-2029","2030-2034","2020-2034","Av. Annual","2020-2024","2025-2029","2030-2034","2020-2034","Av. Annual","2020-2024","2025-2029",{"$f":"FGH6","v":"2030-2034"},"2020-2034","Av. Annual","2020-2024","2025-2029","2030-2034","2020-2034","Av. Annual","2020-2024","2025-2029","2030-2034","2020-2034","Av. Annual","2020-2024","2025-2029","2030-2034","2020-2034","Av. Annual","2020-2024","2025-2029","2030-2034","2020-2034","Av. Annual","2020-2024","2025-2029","2030-2034","2020-2034","Av. Annual","2020-2024","2025-2029","2030-2034","2020-2034","Av. Annual","2020-2024","2025-2029","2030-2034","2020-2034","Av. Annual","2020-2024","2025-2029","2030-2034","2020-2034","Av. Annual","2020-2024","2025-2029","2030-2034","2020-2034","Av. Annual","2020-2024","2025-2029","2030-2034","2020-2034","Av. Annual","2020-2024","2025-2029","2030-2034","2020-2034","Av. Annual","2020-2024","2025-2029","2030-2034","2020-2034","Av. Annual","2020-2024",{"$f":"FIT6","v":"2025-2029"},"2030-2034","2020-2034","Av. Annual","2020-2024","2025-2029","2030-2034","2020-2034","Av. Annual","2020-2024","2025-2029","2030-2034","2020-2034","Av. Annual","2020-2024","2025-2029","2030-2034","2020-2034","Av. Annual","2020-2024","2025-2029","2030-2034","2020-2034","Av. Annual","2020-2024","2025-2029","2030-2034","2020-2034","Av. Annual","2020-2024","2025-2029","2030-2034","2020-2034","Av. Annual","2020-2024","2025-2029","2030-2034","2020-2034","Av. Annual","2020-2024","2025-2029","2030-2034","2020-2034","Av. Annual","2020-2024","2025-2029","2030-2034","2020-2034","Av. Annual","2020-2024","2025-2029","2030-2034","2020-2034","Av. Annual","2020-2024","2025-2029","2030-2034","2020-2034","Av. Annual","2020-2024","2025-2029","2030-2034","2020-2034","Av. Annual",{"$f":"FLF6","v":"2020-2024"},"2025-2029","2030-2034","2020-2034","Av. Annual","2020-2024","2025-2029","2030-2034","2020-2034","Av. Annual","2020-2024","2025-2029","2030-2034","2020-2034","Av. Annual","2020-2024","2025-2029","2030-2034","2020-2034","Av. Annual","2020-2024","2025-2029","2030-2034","2020-2034","Av. Annual","2020-2024","2025-2029","2030-2034","2020-2034","Av. Annual","2020-2024","2025-2029","2030-2034","2020-2034","Av. Annual","2020-2024","2025-2029","2030-2034","2020-2034","Av. Annual","2020-2024","2025-2029","2030-2034","2020-2034","Av. Annual","2020-2024","2025-2029","2030-2034","2020-2034","Av. Annual","2020-2024","2025-2029","2030-2034","2020-2034","Av. Annual","2020-2024","2025-2029","2030-2034","2020-2034","Av. Annual","2020-2024","2025-2029","2030-2034","2020-2034",{"$f":"FNR6","v":"Av. Annual"},"2020-2024","2025-2029","2030-2034","2020-2034","Av. Annual","2020-2024","2025-2029","2030-2034","2020-2034","Av. Annual","2020-2024","2025-2029","2030-2034","2020-2034","Av. Annual","2020-2024","2025-2029","2030-2034","2020-2034","Av. Annual","2020-2024","2025-2029","2030-2034","2020-2034","Av. Annual","2020-2024","2025-2029","2030-2034","2020-2034","Av. Annual","2020-2024","2025-2029","2030-2034","2020-2034","Av. Annual","2020-2024","2025-2029","2030-2034","2020-2034","Av. Annual","2020-2024","2025-2029","2030-2034","2020-2034","Av. Annual","2020-2024","2025-2029","2030-2034","2020-2034","Av. Annual","2020-2024","2025-2029","2030-2034","2020-2034","Av. Annual","2020-2024","2025-2029","2030-2034","2020-2034","Av. Annual","2020-2024","2025-2029","2030-2034",{"$f":"FQD6","v":"2020-2034"},"Av. Annual","2020-2024","2025-2029","2030-2034","2020-2034","Av. Annual","2020-2024","2025-2029","2030-2034","2020-2034","Av. Annual","2020-2024","2025-2029","2030-2034","2020-2034","Av. Annual","2020-2024","2025-2029","2030-2034","2020-2034","Av. Annual","2020-2024","2025-2029","2030-2034","2020-2034","Av. Annual","2020-2024","2025-2029","2030-2034","2020-2034","Av. Annual","2020-2024","2025-2029","2030-2034","2020-2034","Av. Annual","2020-2024","2025-2029","2030-2034","2020-2034","Av. Annual","2020-2024","2025-2029","2030-2034","2020-2034","Av. Annual","2020-2024","2025-2029","2030-2034","2020-2034","Av. Annual","2020-2024","2025-2029","2030-2034","2020-2034","Av. Annual","2020-2024","2025-2029","2030-2034","2020-2034","Av. Annual","2020-2024","2025-2029",{"$f":"FSP6","v":"2030-2034"},"2020-2034","Av. Annual","2020-2024","2025-2029","2030-2034","2020-2034","Av. Annual","2020-2024","2025-2029","2030-2034","2020-2034","Av. Annual","2020-2024","2025-2029","2030-2034","2020-2034","Av. Annual","2020-2024","2025-2029","2030-2034","2020-2034","Av. Annual","2020-2024","2025-2029","2030-2034","2020-2034","Av. Annual","2020-2024","2025-2029","2030-2034","2020-2034","Av. Annual","2020-2024","2025-2029","2030-2034","2020-2034","Av. Annual","2020-2024","2025-2029","2030-2034","2020-2034","Av. Annual","2020-2024","2025-2029","2030-2034","2020-2034","Av. Annual","2020-2024","2025-2029","2030-2034","2020-2034","Av. Annual","2020-2024","2025-2029","2030-2034","2020-2034","Av. Annual","2020-2024","2025-2029","2030-2034","2020-2034","Av. Annual","2020-2024",{"$f":"FVB6","v":"2025-2029"},"2030-2034","2020-2034","Av. Annual","2020-2024","2025-2029","2030-2034","2020-2034","Av. Annual","2020-2024","2025-2029","2030-2034","2020-2034","Av. Annual","2020-2024","2025-2029","2030-2034","2020-2034","Av. Annual","2020-2024","2025-2029","2030-2034","2020-2034","Av. Annual","2020-2024","2025-2029","2030-2034","2020-2034","Av. Annual","2020-2024","2025-2029","2030-2034","2020-2034","Av. Annual","2020-2024","2025-2029","2030-2034","2020-2034","Av. Annual","2020-2024","2025-2029","2030-2034","2020-2034","Av. Annual","2020-2024","2025-2029","2030-2034","2020-2034","Av. Annual","2020-2024","2025-2029","2030-2034","2020-2034","Av. Annual","2020-2024","2025-2029","2030-2034","2020-2034","Av. Annual","2020-2024","2025-2029","2030-2034","2020-2034","Av. Annual",{"$f":"FXN6","v":"2020-2024"},"2025-2029","2030-2034","2020-2034","Av. Annual","2020-2024","2025-2029","2030-2034","2020-2034","Av. Annual","2020-2024","2025-2029","2030-2034","2020-2034","Av. Annual","2020-2024","2025-2029","2030-2034","2020-2034","Av. Annual","2020-2024","2025-2029","2030-2034","2020-2034","Av. Annual","2020-2024","2025-2029","2030-2034","2020-2034","Av. Annual","2020-2024","2025-2029","2030-2034","2020-2034","Av. Annual","2020-2024","2025-2029","2030-2034","2020-2034","Av. Annual","2020-2024","2025-2029","2030-2034","2020-2034","Av. Annual","2020-2024","2025-2029","2030-2034","2020-2034","Av. Annual","2020-2024","2025-2029","2030-2034","2020-2034","Av. Annual","2020-2024","2025-2029","2030-2034","2020-2034","Av. Annual","2020-2024","2025-2029","2030-2034","2020-2034",{"$f":"FZZ6","v":"Av. Annual"},"2020-2024","2025-2029","2030-2034","2020-2034","Av. Annual","2020-2024","2025-2029","2030-2034","2020-2034","Av. Annual","2020-2024","2025-2029","2030-2034","2020-2034","Av. Annual","2020-2024","2025-2029","2030-2034","2020-2034","Av. Annual","2020-2024","2025-2029","2030-2034","2020-2034","Av. Annual","2020-2024","2025-2029","2030-2034","2020-2034","Av. Annual","2020-2024","2025-2029","2030-2034","2020-2034","Av. Annual","2020-2024","2025-2029","2030-2034","2020-2034","Av. Annual","2020-2024","2025-2029","2030-2034","2020-2034","Av. Annual","2020-2024","2025-2029","2030-2034","2020-2034","Av. Annual","2020-2024","2025-2029","2030-2034","2020-2034","Av. Annual","2020-2024","2025-2029","2030-2034","2020-2034","Av. Annual","2020-2024","2025-2029","2030-2034",{"$f":"GCL6","v":"2020-2034"},"Av. Annual","2020-2024","2025-2029","2030-2034","2020-2034","Av. Annual","2020-2024","2025-2029","2030-2034","2020-2034","Av. Annual","2020-2024","2025-2029","2030-2034","2020-2034","Av. Annual","2020-2024","2025-2029","2030-2034","2020-2034","Av. Annual","2020-2024","2025-2029","2030-2034","2020-2034","Av. Annual","2020-2024","2025-2029","2030-2034","2020-2034","Av. Annual","2020-2024","2025-2029","2030-2034","2020-2034","Av. Annual","2020-2024","2025-2029","2030-2034","2020-2034","Av. Annual","2020-2024","2025-2029","2030-2034","2020-2034","Av. Annual","2020-2024","2025-2029","2030-2034","2020-2034","Av. Annual","2020-2024","2025-2029","2030-2034","2020-2034","Av. Annual","2020-2024","2025-2029","2030-2034","2020-2034","Av. Annual","2020-2024","2025-2029",{"$f":"GEX6","v":"2030-2034"},"2020-2034","Av. Annual","2020-2024","2025-2029","2030-2034","2020-2034","Av. Annual","2020-2024","2025-2029","2030-2034","2020-2034","Av. Annual","2020-2024","2025-2029","2030-2034","2020-2034","Av. Annual","2020-2024","2025-2029","2030-2034","2020-2034","Av. Annual","2020-2024","2025-2029","2030-2034","2020-2034","Av. Annual","2020-2024","2025-2029","2030-2034","2020-2034","Av. Annual","2020-2024","2025-2029","2030-2034","2020-2034","Av. Annual","2020-2024","2025-2029","2030-2034","2020-2034","Av. Annual","2020-2024","2025-2029","2030-2034","2020-2034","Av. Annual","2020-2024","2025-2029","2030-2034","2020-2034","Av. Annual","2020-2024","2025-2029","2030-2034","2020-2034","Av. Annual","2020-2024","2025-2029","2030-2034","2020-2034","Av. Annual","2020-2024",{"$f":"GHJ6","v":"2025-2029"},"2030-2034","2020-2034","Av. Annual","2020-2024","2025-2029","2030-2034","2020-2034","Av. Annual","2020-2024","2025-2029","2030-2034","2020-2034","Av. Annual","2020-2024","2025-2029","2030-2034","2020-2034","Av. Annual","2020-2024","2025-2029","2030-2034","2020-2034","Av. Annual","2020-2024","2025-2029","2030-2034","2020-2034","Av. Annual","2020-2024","2025-2029","2030-2034","2020-2034","Av. Annual","2020-2024","2025-2029","2030-2034","2020-2034","Av. Annual","2020-2024","2025-2029","2030-2034","2020-2034","Av. Annual","2020-2024","2025-2029","2030-2034","2020-2034","Av. Annual","2020-2024","2025-2029","2030-2034","2020-2034","Av. Annual","2020-2024","2025-2029","2030-2034","2020-2034","Av. Annual","2020-2024","2025-2029","2030-2034","2020-2034","Av. Annual",{"$f":"GJV6","v":"2020-2024"},"2025-2029","2030-2034","2020-2034","Av. Annual","2020-2024","2025-2029","2030-2034","2020-2034","Av. Annual","2020-2024","2025-2029","2030-2034","2020-2034","Av. Annual","2020-2024","2025-2029","2030-2034","2020-2034","Av. Annual","2020-2024","2025-2029","2030-2034","2020-2034","Av. Annual","2020-2024","2025-2029","2030-2034","2020-2034","Av. Annual","2020-2024","2025-2029","2030-2034","2020-2034","Av. Annual","2020-2024","2025-2029","2030-2034","2020-2034","Av. Annual","2020-2024","2025-2029","2030-2034","2020-2034","Av. Annual","2020-2024","2025-2029","2030-2034","2020-2034","Av. Annual","2020-2024","2025-2029","2030-2034","2020-2034","Av. Annual","2020-2024","2025-2029","2030-2034","2020-2034","Av. Annual","2020-2024","2025-2029","2030-2034","2020-2034",{"$f":"GMH6","v":"Av. Annual"},"2020-2024","2025-2029","2030-2034","2020-2034","Av. Annual","2020-2024","2025-2029","2030-2034","2020-2034","Av. Annual","2020-2024","2025-2029","2030-2034","2020-2034","Av. Annual","2020-2024","2025-2029","2030-2034","2020-2034","Av. Annual","2020-2024","2025-2029","2030-2034","2020-2034","Av. Annual","2020-2024","2025-2029","2030-2034","2020-2034","Av. Annual","2020-2024","2025-2029","2030-2034","2020-2034","Av. Annual","2020-2024","2025-2029","2030-2034","2020-2034","Av. Annual","2020-2024","2025-2029","2030-2034","2020-2034","Av. Annual","2020-2024","2025-2029","2030-2034","2020-2034","Av. Annual","2020-2024","2025-2029","2030-2034","2020-2034","Av. Annual","2020-2024","2025-2029","2030-2034","2020-2034","Av. Annual","2020-2024","2025-2029","2030-2034",{"$f":"GOT6","v":"2020-2034"},"Av. Annual","2020-2024","2025-2029","2030-2034","2020-2034","Av. Annual","2020-2024","2025-2029","2030-2034","2020-2034","Av. Annual","2020-2024","2025-2029","2030-2034","2020-2034","Av. Annual","2020-2024","2025-2029","2030-2034","2020-2034","Av. Annual","2020-2024","2025-2029","2030-2034","2020-2034","Av. Annual","2020-2024","2025-2029","2030-2034","2020-2034","Av. Annual","2020-2024","2025-2029","2030-2034","2020-2034","Av. Annual","2020-2024","2025-2029","2030-2034","2020-2034","Av. Annual","2020-2024","2025-2029","2030-2034","2020-2034","Av. Annual","2020-2024","2025-2029","2030-2034","2020-2034","Av. Annual","2020-2024","2025-2029","2030-2034","2020-2034","Av. Annual","2020-2024","2025-2029","2030-2034","2020-2034","Av. Annual","2020-2024","2025-2029",{"$f":"GRF6","v":"2030-2034"},"2020-2034","Av. Annual","2020-2024","2025-2029","2030-2034","2020-2034","Av. Annual","2020-2024","2025-2029","2030-2034","2020-2034","Av. Annual","2020-2024","2025-2029","2030-2034","2020-2034","Av. Annual","2020-2024","2025-2029","2030-2034","2020-2034","Av. Annual","2020-2024","2025-2029","2030-2034","2020-2034","Av. Annual","2020-2024","2025-2029","2030-2034","2020-2034","Av. Annual","2020-2024","2025-2029","2030-2034","2020-2034","Av. Annual","2020-2024","2025-2029","2030-2034","2020-2034","Av. Annual","2020-2024","2025-2029","2030-2034","2020-2034","Av. Annual","2020-2024","2025-2029","2030-2034","2020-2034","Av. Annual","2020-2024","2025-2029","2030-2034","2020-2034","Av. Annual","2020-2024","2025-2029","2030-2034","2020-2034","Av. Annual","2020-2024",{"$f":"GTR6","v":"2025-2029"},"2030-2034","2020-2034","Av. Annual","2020-2024","2025-2029","2030-2034","2020-2034","Av. Annual","2020-2024","2025-2029","2030-2034","2020-2034","Av. Annual","2020-2024","2025-2029","2030-2034","2020-2034","Av. Annual","2020-2024","2025-2029","2030-2034","2020-2034","Av. Annual","2020-2024","2025-2029","2030-2034","2020-2034","Av. Annual","2020-2024","2025-2029","2030-2034","2020-2034","Av. Annual","2020-2024","2025-2029","2030-2034","2020-2034","Av. Annual","2020-2024","2025-2029","2030-2034","2020-2034","Av. Annual","2020-2024","2025-2029","2030-2034","2020-2034","Av. Annual","2020-2024","2025-2029","2030-2034","2020-2034","Av. Annual","2020-2024","2025-2029","2030-2034","2020-2034","Av. Annual","2020-2024","2025-2029","2030-2034","2020-2034","Av. Annual",{"$f":"GWD6","v":"2020-2024"},"2025-2029","2030-2034","2020-2034","Av. Annual","2020-2024","2025-2029","2030-2034","2020-2034","Av. Annual","2020-2024","2025-2029","2030-2034","2020-2034","Av. Annual","2020-2024","2025-2029","2030-2034","2020-2034","Av. Annual","2020-2024","2025-2029","2030-2034","2020-2034","Av. Annual","2020-2024","2025-2029","2030-2034","2020-2034","Av. Annual","2020-2024","2025-2029","2030-2034","2020-2034","Av. Annual","2020-2024","2025-2029","2030-2034","2020-2034","Av. Annual","2020-2024","2025-2029","2030-2034","2020-2034","Av. Annual","2020-2024","2025-2029","2030-2034","2020-2034","Av. Annual","2020-2024","2025-2029","2030-2034","2020-2034","Av. Annual","2020-2024","2025-2029","2030-2034","2020-2034","Av. Annual","2020-2024","2025-2029","2030-2034","2020-2034",{"$f":"GYP6","v":"Av. Annual"},"2020-2024","2025-2029","2030-2034","2020-2034","Av. Annual","2020-2024","2025-2029","2030-2034","2020-2034","Av. Annual","2020-2024","2025-2029","2030-2034","2020-2034","Av. Annual","2020-2024","2025-2029","2030-2034","2020-2034","Av. Annual","2020-2024","2025-2029","2030-2034","2020-2034","Av. Annual","2020-2024","2025-2029","2030-2034","2020-2034","Av. Annual","2020-2024","2025-2029","2030-2034","2020-2034","Av. Annual","2020-2024","2025-2029","2030-2034","2020-2034","Av. Annual","2020-2024","2025-2029","2030-2034","2020-2034","Av. Annual","2020-2024","2025-2029","2030-2034","2020-2034","Av. Annual","2020-2024","2025-2029","2030-2034","2020-2034","Av. Annual","2020-2024","2025-2029","2030-2034","2020-2034","Av. Annual","2020-2024","2025-2029","2030-2034",{"$f":"HBB6","v":"2020-2034"},"Av. Annual","2020-2024","2025-2029","2030-2034","2020-2034","Av. Annual","2020-2024","2025-2029","2030-2034","2020-2034","Av. Annual","2020-2024","2025-2029","2030-2034","2020-2034","Av. Annual","2020-2024","2025-2029","2030-2034","2020-2034","Av. Annual","2020-2024","2025-2029","2030-2034","2020-2034","Av. Annual","2020-2024","2025-2029","2030-2034","2020-2034","Av. Annual","2020-2024","2025-2029","2030-2034","2020-2034","Av. Annual","2020-2024","2025-2029","2030-2034","2020-2034","Av. Annual","2020-2024","2025-2029","2030-2034","2020-2034","Av. Annual","2020-2024","2025-2029","2030-2034","2020-2034","Av. Annual","2020-2024","2025-2029","2030-2034","2020-2034","Av. Annual","2020-2024","2025-2029","2030-2034","2020-2034","Av. Annual","2020-2024","2025-2029",{"$f":"HDN6","v":"2030-2034"},"2020-2034","Av. Annual","2020-2024","2025-2029","2030-2034","2020-2034","Av. Annual","2020-2024","2025-2029","2030-2034","2020-2034","Av. Annual","2020-2024","2025-2029","2030-2034","2020-2034","Av. Annual","2020-2024","2025-2029","2030-2034","2020-2034","Av. Annual","2020-2024","2025-2029","2030-2034","2020-2034","Av. Annual","2020-2024","2025-2029","2030-2034","2020-2034","Av. Annual","2020-2024","2025-2029","2030-2034","2020-2034","Av. Annual","2020-2024","2025-2029","2030-2034","2020-2034","Av. Annual","2020-2024","2025-2029","2030-2034","2020-2034","Av. Annual","2020-2024","2025-2029","2030-2034","2020-2034","Av. Annual","2020-2024","2025-2029","2030-2034","2020-2034","Av. Annual","2020-2024","2025-2029","2030-2034","2020-2034","Av. Annual","2020-2024",{"$f":"HFZ6","v":"2025-2029"},"2030-2034","2020-2034","Av. Annual","2020-2024","2025-2029","2030-2034","2020-2034","Av. Annual","2020-2024","2025-2029","2030-2034","2020-2034","Av. Annual","2020-2024","2025-2029","2030-2034","2020-2034","Av. Annual","2020-2024","2025-2029","2030-2034","2020-2034","Av. Annual","2020-2024","2025-2029","2030-2034","2020-2034","Av. Annual","2020-2024","2025-2029","2030-2034","2020-2034","Av. Annual","2020-2024","2025-2029","2030-2034","2020-2034","Av. Annual","2020-2024","2025-2029","2030-2034","2020-2034","Av. Annual","2020-2024","2025-2029","2030-2034","2020-2034","Av. Annual","2020-2024","2025-2029","2030-2034","2020-2034","Av. Annual","2020-2024","2025-2029","2030-2034","2020-2034","Av. Annual","2020-2024","2025-2029","2030-2034","2020-2034","Av. Annual",{"$f":"HIL6","v":"2020-2024"},"2025-2029","2030-2034","2020-2034","Av. Annual","2020-2024","2025-2029","2030-2034","2020-2034","Av. Annual","2020-2024","2025-2029","2030-2034","2020-2034","Av. Annual","2020-2024","2025-2029","2030-2034","2020-2034","Av. Annual","2020-2024","2025-2029","2030-2034","2020-2034","Av. Annual","2020-2024","2025-2029","2030-2034","2020-2034","Av. Annual","2020-2024","2025-2029","2030-2034","2020-2034","Av. Annual","2020-2024","2025-2029","2030-2034","2020-2034","Av. Annual","2020-2024","2025-2029","2030-2034","2020-2034","Av. Annual","2020-2024","2025-2029","2030-2034","2020-2034","Av. Annual","2020-2024","2025-2029","2030-2034","2020-2034","Av. Annual","2020-2024","2025-2029","2030-2034","2020-2034","Av. Annual","2020-2024","2025-2029","2030-2034","2020-2034",{"$f":"HKX6","v":"Av. Annual"},"2020-2024","2025-2029","2030-2034","2020-2034","Av. Annual","2020-2024","2025-2029","2030-2034","2020-2034","Av. Annual","2020-2024","2025-2029","2030-2034","2020-2034","Av. Annual","2020-2024","2025-2029","2030-2034","2020-2034","Av. Annual","2020-2024","2025-2029","2030-2034","2020-2034","Av. Annual","2020-2024","2025-2029","2030-2034","2020-2034","Av. Annual","2020-2024","2025-2029","2030-2034","2020-2034","Av. Annual","2020-2024","2025-2029","2030-2034","2020-2034","Av. Annual","2020-2024","2025-2029","2030-2034","2020-2034","Av. Annual","2020-2024","2025-2029","2030-2034","2020-2034","Av. Annual","2020-2024","2025-2029","2030-2034","2020-2034","Av. Annual","2020-2024","2025-2029","2030-2034","2020-2034","Av. Annual","2020-2024","2025-2029","2030-2034",{"$f":"HNJ6","v":"2020-2034"},"Av. Annual",{"$f":"$DNU$6","v":"2020-2024"},{"$f":"$DNV$6","v":"2025-2029"},{"$f":"$DNW$6","v":"2030-2034"},{"$f":"$DNX$6","v":"2020-2034"},{"$f":"$DNY$6","v":"Av. Annual"},"2020-2024","2025-2029","2030-2034","2020-2034","Av. Annual","2020-2024","2025-2029","2030-2034","2020-2034","Av. Annual","2020-2024","2025-2029","2030-2034","2020-2034","Av. Annual","2020-2024","2025-2029","2030-2034","2020-2034","Av. Annual","2020-2024","2025-2029","2030-2034","2020-2034","Av. Annual","2020-2024","2025-2029",{"$f":"$DNW$6","v":"2030-2034"},{"$f":"$DNX$6","v":"2020-2034"},{"$f":"$DNY$6","v":"Av. Annual"},"2020-2024","2025-2029","2030-2034","2020-2034","Av. Annual","2020-2024","2025-2029","2030-2034","2020-2034","Av. Annual","2020-2024","2025-2029","2030-2034","2020-2034","Av. Annual","2020-2024","2025-2029","2030-2034","2020-2034","Av. Annual","2020-2024","2025-2029","2030-2034","2020-2034","Av. Annual","2020-2024","2025-2029","2030-2034","2020-2034","Av. Annual",{"$f":"$DNU$6","v":"2020-2024"},{"$f":"$DNV$6","v":"2025-2029"},"2030-2034","2020-2034","Av. Annual","2020-2024","2025-2029","2030-2034","2020-2034","Av. Annual","2020-2024","2025-2029","2030-2034","2020-2034","Av. Annual","2020-2024","2025-2029","2030-2034","2020-2034","Av. Annual","2020-2024","2025-2029","2030-2034","2020-2034","Av. Annual","2020-2024","2025-2029","2030-2034","2020-2034","Av. Annual","2020-2024","2025-2029",{"$f":"$DNW$6","v":"2030-2034"},{"$f":"$DNX$6","v":"2020-2034"},{"$f":"$DNY$6","v":"Av. Annual"},"2020-2024","2025-2029","2030-2034","2020-2034","Av. Annual","2020-2024","2025-2029","2030-2034","2020-2034","Av. Annual","2020-2024","2025-2029","2030-2034","2020-2034","Av. Annual","2020-2024","2025-2029","2030-2034","2020-2034","Av. Annual","2020-2024","2025-2029",{"$f":"$DNW$6","v":"2030-2034"},{"$f":"$DNX$6","v":"2020-2034"},{"$f":"$DNY$6","v":"Av. Annual"},"2020-2024","2025-2029","2030-2034","2020-2034","Av. Annual",{"$f":"$DNU$6","v":"2020-2024"},{"$f":"$DNV$6","v":"2025-2029"},"2030-2034","2020-2034","Av. Annual",null,null,null,null,null,null,null,null,null,null,null,null,null,null,null,null,null,null,null,null,null,null,null,null,null,null,null,null,null,null,null,null,null,null,null,null,null,null,null,null,null,null,null,null,null,null,null,null,null,null,null,null,null,null,null,null,null,null,null,null,null,null,null,null,null,null,null,null,null,null,null,null,null,null,null,null,null,null,null,null,null,null,null,null,null,null,null,null,null,null,null,null,null,null,null,null,null,null,null,null,null,null,null,null,null,null,null,null,null,null,null,null,null,null,null,null,null,null,null,null,null,null,null,null,null,null,null,null,null,null,null,null,null,null,null,null,null,null,null,null,null,null,null,null,null,null,null,null,null,null,null,null,null,null,null,null,null,null,null,null,null,null,null,null,null,null,null,null,null,null,null,null,null,null,null,null,null,null,null,null,null,null,null,null,null,null,null,null,null,null,null,null,null,null,null,null,null,null,null,null,null,null,null,null,null,null,null,null,null,null,null,null,null,null,null,null,null,null,null,null,null,null,null,null,null,null,null,null,null,null,null,null,null,null,null,null,null,null,null,null,null,null,null,null,null,null,null,null,null,null,null,null,null,null,null,null,null,null,null,null,null,null,null,null,null,null,null,null,null,null,null,null,null,null,null,null,null,null,null,null,null,null,null,null,null,null,null,null,null,null,null,null,null,null,null,null,null,null,null,null,null,null,null,null,null,null,null,null,null,null,null,null,{"$f":"$DNU$6","v":"2020-2024"},{"$f":"$DNV$6","v":"2025-2029"},{"$f":"$DNW$6","v":"2030-2034"},{"$f":"$DNX$6","v":"2020-2034"},{"$f":"$DNY$6","v":"Av. Annual"},"2020-2024","2025-2029","2030-2034","2020-2034","Av. Annual","2020-2024","2025-2029","2030-2034","2020-2034","Av. Annual","2020-2024","2025-2029","2030-2034","2020-2034","Av. Annual","2020-2024","2025-2029","2030-2034","2020-2034","Av. Annual","2020-2024","2025-2029","2030-2034","2020-2034","Av. Annual","2020-2024","2025-2029","2030-2034","2020-2034","Av. Annual","2020-2024","2025-2029","2030-2034","2020-2034","Av. Annual","2020-2024","2025-2029","2030-2034","2020-2034","Av. Annual","2020-2024","2025-2029","2030-2034","2020-2034","Av. Annual","2020-2024","2025-2029","2030-2034","2020-2034","Av. Annual","2020-2024","2025-2029","2030-2034","2020-2034","Av. Annual",{"$f":"$DNU$6","v":"2020-2024"},"2025-2029",{"$f":"$DNW$6","v":"2030-2034"},{"$f":"$DNX$6","v":"2020-2034"},{"$f":"$DNY$6","v":"Av. Annual"},{"$f":"$DNU$6","v":"2020-2024"},{"$f":"$DNV$6","v":"2025-2029"},"2030-2034","2020-2034","Av. Annual","2020-2024","2025-2029","2030-2034","2020-2034","Av. Annual","2020-2024","2025-2029","2030-2034","2020-2034","Av. Annual","2020-2024","2025-2029","2030-2034","2020-2034","Av. Annual","2020-2024","2025-2029","2030-2034","2020-2034","Av. Annual",{"$f":"\"Year \" & 'HOJA DE VERIFICACIÓN DE DATOS'!E6","v":"Year 2020"},"Ending OD","Water","Sanitation","Hygiene","WASH","Water","Sanitation","WatSan","Targets 6.1 + 6.2","Ending OD","Water","Sanitation","Hygiene","WASH","Water","Sanitation","WatSan","Targets 6.1 + 6.2","Capital","Capital maintenance","Operations","Capital","Capital maintenance","Operations","Capital","Capital maintenance","Operations","Capital","Capital maintenance","Operations","Capital","Capital maintenance","Operations","Capital","Capital maintenance","Operations","Capital","Capital maintenance","Operations","Capital","Capital maintenance","Operations","Capital","Capital maintenance","Operations","Capital","Capital maintenance","Operations","Capital","Capital maintenance","Operations","Capital / SW","O&M","Total","Capital / SW","O&M","Total","Capital / SW","O&M","Total","Capital / SW","O&M","Total","Capital / SW","O&M","Total","Capital / SW","O&M","Total","Capital / SW","O&M","Total","Capital / SW","O&M","Total","Capital / SW","O&M","Total","Capital / SW","O&M","Total","Capital / SW","O&M","Total","Capital / SW","O&M","Total","Capital / SW","O&M","Total","Capital / SW","O&M","Total","Capital / SW","O&M","Total","Capital / SW","O&M","Total",null,"Capital","Capital maintenance","Operations","Capital","Capital maintenance","Operations","Capital","Capital maintenance","Operations","Capital","Capital maintenance","Operations","Capital","Capital maintenance","Operations","Capital","Capital maintenance","Operations","Capital","Capital maintenance","Operations","Capital","Capital maintenance","Operations","Capital","Capital maintenance","Operations","Capital","Capital maintenance","Operations","Capital","Capital maintenance","Operations",{"$f":"IIH6","v":"Year 2020"},"Ending OD","Water","Sanitation","Hygiene","WASH","Water","Sanitation","WatSan","Targets 6.1 + 6.2","Ending OD","Water","Sanitation","Hygiene","WASH","Water","Sanitation","WatSan","Targets 6.1 + 6.2"]
[{"$f":"'HOJA DE VERIFICACIÓN DE DATOS'!E4","v":"Kenya"},{"$f":"B8","v":11978.118},{"$f":"C8","v":12495.709000000001},13029.8,13580.933999999999,14149.974,14737.72,15344.459000000001,15970.474,16616.636999999999,17284.004000000001,17973.485000000001,18685.608,19420.669999999998,20179.063999999998,20961.082999999999,21766.906999999999,21766.906999999999,34770.498999999996,35463.743999999999,36149.683999999994,36828.434000000001,37500.939999999995,38167.885999999999,38828.594999999994,39482.434999999998,40130.266000000003,40773.324000000001,41412.423000000003,42047.466999999997,42677.921999999999,43303.572,43924.107000000004,44539.155999999995,44539.155999999995,0.69212295532226564,0.69212295532226564,0.69212295532226564,0.69212295532226564,0.69212295532226564,0.69212295532226564,2030,1,0.49306968688964842,0.49306968688964842,0.49306968688964842,0.49306968688964842,0.49306968688964842,0.49306968688964842,2030,1,0.3114119500353299,0.3114119500353299,0.3114119500353299,0.3114119500353299,0.3114119500353299,0.3114119500353299,2030,1,3.7215281040368905E-2,3.7215281040368905E-2,3.7215281040368905E-2,3.7215281040368905E-2,3.7215281040368905E-2,3.7215281040368905E-2,2030,{"$f":"BO8","v":1},0.31304315168332025,0.31304315168332025,0.31304315168332025,0.31304315168332025,0.31304315168332025,0.31304315168332025,2030,1,0.29055560300670424,0.29055560300670424,0.29055560300670424,0.29055560300670424,0.29055560300670424,0.29055560300670424,2030,1,0.84724596562693133,0.84724596562693133,0.84724596562693133,0.84724596562693133,0.84724596562693133,0.84724596562693133,2025,1,7.3999999999999996E-2,4.9000000000000002E-2,0.31298800000000004,0.31661400000000006,2030,1,0,0,0.33800000000000002,0.33800000000000002,2030,1,0.13100000000000001,0.13100000000000001,0.13100000000000001,0.13100000000000001,0.13100000000000001,0.13100000000000001,2030,1,6.6000000000000003E-2,6.6000000000000003E-2,6.6000000000000003E-2,6.6000000000000003E-2,6.6000000000000003E-2,6.6000000000000003E-2,2030,1,231.33185357775884,231.33185357775884,231.33185357775884,231.33185357775884,231.33185357775884,231.33185357775884,231.33185357775884,231.33185357775884,231.33185357775884,231.33185357775884,0,{"$f":"EA8","v":0},0,0,0,1156.6592678887941,1156.6592678887941,0,2313.3185357775887,231.33185357775884,231.33185357775884,231.33185357775884,231.33185357775884,231.33185357775884,231.33185357775884,231.33185357775884,231.33185357775884,231.33185357775884,231.33185357775884,0,0,0,0,0,1156.6592678887941,1156.6592678887941,0,2313.3185357775887,231.33185357775884,231.33185357775884,231.33185357775884,231.33185357775884,231.33185357775884,231.33185357775884,231.33185357775884,231.33185357775884,231.33185357775884,231.33185357775884,0,0,0,0,0,1156.6592678887941,1156.6592678887941,0,2313.3185357775887,231.33185357775884,231.33185357775884,231.33185357775884,231.33185357775884,231.33185357775884,231.33185357775884,231.33185357775884,231.33185357775884,231.33185357775884,231.33185357775884,0,0,0,0,0,1156.6592678887941,1156.6592678887941,0,{"$f":"GM8","v":2313.3185357775887},231.33185357775884,231.33185357775884,231.33185357775884,231.33185357775884,231.33185357775884,231.33185357775884,231.33185357775884,231.33185357775884,231.33185357775884,231.33185357775884,0,0,0,0,0,1156.6592678887941,1156.6592678887941,0,2313.3185357775887,1156.6592678887941,1156.6592678887941,1156.6592678887941,1156.6592678887941,1156.6592678887941,1156.6592678887941,1156.6592678887941,1156.6592678887941,1156.6592678887941,1156.6592678887941,0,0,0,0,0,5783.2963394439703,5783.2963394439703,0,11566.592678887944,514.39456801480401,514.39456801480401,514.39456801480401,514.39456801480401,514.39456801480401,514.39456801480401,514.39456801480401,514.39456801480401,514.39456801480401,514.39456801480401,0,0,0,0,0,2571.97284007402,2571.97284007402,0,5143.945680148041,514.39456801480401,514.39456801480401,514.39456801480401,514.39456801480401,514.39456801480401,514.39456801480401,{"$f":"IY8","v":514.39456801480401},514.39456801480401,514.39456801480401,514.39456801480401,0,0,0,0,0,2571.97284007402,2571.97284007402,0,5143.945680148041,514.39456801480401,514.39456801480401,514.39456801480401,514.39456801480401,514.39456801480401,514.39456801480401,514.39456801480401,514.39456801480401,514.39456801480401,514.39456801480401,0,0,0,0,0,2571.97284007402,2571.97284007402,0,5143.945680148041,514.39456801480401,514.39456801480401,514.39456801480401,514.39456801480401,514.39456801480401,514.39456801480401,514.39456801480401,514.39456801480401,514.39456801480401,514.39456801480401,0,0,0,0,0,2571.97284007402,2571.97284007402,0,5143.945680148041,514.39456801480401,514.39456801480401,514.39456801480401,514.39456801480401,514.39456801480401,514.39456801480401,514.39456801480401,514.39456801480401,514.39456801480401,514.39456801480401,0,0,0,{"$f":"LK8","v":0},0,2571.97284007402,2571.97284007402,0,5143.945680148041,2571.97284007402,2571.97284007402,2571.97284007402,2571.97284007402,2571.97284007402,2571.97284007402,2571.97284007402,2571.97284007402,2571.97284007402,2571.97284007402,0,0,0,0,0,12859.864200370101,12859.864200370101,0,25719.728400740205,362.99342279965458,362.99342279965458,362.99342279965458,362.99342279965458,362.99342279965458,1814.9671139982729,9074.8355699913645,343.06729365147396,343.06729365147396,343.06729365147396,343.06729365147396,343.06729365147396,343.06729365147396,343.06729365147396,343.06729365147396,343.06729365147396,343.06729365147396,0,0,0,0,0,1715.3364682573697,1715.3364682573697,0,3430.6729365147389,343.06729365147396,343.06729365147396,343.06729365147396,343.06729365147396,343.06729365147396,343.06729365147396,343.06729365147396,343.06729365147396,343.06729365147396,343.06729365147396,0,0,0,{"$f":"NW8","v":0},0,1715.3364682573697,1715.3364682573697,0,3430.6729365147389,343.06729365147396,343.06729365147396,343.06729365147396,343.06729365147396,343.06729365147396,343.06729365147396,343.06729365147396,343.06729365147396,343.06729365147396,343.06729365147396,0,0,0,0,0,1715.3364682573697,1715.3364682573697,0,3430.6729365147389,343.06729365147396,343.06729365147396,343.06729365147396,343.06729365147396,343.06729365147396,343.06729365147396,343.06729365147396,343.06729365147396,343.06729365147396,343.06729365147396,0,0,0,0,0,1715.3364682573697,1715.3364682573697,0,3430.6729365147389,343.06729365147396,343.06729365147396,343.06729365147396,343.06729365147396,343.06729365147396,343.06729365147396,343.06729365147396,343.06729365147396,343.06729365147396,343.06729365147396,0,0,0,0,0,1715.3364682573697,1715.3364682573697,0,3430.6729365147389,1715.3364682573697,{"$f":"QI8","v":1715.3364682573697},1715.3364682573697,1715.3364682573697,1715.3364682573697,1715.3364682573697,1715.3364682573697,1715.3364682573697,1715.3364682573697,1715.3364682573697,0,0,0,0,0,8576.6823412868489,8576.6823412868489,0,17153.364682573694,668.98525735557701,668.98525735557701,668.98525735557701,668.98525735557701,668.98525735557701,668.98525735557701,668.98525735557701,668.98525735557701,668.98525735557701,668.98525735557701,0,0,0,0,0,3344.9262867778853,3344.9262867778853,0,6689.8525735557714,668.98525735557701,668.98525735557701,668.98525735557701,668.98525735557701,668.98525735557701,668.98525735557701,668.98525735557701,668.98525735557701,668.98525735557701,668.98525735557701,0,0,0,0,0,3344.9262867778853,3344.9262867778853,0,6689.8525735557714,668.98525735557701,668.98525735557701,668.98525735557701,668.98525735557701,668.98525735557701,668.98525735557701,668.98525735557701,668.98525735557701,{"$f":"SU8","v":668.98525735557701},668.98525735557701,0,0,0,0,0,3344.9262867778853,3344.9262867778853,0,6689.8525735557714,668.98525735557701,668.98525735557701,668.98525735557701,668.98525735557701,668.98525735557701,668.98525735557701,668.98525735557701,668.98525735557701,668.98525735557701,668.98525735557701,0,0,0,0,0,3344.9262867778853,3344.9262867778853,0,6689.8525735557714,668.98525735557701,668.98525735557701,668.98525735557701,668.98525735557701,668.98525735557701,668.98525735557701,668.98525735557701,668.98525735557701,668.98525735557701,668.98525735557701,0,0,0,0,0,3344.9262867778853,3344.9262867778853,0,6689.8525735557714,3344.9262867778853,3344.9262867778853,3344.9262867778853,3344.9262867778853,3344.9262867778853,3344.9262867778853,3344.9262867778853,3344.9262867778853,3344.9262867778853,3344.9262867778853,0,0,0,0,0,{"$f":"VG8","v":16724.631433889426},16724.631433889426,0,33449.26286777886,396.72531360000005,396.72531360000005,396.72531360000005,396.72531360000005,396.72531360000005,396.72531360000005,396.72531360000005,396.72531360000005,396.72531360000005,396.72531360000005,0,0,0,0,0,1983.6265680000001,1983.6265680000001,0,3967.2531359999998,396.72531360000005,396.72531360000005,396.72531360000005,396.72531360000005,396.72531360000005,396.72531360000005,396.72531360000005,396.72531360000005,396.72531360000005,396.72531360000005,0,0,0,0,0,1983.6265680000001,1983.6265680000001,0,3967.2531359999998,396.72531360000005,396.72531360000005,396.72531360000005,396.72531360000005,396.72531360000005,396.72531360000005,396.72531360000005,396.72531360000005,396.72531360000005,396.72531360000005,0,0,0,0,0,1983.6265680000001,1983.6265680000001,0,3967.2531359999998,396.72531360000005,396.72531360000005,396.72531360000005,{"$f":"XS8","v":396.72531360000005},396.72531360000005,396.72531360000005,396.72531360000005,396.72531360000005,396.72531360000005,396.72531360000005,0,0,0,0,0,1983.6265680000001,1983.6265680000001,0,3967.2531359999998,396.72531360000005,396.72531360000005,396.72531360000005,396.72531360000005,396.72531360000005,396.72531360000005,396.72531360000005,396.72531360000005,396.72531360000005,396.72531360000005,0,0,0,0,0,1983.6265680000001,1983.6265680000001,0,3967.2531359999998,1983.6265680000001,1983.6265680000001,1983.6265680000001,1983.6265680000001,1983.6265680000001,1983.6265680000001,1983.6265680000001,1983.6265680000001,1983.6265680000001,1983.6265680000001,0,0,0,0,0,9918.1328400000002,9918.1328400000002,0,19836.26568,840.40151047999984,840.40151047999984,840.40151047999984,840.40151047999984,840.40151047999984,840.40151047999984,840.40151047999984,840.40151047999984,840.40151047999984,840.40151047999984,{"$f":"AAE8","v":0},0,0,0,0,4202.0075523999994,4202.0075523999994,0,8404.0151047999989,840.40151047999984,840.40151047999984,840.40151047999984,840.40151047999984,840.40151047999984,840.40151047999984,840.40151047999984,840.40151047999984,840.40151047999984,840.40151047999984,0,0,0,0,0,4202.0075523999994,4202.0075523999994,0,8404.0151047999989,840.40151047999984,840.40151047999984,840.40151047999984,840.40151047999984,840.40151047999984,840.40151047999984,840.40151047999984,840.40151047999984,840.40151047999984,840.40151047999984,0,0,0,0,0,4202.0075523999994,4202.0075523999994,0,8404.0151047999989,840.40151047999984,840.40151047999984,840.40151047999984,840.40151047999984,840.40151047999984,840.40151047999984,840.40151047999984,840.40151047999984,840.40151047999984,840.40151047999984,0,0,0,0,0,4202.0075523999994,4202.0075523999994,{"$f":"ACQ8","v":0},8404.0151047999989,840.40151047999984,840.40151047999984,840.40151047999984,840.40151047999984,840.40151047999984,840.40151047999984,840.40151047999984,840.40151047999984,840.40151047999984,840.40151047999984,0,0,0,0,0,4202.0075523999994,4202.0075523999994,0,8404.0151047999989,4202.0075523999994,4202.0075523999994,4202.0075523999994,4202.0075523999994,4202.0075523999994,4202.0075523999994,4202.0075523999994,4202.0075523999994,4202.0075523999994,4202.0075523999994,0,0,0,0,0,21010.037761999996,21010.037761999996,0,42020.075523999993,343.54809751450637,343.54809751450637,343.54809751450637,343.54809751450637,343.54809751450637,343.54809751450637,343.54809751450637,343.54809751450637,343.54809751450637,343.54809751450637,0,0,0,0,0,1717.7404875725319,1717.7404875725319,0,3435.4809751450643,343.54809751450637,343.54809751450637,343.54809751450637,343.54809751450637,343.54809751450637,{"$f":"AFC8","v":343.54809751450637},343.54809751450637,343.54809751450637,343.54809751450637,343.54809751450637,0,0,0,0,0,1717.7404875725319,1717.7404875725319,0,3435.4809751450643,343.54809751450637,343.54809751450637,343.54809751450637,343.54809751450637,343.54809751450637,343.54809751450637,343.54809751450637,343.54809751450637,343.54809751450637,343.54809751450637,0,0,0,0,0,1717.7404875725319,1717.7404875725319,0,3435.4809751450643,343.54809751450637,343.54809751450637,343.54809751450637,343.54809751450637,343.54809751450637,343.54809751450637,343.54809751450637,343.54809751450637,343.54809751450637,343.54809751450637,0,0,0,0,0,1717.7404875725319,1717.7404875725319,0,3435.4809751450643,343.54809751450637,343.54809751450637,343.54809751450637,343.54809751450637,343.54809751450637,343.54809751450637,343.54809751450637,343.54809751450637,343.54809751450637,343.54809751450637,0,0,{"$f":"AHO8","v":0},0,0,1717.7404875725319,1717.7404875725319,0,3435.4809751450643,1717.7404875725319,1717.7404875725319,1717.7404875725319,1717.7404875725319,1717.7404875725319,1717.7404875725319,1717.7404875725319,1717.7404875725319,1717.7404875725319,1717.7404875725319,0,0,0,0,0,8588.7024378626593,8588.7024378626593,0,17177.404875725322,862.37454791586458,862.37454791586458,862.37454791586458,862.37454791586458,862.37454791586458,862.37454791586458,862.37454791586458,862.37454791586458,862.37454791586458,862.37454791586458,0,0,0,0,0,4311.872739579323,4311.872739579323,0,8623.7454791586442,862.37454791586458,862.37454791586458,862.37454791586458,862.37454791586458,862.37454791586458,862.37454791586458,862.37454791586458,862.37454791586458,862.37454791586458,862.37454791586458,0,0,0,0,0,4311.872739579323,4311.872739579323,0,8623.7454791586442,{"$f":"AKA8","v":862.37454791586458},862.37454791586458,862.37454791586458,862.37454791586458,862.37454791586458,862.37454791586458,862.37454791586458,862.37454791586458,862.37454791586458,862.37454791586458,0,0,0,0,0,4311.872739579323,4311.872739579323,0,8623.7454791586442,862.37454791586458,862.37454791586458,862.37454791586458,862.37454791586458,862.37454791586458,862.37454791586458,862.37454791586458,862.37454791586458,862.37454791586458,862.37454791586458,0,0,0,0,0,4311.872739579323,4311.872739579323,0,8623.7454791586442,862.37454791586458,862.37454791586458,862.37454791586458,862.37454791586458,862.37454791586458,862.37454791586458,862.37454791586458,862.37454791586458,862.37454791586458,862.37454791586458,0,0,0,0,0,4311.872739579323,4311.872739579323,0,8623.7454791586442,4311.872739579323,4311.872739579323,4311.872739579323,4311.872739579323,4311.872739579323,4311.872739579323,4311.872739579323,{"$f":"AMM8","v":4311.872739579323},4311.872739579323,4311.872739579323,0,0,0,0,0,21559.363697896617,21559.363697896617,0,43118.727395793219,1710.0738519920001,1710.0738519920001,1710.0738519920001,1710.0738519920001,1710.0738519920001,1710.0738519920001,1710.0738519920001,1710.0738519920001,1710.0738519920001,1710.0738519920001,0,0,0,0,0,8550.3692599599999,8550.3692599599999,0,17100.73851992,3163.8410531999994,3163.8410531999994,3163.8410531999994,3163.8410531999994,3163.8410531999994,3163.8410531999994,3163.8410531999994,3163.8410531999994,3163.8410531999994,3163.8410531999994,0,0,0,0,0,15819.205265999997,15819.205265999997,0,31638.410531999994,{"$error":"#REF!"},{"$error":"#REF!"},{"$error":"#REF!"},62.507160986797338,3.1253580493398672,0,-20,5.2665231313019483,0,18.752148296039202,-10,2.4284889947677697,2.300263524314142,0,{"$f":"AOY8","v":0},9.99527565038386,29.776830692136208,1.4888415346068105,0,-10,4.049047592733638,0,8.9330492076408614,-5,2.063309237404733,1.4471539716378197,0,0,7.5595108017761898,42.8,2.14,0,-20,3.6061018683496679,0,18.752148296039202,-10,2.4284889947677697,2.3111999999999999,0,0,8.345790863117438,8.1,0.40500000000000003,0,-10,1.1014364100812091,0,2.4299999999999997,-5,0.56126875945169141,0.39366000000000001,0,0,2.0563651695329006,116.1,11.61,0,-20,10.247780810123189,0,34.83,-10,4.5106443460468562,20.7,0,0,35.458425156170044,43.9,4.3899999999999997,0,-20,3.8749145354384837,0,13.17,-10,1.7055752522950645,15.524999999999999,{"$f":"ARK8","v":0},0,21.105489787733546,1,671,134.20000000000002,0,-20,64.611331205944651,0,201.29999999999998,-10,26.069270940546428,51.801200000000001,0,0,142.48180214649108,1,43.625797612202234,4.362579761220224,0,-8,7.424848780265501,0,13.087739283660669,-4,3.690897340021476,2.8574897435992459,0,0,13.973235863886222,1,43.625797612202234,4.362579761220224,0,-8,7.424848780265501,0,7.3199999999999994,-4,2.0643266146573471,3.494426388737399,0,0,12.983601783660246,1,24.4,4.362579761220224,0,-8,4.4501985052668296,0,7.3199999999999994,-4,2.0643266146573471,1.6347999999999998,0,0,8.1493251199241765,24.4,2.181289880610112,0,-2,14.295547362620793,{"$f":"ATW8","v":0},7.3199999999999994,-1,7.6859999999999911,1.6347999999999998,0,0,23.616347362620782,158.6,15.86,0,-20,13.999121761288006,0,47.58,-10,6.1618276768564284,9.6587399999999999,0,0,29.819689438144437,70.279721494505466,7.0279721494505472,0,-20,6.2033693477363938,0,21.083916448351641,-10,2.7304636382509804,5.0250000868571414,0,0,13.958833072844516,56.305369438085428,5.6305369438085435,0,-20,4.9698973680836218,0,16.891610831425627,-10,2.1875408812056802,2.7195493438595264,0,0,9.8769875931488293,392.05808936053648,39.20580893605365,0,-20,34.605730961261564,0,117.61742680816094,-10,15.231994867321594,8.5468663480596963,0,0,58.384592176642855,8.6999999999999993,15.390272043126577,0,-6,{"$f":"AWI8","v":-10},3.7071626121064956,0,2.61,-3,0.95841435368754901,1.4,0,0,6.0655769657940439,1.1000000000000001,7.5293271381413698,0,-10,-10,1.1175373432628788,0,0.33,-5,7.6221683382328473E-2,1.4,0,0,2.5937590266452073,0.5,0.5,0.5,0.5,0.5,0.5,0.5,0.5,0.5,0.5,0.5,0.5,0.5,0.5,0.5,0.5,0.5,0.5,0.5,0.5,0.5,0.5,0.5,0.5,0.5,0.5,0.5,0.5,0.5,0.5,0.5,0.5,0.5,0.5,0.5,0.5,0.5,0.5,0.5,0.5,{"$f":"AYU8","v":0.5},0.5,0.5,0.5,0.5,0.5,0.5,0.5,0.5,0.5,0.5,0.5,0.5,0.5,0.5,0.5,0.5,0.5,0.5,0.5,1846.5422609199995,0,0,0,0,2264.6998450000001,{"$error":"#REF!"},{"$error":"#REF!"},37000,31000,185000,155000,2000000,53400,{"$error":"#REF!"},0.15,0.15,0.3,230,851.66666666666652,0.05,11207.81909658714,3616.3729547835583,12160.815619794168,12489.344898096377,12759.010128080021,12974.672445235072,13140.86349833436,13261.805806137943,13341.43192249916,13383.40247719754,13391.12315611399,13367.760680854281,0,0,0,0,0,63524.706589539994,66745.524042802906,0,130270.23063234291,11207.81909658714,3616.3729547835583,{"$f":"BBG8","v":12160.815619794168},12489.344898096377,12759.010128080021,12974.672445235072,13140.86349833436,13261.805806137943,13341.43192249916,13383.40247719754,13391.12315611399,13367.760680854281,0,0,0,0,0,63524.706589539994,66745.524042802906,0,130270.23063234291,11207.81909658714,3616.3729547835583,12160.815619794168,12489.344898096377,12759.010128080021,12974.672445235072,13140.86349833436,13261.805806137943,13341.43192249916,13383.40247719754,13391.12315611399,13367.760680854281,0,0,0,0,0,63524.706589539994,66745.524042802906,0,130270.23063234291,11207.81909658714,3616.3729547835583,12160.815619794168,12489.344898096377,12759.010128080021,12974.672445235072,13140.86349833436,13261.805806137943,13341.43192249916,13383.40247719754,13391.12315611399,13367.760680854281,0,0,0,0,0,63524.706589539994,66745.524042802906,0,130270.23063234291,11207.81909658714,3616.3729547835583,12160.815619794168,{"$f":"BDS8","v":12489.344898096377},12759.010128080021,12974.672445235072,13140.86349833436,13261.805806137943,13341.43192249916,13383.40247719754,13391.12315611399,13367.760680854281,0,0,0,0,0,63524.706589539994,66745.524042802906,0,130270.23063234291,56039.0954829357,18081.86477391779,60804.078098970844,62446.72449048188,63795.050640400106,64873.362226175363,65704.317491671798,66309.029030689722,66707.159612495801,66917.012385987706,66955.615780569948,66838.803404271399,0,0,0,0,0,317623.53294770001,333727.62021401455,0,651351.15316171455,13745.908843775598,2187.462900482954,15210.549063621176,15881.132650920716,16453.360093707328,16935.078046135754,17333.608891771211,17655.782881255134,17907.968398063105,18096.100457757264,18225.707540342089,18301.936849851358,0,0,0,0,0,81813.728746156179,90187.49612726894,0,172001.22487342515,13745.908843775598,2187.462900482954,15210.549063621176,15881.132650920716,{"$f":"BGE8","v":16453.360093707328},16935.078046135754,17333.608891771211,17655.782881255134,17907.968398063105,18096.100457757264,18225.707540342089,18301.936849851358,0,0,0,0,0,81813.728746156179,90187.49612726894,0,172001.22487342515,13745.908843775598,2187.462900482954,15210.549063621176,15881.132650920716,16453.360093707328,16935.078046135754,17333.608891771211,17655.782881255134,17907.968398063105,18096.100457757264,18225.707540342089,18301.936849851358,0,0,0,0,0,81813.728746156179,90187.49612726894,0,172001.22487342515,13745.908843775598,2187.462900482954,15210.549063621176,15881.132650920716,16453.360093707328,16935.078046135754,17333.608891771211,17655.782881255134,17907.968398063105,18096.100457757264,18225.707540342089,18301.936849851358,18329.578090109535,0,0,0,0,81813.728746156179,90187.49612726894,18329.578090109535,190330.80296353469,13745.908843775598,2187.462900482954,15210.549063621176,15881.132650920716,16453.360093707328,{"$f":"BIQ8","v":16935.078046135754},17333.608891771211,17655.782881255134,17907.968398063105,18096.100457757264,18225.707540342089,18301.936849851358,0,0,0,0,0,81813.728746156179,90187.49612726894,0,172001.22487342515,68729.544218877985,10937.314502414771,76052.745318105881,79405.663254603583,82266.800468536647,84675.390230678764,86668.044458856049,88278.914406275668,89539.84199031553,90480.502288786316,91128.537701710447,91509.684249256796,18329.578090109535,0,0,0,0,409068.64373078092,450937.48063634482,18329.578090109535,878335.70245723531,24953.72794036274,5803.8358552665122,27371.364683415344,28370.477549017094,29212.370221787351,29909.750491370825,30474.47239010557,30917.588687393079,31249.400320562265,31479.502934954806,31616.83069645608,31669.697530705638,0,0,0,0,0,145338.43533569618,156933.02017007186,0,302271.45550576807,24953.72794036274,5803.8358552665122,27371.364683415344,28370.477549017094,29212.370221787351,29909.750491370825,{"$f":"BLC8","v":30474.47239010557},30917.588687393079,31249.400320562265,31479.502934954806,31616.83069645608,31669.697530705638,0,0,0,0,0,145338.43533569618,156933.02017007186,0,302271.45550576807,24953.72794036274,5803.8358552665122,27371.364683415344,28370.477549017094,29212.370221787351,29909.750491370825,30474.47239010557,30917.588687393079,31249.400320562265,31479.502934954806,31616.83069645608,31669.697530705638,0,0,0,0,0,145338.43533569618,156933.02017007186,0,302271.45550576807,24953.72794036274,5803.8358552665122,27371.364683415344,28370.477549017094,29212.370221787351,29909.750491370825,30474.47239010557,30917.588687393079,31249.400320562265,31479.502934954806,31616.83069645608,31669.697530705638,18329.578090109535,0,0,0,0,145338.43533569618,156933.02017007186,18329.578090109535,320601.03359587758,24953.72794036274,5803.8358552665122,27371.364683415344,28370.477549017094,29212.370221787351,29909.750491370825,30474.47239010557,{"$f":"BNO8","v":30917.588687393079},31249.400320562265,31479.502934954806,31616.83069645608,31669.697530705638,0,0,0,0,0,145338.43533569618,156933.02017007186,0,302271.45550576807,124768.63970181369,29019.179276332561,136856.82341707672,141852.38774508546,146061.85110893677,149548.75245685413,152372.36195052785,154587.9434369654,156247.00160281133,157397.51467477402,158084.15348228038,158348.48765352819,18329.578090109535,0,0,0,0,726692.17667848093,784665.10085035942,18329.578090109535,1529686.8556189497,9648.8333961924855,9648.8333961924855,13032.222491423501,12411.640468022384,26710.053585558297,28360.844982882223,37731.970250858474,0,0,0,0,0,0,0,0,0,0,118246.73177874487,0,0,118246.73177874487,9648.8333961924855,9648.8333961924855,13032.222491423501,15633.915796813826,26710.053585558297,28360.844982882223,37731.970250858474,0,{"$f":"BQA8","v":0},0,0,0,0,0,0,0,0,121469.00710753632,0,0,121469.00710753632,9648.8333961924855,9648.8333961924855,13032.222491423501,15633.915796813826,26710.053585558297,28360.844982882223,37731.970250858474,0,0,0,0,0,0,0,0,0,0,121469.00710753632,0,0,121469.00710753632,9648.8333961924855,9648.8333961924855,13032.222491423501,15633.915796813826,26710.053585558297,28360.844982882223,37731.970250858474,0,0,0,0,0,0,0,0,0,0,121469.00710753632,0,0,121469.00710753632,9648.8333961924855,9648.8333961924855,13032.222491423501,15633.915796813826,26710.053585558297,28360.844982882223,37731.970250858474,0,0,{"$f":"BSM8","v":0},0,0,0,0,0,0,0,121469.00710753632,0,0,121469.00710753632,48244.166980962429,0,65161.112457117502,74947.30365527769,133550.26792779149,141804.22491441111,188659.85125429236,0,0,0,0,0,0,0,0,0,0,604122.76020889007,0,0,604122.76020889007,146350.51380019626,8231.6213761128365,160831.18837794577,166963.67900542408,172147.4263341903,176458.88099444492,179969.36394933704,182745.3816772452,184848.92296859674,186337.73837352189,187265.60327963653,187682.56554531955,0,0,0,0,0,856370.53866134211,928880.21184431994,0,1785250.7505056621,146350.51380019626,8231.6213761128365,160831.18837794577,166963.67900542408,172147.4263341903,176458.88099444492,179969.36394933704,182745.3816772452,184848.92296859674,186337.73837352189,{"$f":"BUY8","v":187265.60327963653},187682.56554531955,0,0,0,0,0,856370.53866134211,928880.21184431994,0,1785250.7505056621,146350.51380019626,8231.6213761128365,160831.18837794577,166963.67900542408,172147.4263341903,176458.88099444492,179969.36394933704,182745.3816772452,184848.92296859674,186337.73837352189,187265.60327963653,187682.56554531955,0,0,0,0,0,856370.53866134211,928880.21184431994,0,1785250.7505056621,146350.51380019626,8231.6213761128365,160831.18837794577,166963.67900542408,172147.4263341903,176458.88099444492,179969.36394933704,182745.3816772452,184848.92296859674,186337.73837352189,187265.60327963653,187682.56554531955,0,0,0,0,0,856370.53866134211,928880.21184431994,0,1785250.7505056621,146350.51380019626,8231.6213761128365,160831.18837794577,166963.67900542408,172147.4263341903,176458.88099444492,179969.36394933704,182745.3816772452,184848.92296859674,186337.73837352189,187265.60327963653,{"$f":"BXK8","v":187682.56554531955},0,0,0,0,0,856370.53866134211,928880.21184431994,0,1785250.7505056621,731752.56900098128,41158.106880564184,804155.94188972889,834818.39502712036,860737.13167095149,882294.40497222461,899846.81974668521,913726.90838622604,924244.61484298366,931688.69186760951,936328.0163981826,938412.82772659778,0,0,0,0,0,4281852.6933067106,4644401.0592215993,0,8926253.7525283098,25672.629405502896,25672.629405502896,28769.321894927663,30348.585127954691,31712.2057812038,32877.140147458762,33859.218619918021,34673.214471083047,35332.908634336862,35851.150712947259,36239.916428891069,36510.361712221282,0,0,0,0,0,157566.47157146293,178607.55195947952,0,336174.02353094245,25672.629405502896,25672.629405502896,28769.321894927663,30348.585127954691,31712.2057812038,32877.140147458762,33859.218619918021,34673.214471083047,35332.908634336862,35851.150712947259,36239.916428891069,36510.361712221282,{"$f":"BZW8","v":0},0,0,0,0,157566.47157146293,178607.55195947952,0,336174.02353094245,25672.629405502896,25672.629405502896,28769.321894927663,30348.585127954691,31712.2057812038,32877.140147458762,33859.218619918021,34673.214471083047,35332.908634336862,35851.150712947259,36239.916428891069,36510.361712221282,0,0,0,0,0,157566.47157146293,178607.55195947952,0,336174.02353094245,25672.629405502896,25672.629405502896,28769.321894927663,30348.585127954691,31712.2057812038,32877.140147458762,33859.218619918021,34673.214471083047,35332.908634336862,35851.150712947259,36239.916428891069,36510.361712221282,0,0,0,0,0,157566.47157146293,178607.55195947952,0,336174.02353094245,25672.629405502896,25672.629405502896,28769.321894927663,30348.585127954691,31712.2057812038,32877.140147458762,33859.218619918021,34673.214471083047,35332.908634336862,35851.150712947259,36239.916428891069,36510.361712221282,0,{"$f":"CCI8","v":0},0,0,0,157566.47157146293,178607.55195947952,0,336174.02353094245,128363.14702751448,128363.14702751448,143846.6094746383,151742.92563977346,158561.028906019,164385.70073729381,169296.0930995901,173366.07235541524,176664.54317168432,179255.75356473628,181199.58214445534,182551.80856110642,0,0,0,0,0,787832.35785731464,893037.75979739754,0,1680870.1176547122,172023.14320569916,33904.25078161573,189600.51027287345,197312.26413337878,203859.63211539411,209336.02114190368,213828.58256925506,217418.59614832824,220181.83160293361,222188.88908646913,223505.5197085276,224192.92725754084,0,0,0,0,0,1013937.010232805,1107487.7638037994,0,2121424.774036604,172023.14320569916,33904.25078161573,189600.51027287345,197312.26413337878,203859.63211539411,209336.02114190368,213828.58256925506,217418.59614832824,220181.83160293361,222188.88908646913,223505.5197085276,224192.92725754084,0,0,{"$f":"CEU8","v":0},0,0,1013937.010232805,1107487.7638037994,0,2121424.774036604,172023.14320569916,33904.25078161573,189600.51027287345,197312.26413337878,203859.63211539411,209336.02114190368,213828.58256925506,217418.59614832824,220181.83160293361,222188.88908646913,223505.5197085276,224192.92725754084,0,0,0,0,0,1013937.010232805,1107487.7638037994,0,2121424.774036604,172023.14320569916,33904.25078161573,189600.51027287345,197312.26413337878,203859.63211539411,209336.02114190368,213828.58256925506,217418.59614832824,220181.83160293361,222188.88908646913,223505.5197085276,224192.92725754084,0,0,0,0,0,1013937.010232805,1107487.7638037994,0,2121424.774036604,172023.14320569916,33904.25078161573,189600.51027287345,197312.26413337878,203859.63211539411,209336.02114190368,213828.58256925506,217418.59614832824,220181.83160293361,222188.88908646913,223505.5197085276,224192.92725754084,0,0,0,{"$f":"CHG8","v":0},0,1013937.010232805,1107487.7638037994,0,2121424.774036604,860115.71602849581,169521.25390807865,948002.55136436713,986561.32066689385,1019298.1605769705,1046680.1057095184,1069142.9128462754,1087092.9807416413,1100909.1580146679,1110944.4454323458,1117527.5985426379,1120964.6362877041,0,0,0,0,0,5069685.0511640254,5537438.8190189973,0,10607123.870183023,9557.2207310187041,0,10492.863405084137,10884.291503951974,11214.647395206355,11488.859887511448,11711.526864914003,11886.935627036695,12019.082042506172,12111.688582518156,12168.221297761411,12191.905798440643,6318.4378200579558,6564.6107221381371,6773.0110625234756,6946.678012844588,7088.4469518822352,55792.189056667921,60377.83334826307,33691.184569446392,149861.20697437739,9557.2207310187041,0,10492.863405084137,10884.291503951974,11214.647395206355,11488.859887511448,11711.526864914003,11886.935627036695,12019.082042506172,12111.688582518156,12168.221297761411,12191.905798440643,6318.4378200579558,6564.6107221381371,6773.0110625234756,6946.678012844588,{"$f":"CJS8","v":7088.4469518822352},55792.189056667921,60377.83334826307,33691.184569446392,149861.20697437739,9557.2207310187041,0,10492.863405084137,10884.291503951974,11214.647395206355,11488.859887511448,11711.526864914003,11886.935627036695,12019.082042506172,12111.688582518156,12168.221297761411,12191.905798440643,6318.4378200579558,6564.6107221381371,6773.0110625234756,6946.678012844588,7088.4469518822352,55792.189056667921,60377.83334826307,33691.184569446392,149861.20697437739,9557.2207310187041,0,10492.863405084137,10884.291503951974,11214.647395206355,11488.859887511448,11711.526864914003,11886.935627036695,12019.082042506172,12111.688582518156,12168.221297761411,12191.905798440643,6318.4378200579558,6564.6107221381371,6773.0110625234756,6946.678012844588,7088.4469518822352,55792.189056667921,60377.83334826307,33691.184569446392,149861.20697437739,9557.2207310187041,0,10492.863405084137,10884.291503951974,11214.647395206355,11488.859887511448,11711.526864914003,11886.935627036695,12019.082042506172,12111.688582518156,12168.221297761411,12191.905798440643,6318.4378200579558,6564.6107221381371,6773.0110625234756,6946.678012844588,7088.4469518822352,{"$f":"CME8","v":55792.189056667921},60377.83334826307,33691.184569446392,149861.20697437739,47786.103655093524,0,52464.317025420685,54421.457519759868,56073.236976031774,57444.299437557238,58557.634324570019,59434.67813518348,60095.410212530856,60558.442912590777,60841.106488807054,60959.52899220321,31592.189100289779,32823.053610690687,33865.055312617376,34733.390064222942,35442.234759411178,278960.94528333959,301889.16674131539,168455.92284723197,749306.03487188695,7252.0995613200621,0,8492.7184938378996,9269.8451679578429,9953.7019128104967,10551.409386797459,11069.621586815572,11514.554145592056,11892.010992224714,12207.409467646114,12465.803981707144,12671.908293822122,0,0,0,0,0,49337.296548219267,60751.686880992143,0,110088.98342921141,7252.0995613200621,0,8492.7184938378996,9269.8451679578429,9953.7019128104967,10551.409386797459,11069.621586815572,11514.554145592056,11892.010992224714,12207.409467646114,12465.803981707144,12671.908293822122,0,0,0,0,0,49337.296548219267,{"$f":"COQ8","v":60751.686880992143},0,110088.98342921141,7252.0995613200621,0,8492.7184938378996,9269.8451679578429,9953.7019128104967,10551.409386797459,11069.621586815572,11514.554145592056,11892.010992224714,12207.409467646114,12465.803981707144,12671.908293822122,0,0,0,0,0,49337.296548219267,60751.686880992143,0,110088.98342921141,7252.0995613200621,0,8492.7184938378996,9269.8451679578429,9953.7019128104967,10551.409386797459,11069.621586815572,11514.554145592056,11892.010992224714,12207.409467646114,12465.803981707144,12671.908293822122,0,0,0,0,0,49337.296548219267,60751.686880992143,0,110088.98342921141,7252.0995613200621,0,8492.7184938378996,9269.8451679578429,9953.7019128104967,10551.409386797459,11069.621586815572,11514.554145592056,11892.010992224714,12207.409467646114,12465.803981707144,12671.908293822122,0,0,0,0,0,49337.296548219267,60751.686880992143,{"$f":"CRC8","v":0},110088.98342921141,36260.49780660031,0,42463.592469189498,46349.225839789215,49768.509564052481,52757.046933987294,55348.10793407786,57572.770727960276,59460.054961123569,61037.047338230564,62329.019908535716,63359.541469110613,0,0,0,0,0,246686.48274109635,303758.43440496072,0,550444.91714605701,16809.320292338765,0,18985.581898922035,20154.136671909815,21168.349308016852,22040.269274308906,22781.148451729576,23401.489772628753,23911.093034730886,24319.09805016427,24634.025279468555,24863.814092262764,6318.4378200579558,6564.6107221381371,6773.0110625234756,6946.678012844588,7088.4469518822352,105129.48560488717,121129.52022925521,33691.184569446392,259950.19040358879,16809.320292338765,0,18985.581898922035,20154.136671909815,21168.349308016852,22040.269274308906,22781.148451729576,23401.489772628753,23911.093034730886,24319.09805016427,24634.025279468555,24863.814092262764,6318.4378200579558,6564.6107221381371,6773.0110625234756,6946.678012844588,7088.4469518822352,105129.48560488717,121129.52022925521,33691.184569446392,{"$f":"CTO8","v":259950.19040358879},16809.320292338765,0,18985.581898922035,20154.136671909815,21168.349308016852,22040.269274308906,22781.148451729576,23401.489772628753,23911.093034730886,24319.09805016427,24634.025279468555,24863.814092262764,6318.4378200579558,6564.6107221381371,6773.0110625234756,6946.678012844588,7088.4469518822352,105129.48560488717,121129.52022925521,33691.184569446392,259950.19040358879,16809.320292338765,0,18985.581898922035,20154.136671909815,21168.349308016852,22040.269274308906,22781.148451729576,23401.489772628753,23911.093034730886,24319.09805016427,24634.025279468555,24863.814092262764,6318.4378200579558,6564.6107221381371,6773.0110625234756,6946.678012844588,7088.4469518822352,105129.48560488717,121129.52022925521,33691.184569446392,259950.19040358879,16809.320292338765,0,18985.581898922035,20154.136671909815,21168.349308016852,22040.269274308906,22781.148451729576,23401.489772628753,23911.093034730886,24319.09805016427,24634.025279468555,24863.814092262764,6318.4378200579558,6564.6107221381371,6773.0110625234756,6946.678012844588,7088.4469518822352,105129.48560488717,121129.52022925521,33691.184569446392,259950.19040358879,{"$f":"CWA8","v":84046.601461693834},0,94927.909494610183,100770.68335954909,105841.74654008425,110201.34637154453,113905.74225864788,117007.44886314376,119555.46517365443,121595.49025082134,123170.12639734277,124319.07046131382,31592.189100289779,32823.053610690687,33865.055312617376,34733.390064222942,35442.234759411178,525647.428024436,605647.60114627611,168455.92284723197,1299750.9520179438,43874.52753357761,0,52535.596435776839,58282.538417120093,63363.024254127289,67827.494346074571,71723.096483110494,75093.885050755067,77981.008728775647,80422.887328502286,82455.378377396089,84111.934026330593,0,0,0,0,0,313731.74993620929,400065.09351175965,0,713796.84344796895,43874.52753357761,0,52535.596435776839,58282.538417120093,63363.024254127289,67827.494346074571,71723.096483110494,75093.885050755067,77981.008728775647,80422.887328502286,82455.378377396089,84111.934026330593,0,0,0,0,0,313731.74993620929,400065.09351175965,0,713796.84344796895,43874.52753357761,{"$f":"CYM8","v":0},52535.596435776839,58282.538417120093,63363.024254127289,67827.494346074571,71723.096483110494,75093.885050755067,77981.008728775647,80422.887328502286,82455.378377396089,84111.934026330593,0,0,0,0,0,313731.74993620929,400065.09351175965,0,713796.84344796895,43874.52753357761,0,52535.596435776839,58282.538417120093,63363.024254127289,67827.494346074571,71723.096483110494,75093.885050755067,77981.008728775647,80422.887328502286,82455.378377396089,84111.934026330593,0,0,0,0,0,313731.74993620929,400065.09351175965,0,713796.84344796895,43874.52753357761,0,52535.596435776839,58282.538417120093,63363.024254127289,67827.494346074571,71723.096483110494,75093.885050755067,77981.008728775647,80422.887328502286,82455.378377396089,84111.934026330593,0,0,0,0,0,313731.74993620929,400065.09351175965,0,713796.84344796895,219372.63766788805,0,{"$f":"DAY8","v":262677.98217888421},291412.69208560046,316815.12127063645,339137.47173037287,358615.48241555248,375469.42525377532,389905.04364387825,402114.4366425114,412276.89188698045,420559.67013165297,0,0,0,0,0,1568658.7496810465,2000325.4675587984,0,3568984.2172398446,41644.066918857097,0,56503.276462385336,67964.272386584344,78205.61954597896,87317.486312899287,95384.219239101643,102484.69305144138,108692.64051603203,114076.96329453589,118702.02485486928,122627.92644053479,0,0,0,0,0,385374.87394694955,566584.24815741333,0,951959.12210436282,41644.066918857097,0,56503.276462385336,67964.272386584344,78205.61954597896,87317.486312899287,95384.219239101643,102484.69305144138,108692.64051603203,114076.96329453589,118702.02485486928,122627.92644053479,0,0,0,0,0,385374.87394694955,566584.24815741333,0,951959.12210436282,41644.066918857097,0,56503.276462385336,{"$f":"DDK8","v":67964.272386584344},78205.61954597896,87317.486312899287,95384.219239101643,102484.69305144138,108692.64051603203,114076.96329453589,118702.02485486928,122627.92644053479,0,0,0,0,0,385374.87394694955,566584.24815741333,0,951959.12210436282,41644.066918857097,0,56503.276462385336,67964.272386584344,78205.61954597896,87317.486312899287,95384.219239101643,102484.69305144138,108692.64051603203,114076.96329453589,118702.02485486928,122627.92644053479,0,0,0,0,0,385374.87394694955,566584.24815741333,0,951959.12210436282,41644.066918857097,0,56503.276462385336,67964.272386584344,78205.61954597896,87317.486312899287,95384.219239101643,102484.69305144138,108692.64051603203,114076.96329453589,118702.02485486928,122627.92644053479,0,0,0,0,0,385374.87394694955,566584.24815741333,0,951959.12210436282,208220.33459428549,0,282516.38231192669,339821.36193292169,{"$f":"DFW8","v":391028.0977298948},436587.43156449642,476921.0961955082,512423.46525720693,543463.20258016011,570384.81647267949,593510.1242743464,613139.63220267394,0,0,0,0,0,1926874.3697347478,2832921.2407870665,0,4759795.6105218148,85518.594452434714,0,109038.87289816217,126246.81080370443,141568.64380010625,155144.98065897386,167107.31572221214,177578.57810219645,186673.64924480766,194499.85062303819,201157.40323226538,206739.86046686539,0,0,0,0,0,699106.6238831589,966649.3416691731,0,1665755.9655523319,85518.594452434714,0,109038.87289816217,126246.81080370443,141568.64380010625,155144.98065897386,167107.31572221214,177578.57810219645,186673.64924480766,194499.85062303819,201157.40323226538,206739.86046686539,0,0,0,0,0,699106.6238831589,966649.3416691731,0,1665755.9655523319,85518.594452434714,0,109038.87289816217,126246.81080370443,141568.64380010625,{"$f":"DII8","v":155144.98065897386},167107.31572221214,177578.57810219645,186673.64924480766,194499.85062303819,201157.40323226538,206739.86046686539,0,0,0,0,0,699106.6238831589,966649.3416691731,0,1665755.9655523319,85518.594452434714,0,109038.87289816217,126246.81080370443,141568.64380010625,155144.98065897386,167107.31572221214,177578.57810219645,186673.64924480766,194499.85062303819,201157.40323226538,206739.86046686539,0,0,0,0,0,699106.6238831589,966649.3416691731,0,1665755.9655523319,85518.594452434714,0,109038.87289816217,126246.81080370443,141568.64380010625,155144.98065897386,167107.31572221214,177578.57810219645,186673.64924480766,194499.85062303819,201157.40323226538,206739.86046686539,0,0,0,0,0,699106.6238831589,966649.3416691731,0,1665755.9655523319,427592.97226217354,0,545194.3644908109,631234.05401852215,707843.21900053124,775724.90329486923,{"$f":"DKU8","v":835536.57861106074},887892.89051098225,933368.2462240383,972499.25311519089,1005787.0161613268,1033699.3023343269,0,0,0,0,0,3495533.1194157945,4833246.7083458649,0,8328779.8277616594,215270.6748384308,0,235429.05225555177,230533.58106546823,231705.26327337604,232242.60481507613,232203.36221159535,231641.22977711936,230606.09552866692,229144.28193476747,227298.7723667527,225109.42406840195,0,0,0,0,0,1162113.8636210675,1143799.8036757084,0,2305913.6672967756,780202.89473600453,0,825581.79014469776,783589.59511431144,765580.19495422975,747509.1286073206,729423.1066858446,711364.53100494586,693371.79902452789,675479.5890671768,657719.12745264731,640118.43862438307,0,0,0,0,0,3851683.8155064043,3378053.4851736808,0,7229737.3006800851,995473.56957443536,0,1061010.8424002496,1014123.1761797797,997285.45822760579,979751.7334223967,961626.46889744001,{"$f":"DNG8","v":943005.76078206522},923977.89455319475,904623.8710019443,885017.89981940005,865227.86269278498,0,0,0,0,0,5013797.6791274715,4521853.2888493892,0,9535650.9679768588,63524.706589539994,66745.524042802906,0,130270.23063234291,13027.02306323429,63524.706589539994,66745.524042802906,0,130270.23063234291,13027.02306323429,63524.706589539994,66745.524042802906,0,130270.23063234291,13027.02306323429,63524.706589539994,66745.524042802906,0,130270.23063234291,13027.02306323429,63524.706589539994,66745.524042802906,0,130270.23063234291,13027.02306323429,317623.53294770001,333727.62021401455,0,651351.15316171455,65135.115316171454,81813.728746156179,90187.49612726894,0,172001.22487342515,17200.122487342516,81813.728746156179,90187.49612726894,0,172001.22487342515,17200.122487342516,81813.728746156179,90187.49612726894,0,172001.22487342515,17200.122487342516,81813.728746156179,90187.49612726894,18329.578090109535,190330.80296353469,19033.08029635347,{"$f":"DPS8","v":81813.728746156179},90187.49612726894,0,172001.22487342515,17200.122487342516,409068.64373078092,450937.48063634482,18329.578090109535,878335.70245723531,87833.570245723531,145338.43533569618,156933.02017007186,0,302271.45550576807,30227.145550576806,145338.43533569618,156933.02017007186,0,302271.45550576807,30227.145550576806,145338.43533569618,156933.02017007186,0,302271.45550576807,30227.145550576806,145338.43533569618,156933.02017007186,18329.578090109535,320601.03359587758,32060.10335958776,145338.43533569618,156933.02017007186,0,302271.45550576807,30227.145550576806,726692.17667848093,784665.1008503593,18329.578090109535,1529686.85561895,152968.68556189499,856370.53866134211,928880.21184431994,0,1785250.7505056621,178525.0750505662,856370.53866134211,928880.21184431994,0,1785250.7505056621,178525.0750505662,856370.53866134211,928880.21184431994,0,1785250.7505056621,178525.0750505662,856370.53866134211,928880.21184431994,0,1785250.7505056621,178525.0750505662,856370.53866134211,928880.21184431994,0,1785250.7505056621,{"$f":"DSE8","v":178525.0750505662},4281852.6933067106,4644401.0592215993,0,8926253.7525283098,892625.37525283103,157566.47157146293,178607.55195947952,0,336174.02353094245,33617.402353094243,157566.47157146293,178607.55195947952,0,336174.02353094245,33617.402353094243,157566.47157146293,178607.55195947952,0,336174.02353094245,33617.402353094243,157566.47157146293,178607.55195947952,0,336174.02353094245,33617.402353094243,157566.47157146293,178607.55195947952,0,336174.02353094245,33617.402353094243,787832.35785731464,893037.75979739754,0,1680870.1176547122,168087.01176547122,1013937.010232805,1107487.7638037994,0,2121424.7740366044,212142.47740366045,1013937.010232805,1107487.7638037994,0,2121424.7740366044,212142.47740366045,1013937.010232805,1107487.7638037994,0,2121424.7740366044,212142.47740366045,1013937.010232805,1107487.7638037994,0,2121424.7740366044,212142.47740366045,1013937.010232805,1107487.7638037994,0,2121424.7740366044,212142.47740366045,5069685.0511640254,5537438.8190189973,0,{"$f":"DUQ8","v":10607123.870183023},1060712.3870183022,55792.189056667921,60377.83334826307,33691.184569446392,149861.20697437739,14986.120697437738,55792.189056667921,60377.83334826307,33691.184569446392,149861.20697437739,14986.120697437738,55792.189056667921,60377.83334826307,33691.184569446392,149861.20697437739,14986.120697437738,55792.189056667921,60377.83334826307,33691.184569446392,149861.20697437739,14986.120697437738,55792.189056667921,60377.83334826307,33691.184569446392,149861.20697437739,14986.120697437738,278960.94528333959,301889.16674131539,168455.92284723197,749306.03487188695,74930.603487188695,49337.296548219267,60751.686880992143,0,110088.98342921141,11008.89834292114,49337.296548219267,60751.686880992143,0,110088.98342921141,11008.89834292114,49337.296548219267,60751.686880992143,0,110088.98342921141,11008.89834292114,49337.296548219267,60751.686880992143,0,110088.98342921141,11008.89834292114,49337.296548219267,60751.686880992143,0,110088.98342921141,11008.89834292114,246686.48274109635,303758.43440496072,0,550444.91714605701,55044.491714605698,105129.48560488719,121129.52022925521,{"$f":"DXC8","v":33691.184569446392},259950.19040358881,25995.019040358879,105129.48560488719,121129.52022925521,33691.184569446392,259950.19040358881,25995.019040358879,105129.48560488719,121129.52022925521,33691.184569446392,259950.19040358881,25995.019040358879,105129.48560488719,121129.52022925521,33691.184569446392,259950.19040358881,25995.019040358879,105129.48560488719,121129.52022925521,33691.184569446392,259950.19040358881,25995.019040358879,525647.42802443588,605647.60114627611,168455.92284723197,1299750.9520179438,129975.09520179439,975687.43430755008,1056003.5692353859,33691.184569446392,2065382.1881123823,206538.21881123821,975687.43430755008,1056003.5692353859,33691.184569446392,2065382.1881123823,206538.21881123821,975687.43430755008,1056003.5692353859,33691.184569446392,2065382.1881123823,206538.21881123821,975687.43430755008,1056003.5692353859,33691.184569446392,2065382.1881123823,206538.21881123821,975687.43430755008,1056003.5692353859,33691.184569446392,2065382.1881123823,206538.21881123821,4878437.1715377504,5280017.8461769288,168455.92284723197,10326910.940561911,1032691.0940561912,288717.49686583836,329546.7349677406,0,618264.23183357902,61826.423183357903,288717.49686583836,{"$f":"DZO8","v":329546.7349677406},0,618264.23183357902,61826.423183357903,288717.49686583836,329546.7349677406,0,618264.23183357902,61826.423183357903,288717.49686583836,329546.7349677406,18329.578090109535,636593.80992368853,63659.380992368853,288717.49686583836,329546.7349677406,0,618264.23183357902,61826.423183357903,1443587.4843291917,1647733.6748387031,18329.578090109535,3109650.7372580045,310965.07372580044,1264404.9311733884,1385550.3042031266,33691.184569446392,2683646.4199459613,268364.64199459611,1264404.9311733884,1385550.3042031266,33691.184569446392,2683646.4199459613,268364.64199459611,1264404.9311733884,1385550.3042031266,33691.184569446392,2683646.4199459613,268364.64199459611,1264404.9311733884,1385550.3042031266,52020.762659555927,2701975.9980360707,270197.5998036071,1264404.9311733884,1385550.3042031266,33691.184569446392,2683646.4199459613,268364.64199459611,6322024.6558669424,6927751.521015632,186785.50093734151,13436561.677819915,1343656.1677819917,0,0,0,0,0,0,0,0,0,0,{"$f":"ECA8","v":0},0,0,0,0,0,0,0,0,0,0,0,0,0,0,0,0,0,0,0,0,0,0,0,0,0,0,0,0,0,0,0,0,0,0,0,0,0,0,0,0,0,0,0,0,0,0,0,0,0,0,0,0,0,0,0,0,0,0,0,0,0,0,0,{"$f":"EEM8","v":0},0,0,0,0,0,0,0,0,0,0,0,0,0,0,0,0,0,0,0,0,0,0,0,0,0,0,0,0,0,0,0,0,0,0,0,0,0,0,0,0,0,0,0,0,0,0,0,0,0,0,0,0,0,0,0,0,0,0,0,0,0,0,0,{"$f":"EGY8","v":0},0,0,0,0,0,0,0,0,0,0,0,0,0,0,0,0,0,0,0,0,0,0,0,0,0,0,0,0,0,0,0,0,0,0,0,0,0,0,0,0,0,0,0,0,0,0,0,0,0,0,0,0,0,0,0,0,0,0,0,0,0,0,0,{"$f":"EJK8","v":0},0,0,0,0,0,0,0,0,0,0,0,0,0,0,0,0,0,0,0,0,0,0,0,0,0,0,0,0,0,0,0,0,0,0,0,0,0,0,0,0,0,0,0,0,0,0,0,0,0,0,0,0,0,0,0,0,0,0,0,0,0,0,0,{"$f":"ELW8","v":0},0,0,0,0,0,0,0,0,0,0,0,0,0,0,0,0,0,0,0,0,0,0,0,0,0,0,0,0,0,0,0,0,0,0,0,0,0,0,0,0,0,0,0,0,0,0,0,0,0,0,0,0,0,0,0,0,0,0,0,0,0,0,0,{"$f":"EOI8","v":0},0,0,0,0,0,0,0,0,0,0,0,0,0,0,0,0,0,0,0,0,0,0,0,0,0,0,0,0,0,0,0,0,0,0,0,0,0,0,0,0,0,0,0,0,0,0,0,0,0,0,0,0,0,0,0,0,0,0,0,0,0,0,0,{"$f":"EQU8","v":0},0,0,0,0,0,0,0,0,0,0,0,0,0,0,0,0,0,0,0,0,0,0,0,0,0,0,0,0,0,0,0,0,0,0,0,0,0,0,0,0,0,0,0,0,0,0,0,0,0,0,0,0,0,0,0,0,0,0,0,0,0,0,0,{"$f":"ETG8","v":0},0,0,0,0,0,0,0,0,0,0,0,0,0,0,0,0,0,0,0,0,0,0,0,0,0,0,0,0,0,0,0,0,0,0,0,0,0,0,0,0,0,0,0,0,0,0,0,0,0,0,0,0,0,0,0,0,0,0,0,0,0,0,0,{"$f":"EVS8","v":0},0,0,0,0,0,0,0,0,0,0,0,0,0,0,0,0,0,0,0,0,0,0,0,0,0,0,0,0,0,0,0,0,0,0,0,0,0,0,0,0,0,0,0,0,0,0,0,0,0,0,0,0,0,0,0,0,0,0,0,0,0,0,0,{"$f":"EYE8","v":0},0,0,0,0,0,0,0,0,0,0,0,0,0,0,0,0,0,0,0,0,0,0,0,0,0,0,0,0,0,0,0,0,0,0,0,0,0,0,0,0,0,0,0,0,0,0,0,0,0,0,0,0,0,0,0,0,0,0,0,0,0,0,0,{"$f":"FAQ8","v":0},0,0,0,0,0,0,0,0,0,0,0,0,0,0,0,0,0,0,0,0,0,0,0,0,0,0,0,0,0,0,0,0,0,0,0,0,0,0,0,0,0,0,0,0,0,0,0,0,0,0,0,0,0,0,0,0,0,0,0,0,0,0,0,{"$f":"FDC8","v":0},0,0,0,0,0,0,0,0,0,0,0,0,0,0,0,0,0,0,0,0,0,0,0,0,0,0,0,0,0,0,0,0,0,0,0,0,0,0,0,0,0,0,0,0,0,0,0,0,0,0,0,0,0,0,0,0,0,0,0,0,0,0,0,{"$f":"FFO8","v":0},0,0,0,0,0,0,0,0,0,0,0,0,0,0,0,0,0,0,0,0,0,0,0,0,0,0,0,0,0,0,0,0,0,0,0,0,0,0,0,0,0,0,0,0,0,0,0,0,0,0,0,0,0,0,0,0,0,0,0,0,0,0,0,{"$f":"FIA8","v":0},0,0,0,0,0,0,0,0,0,0,0,0,0,0,0,0,0,0,0,0,0,0,0,0,0,0,0,0,0,0,0,0,0,0,0,0,0,0,0,0,0,0,0,0,0,0,0,0,0,0,0,0,0,0,0,0,0,0,0,0,0,0,0,{"$f":"FKM8","v":0},0,0,0,0,0,0,0,0,0,0,0,0,0,0,0,0,0,0,0,0,0,0,0,0,0,0,0,0,0,0,0,0,0,0,0,0,0,0,0,0,0,0,0,0,0,0,0,0,0,0,0,0,0,0,0,0,0,0,0,0,0,0,0,{"$f":"FMY8","v":0},0,0,0,0,0,0,0,0,0,0,0,0,0,0,0,0,0,0,0,0,0,0,0,0,0,0,0,0,0,0,0,0,0,0,0,0,0,0,0,0,0,0,0,0,0,0,0,0,0,0,0,0,0,0,0,0,0,0,0,0,0,0,0,{"$f":"FPK8","v":0},0,0,0,0,0,0,0,0,0,0,0,0,0,0,0,0,0,0,0,0,0,0,0,0,0,0,0,0,0,0,0,0,0,0,0,0,0,0,0,0,0,0,0,0,0,0,0,0,0,0,0,0,0,0,0,0,0,0,0,0,0,0,0,{"$f":"FRW8","v":0},0,0,0,0,0,0,0,0,0,0,0,0,0,0,0,0,0,0,0,0,0,0,0,0,0,0,0,0,0,0,0,0,0,0,0,0,0,0,0,0,0,0,0,0,0,0,0,0,0,0,0,0,0,0,0,0,0,0,0,0,0,0,0,{"$f":"FUI8","v":0},0,0,0,0,0,0,0,0,0,0,0,0,0,0,0,0,0,0,0,0,0,0,0,0,0,0,0,0,0,0,0,0,0,0,0,0,0,0,0,0,0,0,0,0,0,0,0,0,0,0,0,0,0,0,0,0,0,0,0,0,0,0,0,{"$f":"FWU8","v":0},0,0,0,0,0,0,0,0,0,0,0,0,0,0,0,0,0,0,0,0,0,0,0,0,0,0,0,0,0,0,0,0,0,0,0,0,0,0,0,0,0,0,0,0,0,0,0,0,0,0,0,0,0,0,0,0,0,0,0,0,0,0,0,{"$f":"FZG8","v":0},0,0,0,0,0,0,0,0,0,0,0,0,0,0,0,0,0,0,0,0,0,0,0,0,0,0,0,0,0,0,0,0,0,0,0,0,0,0,0,0,0,0,0,0,0,0,0,0,0,0,0,0,0,0,0,0,0,0,0,0,0,0,0,{"$f":"GBS8","v":0},0,0,0,0,0,0,0,0,0,0,0,0,0,0,0,0,0,0,0,0,0,0,0,0,0,0,0,0,0,0,0,0,0,0,0,0,0,0,0,0,0,0,0,0,0,0,0,0,0,0,0,0,0,0,0,0,0,0,0,0,0,0,0,{"$f":"GEE8","v":0},0,0,0,0,0,0,0,0,0,0,0,0,0,0,0,0,0,0,0,0,0,0,0,0,0,0,0,0,0,0,0,0,0,0,0,0,0,0,0,0,0,0,0,0,0,0,0,0,0,0,0,0,0,0,0,0,0,0,0,0,0,0,0,{"$f":"GGQ8","v":0},0,0,0,0,0,0,0,0,0,0,0,0,0,0,0,0,0,0,0,0,0,0,0,0,0,0,0,0,0,0,0,0,0,0,0,0,0,0,0,0,0,0,0,0,0,0,0,0,0,0,0,0,0,0,0,0,0,0,0,0,0,0,0,{"$f":"GJC8","v":0},0,0,0,0,0,0,0,0,0,0,0,0,0,0,0,0,0,0,0,0,0,0,0,0,0,0,0,0,0,0,0,0,0,0,0,0,0,0,0,0,0,0,0,0,0,0,0,0,0,0,0,0,0,0,0,0,0,0,0,0,0,0,0,{"$f":"GLO8","v":0},0,0,0,0,0,0,0,0,0,0,0,0,0,0,0,0,0,0,0,0,0,0,0,0,0,0,0,0,0,0,0,0,0,0,0,0,0,0,0,0,0,0,0,0,0,0,0,0,0,0,0,0,0,0,0,0,0,0,0,0,0,0,0,{"$f":"GOA8","v":0},0,0,0,0,0,0,0,0,0,0,0,0,0,0,0,0,0,0,0,0,0,0,0,0,0,0,0,0,0,0,0,0,0,0,0,0,0,0,0,0,0,0,0,0,0,0,0,0,0,0,0,0,0,0,0,0,0,0,0,0,0,0,0,{"$f":"GQM8","v":0},0,0,0,0,0,0,0,0,0,0,0,0,0,0,0,0,0,0,0,0,0,0,0,0,0,0,0,0,0,0,0,0,0,0,0,0,0,0,0,0,0,0,0,0,0,0,0,0,0,0,0,0,0,0,0,0,0,0,0,0,0,0,0,{"$f":"GSY8","v":0},0,0,0,0,0,0,0,0,0,0,0,0,0,0,0,0,0,0,0,0,0,0,0,0,0,0,0,0,0,0,0,0,0,0,0,0,0,0,0,0,0,0,0,0,0,0,0,0,0,0,0,0,0,0,0,0,0,0,0,0,0,0,0,{"$f":"GVK8","v":0},0,0,0,0,0,0,0,0,0,0,0,0,0,0,0,0,0,0,0,0,0,0,0,0,0,0,0,0,0,0,0,0,0,0,0,0,0,0,0,0,0,0,0,0,0,0,0,0,0,0,0,0,0,0,0,0,0,0,0,0,0,0,0,{"$f":"GXW8","v":0},0,0,0,0,0,0,0,0,0,0,0,0,0,0,0,0,0,0,0,0,0,0,0,0,0,0,0,0,0,0,0,0,0,0,0,0,0,0,0,0,0,0,0,0,0,0,0,0,0,0,0,0,0,0,0,0,0,0,0,0,0,0,0,{"$f":"HAI8","v":0},0,0,0,0,0,0,0,0,0,0,0,0,0,0,0,0,0,0,0,0,0,0,0,0,0,0,0,0,0,0,0,0,0,0,0,0,0,0,0,0,0,0,0,0,0,0,0,0,0,0,0,0,0,0,0,0,0,0,0,0,0,0,0,{"$f":"HCU8","v":0},0,0,0,0,0,0,0,0,0,0,0,0,0,0,0,0,0,0,0,0,0,0,0,0,0,0,0,0,0,0,0,0,0,0,0,0,0,0,0,0,0,0,0,0,0,0,0,0,0,0,0,0,0,0,0,0,0,0,0,0,0,0,0,{"$f":"HFG8","v":0},0,0,0,0,0,0,0,0,0,0,0,0,0,0,0,0,0,0,0,0,0,0,0,0,0,0,0,0,0,0,0,0,0,0,0,0,0,0,0,0,0,0,0,0,0,0,0,0,0,0,0,0,0,0,0,0,0,0,0,0,0,0,0,{"$f":"HHS8","v":0},0,0,0,0,0,0,0,0,0,0,0,0,0,0,0,0,0,0,0,0,0,0,0,0,0,0,0,0,0,0,0,0,0,0,0,0,0,0,0,0,0,0,0,0,0,0,0,0,0,0,0,0,0,0,0,0,0,0,0,0,0,0,0,{"$f":"HKE8","v":0},0,0,0,0,0,0,0,0,0,0,0,0,0,0,0,0,0,0,0,0,0,0,0,0,0,0,0,0,0,0,0,0,0,0,0,0,0,0,0,0,0,0,0,0,0,0,0,0,0,0,0,0,0,0,0,0,0,0,0,0,0,0,0,{"$f":"HMQ8","v":0},0,0,0,0,0,0,0,0,0,0,0,0,0,0,0,0,0,0,0,0,0,0,0,0,0,118246.73177874487,0,0,118246.73177874487,23649.346355748974,121469.00710753632,0,0,121469.00710753632,24293.801421507265,121469.00710753632,0,0,121469.00710753632,24293.801421507265,121469.00710753632,0,0,121469.00710753632,24293.801421507265,121469.00710753632,0,0,121469.00710753632,24293.801421507265,604122.76020889019,0,0,604122.76020889019,120824.55204177804,313731.74993620929,400065.09351175965,0,713796.84344796895,71379.6843447969,313731.74993620929,400065.09351175965,0,{"$f":"HPC8","v":713796.84344796895},71379.6843447969,313731.74993620929,400065.09351175965,0,713796.84344796895,71379.6843447969,313731.74993620929,400065.09351175965,0,713796.84344796895,71379.6843447969,313731.74993620929,400065.09351175965,0,713796.84344796895,71379.6843447969,1568658.7496810465,2000325.4675587984,0,3568984.2172398446,356898.42172398447,385374.87394694955,566584.24815741333,0,951959.12210436282,95195.912210436276,385374.87394694955,566584.24815741333,0,951959.12210436282,95195.912210436276,385374.87394694955,566584.24815741333,0,951959.12210436282,95195.912210436276,385374.87394694955,566584.24815741333,0,951959.12210436282,95195.912210436276,385374.87394694955,566584.24815741333,0,951959.12210436282,95195.912210436276,1926874.3697347478,2832921.2407870665,0,4759795.6105218139,475979.56105218141,699106.6238831589,966649.34166917298,0,1665755.9655523319,166575.59655523318,699106.6238831589,966649.34166917298,0,1665755.9655523319,166575.59655523318,699106.6238831589,966649.34166917298,{"$f":"HRO8","v":0},1665755.9655523319,166575.59655523318,699106.6238831589,966649.34166917298,0,1665755.9655523319,166575.59655523318,699106.6238831589,966649.34166917298,0,1665755.9655523319,166575.59655523318,3495533.1194157945,4833246.7083458649,0,8328779.8277616585,832877.98277616594,1162113.8636210675,1143799.8036757084,0,2305913.6672967756,230591.36672967757,3851683.8155064043,3378053.4851736808,0,7229737.3006800851,722973.73006800853,5013797.6791274715,4521853.2888493892,0,9535650.9679768607,953565.09679768607,{"$error":"#REF!"},{"$error":"#REF!"},{"$error":"#REF!"},{"$error":"#REF!"},{"$error":"#REF!"},{"$error":"#REF!"},{"$error":"#REF!"},{"$error":"#REF!"},{"$error":"#REF!"},{"$error":"#REF!"},{"$error":"#REF!"},{"$error":"#REF!"},{"$error":"#REF!"},{"$error":"#REF!"},{"$error":"#REF!"},{"$error":"#REF!"},{"$error":"#REF!"},{"$error":"#REF!"},{"$error":"#REF!"},{"$error":"#REF!"},{"$error":"#REF!"},{"$error":"#REF!"},{"$error":"#REF!"},{"$error":"#REF!"},{"$error":"#REF!"},{"$error":"#REF!"},{"$error":"#REF!"},{"$error":"#REF!"},{"$error":"#REF!"},{"$error":"#REF!"},{"$error":"#REF!"},{"$f":"HUA8","v":{"$error":"#REF!"}},{"$error":"#REF!"},{"$error":"#REF!"},{"$error":"#REF!"},{"$error":"#REF!"},{"$error":"#REF!"},{"$error":"#REF!"},{"$error":"#REF!"},{"$error":"#REF!"},{"$error":"#REF!"},{"$error":"#REF!"},{"$error":"#REF!"},{"$error":"#REF!"},{"$error":"#REF!"},{"$error":"#REF!"},{"$error":"#REF!"},{"$error":"#REF!"},{"$error":"#REF!"},{"$error":"#REF!"},{"$error":"#REF!"},{"$error":"#REF!"},{"$error":"#REF!"},{"$error":"#REF!"},{"$error":"#REF!"},{"$error":"#REF!"},{"$error":"#REF!"},{"$error":"#REF!"},{"$error":"#REF!"},{"$error":"#REF!"},{"$error":"#REF!"},{"$error":"#REF!"},{"$error":"#REF!"},{"$error":"#REF!"},{"$error":"#REF!"},{"$error":"#REF!"},{"$error":"#REF!"},{"$error":"#REF!"},{"$error":"#REF!"},{"$error":"#REF!"},{"$error":"#REF!"},{"$error":"#REF!"},{"$error":"#REF!"},{"$error":"#REF!"},{"$error":"#REF!"},{"$error":"#REF!"},{"$error":"#REF!"},{"$error":"#REF!"},{"$error":"#REF!"},{"$error":"#REF!"},{"$error":"#REF!"},{"$error":"#REF!"},{"$error":"#REF!"},{"$error":"#REF!"},{"$error":"#REF!"},{"$error":"#REF!"},{"$error":"#REF!"},{"$error":"#REF!"},{"$error":"#REF!"},{"$error":"#REF!"},{"$error":"#REF!"},{"$error":"#REF!"},{"$error":"#REF!"},{"$error":"#REF!"},{"$error":"#REF!"},{"$f":"HWM8","v":{"$error":"#REF!"}},{"$error":"#REF!"},{"$error":"#REF!"},{"$error":"#REF!"},0,0,0,0,0,0,{"$error":"#REF!"},{"$error":"#REF!"},{"$error":"#REF!"},{"$error":"#REF!"},{"$error":"#REF!"},{"$error":"#REF!"},{"$error":"#REF!"},{"$error":"#REF!"},{"$error":"#REF!"},{"$error":"#REF!"},{"$error":"#REF!"},{"$error":"#REF!"},{"$error":"#REF!"},{"$error":"#REF!"},{"$error":"#REF!"},{"$error":"#REF!"},{"$error":"#REF!"},{"$error":"#REF!"},{"$error":"#REF!"},{"$error":"#REF!"},{"$error":"#REF!"},{"$error":"#REF!"},{"$error":"#REF!"},{"$error":"#REF!"},{"$error":"#REF!"},{"$error":"#REF!"},{"$error":"#REF!"},{"$error":"#REF!"},{"$error":"#REF!"},{"$error":"#REF!"},{"$error":"#REF!"},{"$error":"#REF!"},{"$error":"#REF!"},{"$error":"#REF!"},{"$error":"#REF!"},{"$error":"#REF!"},{"$error":"#REF!"},{"$error":"#REF!"},{"$error":"#REF!"},{"$error":"#REF!"},{"$error":"#REF!"},{"$error":"#REF!"},{"$error":"#REF!"},{"$error":"#REF!"},{"$error":"#REF!"},{"$error":"#REF!"},{"$error":"#REF!"},{"$error":"#REF!"},{"$error":"#REF!"},{"$error":"#REF!"},{"$error":"#REF!"},{"$error":"#REF!"},{"$error":"#REF!"},{"$error":"#REF!"},{"$f":"HYY8","v":{"$error":"#REF!"}},{"$error":"#REF!"},{"$error":"#REF!"},{"$error":"#REF!"},{"$error":"#REF!"},{"$error":"#REF!"},{"$error":"#REF!"},{"$error":"#REF!"},{"$error":"#REF!"},{"$error":"#REF!"},{"$error":"#REF!"},{"$error":"#REF!"},{"$error":"#REF!"},{"$error":"#REF!"},{"$error":"#REF!"},{"$error":"#REF!"},{"$error":"#REF!"},{"$error":"#REF!"},{"$error":"#REF!"},{"$error":"#REF!"},{"$error":"#REF!"},{"$error":"#REF!"},{"$error":"#REF!"},{"$error":"#REF!"},{"$error":"#REF!"},{"$error":"#REF!"},{"$error":"#REF!"},{"$error":"#REF!"},{"$error":"#REF!"},{"$error":"#REF!"},{"$error":"#REF!"},{"$error":"#REF!"},{"$error":"#REF!"},{"$error":"#REF!"},{"$error":"#REF!"},{"$error":"#REF!"},{"$error":"#REF!"},{"$error":"#REF!"},{"$error":"#REF!"},{"$error":"#REF!"},{"$error":"#REF!"},{"$error":"#REF!"},0,0,0,0,0,0,{"$error":"#REF!"},{"$error":"#REF!"},{"$error":"#REF!"},{"$error":"#REF!"},{"$error":"#REF!"},{"$error":"#REF!"},{"$error":"#REF!"},{"$error":"#REF!"},{"$error":"#REF!"},{"$error":"#REF!"},{"$error":"#REF!"},{"$error":"#REF!"},{"$error":"#REF!"},{"$error":"#REF!"},{"$error":"#REF!"},{"$error":"#REF!"},{"$f":"IBK8","v":{"$error":"#REF!"}},{"$error":"#REF!"},{"$error":"#REF!"},{"$error":"#REF!"},{"$error":"#REF!"},{"$error":"#REF!"},{"$error":"#REF!"},{"$error":"#REF!"},{"$error":"#REF!"},{"$error":"#REF!"},{"$error":"#REF!"},{"$error":"#REF!"},{"$error":"#REF!"},{"$error":"#REF!"},{"$error":"#REF!"},{"$error":"#REF!"},{"$error":"#REF!"},{"$error":"#REF!"},{"$error":"#REF!"},{"$error":"#REF!"},{"$error":"#REF!"},{"$error":"#REF!"},{"$error":"#REF!"},{"$error":"#REF!"},{"$error":"#REF!"},{"$error":"#REF!"},{"$error":"#REF!"},{"$error":"#REF!"},{"$error":"#REF!"},{"$error":"#REF!"},{"$error":"#REF!"},{"$error":"#REF!"},{"$error":"#REF!"},{"$error":"#REF!"},{"$error":"#REF!"},{"$error":"#REF!"},{"$error":"#REF!"},{"$error":"#REF!"},{"$error":"#REF!"},{"$error":"#REF!"},{"$error":"#REF!"},{"$error":"#REF!"},{"$error":"#REF!"},{"$error":"#REF!"},{"$error":"#REF!"},{"$error":"#REF!"},{"$error":"#REF!"},{"$error":"#REF!"},{"$error":"#REF!"},{"$error":"#REF!"},{"$error":"#REF!"},{"$error":"#REF!"},{"$error":"#REF!"},{"$error":"#REF!"},{"$error":"#REF!"},{"$error":"#REF!"},{"$error":"#REF!"},{"$error":"#REF!"},{"$error":"#REF!"},{"$error":"#REF!"},{"$error":"#REF!"},{"$error":"#REF!"},{"$error":"#REF!"},{"$error":"#REF!"},{"$f":"IDW8","v":{"$error":"#REF!"}},{"$error":"#REF!"},{"$error":"#REF!"},{"$error":"#REF!"},{"$error":"#REF!"},{"$error":"#REF!"},{"$error":"#REF!"},{"$error":"#REF!"},{"$error":"#REF!"},{"$error":"#REF!"},{"$error":"#REF!"},{"$error":"#REF!"},{"$error":"#REF!"},{"$error":"#REF!"},{"$error":"#REF!"},{"$error":"#REF!"},{"$error":"#REF!"},{"$error":"#REF!"},{"$error":"#REF!"},0,0,0,0,0,0,110024.16644404347,143042.51403346908,156609.8113355368,409676.4918130493,27311.766120869954,108176.40507665518,140640.23788026083,153979.68407811335,402796.32703502936,26853.088469001956,126435.50007099778,164378.90308791798,179969.9143578943,470784.31751681003,31385.621167787336,146625.34363728459,190627.7361852623,208708.3969477014,545961.47677024826,36397.43178468322,169773.81260156544,220723.08072359604,241658.22492068869,632155.1182458502,42143.67454972335,661035.22783054644,859412.47191050625,940926.03163993452,2461373.731380987,164091.5820920658,119137.98344082931,175047.94595880559,206767.9242739442,500953.85367357905,33396.923578238602,134650.45567392395,197840.22699900687,233690.33467034972,566181.0173432806,{"$f":"IGI8","v":37745.401156218708},140974.25680292683,207131.70874406857,244665.50140728347,592771.46695427888,39518.097796951923,141316.0474356268,207633.89743716328,245258.69039385673,594208.63526664674,39613.909017776452,143288.54337397387,210532.06099883904,248682.02255906307,602502.62693187594,40166.841795458393,679367.28672728082,998185.84013788332,1179064.4733044973,2856617.6001696615,190441.17334464411,229162.14988487278,318090.45999227464,363377.73560948099,910630.34548662847,60708.689699108567,242826.86075057913,338480.46487926773,387670.01874846307,968977.34437831002,64598.489625220667,267409.75687392463,371510.61183198658,424635.41576517781,1063555.784471089,70903.718964739266,287941.39107291138,398261.63362242561,453967.08734155813,1140170.1120368952,76011.340802459687,313062.35597553931,431255.14172243507,490340.24747975176,1234657.745177726,82310.516345181735,1340402.5145578273,1857598.3120483896,2119990.5049444316,5317991.3315506484,354532.75543670991,97692.437318582699,48.244166980962426,124.7686397018137,860.11571602849585,84.046601461693839,1068.9309571920035,427.59297226217353,995.47356957443537,1423.0665418366088,2453.7352626681868,4.9383727446203861E-4,1.2771576093954273E-3,8.8043224187722025E-3,{"$f":"IIU8","v":8.6031840097930282E-4},1.0941798429146934E-2,4.3769301288671845E-3,1.0189873411880573E-2,1.4566803540747757E-2,2.5116941802427996E-2,34603.818313099575,16801.793453054062,13729.503550017824,42498.679732401346,24765.810417877779,20569.080095444406,439543.42736543773,199549.12768839009,253532.8201990033,93956.05158302754,34651.767521408408,39479.192661035282,45796.126785099397,11839.692467440438,17294.784234648872,23716.264464073651,1617.5688552064478,29710.658395325594,73138.0293387165,39322.656155665922,8363.8665473956189,103146.62259245547,45400.827616344708,208350.97151518427,87388.643345518372,38464.824464803241,350126.09324185981,105364.5266333694,46377.056178175415,78849.783918132744,396153.35916500009,174370.13367029629,152450.2372327121,18.618876295512038,15.229208621471694,33.84808491698373,88.903046497378398,104.19666706762604,193.09971356500444,8.1794355320247956,7.5185051518889878,15.697940683913783,14.899566316171382,14.441087853161802,29.340654169333185,43.390624014274536,61.246695370298262,104.63731938457281,113.52723590043043,148.7199775552298,262.24721345566024,21.32460518787526,33.498165394174521,54.822770582049785,57.671603123073702,58.924278527151941,116.59588165022564,2.1861694280444668E-2,{"$f":"ILG8","v":1.7881653958675182E-2},3.9743348239119847E-2,0.10438713874447564,0.12234442317138089,0.22673156191585653,9.6040338927884106E-3,8.8279903936074235E-3,1.8432024286395836E-2,1.7494598414291254E-2,1.6956267537959067E-2,3.4450865952250317E-2,5.0947895124392809E-2,7.1913928027747487E-2,0.1228618231521403,0.13330008129209053,0.17462228284371409,0.30792236413580465,2.5038675367368216E-2,3.9332483828776355E-2,6.437115919614457E-2,6.7716168050575787E-2,6.9187019797047306E-2,0.13690318784762309,10.393572987094103,12582.970101080307,3595.1343145943729,6607.552310568436,17799.525358093273,7426.6621651857249,13727.978749100526,74739.74077823406,1509.2502609086107,67295.411173190776,21010.057760205164,3206.2761369626428,12231.753292894522,4365.3990326571147,472.95819054421639,1522.1642914066736,1372.1620488146891,52.473787221187301,2226.1606699897643,271293.94445186434,74709.379503673132,33370.189511640659,16504.120335290314,4501.1237278064491,53501.729064366067,2164.8761067789715,590.42075639426491,13919.94266214269,8137.7588232594053,2770.2158106560828,13204.695364127329,175595.88870439673,47889.787828471832,22146.146978528493,97692.437318582699,271.29394445186432,30.38249545917358,95.749798538439222,5.7375610814718039,131.8698550790846,18.668996442069286,{"$f":"INS8","v":183.73364752765613},202.40264396972543,319.08125131922327,2.7770209434651886E-3,3.1100150936038047E-4,9.8011474753354377E-4,5.8730862275051723E-5,1.3498471191689758E-3,1.9109971001325543E-4,1.8807356287824646E-3,2.0718353387957199E-3,3.2661817032845061E-3]
[{"$f":"'HOJA DE VERIFICACIÓN DE DATOS'!E4","v":"Kenya"},{"$f":"VLOOKUP($A$8,SOURCE!$A$7:$IMC$146,COLUMN(),FALSE)","v":11978.118},{"$f":"VLOOKUP($A$8,SOURCE!$A$7:$IMC$146,COLUMN(),FALSE)","v":12495.709000000001},{"$f":"VLOOKUP($A$8,SOURCE!$A$7:$IMC$146,COLUMN(),FALSE)","v":13029.8},{"$f":"VLOOKUP($A$8,SOURCE!$A$7:$IMC$146,COLUMN(),FALSE)","v":13580.933999999999},{"$f":"VLOOKUP($A$8,SOURCE!$A$7:$IMC$146,COLUMN(),FALSE)","v":14149.974},{"$f":"VLOOKUP($A$8,SOURCE!$A$7:$IMC$146,COLUMN(),FALSE)","v":14737.72},{"$f":"VLOOKUP($A$8,SOURCE!$A$7:$IMC$146,COLUMN(),FALSE)","v":15344.459000000001},{"$f":"VLOOKUP($A$8,SOURCE!$A$7:$IMC$146,COLUMN(),FALSE)","v":15970.474},{"$f":"VLOOKUP($A$8,SOURCE!$A$7:$IMC$146,COLUMN(),FALSE)","v":16616.636999999999},{"$f":"VLOOKUP($A$8,SOURCE!$A$7:$IMC$146,COLUMN(),FALSE)","v":17284.004000000001},{"$f":"VLOOKUP($A$8,SOURCE!$A$7:$IMC$146,COLUMN(),FALSE)","v":17973.485000000001},{"$f":"VLOOKUP($A$8,SOURCE!$A$7:$IMC$146,COLUMN(),FALSE)","v":18685.608},{"$f":"VLOOKUP($A$8,SOURCE!$A$7:$IMC$146,COLUMN(),FALSE)","v":19420.669999999998},{"$f":"VLOOKUP($A$8,SOURCE!$A$7:$IMC$146,COLUMN(),FALSE)","v":20179.063999999998},{"$f":"VLOOKUP($A$8,SOURCE!$A$7:$IMC$146,COLUMN(),FALSE)","v":20961.082999999999},{"$f":"VLOOKUP($A$8,SOURCE!$A$7:$IMC$146,COLUMN(),FALSE)","v":21766.906999999999},{"$f":"VLOOKUP($A$8,SOURCE!$A$7:$IMC$146,COLUMN(),FALSE)","v":21766.906999999999},{"$f":"VLOOKUP($A$8,SOURCE!$A$7:$IMC$146,COLUMN(),FALSE)","v":34770.498999999996},{"$f":"VLOOKUP($A$8,SOURCE!$A$7:$IMC$146,COLUMN(),FALSE)","v":35463.743999999999},{"$f":"VLOOKUP($A$8,SOURCE!$A$7:$IMC$146,COLUMN(),FALSE)","v":36149.683999999994},{"$f":"VLOOKUP($A$8,SOURCE!$A$7:$IMC$146,COLUMN(),FALSE)","v":36828.434000000001},{"$f":"VLOOKUP($A$8,SOURCE!$A$7:$IMC$146,COLUMN(),FALSE)","v":37500.939999999995},{"$f":"VLOOKUP($A$8,SOURCE!$A$7:$IMC$146,COLUMN(),FALSE)","v":38167.885999999999},{"$f":"VLOOKUP($A$8,SOURCE!$A$7:$IMC$146,COLUMN(),FALSE)","v":38828.594999999994},{"$f":"VLOOKUP($A$8,SOURCE!$A$7:$IMC$146,COLUMN(),FALSE)","v":39482.434999999998},{"$f":"VLOOKUP($A$8,SOURCE!$A$7:$IMC$146,COLUMN(),FALSE)","v":40130.266000000003},{"$f":"VLOOKUP($A$8,SOURCE!$A$7:$IMC$146,COLUMN(),FALSE)","v":40773.324000000001},{"$f":"VLOOKUP($A$8,SOURCE!$A$7:$IMC$146,COLUMN(),FALSE)","v":41412.423000000003},{"$f":"VLOOKUP($A$8,SOURCE!$A$7:$IMC$146,COLUMN(),FALSE)","v":42047.466999999997},{"$f":"VLOOKUP($A$8,SOURCE!$A$7:$IMC$146,COLUMN(),FALSE)","v":42677.921999999999},{"$f":"VLOOKUP($A$8,SOURCE!$A$7:$IMC$146,COLUMN(),FALSE)","v":43303.572},{"$f":"VLOOKUP($A$8,SOURCE!$A$7:$IMC$146,COLUMN(),FALSE)","v":43924.107000000004},{"$f":"VLOOKUP($A$8,SOURCE!$A$7:$IMC$146,COLUMN(),FALSE)","v":44539.155999999995},{"$f":"VLOOKUP($A$8,SOURCE!$A$7:$IMC$146,COLUMN(),FALSE)","v":44539.155999999995},{"$f":"'HOJA DE VERIFICACIÓN DE DATOS'!G$26","v":0.69212295532226564},{"$f":"$AJ$8","v":0.69212295532226564},{"$f":"$AJ$8","v":0.69212295532226564},{"$f":"$AJ$8","v":0.69212295532226564},{"$f":"$AJ$8","v":0.69212295532226564},{"$f":"$AJ$8","v":0.69212295532226564},{"$f":"VLOOKUP($A$8,SOURCE!$A$7:$IMC$146,COLUMN(),FALSE)","v":2030},{"$f":"'HOJA DE VERIFICACIÓN DE DATOS'!$H$26","v":1},{"$f":"'HOJA DE VERIFICACIÓN DE DATOS'!G$28","v":0.49306968688964842},{"$f":"AR8","v":0.49306968688964842},{"$f":"AR8","v":0.49306968688964842},{"$f":"AR8","v":0.49306968688964842},{"$f":"AR8","v":0.49306968688964842},{"$f":"AR8","v":0.49306968688964842},{"$f":"VLOOKUP($A$8,SOURCE!$A$7:$IMC$146,COLUMN(),FALSE)","v":2030},{"$f":"'HOJA DE VERIFICACIÓN DE DATOS'!$H$28","v":1},{"$f":"'HOJA DE VERIFICACIÓN DE DATOS'!G$30","v":0.3114119500353299},{"$f":"AZ8","v":0.3114119500353299},{"$f":"AZ8","v":0.3114119500353299},{"$f":"AZ8","v":0.3114119500353299},{"$f":"AZ8","v":0.3114119500353299},{"$f":"AZ8","v":0.3114119500353299},{"$f":"VLOOKUP($A$8,SOURCE!$A$7:$IMC$146,COLUMN(),FALSE)","v":2030},{"$f":"'HOJA DE VERIFICACIÓN DE DATOS'!$H$30","v":1},{"$f":"'HOJA DE VERIFICACIÓN DE DATOS'!G$31","v":3.7215281040368905E-2},{"$f":"BH8","v":3.7215281040368905E-2},{"$f":"BH8","v":3.7215281040368905E-2},{"$f":"BH8","v":3.7215281040368905E-2},{"$f":"BH8","v":3.7215281040368905E-2},{"$f":"BH8","v":3.7215281040368905E-2},{"$f":"VLOOKUP($A$8,SOURCE!$A$7:$IMC$146,COLUMN(),FALSE)","v":2030},{"$f":"'HOJA DE VERIFICACIÓN DE DATOS'!$H$31","v":1},{"$f":"'HOJA DE VERIFICACIÓN DE DATOS'!G$32","v":0.31304315168332025},{"$f":"BP8","v":0.31304315168332025},{"$f":"BP8","v":0.31304315168332025},{"$f":"BP8","v":0.31304315168332025},{"$f":"BP8","v":0.31304315168332025},{"$f":"BP8","v":0.31304315168332025},{"$f":"VLOOKUP($A$8,SOURCE!$A$7:$IMC$146,COLUMN(),FALSE)","v":2030},{"$f":"'HOJA DE VERIFICACIÓN DE DATOS'!$H$32","v":1},{"$f":"'HOJA DE VERIFICACIÓN DE DATOS'!G$34","v":0.29055560300670424},{"$f":"BX8","v":0.29055560300670424},{"$f":"BX8","v":0.29055560300670424},{"$f":"BX8","v":0.29055560300670424},{"$f":"BX8","v":0.29055560300670424},{"$f":"BX8","v":0.29055560300670424},{"$f":"VLOOKUP($A$8,SOURCE!$A$7:$IMC$146,COLUMN(),FALSE)","v":2030},{"$f":"'HOJA DE VERIFICACIÓN DE DATOS'!$H$34","v":1},{"$f":"'HOJA DE VERIFICACIÓN DE DATOS'!G$36","v":0.84724596562693133},{"$f":"CF8","v":0.84724596562693133},{"$f":"CF8","v":0.84724596562693133},{"$f":"CF8","v":0.84724596562693133},{"$f":"CF8","v":0.84724596562693133},{"$f":"CF8","v":0.84724596562693133},{"$f":"VLOOKUP($A$8,SOURCE!$A$7:$IMC$146,COLUMN(),FALSE)","v":2025},{"$f":"'HOJA DE VERIFICACIÓN DE DATOS'!$H$36","v":1},{"$f":"VLOOKUP($A$8,SOURCE!$A$7:$IMC$146,COLUMN(),FALSE)","v":7.3999999999999996E-2},{"$f":"VLOOKUP($A$8,SOURCE!$A$7:$IMC$146,COLUMN(),FALSE)","v":4.9000000000000002E-2},{"$f":"VLOOKUP($A$8,SOURCE!$A$7:$IMC$146,COLUMN(),FALSE)","v":0.31298800000000004},{"$f":"'HOJA DE VERIFICACIÓN DE DATOS'!G$37","v":0.31661400000000006},{"$f":"VLOOKUP($A$8,SOURCE!$A$7:$IMC$146,COLUMN(),FALSE)","v":2030},{"$f":"'HOJA DE VERIFICACIÓN DE DATOS'!H$37","v":1},{"$f":"VLOOKUP($A$8,SOURCE!$A$7:$IMC$146,COLUMN(),FALSE)","v":0},{"$f":"VLOOKUP($A$8,SOURCE!$A$7:$IMC$146,COLUMN(),FALSE)","v":0},{"$f":"VLOOKUP($A$8,SOURCE!$A$7:$IMC$146,COLUMN(),FALSE)","v":0.33800000000000002},{"$f":"'HOJA DE VERIFICACIÓN DE DATOS'!G$39","v":0.33800000000000002},{"$f":"VLOOKUP($A$8,SOURCE!$A$7:$IMC$146,COLUMN(),FALSE)","v":2030},{"$f":"'HOJA DE VERIFICACIÓN DE DATOS'!$H$39","v":1},{"$f":"'HOJA DE VERIFICACIÓN DE DATOS'!G$41","v":0.13100000000000001},{"$f":"CZ8","v":0.13100000000000001},{"$f":"CZ8","v":0.13100000000000001},{"$f":"CZ8","v":0.13100000000000001},{"$f":"CZ8","v":0.13100000000000001},{"$f":"CZ8","v":0.13100000000000001},{"$f":"VLOOKUP($A$8,SOURCE!$A$7:$IMC$146,COLUMN(),FALSE)","v":2030},{"$f":"'HOJA DE VERIFICACIÓN DE DATOS'!$H$41","v":1},{"$f":"'HOJA DE VERIFICACIÓN DE DATOS'!G$42","v":6.6000000000000003E-2},{"$f":"DH8","v":6.6000000000000003E-2},{"$f":"DH8","v":6.6000000000000003E-2},{"$f":"DH8","v":6.6000000000000003E-2},{"$f":"DH8","v":6.6000000000000003E-2},{"$f":"DH8","v":6.6000000000000003E-2},{"$f":"VLOOKUP($A$8,SOURCE!$A$7:$IMC$146,COLUMN(),FALSE)","v":2030},{"$f":"'HOJA DE VERIFICACIÓN DE DATOS'!$H$42","v":1},{"$f":"IF(($AQ$8*HLOOKUP($AP$8,$B$6:$Q$140,(ROW()-5),FALSE)/5-($AK$8*HLOOKUP(DP6,$B$6:$Q$8,3,FALSE)/5))/($AP$8-$DP$6)>0,($AQ$8*HLOOKUP($AP$8,$B$6:$Q$140,(ROW()-5),FALSE)/5-($AK$8*HLOOKUP(DP6,$B$6:$Q$8,3,FALSE)/5))/($AP$8-$DP$6),0)","v":231.33185357775884},{"$f":"IF(DQ$6<$AP8,DP8,0)","v":231.33185357775884},231.33185357775884,231.33185357775884,231.33185357775884,231.33185357775884,231.33185357775884,231.33185357775884,231.33185357775884,231.33185357775884,0,0,0,0,0,{"$f":"SUM(DP8:DT8)","v":1156.6592678887941},{"$f":"SUM(DU8:DY8)","v":1156.6592678887941},{"$f":"SUM(DZ8:ED8)","v":0},{"$f":"SUM(DP8:ED8)","v":2313.3185357775887},{"$f":"IF(($AQ$8*HLOOKUP($AP$8,$B$6:$Q$140,(ROW()-5),FALSE)/5-($AL$8*HLOOKUP(EI6,$B$6:$Q$8,3,FALSE)/5))/($AP$8-$DP$6)>0,($AQ$8*HLOOKUP($AP$8,$B$6:$Q$140,(ROW()-5),FALSE)/5-($AL$8*HLOOKUP(EI6,$B$6:$Q$8,3,FALSE)/5))/($AP$8-$DP$6),0)","v":231.33185357775884},{"$f":"IF(EJ$6<$AP8,EI8,0)","v":231.33185357775884},{"$f":"IF(EK$6<$AP8,EJ8,0)","v":231.33185357775884},{"$f":"IF(EL$6<$AP8,EK8,0)","v":231.33185357775884},{"$f":"IF(EM$6<$AP8,EL8,0)","v":231.33185357775884},{"$f":"IF(EN$6<$AP8,EM8,0)","v":231.33185357775884},{"$f":"IF(EO$6<$AP8,EN8,0)","v":231.33185357775884},{"$f":"IF(EP$6<$AP8,EO8,0)","v":231.33185357775884},{"$f":"IF(EQ$6<$AP8,EP8,0)","v":231.33185357775884},{"$f":"IF(ER$6<$AP8,EQ8,0)","v":231.33185357775884},{"$f":"IF(ES$6<$AP8,ER8,0)","v":0},{"$f":"IF(ET$6<$AP8,ES8,0)","v":0},{"$f":"IF(EU$6<$AP8,ET8,0)","v":0},{"$f":"IF(EV$6<$AP8,EU8,0)","v":0},{"$f":"IF(EW$6<$AP8,EV8,0)","v":0},{"$f":"SUM(EI8:EM8)","v":1156.6592678887941},{"$f":"SUM(EN8:ER8)","v":1156.6592678887941},{"$f":"SUM(ES8:EW8)","v":0},{"$f":"SUM(EI8:EW8)","v":2313.3185357775887},{"$f":"IF(($AQ$8*HLOOKUP($AP$8,$B$6:$Q$140,(ROW()-5),FALSE)/5-($AM$8*HLOOKUP(FB6,$B$6:$Q$8,3,FALSE)/5))/($AP$8-$DP$6)>0,($AQ$8*HLOOKUP($AP$8,$B$6:$Q$140,(ROW()-5),FALSE)/5-($AM$8*HLOOKUP(FB6,$B$6:$Q$8,3,FALSE)/5))/($AP$8-$DP$6),0)","v":231.33185357775884},{"$f":"IF(FC$6<$AP8,FB8,0)","v":231.33185357775884},{"$f":"IF(FD$6<$AP8,FC8,0)","v":231.33185357775884},{"$f":"IF(FE$6<$AP8,FD8,0)","v":231.33185357775884},{"$f":"IF(FF$6<$AP8,FE8,0)","v":231.33185357775884},{"$f":"IF(FG$6<$AP8,FF8,0)","v":231.33185357775884},{"$f":"IF(FH$6<$AP8,FG8,0)","v":231.33185357775884},{"$f":"IF(FI$6<$AP8,FH8,0)","v":231.33185357775884},{"$f":"IF(FJ$6<$AP8,FI8,0)","v":231.33185357775884},{"$f":"IF(FK$6<$AP8,FJ8,0)","v":231.33185357775884},{"$f":"IF(FL$6<$AP8,FK8,0)","v":0},{"$f":"IF(FM$6<$AP8,FL8,0)","v":0},{"$f":"IF(FN$6<$AP8,FM8,0)","v":0},{"$f":"IF(FO$6<$AP8,FN8,0)","v":0},{"$f":"IF(FP$6<$AP8,FO8,0)","v":0},{"$f":"SUM(FB8:FF8)","v":1156.6592678887941},{"$f":"SUM(FG8:FK8)","v":1156.6592678887941},{"$f":"SUM(FL8:FP8)","v":0},{"$f":"SUM(FB8:FP8)","v":2313.3185357775887},{"$f":"IF(($AQ$8*HLOOKUP($AP$8,$B$6:$Q$140,(ROW()-5),FALSE)/5-($AN$8*HLOOKUP(FU6,$B$6:$Q$8,3,FALSE)/5))/($AP$8-$DP$6)>0,($AQ$8*HLOOKUP($AP$8,$B$6:$Q$140,(ROW()-5),FALSE)/5-($AN$8*HLOOKUP(FU6,$B$6:$Q$8,3,FALSE)/5))/($AP$8-$DP$6),0)","v":231.33185357775884},{"$f":"IF(FV$6<$AP8,FU8,0)","v":231.33185357775884},{"$f":"IF(FW$6<$AP8,FV8,0)","v":231.33185357775884},{"$f":"IF(FX$6<$AP8,FW8,0)","v":231.33185357775884},{"$f":"IF(FY$6<$AP8,FX8,0)","v":231.33185357775884},{"$f":"IF(FZ$6<$AP8,FY8,0)","v":231.33185357775884},{"$f":"IF(GA$6<$AP8,FZ8,0)","v":231.33185357775884},{"$f":"IF(GB$6<$AP8,GA8,0)","v":231.33185357775884},{"$f":"IF(GC$6<$AP8,GB8,0)","v":231.33185357775884},{"$f":"IF(GD$6<$AP8,GC8,0)","v":231.33185357775884},{"$f":"IF(GE$6<$AP8,GD8,0)","v":0},{"$f":"IF(GF$6<$AP8,GE8,0)","v":0},{"$f":"IF(GG$6<$AP8,GF8,0)","v":0},{"$f":"IF(GH$6<$AP8,GG8,0)","v":0},{"$f":"IF(GI$6<$AP8,GH8,0)","v":0},{"$f":"SUM(FU8:FY8)","v":1156.6592678887941},{"$f":"SUM(FZ8:GD8)","v":1156.6592678887941},{"$f":"SUM(GE8:GI8)","v":0},{"$f":"SUM(FU8:GI8)","v":2313.3185357775887},{"$f":"IF(($AQ$8*HLOOKUP($AP$8,$B$6:$Q$140,(ROW()-5),FALSE)/5-($AO$8*HLOOKUP(GN6,$B$6:$Q$8,3,FALSE)/5))/($AP$8-$DP$6)>0,($AQ$8*HLOOKUP($AP$8,$B$6:$Q$140,(ROW()-5),FALSE)/5-($AO$8*HLOOKUP(GN6,$B$6:$Q$8,3,FALSE)/5))/($AP$8-$DP$6),0)","v":231.33185357775884},{"$f":"IF(GO$6<$AP8,GN8,0)","v":231.33185357775884},{"$f":"IF(GP$6<$AP8,GO8,0)","v":231.33185357775884},{"$f":"IF(GQ$6<$AP8,GP8,0)","v":231.33185357775884},{"$f":"IF(GR$6<$AP8,GQ8,0)","v":231.33185357775884},{"$f":"IF(GS$6<$AP8,GR8,0)","v":231.33185357775884},{"$f":"IF(GT$6<$AP8,GS8,0)","v":231.33185357775884},{"$f":"IF(GU$6<$AP8,GT8,0)","v":231.33185357775884},{"$f":"IF(GV$6<$AP8,GU8,0)","v":231.33185357775884},{"$f":"IF(GW$6<$AP8,GV8,0)","v":231.33185357775884},{"$f":"IF(GX$6<$AP8,GW8,0)","v":0},{"$f":"IF(GY$6<$AP8,GX8,0)","v":0},{"$f":"IF(GZ$6<$AP8,GY8,0)","v":0},{"$f":"IF(HA$6<$AP8,GZ8,0)","v":0},{"$f":"IF(HB$6<$AP8,HA8,0)","v":0},{"$f":"SUM(GN8:GR8)","v":1156.6592678887941},{"$f":"SUM(GS8:GW8)","v":1156.6592678887941},{"$f":"SUM(GX8:HB8)","v":0},{"$f":"SUM(GN8:HB8)","v":2313.3185357775887},{"$f":"DP8+EI8+FB8+FU8+GN8","v":1156.6592678887941},1156.6592678887941,1156.6592678887941,1156.6592678887941,1156.6592678887941,1156.6592678887941,1156.6592678887941,1156.6592678887941,1156.6592678887941,1156.6592678887941,0,0,0,0,0,5783.2963394439703,5783.2963394439703,0,11566.592678887944,{"$f":"IF(($AY$8*HLOOKUP($AX$8,$S$6:$AH$140,(ROW()-5),FALSE)/5-($AS$8*HLOOKUP(DP6,$S$6:$AH$8,3,FALSE)/5))/($AX$8-$HZ$6)>0, ($AY$8*HLOOKUP($AX$8,$S$6:$AH$140,(ROW()-5),FALSE)/5-($AS$8*HLOOKUP(DP6,$S$6:$AH$8,3,FALSE)/5))/($AX$8-$HZ$6),0)","v":514.39456801480401},{"$f":"IF(IA$6<$AX8,HZ8,0)","v":514.39456801480401},514.39456801480401,514.39456801480401,514.39456801480401,514.39456801480401,514.39456801480401,514.39456801480401,514.39456801480401,514.39456801480401,0,0,0,0,0,{"$f":"SUM(HZ8:ID8)","v":2571.97284007402},{"$f":"SUM(IE8:II8)","v":2571.97284007402},{"$f":"SUM(IJ8:IN8)","v":0},{"$f":"SUM(HZ8:IN8)","v":5143.945680148041},{"$f":"IF(($AY$8*HLOOKUP($AX$8,$S$6:$AH$140,(ROW()-5),FALSE)/5-($AT$8*HLOOKUP(EI6,$S$6:$AH$8,3,FALSE)/5))/($AX$8-$HZ$6)>0, ($AY$8*HLOOKUP($AX$8,$S$6:$AH$140,(ROW()-5),FALSE)/5-($AT$8*HLOOKUP(EI6,$S$6:$AH$8,3,FALSE)/5))/($AX$8-$HZ$6),0)","v":514.39456801480401},{"$f":"IF(IT$6<$AX8,IS8,0)","v":514.39456801480401},{"$f":"IF(IU$6<$AX8,IT8,0)","v":514.39456801480401},{"$f":"IF(IV$6<$AX8,IU8,0)","v":514.39456801480401},{"$f":"IF(IW$6<$AX8,IV8,0)","v":514.39456801480401},{"$f":"IF(IX$6<$AX8,IW8,0)","v":514.39456801480401},{"$f":"IF(IY$6<$AX8,IX8,0)","v":514.39456801480401},{"$f":"IF(IZ$6<$AX8,IY8,0)","v":514.39456801480401},{"$f":"IF(JA$6<$AX8,IZ8,0)","v":514.39456801480401},{"$f":"IF(JB$6<$AX8,JA8,0)","v":514.39456801480401},{"$f":"IF(JC$6<$AX8,JB8,0)","v":0},{"$f":"IF(JD$6<$AX8,JC8,0)","v":0},{"$f":"IF(JE$6<$AX8,JD8,0)","v":0},{"$f":"IF(JF$6<$AX8,JE8,0)","v":0},{"$f":"IF(JG$6<$AX8,JF8,0)","v":0},{"$f":"SUM(IS8:IW8)","v":2571.97284007402},{"$f":"SUM(IX8:JB8)","v":2571.97284007402},{"$f":"SUM(JC8:JG8)","v":0},{"$f":"SUM(IS8:JG8)","v":5143.945680148041},{"$f":"IF(($AY$8*HLOOKUP($AX$8,$S$6:$AH$140,(ROW()-5),FALSE)/5-($AU$8*HLOOKUP(FB6,$S$6:$AH$8,3,FALSE)/5))/($AX$8-$HZ$6)>0, ($AY$8*HLOOKUP($AX$8,$S$6:$AH$140,(ROW()-5),FALSE)/5-($AU$8*HLOOKUP(FB6,$S$6:$AH$8,3,FALSE)/5))/($AX$8-$HZ$6),0)","v":514.39456801480401},{"$f":"IF(JM$6<$AX8,JL8,0)","v":514.39456801480401},{"$f":"IF(JN$6<$AX8,JM8,0)","v":514.39456801480401},{"$f":"IF(JO$6<$AX8,JN8,0)","v":514.39456801480401},{"$f":"IF(JP$6<$AX8,JO8,0)","v":514.39456801480401},{"$f":"IF(JQ$6<$AX8,JP8,0)","v":514.39456801480401},{"$f":"IF(JR$6<$AX8,JQ8,0)","v":514.39456801480401},{"$f":"IF(JS$6<$AX8,JR8,0)","v":514.39456801480401},{"$f":"IF(JT$6<$AX8,JS8,0)","v":514.39456801480401},{"$f":"IF(JU$6<$AX8,JT8,0)","v":514.39456801480401},{"$f":"IF(JV$6<$AX8,JU8,0)","v":0},{"$f":"IF(JW$6<$AX8,JV8,0)","v":0},{"$f":"IF(JX$6<$AX8,JW8,0)","v":0},{"$f":"IF(JY$6<$AX8,JX8,0)","v":0},{"$f":"IF(JZ$6<$AX8,JY8,0)","v":0},{"$f":"SUM(JL8:JP8)","v":2571.97284007402},{"$f":"SUM(JQ8:JU8)","v":2571.97284007402},{"$f":"SUM(JV8:JZ8)","v":0},{"$f":"SUM(JL8:JZ8)","v":5143.945680148041},{"$f":"IF(($AY$8*HLOOKUP($AX$8,$S$6:$AH$140,(ROW()-5),FALSE)/5-($AV$8*HLOOKUP(FU6,$S$6:$AH$8,3,FALSE)/5))/($AX$8-$HZ$6)>0, ($AY$8*HLOOKUP($AX$8,$S$6:$AH$140,(ROW()-5),FALSE)/5-($AV$8*HLOOKUP(FU6,$S$6:$AH$8,3,FALSE)/5))/($AX$8-$HZ$6),0)","v":514.39456801480401},{"$f":"IF(KF$6<$AX8,KE8,0)","v":514.39456801480401},{"$f":"IF(KG$6<$AX8,KF8,0)","v":514.39456801480401},{"$f":"IF(KH$6<$AX8,KG8,0)","v":514.39456801480401},{"$f":"IF(KI$6<$AX8,KH8,0)","v":514.39456801480401},{"$f":"IF(KJ$6<$AX8,KI8,0)","v":514.39456801480401},{"$f":"IF(KK$6<$AX8,KJ8,0)","v":514.39456801480401},{"$f":"IF(KL$6<$AX8,KK8,0)","v":514.39456801480401},{"$f":"IF(KM$6<$AX8,KL8,0)","v":514.39456801480401},{"$f":"IF(KN$6<$AX8,KM8,0)","v":514.39456801480401},{"$f":"IF(KO$6<$AX8,KN8,0)","v":0},{"$f":"IF(KP$6<$AX8,KO8,0)","v":0},{"$f":"IF(KQ$6<$AX8,KP8,0)","v":0},{"$f":"IF(KR$6<$AX8,KQ8,0)","v":0},{"$f":"IF(KS$6<$AX8,KR8,0)","v":0},{"$f":"SUM(KE8:KI8)","v":2571.97284007402},{"$f":"SUM(KJ8:KN8)","v":2571.97284007402},{"$f":"SUM(KO8:KS8)","v":0},{"$f":"SUM(KE8:KS8)","v":5143.945680148041},{"$f":"IF(($AY$8*HLOOKUP($AX$8,$S$6:$AH$140,(ROW()-5),FALSE)/5-($AW$8*HLOOKUP(GN6,$S$6:$AH$8,3,FALSE)/5))/($AX$8-$HZ$6)>0, ($AY$8*HLOOKUP($AX$8,$S$6:$AH$140,(ROW()-5),FALSE)/5-($AW$8*HLOOKUP(GN6,$S$6:$AH$8,3,FALSE)/5))/($AX$8-$HZ$6),0)","v":514.39456801480401},{"$f":"IF(KY$6<$AX8,KX8,0)","v":514.39456801480401},{"$f":"IF(KZ$6<$AX8,KY8,0)","v":514.39456801480401},{"$f":"IF(LA$6<$AX8,KZ8,0)","v":514.39456801480401},{"$f":"IF(LB$6<$AX8,LA8,0)","v":514.39456801480401},{"$f":"IF(LC$6<$AX8,LB8,0)","v":514.39456801480401},{"$f":"IF(LD$6<$AX8,LC8,0)","v":514.39456801480401},{"$f":"IF(LE$6<$AX8,LD8,0)","v":514.39456801480401},{"$f":"IF(LF$6<$AX8,LE8,0)","v":514.39456801480401},{"$f":"IF(LG$6<$AX8,LF8,0)","v":514.39456801480401},{"$f":"IF(LH$6<$AX8,LG8,0)","v":0},{"$f":"IF(LI$6<$AX8,LH8,0)","v":0},{"$f":"IF(LJ$6<$AX8,LI8,0)","v":0},{"$f":"IF(LK$6<$AX8,LJ8,0)","v":0},{"$f":"IF(LL$6<$AX8,LK8,0)","v":0},{"$f":"SUM(KX8:LB8)","v":2571.97284007402},{"$f":"SUM(LC8:LG8)","v":2571.97284007402},{"$f":"SUM(LH8:LL8)","v":0},{"$f":"SUM(KX8:LL8)","v":5143.945680148041},{"$f":"HZ8+IS8+JL8+KE8+KX8","v":2571.97284007402},2571.97284007402,2571.97284007402,2571.97284007402,2571.97284007402,2571.97284007402,2571.97284007402,2571.97284007402,2571.97284007402,2571.97284007402,0,0,0,0,0,12859.864200370101,12859.864200370101,0,25719.728400740205,{"$f":"IFERROR(IF(($CM8*(HLOOKUP($CL8,$S$6:$AH$140,(ROW()-5),FALSE))/5-CG8*HLOOKUP('HOJA DE VERIFICACIÓN DE DATOS'!$E$6,$S$6:$AH$8,3,FALSE)/5)/($CL8-'HOJA DE VERIFICACIÓN DE DATOS'!$E$6)>0,($CM8*(HLOOKUP($CL8,$S$6:$AH$140,(ROW()-5),FALSE))/5-CG8*HLOOKUP('HOJA DE VERIFICACIÓN DE DATOS'!$E$6,$S$6:$AH$8,3,FALSE)/5)/($CL8-'HOJA DE VERIFICACIÓN DE DATOS'!$E$6),0),0)","v":362.99342279965458},{"$f":"$MJ$8","v":362.99342279965458},{"$f":"$MJ$8","v":362.99342279965458},362.99342279965458,362.99342279965458,{"$f":"SUM(MJ8:MN8)","v":1814.9671139982729},{"$f":"MO8*(CL8-'HOJA DE VERIFICACIÓN DE DATOS'!$E$6)","v":9074.8355699913645},{"$f":"IF(($BW$8*HLOOKUP($BV$8,$B$6:$Q$140,(ROW()-5),FALSE)/5-($BQ$8*HLOOKUP($MQ$6,$B$6:$Q$8,3,FALSE)/5))/($BV$8-$MQ$6)>0, ($BW$8*HLOOKUP($BV$8,$B$6:$Q$140,(ROW()-5),FALSE)/5-($BQ$8*HLOOKUP($MQ$6,$B$6:$Q$8,3,FALSE)/5))/($BV$8-$MQ$6),0)","v":343.06729365147396},{"$f":"IF(MR$6<$BV8,MQ8,0)","v":343.06729365147396},343.06729365147396,343.06729365147396,343.06729365147396,343.06729365147396,343.06729365147396,343.06729365147396,343.06729365147396,343.06729365147396,0,0,0,0,0,{"$f":"SUM(MQ8:MU8)","v":1715.3364682573697},{"$f":"SUM(MV8:MZ8)","v":1715.3364682573697},{"$f":"SUM(NA8:NE8)","v":0},{"$f":"SUM(MQ8:NE8)","v":3430.6729365147389},{"$f":"IF(($BW$8*HLOOKUP($BV$8,$B$6:$Q$140,(ROW()-5),FALSE)/5-($BR$8*HLOOKUP($MQ$6,$B$6:$Q$8,3,FALSE)/5))/($BV$8-$MQ$6)>0, ($BW$8*HLOOKUP($BV$8,$B$6:$Q$140,(ROW()-5),FALSE)/5-($BR$8*HLOOKUP($MQ$6,$B$6:$Q$8,3,FALSE)/5))/($BV$8-$MQ$6),0)","v":343.06729365147396},{"$f":"IF(NK$6<$BV8,NJ8,0)","v":343.06729365147396},{"$f":"IF(NL$6<$BV8,NK8,0)","v":343.06729365147396},{"$f":"IF(NM$6<$BV8,NL8,0)","v":343.06729365147396},{"$f":"IF(NN$6<$BV8,NM8,0)","v":343.06729365147396},{"$f":"IF(NO$6<$BV8,NN8,0)","v":343.06729365147396},{"$f":"IF(NP$6<$BV8,NO8,0)","v":343.06729365147396},{"$f":"IF(NQ$6<$BV8,NP8,0)","v":343.06729365147396},{"$f":"IF(NR$6<$BV8,NQ8,0)","v":343.06729365147396},{"$f":"IF(NS$6<$BV8,NR8,0)","v":343.06729365147396},{"$f":"IF(NT$6<$BV8,NS8,0)","v":0},{"$f":"IF(NU$6<$BV8,NT8,0)","v":0},{"$f":"IF(NV$6<$BV8,NU8,0)","v":0},{"$f":"IF(NW$6<$BV8,NV8,0)","v":0},{"$f":"IF(NX$6<$BV8,NW8,0)","v":0},{"$f":"SUM(NJ8:NN8)","v":1715.3364682573697},{"$f":"SUM(NO8:NS8)","v":1715.3364682573697},{"$f":"SUM(NT8:NX8)","v":0},{"$f":"SUM(NJ8:NX8)","v":3430.6729365147389},{"$f":"IF(($BW$8*HLOOKUP($BV$8,$B$6:$Q$140,(ROW()-5),FALSE)/5-($BS$8*HLOOKUP($MQ$6,$B$6:$Q$8,3,FALSE)/5))/($BV$8-$MQ$6)>0, ($BW$8*HLOOKUP($BV$8,$B$6:$Q$140,(ROW()-5),FALSE)/5-($BS$8*HLOOKUP($MQ$6,$B$6:$Q$8,3,FALSE)/5))/($BV$8-$MQ$6),0)","v":343.06729365147396},{"$f":"IF(OD$6<$BV8,OC8,0)","v":343.06729365147396},{"$f":"IF(OE$6<$BV8,OD8,0)","v":343.06729365147396},{"$f":"IF(OF$6<$BV8,OE8,0)","v":343.06729365147396},{"$f":"IF(OG$6<$BV8,OF8,0)","v":343.06729365147396},{"$f":"IF(OH$6<$BV8,OG8,0)","v":343.06729365147396},{"$f":"IF(OI$6<$BV8,OH8,0)","v":343.06729365147396},{"$f":"IF(OJ$6<$BV8,OI8,0)","v":343.06729365147396},{"$f":"IF(OK$6<$BV8,OJ8,0)","v":343.06729365147396},{"$f":"IF(OL$6<$BV8,OK8,0)","v":343.06729365147396},{"$f":"IF(OM$6<$BV8,OL8,0)","v":0},{"$f":"IF(ON$6<$BV8,OM8,0)","v":0},{"$f":"IF(OO$6<$BV8,ON8,0)","v":0},{"$f":"IF(OP$6<$BV8,OO8,0)","v":0},{"$f":"IF(OQ$6<$BV8,OP8,0)","v":0},{"$f":"SUM(OC8:OG8)","v":1715.3364682573697},{"$f":"SUM(OH8:OL8)","v":1715.3364682573697},{"$f":"SUM(OM8:OQ8)","v":0},{"$f":"SUM(OC8:OQ8)","v":3430.6729365147389},{"$f":"IF(($BW$8*HLOOKUP($BV$8,$B$6:$Q$140,(ROW()-5),FALSE)/5-($BT$8*HLOOKUP($MQ$6,$B$6:$Q$8,3,FALSE)/5))/($BV$8-$MQ$6)>0, ($BW$8*HLOOKUP($BV$8,$B$6:$Q$140,(ROW()-5),FALSE)/5-($BT$8*HLOOKUP($MQ$6,$B$6:$Q$8,3,FALSE)/5))/($BV$8-$MQ$6),0)","v":343.06729365147396},{"$f":"IF(OW$6<$BV8,OV8,0)","v":343.06729365147396},{"$f":"IF(OX$6<$BV8,OW8,0)","v":343.06729365147396},{"$f":"IF(OY$6<$BV8,OX8,0)","v":343.06729365147396},{"$f":"IF(OZ$6<$BV8,OY8,0)","v":343.06729365147396},{"$f":"IF(PA$6<$BV8,OZ8,0)","v":343.06729365147396},{"$f":"IF(PB$6<$BV8,PA8,0)","v":343.06729365147396},{"$f":"IF(PC$6<$BV8,PB8,0)","v":343.06729365147396},{"$f":"IF(PD$6<$BV8,PC8,0)","v":343.06729365147396},{"$f":"IF(PE$6<$BV8,PD8,0)","v":343.06729365147396},{"$f":"IF(PF$6<$BV8,PE8,0)","v":0},{"$f":"IF(PG$6<$BV8,PF8,0)","v":0},{"$f":"IF(PH$6<$BV8,PG8,0)","v":0},{"$f":"IF(PI$6<$BV8,PH8,0)","v":0},{"$f":"IF(PJ$6<$BV8,PI8,0)","v":0},{"$f":"SUM(OV8:OZ8)","v":1715.3364682573697},{"$f":"SUM(PA8:PE8)","v":1715.3364682573697},{"$f":"SUM(PF8:PJ8)","v":0},{"$f":"SUM(OV8:PJ8)","v":3430.6729365147389},{"$f":"IF(($BW$8*HLOOKUP($BV$8,$B$6:$Q$140,(ROW()-5),FALSE)/5-($BU$8*HLOOKUP($MQ$6,$B$6:$Q$8,3,FALSE)/5))/($BV$8-$MQ$6)>0, ($BW$8*HLOOKUP($BV$8,$B$6:$Q$140,(ROW()-5),FALSE)/5-($BU$8*HLOOKUP($MQ$6,$B$6:$Q$8,3,FALSE)/5))/($BV$8-$MQ$6),0)","v":343.06729365147396},{"$f":"IF(PP$6<$BV8,PO8,0)","v":343.06729365147396},{"$f":"IF(PQ$6<$BV8,PP8,0)","v":343.06729365147396},{"$f":"IF(PR$6<$BV8,PQ8,0)","v":343.06729365147396},{"$f":"IF(PS$6<$BV8,PR8,0)","v":343.06729365147396},{"$f":"IF(PT$6<$BV8,PS8,0)","v":343.06729365147396},{"$f":"IF(PU$6<$BV8,PT8,0)","v":343.06729365147396},{"$f":"IF(PV$6<$BV8,PU8,0)","v":343.06729365147396},{"$f":"IF(PW$6<$BV8,PV8,0)","v":343.06729365147396},{"$f":"IF(PX$6<$BV8,PW8,0)","v":343.06729365147396},{"$f":"IF(PY$6<$BV8,PX8,0)","v":0},{"$f":"IF(PZ$6<$BV8,PY8,0)","v":0},{"$f":"IF(QA$6<$BV8,PZ8,0)","v":0},{"$f":"IF(QB$6<$BV8,QA8,0)","v":0},{"$f":"IF(QC$6<$BV8,QB8,0)","v":0},{"$f":"SUM(PO8:PS8)","v":1715.3364682573697},{"$f":"SUM(PT8:PX8)","v":1715.3364682573697},{"$f":"SUM(PY8:QC8)","v":0},{"$f":"SUM(PO8:QC8)","v":3430.6729365147389},{"$f":"MQ8+NJ8+OC8+OV8+PO8","v":1715.3364682573697},1715.3364682573697,1715.3364682573697,1715.3364682573697,1715.3364682573697,1715.3364682573697,1715.3364682573697,1715.3364682573697,1715.3364682573697,1715.3364682573697,0,0,0,0,0,8576.6823412868489,8576.6823412868489,0,17153.364682573694,{"$f":"IF(($CE$8*HLOOKUP($CD$8,$S$6:$AH$140,(ROW()-5),FALSE)/5-($BY$8*HLOOKUP($RA$6,$S$6:$AH$8,3,FALSE)/5))/($CD$8-$RA$6)>0, ($CE$8*HLOOKUP($CD$8,$S$6:$AH$140,(ROW()-5),FALSE)/5-($BY$8*HLOOKUP($RA$6,$S$6:$AH$8,3,FALSE)/5))/($CD$8-$RA$6),0)","v":668.98525735557701},{"$f":"IF(RB$6<$CD8,RA8,0)","v":668.98525735557701},668.98525735557701,668.98525735557701,668.98525735557701,668.98525735557701,668.98525735557701,668.98525735557701,668.98525735557701,668.98525735557701,0,0,0,0,0,{"$f":"SUM(RA8:RE8)","v":3344.9262867778853},{"$f":"SUM(RF8:RJ8)","v":3344.9262867778853},{"$f":"SUM(RK8:RO8)","v":0},{"$f":"SUM(RA8:RO8)","v":6689.8525735557714},{"$f":"IF(($CE$8*HLOOKUP($CD$8,$S$6:$AH$140,(ROW()-5),FALSE)/5-($BZ$8*HLOOKUP($RA$6,$S$6:$AH$8,3,FALSE)/5))/($CD$8-$RA$6)>0, ($CE$8*HLOOKUP($CD$8,$S$6:$AH$140,(ROW()-5),FALSE)/5-($BZ$8*HLOOKUP($RA$6,$S$6:$AH$8,3,FALSE)/5))/($CD$8-$RA$6),0)","v":668.98525735557701},{"$f":"IF(RU$6<$CD8,RT8,0)","v":668.98525735557701},{"$f":"IF(RV$6<$CD8,RU8,0)","v":668.98525735557701},{"$f":"IF(RW$6<$CD8,RV8,0)","v":668.98525735557701},{"$f":"IF(RX$6<$CD8,RW8,0)","v":668.98525735557701},{"$f":"IF(RY$6<$CD8,RX8,0)","v":668.98525735557701},{"$f":"IF(RZ$6<$CD8,RY8,0)","v":668.98525735557701},{"$f":"IF(SA$6<$CD8,RZ8,0)","v":668.98525735557701},{"$f":"IF(SB$6<$CD8,SA8,0)","v":668.98525735557701},{"$f":"IF(SC$6<$CD8,SB8,0)","v":668.98525735557701},{"$f":"IF(SD$6<$CD8,SC8,0)","v":0},{"$f":"IF(SE$6<$CD8,SD8,0)","v":0},{"$f":"IF(SF$6<$CD8,SE8,0)","v":0},{"$f":"IF(SG$6<$CD8,SF8,0)","v":0},{"$f":"IF(SH$6<$CD8,SG8,0)","v":0},{"$f":"SUM(RT8:RX8)","v":3344.9262867778853},{"$f":"SUM(RY8:SC8)","v":3344.9262867778853},{"$f":"SUM(SD8:SH8)","v":0},{"$f":"SUM(RT8:SH8)","v":6689.8525735557714},{"$f":"IF(($CE$8*HLOOKUP($CD$8,$S$6:$AH$140,(ROW()-5),FALSE)/5-($CA$8*HLOOKUP($RA$6,$S$6:$AH$8,3,FALSE)/5))/($CD$8-$RA$6)>0, ($CE$8*HLOOKUP($CD$8,$S$6:$AH$140,(ROW()-5),FALSE)/5-($CA$8*HLOOKUP($RA$6,$S$6:$AH$8,3,FALSE)/5))/($CD$8-$RA$6),0)","v":668.98525735557701},{"$f":"IF(SN$6<$CD8,SM8,0)","v":668.98525735557701},{"$f":"IF(SO$6<$CD8,SN8,0)","v":668.98525735557701},{"$f":"IF(SP$6<$CD8,SO8,0)","v":668.98525735557701},{"$f":"IF(SQ$6<$CD8,SP8,0)","v":668.98525735557701},{"$f":"IF(SR$6<$CD8,SQ8,0)","v":668.98525735557701},{"$f":"IF(SS$6<$CD8,SR8,0)","v":668.98525735557701},{"$f":"IF(ST$6<$CD8,SS8,0)","v":668.98525735557701},{"$f":"IF(SU$6<$CD8,ST8,0)","v":668.98525735557701},{"$f":"IF(SV$6<$CD8,SU8,0)","v":668.98525735557701},{"$f":"IF(SW$6<$CD8,SV8,0)","v":0},{"$f":"IF(SX$6<$CD8,SW8,0)","v":0},{"$f":"IF(SY$6<$CD8,SX8,0)","v":0},{"$f":"IF(SZ$6<$CD8,SY8,0)","v":0},{"$f":"IF(TA$6<$CD8,SZ8,0)","v":0},{"$f":"SUM(SM8:SQ8)","v":3344.9262867778853},{"$f":"SUM(SR8:SV8)","v":3344.9262867778853},{"$f":"SUM(SW8:TA8)","v":0},{"$f":"SUM(SM8:TA8)","v":6689.8525735557714},{"$f":"IF(($CE$8*HLOOKUP($CD$8,$S$6:$AH$140,(ROW()-5),FALSE)/5-($CB$8*HLOOKUP($RA$6,$S$6:$AH$8,3,FALSE)/5))/($CD$8-$RA$6)>0, ($CE$8*HLOOKUP($CD$8,$S$6:$AH$140,(ROW()-5),FALSE)/5-($CB$8*HLOOKUP($RA$6,$S$6:$AH$8,3,FALSE)/5))/($CD$8-$RA$6),0)","v":668.98525735557701},{"$f":"IF(TG$6<$CD8,TF8,0)","v":668.98525735557701},{"$f":"IF(TH$6<$CD8,TG8,0)","v":668.98525735557701},{"$f":"IF(TI$6<$CD8,TH8,0)","v":668.98525735557701},{"$f":"IF(TJ$6<$CD8,TI8,0)","v":668.98525735557701},{"$f":"IF(TK$6<$CD8,TJ8,0)","v":668.98525735557701},{"$f":"IF(TL$6<$CD8,TK8,0)","v":668.98525735557701},{"$f":"IF(TM$6<$CD8,TL8,0)","v":668.98525735557701},{"$f":"IF(TN$6<$CD8,TM8,0)","v":668.98525735557701},{"$f":"IF(TO$6<$CD8,TN8,0)","v":668.98525735557701},{"$f":"IF(TP$6<$CD8,TO8,0)","v":0},{"$f":"IF(TQ$6<$CD8,TP8,0)","v":0},{"$f":"IF(TR$6<$CD8,TQ8,0)","v":0},{"$f":"IF(TS$6<$CD8,TR8,0)","v":0},{"$f":"IF(TT$6<$CD8,TS8,0)","v":0},{"$f":"SUM(TF8:TJ8)","v":3344.9262867778853},{"$f":"SUM(TK8:TO8)","v":3344.9262867778853},{"$f":"SUM(TP8:TT8)","v":0},{"$f":"SUM(TF8:TT8)","v":6689.8525735557714},{"$f":"IF(($CE$8*HLOOKUP($CD$8,$S$6:$AH$140,(ROW()-5),FALSE)/5-($CC$8*HLOOKUP($RA$6,$S$6:$AH$8,3,FALSE)/5))/($CD$8-$RA$6)>0, ($CE$8*HLOOKUP($CD$8,$S$6:$AH$140,(ROW()-5),FALSE)/5-($CC$8*HLOOKUP($RA$6,$S$6:$AH$8,3,FALSE)/5))/($CD$8-$RA$6),0)","v":668.98525735557701},{"$f":"IF(TZ$6<$CD8,TY8,0)","v":668.98525735557701},{"$f":"IF(UA$6<$CD8,TZ8,0)","v":668.98525735557701},{"$f":"IF(UB$6<$CD8,UA8,0)","v":668.98525735557701},{"$f":"IF(UC$6<$CD8,UB8,0)","v":668.98525735557701},{"$f":"IF(UD$6<$CD8,UC8,0)","v":668.98525735557701},{"$f":"IF(UE$6<$CD8,UD8,0)","v":668.98525735557701},{"$f":"IF(UF$6<$CD8,UE8,0)","v":668.98525735557701},{"$f":"IF(UG$6<$CD8,UF8,0)","v":668.98525735557701},{"$f":"IF(UH$6<$CD8,UG8,0)","v":668.98525735557701},{"$f":"IF(UI$6<$CD8,UH8,0)","v":0},{"$f":"IF(UJ$6<$CD8,UI8,0)","v":0},{"$f":"IF(UK$6<$CD8,UJ8,0)","v":0},{"$f":"IF(UL$6<$CD8,UK8,0)","v":0},{"$f":"IF(UM$6<$CD8,UL8,0)","v":0},{"$f":"SUM(TY8:UC8)","v":3344.9262867778853},{"$f":"SUM(UD8:UH8)","v":3344.9262867778853},{"$f":"SUM(UI8:UM8)","v":0},{"$f":"SUM(TY8:UM8)","v":6689.8525735557714},{"$f":"RA8+RT8+SM8+TF8+TY8","v":3344.9262867778853},3344.9262867778853,3344.9262867778853,3344.9262867778853,3344.9262867778853,3344.9262867778853,3344.9262867778853,3344.9262867778853,3344.9262867778853,3344.9262867778853,0,0,0,0,0,16724.631433889426,16724.631433889426,0,33449.26286777886,{"$f":"IF(($DG$8*HLOOKUP($DF$8,$B$6:$Q$140,(ROW()-5),FALSE)/5-($DA$8*HLOOKUP($VK$6,$B$6:$Q$8,3,FALSE)/5))/($DF$8-$VK$6)>0, ($DG$8*HLOOKUP($DF$8,$B$6:$Q$140,(ROW()-5),FALSE)/5-($DA$8*HLOOKUP($VK$6,$B$6:$Q$8,3,FALSE)/5))/($DF$8-$VK$6),0)","v":396.72531360000005},{"$f":"IF(VL$6<$DF8,VK8,0)","v":396.72531360000005},396.72531360000005,396.72531360000005,396.72531360000005,396.72531360000005,396.72531360000005,396.72531360000005,396.72531360000005,396.72531360000005,0,0,0,0,0,{"$f":"SUM(VK8:VO8)","v":1983.6265680000001},{"$f":"SUM(VP8:VT8)","v":1983.6265680000001},{"$f":"SUM(VU8:VY8)","v":0},{"$f":"SUM(VK8:VY8)","v":3967.2531359999998},{"$f":"IF(($DG$8*HLOOKUP($DF$8,$B$6:$Q$140,(ROW()-5),FALSE)/5-($DB$8*HLOOKUP($VK$6,$B$6:$Q$8,3,FALSE)/5))/($DF$8-$VK$6)>0, ($DG$8*HLOOKUP($DF$8,$B$6:$Q$140,(ROW()-5),FALSE)/5-($DB$8*HLOOKUP($VK$6,$B$6:$Q$8,3,FALSE)/5))/($DF$8-$VK$6),0)","v":396.72531360000005},{"$f":"IF(WE$6<$DF8,WD8,0)","v":396.72531360000005},{"$f":"IF(WF$6<$DF8,WE8,0)","v":396.72531360000005},{"$f":"IF(WG$6<$DF8,WF8,0)","v":396.72531360000005},{"$f":"IF(WH$6<$DF8,WG8,0)","v":396.72531360000005},{"$f":"IF(WI$6<$DF8,WH8,0)","v":396.72531360000005},{"$f":"IF(WJ$6<$DF8,WI8,0)","v":396.72531360000005},{"$f":"IF(WK$6<$DF8,WJ8,0)","v":396.72531360000005},{"$f":"IF(WL$6<$DF8,WK8,0)","v":396.72531360000005},{"$f":"IF(WM$6<$DF8,WL8,0)","v":396.72531360000005},{"$f":"IF(WN$6<$DF8,WM8,0)","v":0},{"$f":"IF(WO$6<$DF8,WN8,0)","v":0},{"$f":"IF(WP$6<$DF8,WO8,0)","v":0},{"$f":"IF(WQ$6<$DF8,WP8,0)","v":0},{"$f":"IF(WR$6<$DF8,WQ8,0)","v":0},{"$f":"SUM(WD8:WH8)","v":1983.6265680000001},{"$f":"SUM(WI8:WM8)","v":1983.6265680000001},{"$f":"SUM(WN8:WR8)","v":0},{"$f":"SUM(WD8:WR8)","v":3967.2531359999998},{"$f":"IF(($DG$8*HLOOKUP($DF$8,$B$6:$Q$140,(ROW()-5),FALSE)/5-($DC$8*HLOOKUP($VK$6,$B$6:$Q$8,3,FALSE)/5))/($DF$8-$VK$6)>0, ($DG$8*HLOOKUP($DF$8,$B$6:$Q$140,(ROW()-5),FALSE)/5-($DC$8*HLOOKUP($VK$6,$B$6:$Q$8,3,FALSE)/5))/($DF$8-$VK$6),0)","v":396.72531360000005},{"$f":"IF(WX$6<$DF8,WW8,0)","v":396.72531360000005},{"$f":"IF(WY$6<$DF8,WX8,0)","v":396.72531360000005},{"$f":"IF(WZ$6<$DF8,WY8,0)","v":396.72531360000005},{"$f":"IF(XA$6<$DF8,WZ8,0)","v":396.72531360000005},{"$f":"IF(XB$6<$DF8,XA8,0)","v":396.72531360000005},{"$f":"IF(XC$6<$DF8,XB8,0)","v":396.72531360000005},{"$f":"IF(XD$6<$DF8,XC8,0)","v":396.72531360000005},{"$f":"IF(XE$6<$DF8,XD8,0)","v":396.72531360000005},{"$f":"IF(XF$6<$DF8,XE8,0)","v":396.72531360000005},{"$f":"IF(XG$6<$DF8,XF8,0)","v":0},{"$f":"IF(XH$6<$DF8,XG8,0)","v":0},{"$f":"IF(XI$6<$DF8,XH8,0)","v":0},{"$f":"IF(XJ$6<$DF8,XI8,0)","v":0},{"$f":"IF(XK$6<$DF8,XJ8,0)","v":0},{"$f":"SUM(WW8:XA8)","v":1983.6265680000001},{"$f":"SUM(XB8:XF8)","v":1983.6265680000001},{"$f":"SUM(XG8:XK8)","v":0},{"$f":"SUM(WW8:XK8)","v":3967.2531359999998},{"$f":"IF(($DG$8*HLOOKUP($DF$8,$B$6:$Q$140,(ROW()-5),FALSE)/5-($DD$8*HLOOKUP($VK$6,$B$6:$Q$8,3,FALSE)/5))/($DF$8-$VK$6)>0, ($DG$8*HLOOKUP($DF$8,$B$6:$Q$140,(ROW()-5),FALSE)/5-($DD$8*HLOOKUP($VK$6,$B$6:$Q$8,3,FALSE)/5))/($DF$8-$VK$6),0)","v":396.72531360000005},{"$f":"IF(XQ$6<$DF8,XP8,0)","v":396.72531360000005},{"$f":"IF(XR$6<$DF8,XQ8,0)","v":396.72531360000005},{"$f":"IF(XS$6<$DF8,XR8,0)","v":396.72531360000005},{"$f":"IF(XT$6<$DF8,XS8,0)","v":396.72531360000005},{"$f":"IF(XU$6<$DF8,XT8,0)","v":396.72531360000005},{"$f":"IF(XV$6<$DF8,XU8,0)","v":396.72531360000005},{"$f":"IF(XW$6<$DF8,XV8,0)","v":396.72531360000005},{"$f":"IF(XX$6<$DF8,XW8,0)","v":396.72531360000005},{"$f":"IF(XY$6<$DF8,XX8,0)","v":396.72531360000005},{"$f":"IF(XZ$6<$DF8,XY8,0)","v":0},{"$f":"IF(YA$6<$DF8,XZ8,0)","v":0},{"$f":"IF(YB$6<$DF8,YA8,0)","v":0},{"$f":"IF(YC$6<$DF8,YB8,0)","v":0},{"$f":"IF(YD$6<$DF8,YC8,0)","v":0},{"$f":"SUM(XP8:XT8)","v":1983.6265680000001},{"$f":"SUM(XU8:XY8)","v":1983.6265680000001},{"$f":"SUM(XZ8:YD8)","v":0},{"$f":"SUM(XP8:YD8)","v":3967.2531359999998},{"$f":"IF(($DG$8*HLOOKUP($DF$8,$B$6:$Q$140,(ROW()-5),FALSE)/5-($DE$8*HLOOKUP($VK$6,$B$6:$Q$8,3,FALSE)/5))/($DF$8-$VK$6)>0, ($DG$8*HLOOKUP($DF$8,$B$6:$Q$140,(ROW()-5),FALSE)/5-($DE$8*HLOOKUP($VK$6,$B$6:$Q$8,3,FALSE)/5))/($DF$8-$VK$6),0)","v":396.72531360000005},{"$f":"IF(YJ$6<$DF8,YI8,0)","v":396.72531360000005},{"$f":"IF(YK$6<$DF8,YJ8,0)","v":396.72531360000005},{"$f":"IF(YL$6<$DF8,YK8,0)","v":396.72531360000005},{"$f":"IF(YM$6<$DF8,YL8,0)","v":396.72531360000005},{"$f":"IF(YN$6<$DF8,YM8,0)","v":396.72531360000005},{"$f":"IF(YO$6<$DF8,YN8,0)","v":396.72531360000005},{"$f":"IF(YP$6<$DF8,YO8,0)","v":396.72531360000005},{"$f":"IF(YQ$6<$DF8,YP8,0)","v":396.72531360000005},{"$f":"IF(YR$6<$DF8,YQ8,0)","v":396.72531360000005},{"$f":"IF(YS$6<$DF8,YR8,0)","v":0},{"$f":"IF(YT$6<$DF8,YS8,0)","v":0},{"$f":"IF(YU$6<$DF8,YT8,0)","v":0},{"$f":"IF(YV$6<$DF8,YU8,0)","v":0},{"$f":"IF(YW$6<$DF8,YV8,0)","v":0},{"$f":"SUM(YI8:YM8)","v":1983.6265680000001},{"$f":"SUM(YN8:YR8)","v":1983.6265680000001},{"$f":"SUM(YS8:YW8)","v":0},{"$f":"SUM(YI8:YW8)","v":3967.2531359999998},{"$f":"VK8+WD8+WW8+XP8+YI8","v":1983.6265680000001},1983.6265680000001,1983.6265680000001,1983.6265680000001,1983.6265680000001,1983.6265680000001,1983.6265680000001,1983.6265680000001,1983.6265680000001,1983.6265680000001,0,0,0,0,0,9918.1328400000002,9918.1328400000002,0,19836.26568,{"$f":"IF(($DO$8*HLOOKUP($DN$8,$S$6:$AH$140,(ROW()-5),FALSE)/5-($DI$8*HLOOKUP($ZU$6,$S$6:$AH$8,3,FALSE)/5))/($DN$8-$ZU$6)>0, ($DO$8*HLOOKUP($DN$8,$S$6:$AH$140,(ROW()-5),FALSE)/5-($DI$8*HLOOKUP($ZU$6,$S$6:$AH$8,3,FALSE)/5))/($DN$8-$ZU$6),0)","v":840.40151047999984},{"$f":"IF(ZV$6<$DN8,ZU8,0)","v":840.40151047999984},840.40151047999984,840.40151047999984,840.40151047999984,840.40151047999984,840.40151047999984,840.40151047999984,840.40151047999984,840.40151047999984,0,0,0,0,0,{"$f":"SUM(ZU8:ZY8)","v":4202.0075523999994},{"$f":"SUM(ZZ8:AAD8)","v":4202.0075523999994},{"$f":"SUM(AAE8:AAI8)","v":0},{"$f":"SUM(ZU8:AAI8)","v":8404.0151047999989},{"$f":"IF(($DO$8*HLOOKUP($DN$8,$S$6:$AH$140,(ROW()-5),FALSE)/5-($DJ$8*HLOOKUP($ZU$6,$S$6:$AH$8,3,FALSE)/5))/($DN$8-$ZU$6)>0, ($DO$8*HLOOKUP($DN$8,$S$6:$AH$140,(ROW()-5),FALSE)/5-($DJ$8*HLOOKUP($ZU$6,$S$6:$AH$8,3,FALSE)/5))/($DN$8-$ZU$6),0)","v":840.40151047999984},{"$f":"IF(AAO$6<$DN8,AAN8,0)","v":840.40151047999984},{"$f":"IF(AAP$6<$DN8,AAO8,0)","v":840.40151047999984},{"$f":"IF(AAQ$6<$DN8,AAP8,0)","v":840.40151047999984},{"$f":"IF(AAR$6<$DN8,AAQ8,0)","v":840.40151047999984},{"$f":"IF(AAS$6<$DN8,AAR8,0)","v":840.40151047999984},{"$f":"IF(AAT$6<$DN8,AAS8,0)","v":840.40151047999984},{"$f":"IF(AAU$6<$DN8,AAT8,0)","v":840.40151047999984},{"$f":"IF(AAV$6<$DN8,AAU8,0)","v":840.40151047999984},{"$f":"IF(AAW$6<$DN8,AAV8,0)","v":840.40151047999984},{"$f":"IF(AAX$6<$DN8,AAW8,0)","v":0},{"$f":"IF(AAY$6<$DN8,AAX8,0)","v":0},{"$f":"IF(AAZ$6<$DN8,AAY8,0)","v":0},{"$f":"IF(ABA$6<$DN8,AAZ8,0)","v":0},{"$f":"IF(ABB$6<$DN8,ABA8,0)","v":0},{"$f":"SUM(AAN8:AAR8)","v":4202.0075523999994},{"$f":"SUM(AAS8:AAW8)","v":4202.0075523999994},{"$f":"SUM(AAX8:ABB8)","v":0},{"$f":"SUM(AAN8:ABB8)","v":8404.0151047999989},{"$f":"IF(($DO$8*HLOOKUP($DN$8,$S$6:$AH$140,(ROW()-5),FALSE)/5-($DK$8*HLOOKUP($ZU$6,$S$6:$AH$8,3,FALSE)/5))/($DN$8-$ZU$6)>0, ($DO$8*HLOOKUP($DN$8,$S$6:$AH$140,(ROW()-5),FALSE)/5-($DK$8*HLOOKUP($ZU$6,$S$6:$AH$8,3,FALSE)/5))/($DN$8-$ZU$6),0)","v":840.40151047999984},{"$f":"IF(ABH$6<$DN8,ABG8,0)","v":840.40151047999984},{"$f":"IF(ABI$6<$DN8,ABH8,0)","v":840.40151047999984},{"$f":"IF(ABJ$6<$DN8,ABI8,0)","v":840.40151047999984},{"$f":"IF(ABK$6<$DN8,ABJ8,0)","v":840.40151047999984},{"$f":"IF(ABL$6<$DN8,ABK8,0)","v":840.40151047999984},{"$f":"IF(ABM$6<$DN8,ABL8,0)","v":840.40151047999984},{"$f":"IF(ABN$6<$DN8,ABM8,0)","v":840.40151047999984},{"$f":"IF(ABO$6<$DN8,ABN8,0)","v":840.40151047999984},{"$f":"IF(ABP$6<$DN8,ABO8,0)","v":840.40151047999984},{"$f":"IF(ABQ$6<$DN8,ABP8,0)","v":0},{"$f":"IF(ABR$6<$DN8,ABQ8,0)","v":0},{"$f":"IF(ABS$6<$DN8,ABR8,0)","v":0},{"$f":"IF(ABT$6<$DN8,ABS8,0)","v":0},{"$f":"IF(ABU$6<$DN8,ABT8,0)","v":0},{"$f":"SUM(ABG8:ABK8)","v":4202.0075523999994},{"$f":"SUM(ABL8:ABP8)","v":4202.0075523999994},{"$f":"SUM(ABQ8:ABU8)","v":0},{"$f":"SUM(ABG8:ABU8)","v":8404.0151047999989},{"$f":"IF(($DO$8*HLOOKUP($DN$8,$S$6:$AH$140,(ROW()-5),FALSE)/5-($DL$8*HLOOKUP($ZU$6,$S$6:$AH$8,3,FALSE)/5))/($DN$8-$ZU$6)>0, ($DO$8*HLOOKUP($DN$8,$S$6:$AH$140,(ROW()-5),FALSE)/5-($DL$8*HLOOKUP($ZU$6,$S$6:$AH$8,3,FALSE)/5))/($DN$8-$ZU$6),0)","v":840.40151047999984},{"$f":"IF(ACA$6<$DN8,ABZ8,0)","v":840.40151047999984},{"$f":"IF(ACB$6<$DN8,ACA8,0)","v":840.40151047999984},{"$f":"IF(ACC$6<$DN8,ACB8,0)","v":840.40151047999984},{"$f":"IF(ACD$6<$DN8,ACC8,0)","v":840.40151047999984},{"$f":"IF(ACE$6<$DN8,ACD8,0)","v":840.40151047999984},{"$f":"IF(ACF$6<$DN8,ACE8,0)","v":840.40151047999984},{"$f":"IF(ACG$6<$DN8,ACF8,0)","v":840.40151047999984},{"$f":"IF(ACH$6<$DN8,ACG8,0)","v":840.40151047999984},{"$f":"IF(ACI$6<$DN8,ACH8,0)","v":840.40151047999984},{"$f":"IF(ACJ$6<$DN8,ACI8,0)","v":0},{"$f":"IF(ACK$6<$DN8,ACJ8,0)","v":0},{"$f":"IF(ACL$6<$DN8,ACK8,0)","v":0},{"$f":"IF(ACM$6<$DN8,ACL8,0)","v":0},{"$f":"IF(ACN$6<$DN8,ACM8,0)","v":0},{"$f":"SUM(ABZ8:ACD8)","v":4202.0075523999994},{"$f":"SUM(ACE8:ACI8)","v":4202.0075523999994},{"$f":"SUM(ACJ8:ACN8)","v":0},{"$f":"SUM(ABZ8:ACN8)","v":8404.0151047999989},{"$f":"IF(($DO$8*HLOOKUP($DN$8,$S$6:$AH$140,(ROW()-5),FALSE)/5-($DM$8*HLOOKUP($ZU$6,$S$6:$AH$8,3,FALSE)/5))/($DN$8-$ZU$6)>0, ($DO$8*HLOOKUP($DN$8,$S$6:$AH$140,(ROW()-5),FALSE)/5-($DM$8*HLOOKUP($ZU$6,$S$6:$AH$8,3,FALSE)/5))/($DN$8-$ZU$6),0)","v":840.40151047999984},{"$f":"IF(ACT$6<$DN8,ACS8,0)","v":840.40151047999984},{"$f":"IF(ACU$6<$DN8,ACT8,0)","v":840.40151047999984},{"$f":"IF(ACV$6<$DN8,ACU8,0)","v":840.40151047999984},{"$f":"IF(ACW$6<$DN8,ACV8,0)","v":840.40151047999984},{"$f":"IF(ACX$6<$DN8,ACW8,0)","v":840.40151047999984},{"$f":"IF(ACY$6<$DN8,ACX8,0)","v":840.40151047999984},{"$f":"IF(ACZ$6<$DN8,ACY8,0)","v":840.40151047999984},{"$f":"IF(ADA$6<$DN8,ACZ8,0)","v":840.40151047999984},{"$f":"IF(ADB$6<$DN8,ADA8,0)","v":840.40151047999984},{"$f":"IF(ADC$6<$DN8,ADB8,0)","v":0},{"$f":"IF(ADD$6<$DN8,ADC8,0)","v":0},{"$f":"IF(ADE$6<$DN8,ADD8,0)","v":0},{"$f":"IF(ADF$6<$DN8,ADE8,0)","v":0},{"$f":"IF(ADG$6<$DN8,ADF8,0)","v":0},{"$f":"SUM(ACS8:ACW8)","v":4202.0075523999994},{"$f":"SUM(ACX8:ADB8)","v":4202.0075523999994},{"$f":"SUM(ADC8:ADG8)","v":0},{"$f":"SUM(ACS8:ADG8)","v":8404.0151047999989},{"$f":"ZU8+AAN8+ABG8+ABZ8+ACS8","v":4202.0075523999994},4202.0075523999994,4202.0075523999994,4202.0075523999994,4202.0075523999994,4202.0075523999994,4202.0075523999994,4202.0075523999994,4202.0075523999994,4202.0075523999994,0,0,0,0,0,21010.037761999996,21010.037761999996,0,42020.075523999993,{"$f":"IF(($BG$8*HLOOKUP($BF$8,$B$6:$Q$140,(ROW()-5),FALSE)/5-($BA$8*HLOOKUP($AEE$6,$B$6:$Q$8,3,FALSE)/5))/($BF$8-$AEE$6)>0, ($BG$8*HLOOKUP($BF$8,$B$6:$Q$140,(ROW()-5),FALSE)/5-($BA$8*HLOOKUP($AEE$6,$B$6:$Q$8,3,FALSE)/5))/($BF$8-$AEE$6),0)","v":343.54809751450637},{"$f":"IF(AEF$6<$BF8,AEE8,0)","v":343.54809751450637},343.54809751450637,343.54809751450637,343.54809751450637,343.54809751450637,343.54809751450637,343.54809751450637,343.54809751450637,343.54809751450637,0,0,0,0,0,{"$f":"SUM(AEE8:AEI8)","v":1717.7404875725319},{"$f":"SUM(AEJ8:AEN8)","v":1717.7404875725319},{"$f":"SUM(AEO8:AES8)","v":0},{"$f":"SUM(AEE8:AES8)","v":3435.4809751450643},{"$f":"IF(($BG$8*HLOOKUP($BF$8,$B$6:$Q$140,(ROW()-5),FALSE)/5-($BB$8*HLOOKUP($AEE$6,$B$6:$Q$8,3,FALSE)/5))/($BF$8-$AEE$6)>0, ($BG$8*HLOOKUP($BF$8,$B$6:$Q$140,(ROW()-5),FALSE)/5-($BB$8*HLOOKUP($AEE$6,$B$6:$Q$8,3,FALSE)/5))/($BF$8-$AEE$6),0)","v":343.54809751450637},{"$f":"IF(AEY$6<$BF8,AEX8,0)","v":343.54809751450637},{"$f":"IF(AEZ$6<$BF8,AEY8,0)","v":343.54809751450637},{"$f":"IF(AFA$6<$BF8,AEZ8,0)","v":343.54809751450637},{"$f":"IF(AFB$6<$BF8,AFA8,0)","v":343.54809751450637},{"$f":"IF(AFC$6<$BF8,AFB8,0)","v":343.54809751450637},{"$f":"IF(AFD$6<$BF8,AFC8,0)","v":343.54809751450637},{"$f":"IF(AFE$6<$BF8,AFD8,0)","v":343.54809751450637},{"$f":"IF(AFF$6<$BF8,AFE8,0)","v":343.54809751450637},{"$f":"IF(AFG$6<$BF8,AFF8,0)","v":343.54809751450637},{"$f":"IF(AFH$6<$BF8,AFG8,0)","v":0},{"$f":"IF(AFI$6<$BF8,AFH8,0)","v":0},{"$f":"IF(AFJ$6<$BF8,AFI8,0)","v":0},{"$f":"IF(AFK$6<$BF8,AFJ8,0)","v":0},{"$f":"IF(AFL$6<$BF8,AFK8,0)","v":0},{"$f":"SUM(AEX8:AFB8)","v":1717.7404875725319},{"$f":"SUM(AFC8:AFG8)","v":1717.7404875725319},{"$f":"SUM(AFH8:AFL8)","v":0},{"$f":"SUM(AEX8:AFL8)","v":3435.4809751450643},{"$f":"IF(($BG$8*HLOOKUP($BF$8,$B$6:$Q$140,(ROW()-5),FALSE)/5-($BC$8*HLOOKUP($AEE$6,$B$6:$Q$8,3,FALSE)/5))/($BF$8-$AEE$6)>0, ($BG$8*HLOOKUP($BF$8,$B$6:$Q$140,(ROW()-5),FALSE)/5-($BC$8*HLOOKUP($AEE$6,$B$6:$Q$8,3,FALSE)/5))/($BF$8-$AEE$6),0)","v":343.54809751450637},{"$f":"IF(AFR$6<$BF8,AFQ8,0)","v":343.54809751450637},{"$f":"IF(AFS$6<$BF8,AFR8,0)","v":343.54809751450637},{"$f":"IF(AFT$6<$BF8,AFS8,0)","v":343.54809751450637},{"$f":"IF(AFU$6<$BF8,AFT8,0)","v":343.54809751450637},{"$f":"IF(AFV$6<$BF8,AFU8,0)","v":343.54809751450637},{"$f":"IF(AFW$6<$BF8,AFV8,0)","v":343.54809751450637},{"$f":"IF(AFX$6<$BF8,AFW8,0)","v":343.54809751450637},{"$f":"IF(AFY$6<$BF8,AFX8,0)","v":343.54809751450637},{"$f":"IF(AFZ$6<$BF8,AFY8,0)","v":343.54809751450637},{"$f":"IF(AGA$6<$BF8,AFZ8,0)","v":0},{"$f":"IF(AGB$6<$BF8,AGA8,0)","v":0},{"$f":"IF(AGC$6<$BF8,AGB8,0)","v":0},{"$f":"IF(AGD$6<$BF8,AGC8,0)","v":0},{"$f":"IF(AGE$6<$BF8,AGD8,0)","v":0},{"$f":"SUM(AFQ8:AFU8)","v":1717.7404875725319},{"$f":"SUM(AFV8:AFZ8)","v":1717.7404875725319},{"$f":"SUM(AGA8:AGE8)","v":0},{"$f":"SUM(AFQ8:AGE8)","v":3435.4809751450643},{"$f":"IF(($BG$8*HLOOKUP($BF$8,$B$6:$Q$140,(ROW()-5),FALSE)/5-($BD$8*HLOOKUP($AEE$6,$B$6:$Q$8,3,FALSE)/5))/($BF$8-$AEE$6)>0, ($BG$8*HLOOKUP($BF$8,$B$6:$Q$140,(ROW()-5),FALSE)/5-($BD$8*HLOOKUP($AEE$6,$B$6:$Q$8,3,FALSE)/5))/($BF$8-$AEE$6),0)","v":343.54809751450637},{"$f":"IF(AGK$6<$BF8,AGJ8,0)","v":343.54809751450637},{"$f":"IF(AGL$6<$BF8,AGK8,0)","v":343.54809751450637},{"$f":"IF(AGM$6<$BF8,AGL8,0)","v":343.54809751450637},{"$f":"IF(AGN$6<$BF8,AGM8,0)","v":343.54809751450637},{"$f":"IF(AGO$6<$BF8,AGN8,0)","v":343.54809751450637},{"$f":"IF(AGP$6<$BF8,AGO8,0)","v":343.54809751450637},{"$f":"IF(AGQ$6<$BF8,AGP8,0)","v":343.54809751450637},{"$f":"IF(AGR$6<$BF8,AGQ8,0)","v":343.54809751450637},{"$f":"IF(AGS$6<$BF8,AGR8,0)","v":343.54809751450637},{"$f":"IF(AGT$6<$BF8,AGS8,0)","v":0},{"$f":"IF(AGU$6<$BF8,AGT8,0)","v":0},{"$f":"IF(AGV$6<$BF8,AGU8,0)","v":0},{"$f":"IF(AGW$6<$BF8,AGV8,0)","v":0},{"$f":"IF(AGX$6<$BF8,AGW8,0)","v":0},{"$f":"SUM(AGJ8:AGN8)","v":1717.7404875725319},{"$f":"SUM(AGO8:AGS8)","v":1717.7404875725319},{"$f":"SUM(AGT8:AGX8)","v":0},{"$f":"SUM(AGJ8:AGX8)","v":3435.4809751450643},{"$f":"IF(($BG$8*HLOOKUP($BF$8,$B$6:$Q$140,(ROW()-5),FALSE)/5-($BE$8*HLOOKUP($AEE$6,$B$6:$Q$8,3,FALSE)/5))/($BF$8-$AEE$6)>0, ($BG$8*HLOOKUP($BF$8,$B$6:$Q$140,(ROW()-5),FALSE)/5-($BE$8*HLOOKUP($AEE$6,$B$6:$Q$8,3,FALSE)/5))/($BF$8-$AEE$6),0)","v":343.54809751450637},{"$f":"IF(AHD$6<$BF8,AHC8,0)","v":343.54809751450637},{"$f":"IF(AHE$6<$BF8,AHD8,0)","v":343.54809751450637},{"$f":"IF(AHF$6<$BF8,AHE8,0)","v":343.54809751450637},{"$f":"IF(AHG$6<$BF8,AHF8,0)","v":343.54809751450637},{"$f":"IF(AHH$6<$BF8,AHG8,0)","v":343.54809751450637},{"$f":"IF(AHI$6<$BF8,AHH8,0)","v":343.54809751450637},{"$f":"IF(AHJ$6<$BF8,AHI8,0)","v":343.54809751450637},{"$f":"IF(AHK$6<$BF8,AHJ8,0)","v":343.54809751450637},{"$f":"IF(AHL$6<$BF8,AHK8,0)","v":343.54809751450637},{"$f":"IF(AHM$6<$BF8,AHL8,0)","v":0},{"$f":"IF(AHN$6<$BF8,AHM8,0)","v":0},{"$f":"IF(AHO$6<$BF8,AHN8,0)","v":0},{"$f":"IF(AHP$6<$BF8,AHO8,0)","v":0},{"$f":"IF(AHQ$6<$BF8,AHP8,0)","v":0},{"$f":"SUM(AHC8:AHG8)","v":1717.7404875725319},{"$f":"SUM(AHH8:AHL8)","v":1717.7404875725319},{"$f":"SUM(AHM8:AHQ8)","v":0},{"$f":"SUM(AHC8:AHQ8)","v":3435.4809751450643},{"$f":"AEE8+AEX8+AFQ8+AGJ8+AHC8","v":1717.7404875725319},1717.7404875725319,1717.7404875725319,1717.7404875725319,1717.7404875725319,1717.7404875725319,1717.7404875725319,1717.7404875725319,1717.7404875725319,1717.7404875725319,0,0,0,0,0,8588.7024378626593,8588.7024378626593,0,17177.404875725322,{"$f":"IF(($BO$8*HLOOKUP($BN$8,$S$6:$AH$140,(ROW()-5),FALSE)/5-($BI$8*HLOOKUP($AIO$6,$S$6:$AH$8,3,FALSE)/5))/($BN$8-$AIO$6)>0, ($BO$8*HLOOKUP($BN$8,$S$6:$AH$140,(ROW()-5),FALSE)/5-($BI$8*HLOOKUP($AIO$6,$S$6:$AH$8,3,FALSE)/5))/($BN$8-$AIO$6),0)","v":862.37454791586458},{"$f":"IF(AIP$6<$BN8,AIO8,0)","v":862.37454791586458},862.37454791586458,862.37454791586458,862.37454791586458,862.37454791586458,862.37454791586458,862.37454791586458,862.37454791586458,862.37454791586458,0,0,0,0,0,{"$f":"SUM(AIO8:AIS8)","v":4311.872739579323},{"$f":"SUM(AIT8:AIX8)","v":4311.872739579323},{"$f":"SUM(AIY8:AJC8)","v":0},{"$f":"SUM(AIO8:AJC8)","v":8623.7454791586442},{"$f":"IF(($BO$8*HLOOKUP($BN$8,$S$6:$AH$140,(ROW()-5),FALSE)/5-($BJ$8*HLOOKUP($AIO$6,$S$6:$AH$8,3,FALSE)/5))/($BN$8-$AIO$6)>0, ($BO$8*HLOOKUP($BN$8,$S$6:$AH$140,(ROW()-5),FALSE)/5-($BJ$8*HLOOKUP($AIO$6,$S$6:$AH$8,3,FALSE)/5))/($BN$8-$AIO$6),0)","v":862.37454791586458},{"$f":"IF(AJI$6<$BN8,AJH8,0)","v":862.37454791586458},{"$f":"IF(AJJ$6<$BN8,AJI8,0)","v":862.37454791586458},{"$f":"IF(AJK$6<$BN8,AJJ8,0)","v":862.37454791586458},{"$f":"IF(AJL$6<$BN8,AJK8,0)","v":862.37454791586458},{"$f":"IF(AJM$6<$BN8,AJL8,0)","v":862.37454791586458},{"$f":"IF(AJN$6<$BN8,AJM8,0)","v":862.37454791586458},{"$f":"IF(AJO$6<$BN8,AJN8,0)","v":862.37454791586458},{"$f":"IF(AJP$6<$BN8,AJO8,0)","v":862.37454791586458},{"$f":"IF(AJQ$6<$BN8,AJP8,0)","v":862.37454791586458},{"$f":"IF(AJR$6<$BN8,AJQ8,0)","v":0},{"$f":"IF(AJS$6<$BN8,AJR8,0)","v":0},{"$f":"IF(AJT$6<$BN8,AJS8,0)","v":0},{"$f":"IF(AJU$6<$BN8,AJT8,0)","v":0},{"$f":"IF(AJV$6<$BN8,AJU8,0)","v":0},{"$f":"SUM(AJH8:AJL8)","v":4311.872739579323},{"$f":"SUM(AJM8:AJQ8)","v":4311.872739579323},{"$f":"SUM(AJR8:AJV8)","v":0},{"$f":"SUM(AJH8:AJV8)","v":8623.7454791586442},{"$f":"IF(($BO$8*HLOOKUP($BN$8,$S$6:$AH$140,(ROW()-5),FALSE)/5-($BK$8*HLOOKUP($AIO$6,$S$6:$AH$8,3,FALSE)/5))/($BN$8-$AIO$6)>0, ($BO$8*HLOOKUP($BN$8,$S$6:$AH$140,(ROW()-5),FALSE)/5-($BK$8*HLOOKUP($AIO$6,$S$6:$AH$8,3,FALSE)/5))/($BN$8-$AIO$6),0)","v":862.37454791586458},{"$f":"IF(AKB$6<$BN8,AKA8,0)","v":862.37454791586458},{"$f":"IF(AKC$6<$BN8,AKB8,0)","v":862.37454791586458},{"$f":"IF(AKD$6<$BN8,AKC8,0)","v":862.37454791586458},{"$f":"IF(AKE$6<$BN8,AKD8,0)","v":862.37454791586458},{"$f":"IF(AKF$6<$BN8,AKE8,0)","v":862.37454791586458},{"$f":"IF(AKG$6<$BN8,AKF8,0)","v":862.37454791586458},{"$f":"IF(AKH$6<$BN8,AKG8,0)","v":862.37454791586458},{"$f":"IF(AKI$6<$BN8,AKH8,0)","v":862.37454791586458},{"$f":"IF(AKJ$6<$BN8,AKI8,0)","v":862.37454791586458},{"$f":"IF(AKK$6<$BN8,AKJ8,0)","v":0},{"$f":"IF(AKL$6<$BN8,AKK8,0)","v":0},{"$f":"IF(AKM$6<$BN8,AKL8,0)","v":0},{"$f":"IF(AKN$6<$BN8,AKM8,0)","v":0},{"$f":"IF(AKO$6<$BN8,AKN8,0)","v":0},{"$f":"SUM(AKA8:AKE8)","v":4311.872739579323},{"$f":"SUM(AKF8:AKJ8)","v":4311.872739579323},{"$f":"SUM(AKK8:AKO8)","v":0},{"$f":"SUM(AKA8:AKO8)","v":8623.7454791586442},{"$f":"IF(($BO$8*HLOOKUP($BN$8,$S$6:$AH$140,(ROW()-5),FALSE)/5-($BL$8*HLOOKUP($AIO$6,$S$6:$AH$8,3,FALSE)/5))/($BN$8-$AIO$6)>0, ($BO$8*HLOOKUP($BN$8,$S$6:$AH$140,(ROW()-5),FALSE)/5-($BL$8*HLOOKUP($AIO$6,$S$6:$AH$8,3,FALSE)/5))/($BN$8-$AIO$6),0)","v":862.37454791586458},{"$f":"IF(AKU$6<$BN8,AKT8,0)","v":862.37454791586458},{"$f":"IF(AKV$6<$BN8,AKU8,0)","v":862.37454791586458},{"$f":"IF(AKW$6<$BN8,AKV8,0)","v":862.37454791586458},{"$f":"IF(AKX$6<$BN8,AKW8,0)","v":862.37454791586458},{"$f":"IF(AKY$6<$BN8,AKX8,0)","v":862.37454791586458},{"$f":"IF(AKZ$6<$BN8,AKY8,0)","v":862.37454791586458},{"$f":"IF(ALA$6<$BN8,AKZ8,0)","v":862.37454791586458},{"$f":"IF(ALB$6<$BN8,ALA8,0)","v":862.37454791586458},{"$f":"IF(ALC$6<$BN8,ALB8,0)","v":862.37454791586458},{"$f":"IF(ALD$6<$BN8,ALC8,0)","v":0},{"$f":"IF(ALE$6<$BN8,ALD8,0)","v":0},{"$f":"IF(ALF$6<$BN8,ALE8,0)","v":0},{"$f":"IF(ALG$6<$BN8,ALF8,0)","v":0},{"$f":"IF(ALH$6<$BN8,ALG8,0)","v":0},{"$f":"SUM(AKT8:AKX8)","v":4311.872739579323},{"$f":"SUM(AKY8:ALC8)","v":4311.872739579323},{"$f":"SUM(ALD8:ALH8)","v":0},{"$f":"SUM(AKT8:ALH8)","v":8623.7454791586442},{"$f":"IF(($BO$8*HLOOKUP($BN$8,$S$6:$AH$140,(ROW()-5),FALSE)/5-($BM$8*HLOOKUP($AIO$6,$S$6:$AH$8,3,FALSE)/5))/($BN$8-$AIO$6)>0, ($BO$8*HLOOKUP($BN$8,$S$6:$AH$140,(ROW()-5),FALSE)/5-($BM$8*HLOOKUP($AIO$6,$S$6:$AH$8,3,FALSE)/5))/($BN$8-$AIO$6),0)","v":862.37454791586458},{"$f":"IF(ALN$6<$BN8,ALM8,0)","v":862.37454791586458},{"$f":"IF(ALO$6<$BN8,ALN8,0)","v":862.37454791586458},{"$f":"IF(ALP$6<$BN8,ALO8,0)","v":862.37454791586458},{"$f":"IF(ALQ$6<$BN8,ALP8,0)","v":862.37454791586458},{"$f":"IF(ALR$6<$BN8,ALQ8,0)","v":862.37454791586458},{"$f":"IF(ALS$6<$BN8,ALR8,0)","v":862.37454791586458},{"$f":"IF(ALT$6<$BN8,ALS8,0)","v":862.37454791586458},{"$f":"IF(ALU$6<$BN8,ALT8,0)","v":862.37454791586458},{"$f":"IF(ALV$6<$BN8,ALU8,0)","v":862.37454791586458},{"$f":"IF(ALW$6<$BN8,ALV8,0)","v":0},{"$f":"IF(ALX$6<$BN8,ALW8,0)","v":0},{"$f":"IF(ALY$6<$BN8,ALX8,0)","v":0},{"$f":"IF(ALZ$6<$BN8,ALY8,0)","v":0},{"$f":"IF(AMA$6<$BN8,ALZ8,0)","v":0},{"$f":"SUM(ALM8:ALQ8)","v":4311.872739579323},{"$f":"SUM(ALR8:ALV8)","v":4311.872739579323},{"$f":"SUM(ALW8:AMA8)","v":0},{"$f":"SUM(ALM8:AMA8)","v":8623.7454791586442},{"$f":"AIO8+AJH8+AKA8+AKT8+ALM8","v":4311.872739579323},4311.872739579323,4311.872739579323,4311.872739579323,4311.872739579323,4311.872739579323,4311.872739579323,4311.872739579323,4311.872739579323,4311.872739579323,0,0,0,0,0,21559.363697896617,21559.363697896617,0,43118.727395793219,{"$f":"IF((CS8*HLOOKUP(CR8,$B$6:$Q$140,(ROW()-5),FALSE)-(CQ8*HLOOKUP($AMY$6,$B$6:$Q$8,3,FALSE)))/(CR8-$AMY$6)>0,(CS8*HLOOKUP(CR8,$B$6:$Q$140,(ROW()-5),FALSE)-(CQ8*HLOOKUP($AMY$6,$B$6:$Q$8,3,FALSE)))/(CR8-$AMY$6),0)","v":1710.0738519920001},{"$f":"IF(AMZ$6<$CR8,AMY8,0)","v":1710.0738519920001},1710.0738519920001,1710.0738519920001,1710.0738519920001,1710.0738519920001,1710.0738519920001,1710.0738519920001,1710.0738519920001,1710.0738519920001,0,0,0,0,0,{"$f":"SUM(AMY8:ANC8)","v":8550.3692599599999},{"$f":"SUM(AND8:ANH8)","v":8550.3692599599999},{"$f":"SUM(ANI8:ANM8)","v":0},{"$f":"SUM(ANN8:ANP8)","v":17100.73851992},{"$f":"IF((CY8*HLOOKUP(CX8,$S$6:$AH$140,(ROW()-5),FALSE)-(CW8*HLOOKUP($ANR$6,$S$6:$AH$8,3,FALSE)))/(CX8-$ANR$6)>0, (CY8*HLOOKUP(CX8,$S$6:$AH$140,(ROW()-5),FALSE)-(CW8*HLOOKUP($ANR$6,$S$6:$AH$8,3,FALSE)))/(CX8-$ANR$6),0)","v":3163.8410531999994},{"$f":"IF(ANS$6<$CX8,ANR8,0)","v":3163.8410531999994},3163.8410531999994,3163.8410531999994,3163.8410531999994,3163.8410531999994,3163.8410531999994,3163.8410531999994,3163.8410531999994,3163.8410531999994,0,0,0,0,0,{"$f":"SUM(ANR8:ANV8)","v":15819.205265999997},{"$f":"SUM(ANW8:AOA8)","v":15819.205265999997},{"$f":"SUM(AOB8:AOF8)","v":0},{"$f":"SUM(AOG8:AOI8)","v":31638.410531999994},{"$f":"(HY7+OP7)/(#REF!+#REF!)","v":{"$error":"#REF!"}},{"$f":"(QZ7+VJ7)/(#REF!+#REF!)","v":{"$error":"#REF!"}},{"$f":"(HY7+OP7+QZ7+VJ7)/(#REF!+#REF!+#REF!+#REF!)","v":{"$error":"#REF!"}},{"$f":"'HOJA DE VERIFICACIÓN DE DATOS'!I$26","v":62.507160986797338},{"$f":"'HOJA DE VERIFICACIÓN DE DATOS'!J$26","v":3.1253580493398672},null,{"$f":"'HOJA DE VERIFICACIÓN DE DATOS'!K$26","v":-20},{"$f":"(AON8+AOO8)/((1-(1+$BAI8)^AOQ8)/$BAI8)","v":5.2665231313019483},null,{"$f":"'HOJA DE VERIFICACIÓN DE DATOS'!N$26","v":18.752148296039202},{"$f":"'HOJA DE VERIFICACIÓN DE DATOS'!O$26","v":-10},{"$f":"AOT8/((1-(1+$BAI8)^AOU8)/$BAI8)","v":2.4284889947677697},{"$f":"'HOJA DE VERIFICACIÓN DE DATOS'!R$26","v":2.300263524314142},null,null,{"$f":"AOR8+AOV8+AOW8+AOX8","v":9.99527565038386},{"$f":"'HOJA DE VERIFICACIÓN DE DATOS'!I$27","v":29.776830692136208},{"$f":"'HOJA DE VERIFICACIÓN DE DATOS'!J$27","v":1.4888415346068105},null,{"$f":"'HOJA DE VERIFICACIÓN DE DATOS'!K$27","v":-10},{"$f":"(APA8+APB8)/((1-(1+$BAI8)^APD8)/$BAI8)","v":4.049047592733638},null,{"$f":"'HOJA DE VERIFICACIÓN DE DATOS'!N$27","v":8.9330492076408614},{"$f":"'HOJA DE VERIFICACIÓN DE DATOS'!O$27","v":-5},{"$f":"APG8/((1-(1+$BAI8)^APH8)/$BAI8)","v":2.063309237404733},{"$f":"'HOJA DE VERIFICACIÓN DE DATOS'!R$27","v":1.4471539716378197},null,null,{"$f":"APE8+API8+APJ8+APK8","v":7.5595108017761898},{"$f":"'HOJA DE VERIFICACIÓN DE DATOS'!I$28","v":42.8},{"$f":"'HOJA DE VERIFICACIÓN DE DATOS'!J$28","v":2.14},null,{"$f":"'HOJA DE VERIFICACIÓN DE DATOS'!K$28","v":-20},{"$f":"(APN8+APO8)/((1-(1+$BAI8)^APQ8)/$BAI8)","v":3.6061018683496679},null,{"$f":"'HOJA DE VERIFICACIÓN DE DATOS'!N$26","v":18.752148296039202},{"$f":"'HOJA DE VERIFICACIÓN DE DATOS'!O$26","v":-10},{"$f":"APT8/((1-(1+$BAI8)^APU8)/$BAI8)","v":2.4284889947677697},{"$f":"'HOJA DE VERIFICACIÓN DE DATOS'!R$28","v":2.3111999999999999},null,null,{"$f":"APR8+APV8+APW8+APY8","v":8.345790863117438},{"$f":"'HOJA DE VERIFICACIÓN DE DATOS'!I$29","v":8.1},{"$f":"'HOJA DE VERIFICACIÓN DE DATOS'!J$29","v":0.40500000000000003},null,{"$f":"'HOJA DE VERIFICACIÓN DE DATOS'!K$29","v":-10},{"$f":"(AQA8+AQB8)/((1-(1+$BAI8)^AQD8)/$BAI8)","v":1.1014364100812091},null,{"$f":"'HOJA DE VERIFICACIÓN DE DATOS'!N$29","v":2.4299999999999997},{"$f":"'HOJA DE VERIFICACIÓN DE DATOS'!O$29","v":-5},{"$f":"AQG8/((1-(1+$BAI8)^AQH8)/$BAI8)","v":0.56126875945169141},{"$f":"'HOJA DE VERIFICACIÓN DE DATOS'!R$29","v":0.39366000000000001},null,null,{"$f":"AQE8+AQI8+AQJ8+AQL8","v":2.0563651695329006},{"$f":"'HOJA DE VERIFICACIÓN DE DATOS'!I$30","v":116.1},{"$f":"'HOJA DE VERIFICACIÓN DE DATOS'!J$30","v":11.61},null,{"$f":"'HOJA DE VERIFICACIÓN DE DATOS'!K$30","v":-20},{"$f":"(AQN8+AQO8)/((1-(1+$BAI8)^AQQ8)/$BAI8)","v":10.247780810123189},null,{"$f":"'HOJA DE VERIFICACIÓN DE DATOS'!N$30","v":34.83},{"$f":"'HOJA DE VERIFICACIÓN DE DATOS'!O$30","v":-10},{"$f":"AQT8/((1-(1+$BAI8)^AQU8)/$BAI8)","v":4.5106443460468562},{"$f":"'HOJA DE VERIFICACIÓN DE DATOS'!R$30","v":20.7},null,null,{"$f":"AQR8+AQV8+AQW8+AQX8","v":35.458425156170044},{"$f":"'HOJA DE VERIFICACIÓN DE DATOS'!I$31","v":43.9},{"$f":"'HOJA DE VERIFICACIÓN DE DATOS'!J$31","v":4.3899999999999997},null,{"$f":"'HOJA DE VERIFICACIÓN DE DATOS'!K$31","v":-20},{"$f":"(ARA8+ARB8)/((1-(1+$BAI8)^ARD8)/$BAI8)","v":3.8749145354384837},null,{"$f":"'HOJA DE VERIFICACIÓN DE DATOS'!N$31","v":13.17},{"$f":"'HOJA DE VERIFICACIÓN DE DATOS'!O$31","v":-10},{"$f":"ARG8/((1-(1+$BAI8)^ARH8)/$BAI8)","v":1.7055752522950645},{"$f":"'HOJA DE VERIFICACIÓN DE DATOS'!R$31","v":15.524999999999999},null,null,{"$f":"ARE8+ARI8+ARJ8+ARK8","v":21.105489787733546},{"$f":"ARN$5","v":1},{"$f":"'HOJA DE VERIFICACIÓN DE DATOS'!I$32","v":671},{"$f":"'HOJA DE VERIFICACIÓN DE DATOS'!J$32","v":134.20000000000002},null,{"$f":"'HOJA DE VERIFICACIÓN DE DATOS'!K$32","v":-20},{"$f":"(ARO8+ARP8)/((1-(1+$BAI8)^ARR8)/$BAI8)","v":64.611331205944651},null,{"$f":"'HOJA DE VERIFICACIÓN DE DATOS'!N$32","v":201.29999999999998},{"$f":"'HOJA DE VERIFICACIÓN DE DATOS'!O$32","v":-10},{"$f":"ARU8/((1-(1+$BAI8)^ARV8)/$BAI8)","v":26.069270940546428},{"$f":"'HOJA DE VERIFICACIÓN DE DATOS'!R$32","v":51.801200000000001},null,null,{"$f":"ARS8+ARW8+ARX8+ARY8","v":142.48180214649108},{"$f":"ASB$5","v":1},{"$f":"'HOJA DE VERIFICACIÓN DE DATOS'!I$33","v":43.625797612202234},{"$f":"'HOJA DE VERIFICACIÓN DE DATOS'!J$33","v":4.362579761220224},null,{"$f":"'HOJA DE VERIFICACIÓN DE DATOS'!K$33","v":-8},{"$f":"(ASC8+ASD8)/((1-(1+$BAI8)^ASF8)/$BAI8)","v":7.424848780265501},null,{"$f":"'HOJA DE VERIFICACIÓN DE DATOS'!N$33","v":13.087739283660669},{"$f":"'HOJA DE VERIFICACIÓN DE DATOS'!O$33","v":-4},{"$f":"ASI8/((1-(1+$BAI8)^ASJ8)/$BAI8)","v":3.690897340021476},{"$f":"'HOJA DE VERIFICACIÓN DE DATOS'!R$33","v":2.8574897435992459},null,null,{"$f":"ASG8+ASK8+ASL8+ASM8","v":13.973235863886222},{"$f":"ASP$5","v":1},{"$f":"'HOJA DE VERIFICACIÓN DE DATOS'!I$34","v":43.625797612202234},{"$f":"'HOJA DE VERIFICACIÓN DE DATOS'!J$34","v":4.362579761220224},null,{"$f":"'HOJA DE VERIFICACIÓN DE DATOS'!K$34","v":-8},{"$f":"(ASQ8+ASR8)/((1-(1+$BAI8)^AST8)/$BAI8)","v":7.424848780265501},null,{"$f":"'HOJA DE VERIFICACIÓN DE DATOS'!N$35","v":7.3199999999999994},{"$f":"'HOJA DE VERIFICACIÓN DE DATOS'!O$35","v":-4},{"$f":"ASW8/((1-(1+$BAI8)^ASX8)/$BAI8)","v":2.0643266146573471},{"$f":"'HOJA DE VERIFICACIÓN DE DATOS'!R$34","v":3.494426388737399},null,null,{"$f":"ASU8+ASY8+ASZ8+ATA8","v":12.983601783660246},{"$f":"ATD$5","v":1},{"$f":"'HOJA DE VERIFICACIÓN DE DATOS'!I$35","v":24.4},{"$f":"'HOJA DE VERIFICACIÓN DE DATOS'!J$35","v":4.362579761220224},null,{"$f":"'HOJA DE VERIFICACIÓN DE DATOS'!K$35","v":-8},{"$f":"(ATE8+ATF8)/((1-(1+$BAI8)^ATH8)/$BAI8)","v":4.4501985052668296},null,{"$f":"'HOJA DE VERIFICACIÓN DE DATOS'!N$35","v":7.3199999999999994},{"$f":"'HOJA DE VERIFICACIÓN DE DATOS'!O$35","v":-4},{"$f":"ATK8/((1-(1+$BAI8)^ATL8)/$BAI8)","v":2.0643266146573471},{"$f":"'HOJA DE VERIFICACIÓN DE DATOS'!R$35","v":1.6347999999999998},null,null,{"$f":"ATI8+ATM8+ATN8+ATO8","v":8.1493251199241765},{"$f":"'HOJA DE VERIFICACIÓN DE DATOS'!I$36","v":24.4},{"$f":"'HOJA DE VERIFICACIÓN DE DATOS'!J$36","v":2.181289880610112},null,{"$f":"'HOJA DE VERIFICACIÓN DE DATOS'!K$36","v":-2},{"$f":"(ATR8+ATS8)/((1-(1+$BAI8)^ATU8)/$BAI8)","v":14.295547362620793},null,{"$f":"'HOJA DE VERIFICACIÓN DE DATOS'!N$36","v":7.3199999999999994},{"$f":"'HOJA DE VERIFICACIÓN DE DATOS'!O$36","v":-1},{"$f":"ATX8/((1-(1+$BAI8)^ATY8)/$BAI8)","v":7.6859999999999911},{"$f":"'HOJA DE VERIFICACIÓN DE DATOS'!R$36","v":1.6347999999999998},null,null,{"$f":"ATV8+ATZ8+AUA8+AUB8","v":23.616347362620782},{"$f":"'HOJA DE VERIFICACIÓN DE DATOS'!I$37","v":158.6},{"$f":"'HOJA DE VERIFICACIÓN DE DATOS'!J$37","v":15.86},null,{"$f":"'HOJA DE VERIFICACIÓN DE DATOS'!K$37","v":-20},{"$f":"(AUE8+AUF8)/((1-(1+$BAI8)^AUH8)/$BAI8)","v":13.999121761288006},null,{"$f":"'HOJA DE VERIFICACIÓN DE DATOS'!N$37","v":47.58},{"$f":"'HOJA DE VERIFICACIÓN DE DATOS'!O$37","v":-10},{"$f":"AUK8/((1-(1+$BAI8)^AUL8)/$BAI8)","v":6.1618276768564284},{"$f":"'HOJA DE VERIFICACIÓN DE DATOS'!R$37","v":9.6587399999999999},null,{"$f":"VLOOKUP($A$8,SOURCE!$A$7:$IMC$146,COLUMN(),FALSE)","v":0},{"$f":"AUI8+AUM8+AUN8+AUO8","v":29.819689438144437},{"$f":"'HOJA DE VERIFICACIÓN DE DATOS'!I$38","v":70.279721494505466},{"$f":"'HOJA DE VERIFICACIÓN DE DATOS'!J$38","v":7.0279721494505472},null,{"$f":"'HOJA DE VERIFICACIÓN DE DATOS'!K$38","v":-20},{"$f":"(AUR8+AUS8)/((1-(1+$BAI8)^AUU8)/$BAI8)","v":6.2033693477363938},null,{"$f":"'HOJA DE VERIFICACIÓN DE DATOS'!N$38","v":21.083916448351641},{"$f":"'HOJA DE VERIFICACIÓN DE DATOS'!O$38","v":-10},{"$f":"AUX8/((1-(1+$BAI8)^AUY8)/$BAI8)","v":2.7304636382509804},{"$f":"'HOJA DE VERIFICACIÓN DE DATOS'!R$38","v":5.0250000868571414},null,null,{"$f":"AUV8+AUZ8+AVA8+AVB8","v":13.958833072844516},{"$f":"'HOJA DE VERIFICACIÓN DE DATOS'!I$39","v":56.305369438085428},{"$f":"'HOJA DE VERIFICACIÓN DE DATOS'!J$39","v":5.6305369438085435},null,{"$f":"'HOJA DE VERIFICACIÓN DE DATOS'!K$39","v":-20},{"$f":"(AVE8+AVF8)/((1-(1+$BAI8)^AVH8)/$BAI8)","v":4.9698973680836218},null,{"$f":"'HOJA DE VERIFICACIÓN DE DATOS'!N$39","v":16.891610831425627},{"$f":"'HOJA DE VERIFICACIÓN DE DATOS'!O$39","v":-10},{"$f":"AVK8/((1-(1+$BAI8)^AVL8)/$BAI8)","v":2.1875408812056802},{"$f":"'HOJA DE VERIFICACIÓN DE DATOS'!R$39","v":2.7195493438595264},null,null,{"$f":"AVI8+AVM8+AVN8+AVO8","v":9.8769875931488293},{"$f":"'HOJA DE VERIFICACIÓN DE DATOS'!I$40","v":392.05808936053648},{"$f":"'HOJA DE VERIFICACIÓN DE DATOS'!J$40","v":39.20580893605365},null,{"$f":"'HOJA DE VERIFICACIÓN DE DATOS'!K$40","v":-20},{"$f":"(AVR8+AVS8)/((1-(1+$BAI8)^AVU8)/$BAI8)","v":34.605730961261564},null,{"$f":"'HOJA DE VERIFICACIÓN DE DATOS'!N$40","v":117.61742680816094},{"$f":"'HOJA DE VERIFICACIÓN DE DATOS'!O$40","v":-10},{"$f":"AVX8/((1-(1+$BAI8)^AVY8)/$BAI8)","v":15.231994867321594},{"$f":"'HOJA DE VERIFICACIÓN DE DATOS'!R$40","v":8.5468663480596963},null,null,{"$f":"AVV8+AVZ8+AWA8+AWB8","v":58.384592176642855},{"$f":"'HOJA DE VERIFICACIÓN DE DATOS'!I$41","v":8.6999999999999993},{"$f":"'HOJA DE VERIFICACIÓN DE DATOS'!J$41","v":15.390272043126577},null,{"$f":"'HOJA DE VERIFICACIÓN DE DATOS'!K$41","v":-6},{"$f":"VLOOKUP($A$8,SOURCE!$A$7:$IMC$146,COLUMN(),FALSE)","v":-10},{"$f":"((AWE8)/((1-(1+$BAI8)^AWH8)/$BAI8))+((AWF8)/((1-(1+$BAI8)^AWI8)/$BAI8))","v":3.7071626121064956},null,{"$f":"'HOJA DE VERIFICACIÓN DE DATOS'!N$41","v":2.61},{"$f":"'HOJA DE VERIFICACIÓN DE DATOS'!O$41","v":-3},{"$f":"AWL8/((1-(1+$BAI8)^AWM8)/$BAI8)","v":0.95841435368754901},{"$f":"'HOJA DE VERIFICACIÓN DE DATOS'!R$41","v":1.4},null,null,{"$f":"AWJ8+AWN8+AWO8+AWP8","v":6.0655769657940439},{"$f":"'HOJA DE VERIFICACIÓN DE DATOS'!I$42","v":1.1000000000000001},{"$f":"'HOJA DE VERIFICACIÓN DE DATOS'!J$42","v":7.5293271381413698},null,{"$f":"'HOJA DE VERIFICACIÓN DE DATOS'!K$42","v":-10},{"$f":"VLOOKUP($A$8,SOURCE!$A$7:$IMC$146,COLUMN(),FALSE)","v":-10},{"$f":"((AWS8)/((1-(1+$BAI8)^AWV8)/$BAI8))+((AWT8)/((1-(1+$BAI8)^AWW8)/$BAI8))","v":1.1175373432628788},null,{"$f":"'HOJA DE VERIFICACIÓN DE DATOS'!N$42","v":0.33},{"$f":"'HOJA DE VERIFICACIÓN DE DATOS'!O$42","v":-5},{"$f":"AWZ8/((1-(1+$BAI8)^AXA8)/$BAI8)","v":7.6221683382328473E-2},{"$f":"'HOJA DE VERIFICACIÓN DE DATOS'!R$42","v":1.4},null,null,{"$f":"AWX8+AXB8+AXC8+AXD8","v":2.5937590266452073},{"$f":"'HOJA DE VERIFICACIÓN DE DATOS'!$F$26","v":0.5},{"$f":"'HOJA DE VERIFICACIÓN DE DATOS'!$F$26","v":0.5},{"$f":"'HOJA DE VERIFICACIÓN DE DATOS'!$F$26","v":0.5},{"$f":"'HOJA DE VERIFICACIÓN DE DATOS'!$F$26","v":0.5},{"$f":"'HOJA DE VERIFICACIÓN DE DATOS'!$F$26","v":0.5},{"$f":"'HOJA DE VERIFICACIÓN DE DATOS'!$F$27","v":0.5},{"$f":"'HOJA DE VERIFICACIÓN DE DATOS'!$F$27","v":0.5},{"$f":"'HOJA DE VERIFICACIÓN DE DATOS'!$F$27","v":0.5},{"$f":"'HOJA DE VERIFICACIÓN DE DATOS'!$F$27","v":0.5},{"$f":"'HOJA DE VERIFICACIÓN DE DATOS'!$F$27","v":0.5},{"$f":"'HOJA DE VERIFICACIÓN DE DATOS'!$F$28","v":0.5},{"$f":"'HOJA DE VERIFICACIÓN DE DATOS'!$F$28","v":0.5},{"$f":"'HOJA DE VERIFICACIÓN DE DATOS'!$F$28","v":0.5},{"$f":"'HOJA DE VERIFICACIÓN DE DATOS'!$F$28","v":0.5},{"$f":"'HOJA DE VERIFICACIÓN DE DATOS'!$F$28","v":0.5},{"$f":"'HOJA DE VERIFICACIÓN DE DATOS'!$F$29","v":0.5},{"$f":"'HOJA DE VERIFICACIÓN DE DATOS'!$F$29","v":0.5},{"$f":"'HOJA DE VERIFICACIÓN DE DATOS'!$F$29","v":0.5},{"$f":"'HOJA DE VERIFICACIÓN DE DATOS'!$F$29","v":0.5},{"$f":"'HOJA DE VERIFICACIÓN DE DATOS'!$F$29","v":0.5},{"$f":"'HOJA DE VERIFICACIÓN DE DATOS'!$F$32","v":0.5},{"$f":"'HOJA DE VERIFICACIÓN DE DATOS'!$F$32","v":0.5},{"$f":"'HOJA DE VERIFICACIÓN DE DATOS'!$F$32","v":0.5},{"$f":"'HOJA DE VERIFICACIÓN DE DATOS'!$F$32","v":0.5},{"$f":"'HOJA DE VERIFICACIÓN DE DATOS'!$F$32","v":0.5},{"$f":"'HOJA DE VERIFICACIÓN DE DATOS'!$F$33","v":0.5},{"$f":"'HOJA DE VERIFICACIÓN DE DATOS'!$F$33","v":0.5},{"$f":"'HOJA DE VERIFICACIÓN DE DATOS'!$F$33","v":0.5},{"$f":"'HOJA DE VERIFICACIÓN DE DATOS'!$F$33","v":0.5},{"$f":"'HOJA DE VERIFICACIÓN DE DATOS'!$F$33","v":0.5},{"$f":"'HOJA DE VERIFICACIÓN DE DATOS'!$F$34","v":0.5},{"$f":"'HOJA DE VERIFICACIÓN DE DATOS'!$F$34","v":0.5},{"$f":"'HOJA DE VERIFICACIÓN DE DATOS'!$F$34","v":0.5},{"$f":"'HOJA DE VERIFICACIÓN DE DATOS'!$F$34","v":0.5},{"$f":"'HOJA DE VERIFICACIÓN DE DATOS'!$F$34","v":0.5},{"$f":"'HOJA DE VERIFICACIÓN DE DATOS'!$F$35","v":0.5},{"$f":"'HOJA DE VERIFICACIÓN DE DATOS'!$F$35","v":0.5},{"$f":"'HOJA DE VERIFICACIÓN DE DATOS'!$F$35","v":0.5},{"$f":"'HOJA DE VERIFICACIÓN DE DATOS'!$F$35","v":0.5},{"$f":"'HOJA DE VERIFICACIÓN DE DATOS'!$F$35","v":0.5},{"$f":"'HOJA DE VERIFICACIÓN DE DATOS'!$F$37","v":0.5},{"$f":"'HOJA DE VERIFICACIÓN DE DATOS'!$F$37","v":0.5},{"$f":"'HOJA DE VERIFICACIÓN DE DATOS'!$F$37","v":0.5},{"$f":"'HOJA DE VERIFICACIÓN DE DATOS'!$F$37","v":0.5},{"$f":"'HOJA DE VERIFICACIÓN DE DATOS'!$F$37","v":0.5},{"$f":"'HOJA DE VERIFICACIÓN DE DATOS'!$F$38","v":0.5},{"$f":"'HOJA DE VERIFICACIÓN DE DATOS'!$F$38","v":0.5},{"$f":"'HOJA DE VERIFICACIÓN DE DATOS'!$F$38","v":0.5},{"$f":"'HOJA DE VERIFICACIÓN DE DATOS'!$F$38","v":0.5},{"$f":"'HOJA DE VERIFICACIÓN DE DATOS'!$F$38","v":0.5},{"$f":"'HOJA DE VERIFICACIÓN DE DATOS'!$F$39","v":0.5},{"$f":"'HOJA DE VERIFICACIÓN DE DATOS'!$F$39","v":0.5},{"$f":"'HOJA DE VERIFICACIÓN DE DATOS'!$F$39","v":0.5},{"$f":"'HOJA DE VERIFICACIÓN DE DATOS'!$F$39","v":0.5},{"$f":"'HOJA DE VERIFICACIÓN DE DATOS'!$F$39","v":0.5},{"$f":"'HOJA DE VERIFICACIÓN DE DATOS'!$F$40","v":0.5},{"$f":"'HOJA DE VERIFICACIÓN DE DATOS'!$F$40","v":0.5},{"$f":"'HOJA DE VERIFICACIÓN DE DATOS'!$F$40","v":0.5},{"$f":"'HOJA DE VERIFICACIÓN DE DATOS'!$F$40","v":0.5},{"$f":"'HOJA DE VERIFICACIÓN DE DATOS'!$F$40","v":0.5},{"$f":"VLOOKUP($A$8,SOURCE!$A$7:$IME$146,6426,FALSE)*((1+VLOOKUP($A$8,SOURCE!$A$7:$IME$146,6427,FALSE))^('HOJA DE VERIFICACIÓN DE DATOS'!$E$6-SOURCE!$IMD$5))","v":1846.5422609199995},{"$f":"VLOOKUP($A$8,SOURCE!$A$7:$IMC$146,COLUMN(),FALSE)","v":0},{"$f":"VLOOKUP($A$8,SOURCE!$A$7:$IMC$146,COLUMN(),FALSE)","v":0},{"$f":"VLOOKUP($A$8,SOURCE!$A$7:$IMC$146,COLUMN(),FALSE)","v":0},{"$f":"VLOOKUP($A$8,SOURCE!$A$7:$IMC$146,COLUMN(),FALSE)","v":0},{"$f":"VLOOKUP($A$8,SOURCE!$A$7:$IMC$146,COLUMN(),FALSE)","v":2264.6998450000001},{"$f":"PV((1+$BAI8)/(1+#REF!)-1,40,-#REF!,0,0)","v":{"$error":"#REF!"}},{"$f":"AZU7","v":{"$error":"#REF!"}},{"$f":"AZW$6","v":37000},31000,185000,155000,{"$f":"VLOOKUP($A$8,SOURCE!$A$7:$IMC$146,COLUMN(),FALSE)","v":2000000},{"$f":"VLOOKUP($A$8,SOURCE!$A$7:$IMC$146,COLUMN(),FALSE)","v":53400},{"$f":"BAA7*(#REF!/BAB7)","v":{"$error":"#REF!"}},{"$f":"VLOOKUP($A$8,SOURCE!$A$7:$IMC$146,COLUMN(),FALSE)","v":0.15},{"$f":"VLOOKUP($A$8,SOURCE!$A$7:$IMC$146,COLUMN(),FALSE)","v":0.15},{"$f":"VLOOKUP($A$8,SOURCE!$A$7:$IMC$146,COLUMN(),FALSE)","v":0.3},{"$f":"VLOOKUP($A$8,SOURCE!$A$7:$IMC$146,COLUMN(),FALSE)","v":230},{"$f":"VLOOKUP($A$8,SOURCE!$A$7:$IMC$146,COLUMN(),FALSE)","v":851.66666666666652},{"$f":"BAI$5","v":0.05},{"$f":"$DP8*(($AON8+$AOO8)*$AXG8+($APA8+$APB8)*$AXL8)","v":11207.81909658714},{"$f":"($DP8*(($APA8+$APB8)*$AXL8))","v":3616.3729547835583},{"$f":"HLOOKUP(BAL$6,$DP$6:$ED$8,3,FALSE)*(($AON8+$AOO8+$AOV8+$AOW8)*$AXG8+($APA8+$APB8+$API8+$APJ8)*$AXL8)","v":12160.815619794168},{"$f":"(HLOOKUP(BAM$6,$DP$6:$ED$8,3,FALSE)*(($AON8+$AOO8)*$AXG8+($APA8+$APB8)*$AXL8)+(BAM6-$BAL$6+1)*HLOOKUP(BAM$6,$DP$6:$ED$8,3,FALSE)*(($AOV8+$AOW8)*$AXG8+($API8+$APJ8)*$AXL8))/(1+$BAI8)^(BAM6-$BAL$6)","v":12489.344898096377},{"$f":"(HLOOKUP(BAN$6,$DP$6:$ED$8,3,FALSE)*(($AON8+$AOO8)*$AXG8+($APA8+$APB8)*$AXL8)+(BAN6-$BAL$6+1)*HLOOKUP(BAN$6,$DP$6:$ED$8,3,FALSE)*(($AOV8+$AOW8)*$AXG8+($API8+$APJ8)*$AXL8))/(1+$BAI8)^(BAN6-$BAL$6)","v":12759.010128080021},12974.672445235072,13140.86349833436,13261.805806137943,13341.43192249916,13383.40247719754,13391.12315611399,13367.760680854281,{"$f":"(HLOOKUP(BAV$6,$DP$6:$ED$8,3,FALSE)*(($AON8+$AOO8)*$AXG8+($APA8+$APB8)*$AXL8)+(BAV6-$BAL$6+1)*HLOOKUP(BAV$6,$DP$6:$ED$8,3,FALSE)*(($AOV8+$AOW8)*$AXG8+($API8+$APJ8)*$AXL8))/(1+$BAI8)^(BAV6-$BAL$6)","v":0},0,0,0,0,{"$f":"SUM(BAL8:BAP8)","v":63524.706589539994},{"$f":"SUM(BAQ8:BAU8)","v":66745.524042802906},{"$f":"SUM(BAV8:BAZ8)","v":0},{"$f":"SUM(BAL8:BAZ8)","v":130270.23063234291},{"$f":"$EI8*(($AON8+$AOO8)*$AXG8+($APA8+$APB8)*$AXL8)","v":11207.81909658714},{"$f":"($EI8*(($APA8+$APB8)*$AXL8))","v":3616.3729547835583},{"$f":"HLOOKUP(BBG$6,$EI$6:$EW$8,3,FALSE)*(($AON8+$AOO8+$AOV8+$AOW8)*$AXG8+($APA8+$APB8+$API8+$APJ8)*$AXL8)","v":12160.815619794168},{"$f":"(HLOOKUP(BBH$6,$EI$6:$EW$8,3,FALSE)*(($AON8+$AOO8)*$AXG8+($APA8+$APB8)*$AXL8)+(BBH6-$BAL$6+1)*HLOOKUP(BBH$6,$EI$6:$EW$8,3,FALSE)*(($AOV8+$AOW8)*$AXG8+($API8+$APJ8)*$AXL8))/(1+$BAI8)^(BBH6-$BAL$6)","v":12489.344898096377},{"$f":"(HLOOKUP(BBI$6,$EI$6:$EW$8,3,FALSE)*(($AON8+$AOO8)*$AXG8+($APA8+$APB8)*$AXL8)+(BBI6-$BAL$6+1)*HLOOKUP(BBI$6,$EI$6:$EW$8,3,FALSE)*(($AOV8+$AOW8)*$AXG8+($API8+$APJ8)*$AXL8))/(1+$BAI8)^(BBI6-$BAL$6)","v":12759.010128080021},12974.672445235072,13140.86349833436,13261.805806137943,13341.43192249916,13383.40247719754,13391.12315611399,13367.760680854281,0,0,0,0,0,{"$f":"SUM(BBG8:BBK8)","v":63524.706589539994},{"$f":"SUM(BBL8:BBP8)","v":66745.524042802906},{"$f":"SUM(BBQ8:BBU8)","v":0},{"$f":"SUM(BBG8:BBU8)","v":130270.23063234291},{"$f":"$FB8*(($AON8+$AOO8)*$AXG8+($APA8+$APB8)*$AXL8)","v":11207.81909658714},{"$f":"($FB8*(($APA8+$APB8)*$AXL8))","v":3616.3729547835583},{"$f":"HLOOKUP(BCB$6,$FB$6:$FP$8,3,FALSE)*(($AON8+$AOO8+$AOV8+$AOW8)*$AXG8+($APA8+$APB8+$API8+$APJ8)*$AXL8)","v":12160.815619794168},{"$f":"(HLOOKUP(BCC$6,$FB$6:$FP$8,3,FALSE)*(($AON8+$AOO8)*$AXG8+($APA8+$APB8)*$AXL8)+(BCC6-$BAL$6+1)*HLOOKUP(BCC$6,$FB$6:$FP$8,3,FALSE)*(($AOV8+$AOW8)*$AXG8+($API8+$APJ8)*$AXL8))/(1+$BAI8)^(BCC6-$BAL$6)","v":12489.344898096377},{"$f":"(HLOOKUP(BCD$6,$FB$6:$FP$8,3,FALSE)*(($AON8+$AOO8)*$AXG8+($APA8+$APB8)*$AXL8)+(BCD6-$BAL$6+1)*HLOOKUP(BCD$6,$FB$6:$FP$8,3,FALSE)*(($AOV8+$AOW8)*$AXG8+($API8+$APJ8)*$AXL8))/(1+$BAI8)^(BCD6-$BAL$6)","v":12759.010128080021},12974.672445235072,13140.86349833436,13261.805806137943,13341.43192249916,13383.40247719754,13391.12315611399,13367.760680854281,0,0,0,0,0,{"$f":"SUM(BCB8:BCF8)","v":63524.706589539994},{"$f":"SUM(BCG8:BCK8)","v":66745.524042802906},{"$f":"SUM(BCL8:BCP8)","v":0},{"$f":"SUM(BCB8:BCP8)","v":130270.23063234291},{"$f":"$FU8*(($AON8+$AOO8)*$AXG8+($APA8+$APB8)*$AXL8)","v":11207.81909658714},{"$f":"($FU8*(($APA8+$APB8)*$AXL8))","v":3616.3729547835583},{"$f":"HLOOKUP(BCW$6,$FU$6:$GI$8,3,FALSE)*(($AON8+$AOO8+$AOV8+$AOW8)*$AXG8+($APA8+$APB8+$API8+$APJ8)*$AXL8)","v":12160.815619794168},{"$f":"(HLOOKUP(BCX$6,$FU$6:$GI$8,3,FALSE)*(($AON8+$AOO8)*$AXG8+($APA8+$APB8)*$AXL8)+(BCX6-$BAL$6+1)*HLOOKUP(BCX$6,$FU$6:$GI$8,3,FALSE)*(($AOV8+$AOW8)*$AXG8+($API8+$APJ8)*$AXL8))/(1+$BAI8)^(BCX6-$BAL$6)","v":12489.344898096377},{"$f":"(HLOOKUP(BCY$6,$FU$6:$GI$8,3,FALSE)*(($AON8+$AOO8)*$AXG8+($APA8+$APB8)*$AXL8)+(BCY6-$BAL$6+1)*HLOOKUP(BCY$6,$FU$6:$GI$8,3,FALSE)*(($AOV8+$AOW8)*$AXG8+($API8+$APJ8)*$AXL8))/(1+$BAI8)^(BCY6-$BAL$6)","v":12759.010128080021},12974.672445235072,13140.86349833436,13261.805806137943,13341.43192249916,13383.40247719754,13391.12315611399,13367.760680854281,0,0,0,0,0,{"$f":"SUM(BCW8:BDA8)","v":63524.706589539994},{"$f":"SUM(BDB8:BDF8)","v":66745.524042802906},{"$f":"SUM(BDG8:BDK8)","v":0},{"$f":"SUM(BCW8:BDK8)","v":130270.23063234291},{"$f":"$GN8*(($AON8+$AOO8)*$AXG8+($APA8+$APB8)*$AXL8)","v":11207.81909658714},{"$f":"($GN8*(($APA8+$APB8)*$AXL8))","v":3616.3729547835583},{"$f":"HLOOKUP(BDR$6,$GN$6:$HB$8,3,FALSE)*(($AON8+$AOO8+$AOV8+$AOW8)*$AXG8+($APA8+$APB8+$API8+$APJ8)*$AXL8)","v":12160.815619794168},{"$f":"(HLOOKUP(BDS$6,$GN$6:$HB$8,3,FALSE)*(($AON8+$AOO8)*$AXG8+($APA8+$APB8)*$AXL8)+(BDS6-$BAL$6+1)*HLOOKUP(BDS$6,$GN$6:$HB$8,3,FALSE)*(($AOV8+$AOW8)*$AXG8+($API8+$APJ8)*$AXL8))/(1+$BAI8)^(BDS6-$BAL$6)","v":12489.344898096377},{"$f":"(HLOOKUP(BDT$6,$GN$6:$HB$8,3,FALSE)*(($AON8+$AOO8)*$AXG8+($APA8+$APB8)*$AXL8)+(BDT6-$BAL$6+1)*HLOOKUP(BDT$6,$GN$6:$HB$8,3,FALSE)*(($AOV8+$AOW8)*$AXG8+($API8+$APJ8)*$AXL8))/(1+$BAI8)^(BDT6-$BAL$6)","v":12759.010128080021},12974.672445235072,13140.86349833436,13261.805806137943,13341.43192249916,13383.40247719754,13391.12315611399,13367.760680854281,0,0,0,0,0,{"$f":"SUM(BDR8:BDV8)","v":63524.706589539994},{"$f":"SUM(BDW8:BEA8)","v":66745.524042802906},{"$f":"SUM(BEB8:BEF8)","v":0},{"$f":"SUM(BDR8:BEF8)","v":130270.23063234291},{"$f":"BAJ8+BBE8+BBZ8+BCU8+BDP8","v":56039.0954829357},18081.86477391779,60804.078098970844,62446.72449048188,63795.050640400106,64873.362226175363,65704.317491671798,66309.029030689722,66707.159612495801,66917.012385987706,66955.615780569948,66838.803404271399,0,0,0,0,0,{"$f":"SUM(BEM8:BEQ8)","v":317623.53294770001},{"$f":"SUM(BER8:BEV8)","v":333727.62021401455},{"$f":"SUM(BEW8:BFA8)","v":0},{"$f":"SUM(BEM8:BFA8)","v":651351.15316171455},{"$f":"$HZ8*(($APN8+$APO8)*$AXQ8+($AQA8+$AQB8)*$AXV8)","v":13745.908843775598},{"$f":"$HZ8*(($AQA8+$AQB8)*$AXV8)","v":2187.462900482954},{"$f":"HLOOKUP(BFH$6,$HZ$6:$IN$8,3,FALSE)*(($APN8+$APO8+$APV8+$APW8)*$AXQ8+($AQA8+$AQB8+$AQI8+$AQJ8)*$AXV8)","v":15210.549063621176},{"$f":"(HLOOKUP(BFI$6,$HZ$6:$IN$8,3,FALSE)*(($APN8+$APO8)*$AXQ8+($AQA8+$AQB8)*$AXV8)+(BFI6-$BFH$6+1)*HLOOKUP(BFI$6,$HZ$6:$IN$8,3,FALSE)*(($APV8+$APW8)*$AXQ8+($AQI8+$AQJ8)*$AXV8))/(1+$BAI8)^(BFI6-$BFH$6)","v":15881.132650920716},{"$f":"(HLOOKUP(BFJ$6,$HZ$6:$IN$8,3,FALSE)*(($APN8+$APO8)*$AXQ8+($AQA8+$AQB8)*$AXV8)+(BFJ6-$BFH$6+1)*HLOOKUP(BFJ$6,$HZ$6:$IN$8,3,FALSE)*(($APV8+$APW8)*$AXQ8+($AQI8+$AQJ8)*$AXV8))/(1+$BAI8)^(BFJ6-$BFH$6)","v":16453.360093707328},16935.078046135754,17333.608891771211,17655.782881255134,17907.968398063105,18096.100457757264,18225.707540342089,18301.936849851358,0,0,0,0,0,{"$f":"SUM(BFH8:BFL8)","v":81813.728746156179},{"$f":"SUM(BFM8:BFQ8)","v":90187.49612726894},{"$f":"SUM(BFR8:BFV8)","v":0},{"$f":"SUM(BFH8:BFV8)","v":172001.22487342515},{"$f":"$IS8*(($APN8+$APO8)*$AXQ8+($AQA8+$AQB8)*$AXV8)","v":13745.908843775598},{"$f":"$IS8*(($AQA8+$AQB8)*$AXV8)","v":2187.462900482954},{"$f":"HLOOKUP(BGC$6,$IS$6:$JG$8,3,FALSE)*(($APN8+$APO8+$APV8+$APW8)*$AXQ8+($AQA8+$AQB8+$AQI8+$AQJ8)*$AXV8)","v":15210.549063621176},{"$f":"(HLOOKUP(BGD$6,$IS$6:$JG$8,3,FALSE)*(($APN8+$APO8)*$AXQ8+($AQA8+$AQB8)*$AXV8)+(BGD6-$BFH$6+1)*HLOOKUP(BGD$6,$IS$6:$JG$8,3,FALSE)*(($APV8+$APW8)*$AXQ8+($AQI8+$AQJ8)*$AXV8))/(1+$BAI8)^(BGD6-$BFH$6)","v":15881.132650920716},{"$f":"(HLOOKUP(BGE$6,$IS$6:$JG$8,3,FALSE)*(($APN8+$APO8)*$AXQ8+($AQA8+$AQB8)*$AXV8)+(BGE6-$BFH$6+1)*HLOOKUP(BGE$6,$IS$6:$JG$8,3,FALSE)*(($APV8+$APW8)*$AXQ8+($AQI8+$AQJ8)*$AXV8))/(1+$BAI8)^(BGE6-$BFH$6)","v":16453.360093707328},16935.078046135754,17333.608891771211,17655.782881255134,17907.968398063105,18096.100457757264,18225.707540342089,18301.936849851358,0,0,0,0,0,{"$f":"SUM(BGC8:BGG8)","v":81813.728746156179},{"$f":"SUM(BGH8:BGL8)","v":90187.49612726894},{"$f":"SUM(BGM8:BGQ8)","v":0},{"$f":"SUM(BGC8:BGQ8)","v":172001.22487342515},{"$f":"$JL8*(($APN8+$APO8)*$AXQ8+($AQA8+$AQB8)*$AXV8)","v":13745.908843775598},{"$f":"$JL8*(($AQA8+$AQB8)*$AXV8)","v":2187.462900482954},{"$f":"HLOOKUP(BGX$6,$JL$6:$JZ$8,3,FALSE)*(($APN8+$APO8+$APV8+$APW8)*$AXQ8+($AQA8+$AQB8+$AQI8+$AQJ8)*$AXV8)","v":15210.549063621176},{"$f":"(HLOOKUP(BGY$6,$JL$6:$JZ$8,3,FALSE)*(($APN8+$APO8)*$AXQ8+($AQA8+$AQB8)*$AXV8)+(BGY6-$BFH$6+1)*HLOOKUP(BGY$6,$JL$6:$JZ$8,3,FALSE)*(($APV8+$APW8)*$AXQ8+($AQI8+$AQJ8)*$AXV8))/(1+$BAI8)^(BGY6-$BFH$6)","v":15881.132650920716},{"$f":"(HLOOKUP(BGZ$6,$JL$6:$JZ$8,3,FALSE)*(($APN8+$APO8)*$AXQ8+($AQA8+$AQB8)*$AXV8)+(BGZ6-$BFH$6+1)*HLOOKUP(BGZ$6,$JL$6:$JZ$8,3,FALSE)*(($APV8+$APW8)*$AXQ8+($AQI8+$AQJ8)*$AXV8))/(1+$BAI8)^(BGZ6-$BFH$6)","v":16453.360093707328},16935.078046135754,17333.608891771211,17655.782881255134,17907.968398063105,18096.100457757264,18225.707540342089,18301.936849851358,0,0,0,0,0,{"$f":"SUM(BGX8:BHB8)","v":81813.728746156179},{"$f":"SUM(BHC8:BHG8)","v":90187.49612726894},{"$f":"SUM(BHH8:BHL8)","v":0},{"$f":"SUM(BGX8:BHL8)","v":172001.22487342515},{"$f":"$KE8*(($APN8+$APO8)*$AXQ8+($AQA8+$AQB8)*$AXV8)","v":13745.908843775598},{"$f":"$KE8*(($AQA8+$AQB8)*$AXV8)","v":2187.462900482954},{"$f":"HLOOKUP(BHS$6,$KE$6:$KS$8,3,FALSE)*(($APN8+$APO8+$APV8+$APW8)*$AXQ8+($AQA8+$AQB8+$AQI8+$AQJ8)*$AXV8)","v":15210.549063621176},{"$f":"(HLOOKUP(BHS$6,$KE$6:$KS$8,3,FALSE)*(($APN8+$APO8)*$AXQ8+($AQA8+$AQB8)*$AXV8)+(BHT6-$BFH$6+1)*HLOOKUP(BHS$6,$KE$6:$KS$8,3,FALSE)*(($APV8+$APW8)*$AXQ8+($AQI8+$AQJ8)*$AXV8))/(1+$BAI8)^(BHT6-$BFH$6)","v":15881.132650920716},{"$f":"(HLOOKUP(BHT$6,$KE$6:$KS$8,3,FALSE)*(($APN8+$APO8)*$AXQ8+($AQA8+$AQB8)*$AXV8)+(BHU6-$BFH$6+1)*HLOOKUP(BHT$6,$KE$6:$KS$8,3,FALSE)*(($APV8+$APW8)*$AXQ8+($AQI8+$AQJ8)*$AXV8))/(1+$BAI8)^(BHU6-$BFH$6)","v":16453.360093707328},16935.078046135754,17333.608891771211,17655.782881255134,17907.968398063105,18096.100457757264,18225.707540342089,18301.936849851358,18329.578090109535,0,0,0,0,{"$f":"SUM(BHS8:BHW8)","v":81813.728746156179},{"$f":"SUM(BHX8:BIB8)","v":90187.49612726894},{"$f":"SUM(BIC8:BIG8)","v":18329.578090109535},{"$f":"SUM(BHS8:BIG8)","v":190330.80296353469},{"$f":"$KX8*(($APN8+$APO8)*$AXQ8+($AQA8+$AQB8)*$AXV8)","v":13745.908843775598},{"$f":"$KX8*(($AQA8+$AQB8)*$AXV8)","v":2187.462900482954},{"$f":"HLOOKUP(BIN$6,$KX$6:$LL$8,3,FALSE)*(($APN8+$APO8+$APV8+$APW8)*$AXQ8+($AQA8+$AQB8+$AQI8+$AQJ8)*$AXV8)","v":15210.549063621176},{"$f":"(HLOOKUP(BIO$6,$KX$6:$LL$8,3,FALSE)*(($APN8+$APO8)*$AXQ8+($AQA8+$AQB8)*$AXV8)+(BIO6-$BFH$6+1)*HLOOKUP(BIO$6,$KX$6:$LL$8,3,FALSE)*(($APV8+$APW8)*$AXQ8+($AQI8+$AQJ8)*$AXV8))/(1+$BAI8)^(BIO6-$BFH$6)","v":15881.132650920716},{"$f":"(HLOOKUP(BIP$6,$KX$6:$LL$8,3,FALSE)*(($APN8+$APO8)*$AXQ8+($AQA8+$AQB8)*$AXV8)+(BIP6-$BFH$6+1)*HLOOKUP(BIP$6,$KX$6:$LL$8,3,FALSE)*(($APV8+$APW8)*$AXQ8+($AQI8+$AQJ8)*$AXV8))/(1+$BAI8)^(BIP6-$BFH$6)","v":16453.360093707328},16935.078046135754,17333.608891771211,17655.782881255134,17907.968398063105,18096.100457757264,18225.707540342089,18301.936849851358,0,0,0,0,0,{"$f":"SUM(BIN8:BIR8)","v":81813.728746156179},{"$f":"SUM(BIS8:BIW8)","v":90187.49612726894},{"$f":"SUM(BIX8:BJB8)","v":0},{"$f":"SUM(BIN8:BJB8)","v":172001.22487342515},{"$f":"BFF8+BGA8+BGV8+BHQ8+BIL8","v":68729.544218877985},10937.314502414771,76052.745318105881,79405.663254603583,82266.800468536647,84675.390230678764,86668.044458856049,88278.914406275668,89539.84199031553,90480.502288786316,91128.537701710447,91509.684249256796,18329.578090109535,0,0,0,0,{"$f":"SUM(BJI8:BJM8)","v":409068.64373078092},{"$f":"SUM(BJN8:BJR8)","v":450937.48063634482},{"$f":"SUM(BJS8:BJW8)","v":18329.578090109535},{"$f":"SUM(BJI8:BJW8)","v":878335.70245723531},{"$f":"BAJ8+BFF8","v":24953.72794036274},5803.8358552665122,27371.364683415344,28370.477549017094,29212.370221787351,29909.750491370825,30474.47239010557,30917.588687393079,31249.400320562265,31479.502934954806,31616.83069645608,31669.697530705638,0,0,0,0,0,{"$f":"SUM(BKD8:BKH8)","v":145338.43533569618},{"$f":"SUM(BKI8:BKM8)","v":156933.02017007186},{"$f":"SUM(BKN8:BKR8)","v":0},{"$f":"SUM(BKD8:BKR8)","v":302271.45550576807},{"$f":"BBE8+BGA8","v":24953.72794036274},5803.8358552665122,27371.364683415344,28370.477549017094,29212.370221787351,29909.750491370825,30474.47239010557,30917.588687393079,31249.400320562265,31479.502934954806,31616.83069645608,31669.697530705638,0,0,0,0,0,{"$f":"SUM(BKY8:BLC8)","v":145338.43533569618},{"$f":"SUM(BLD8:BLH8)","v":156933.02017007186},{"$f":"SUM(BLI8:BLM8)","v":0},{"$f":"SUM(BKY8:BLM8)","v":302271.45550576807},{"$f":"BBZ8+BGV8","v":24953.72794036274},5803.8358552665122,27371.364683415344,28370.477549017094,29212.370221787351,29909.750491370825,30474.47239010557,30917.588687393079,31249.400320562265,31479.502934954806,31616.83069645608,31669.697530705638,0,0,0,0,0,{"$f":"SUM(BLT8:BLX8)","v":145338.43533569618},{"$f":"SUM(BLY8:BMC8)","v":156933.02017007186},{"$f":"SUM(BMD8:BMH8)","v":0},{"$f":"SUM(BLT8:BMH8)","v":302271.45550576807},{"$f":"BCU8+BHQ8","v":24953.72794036274},5803.8358552665122,27371.364683415344,28370.477549017094,29212.370221787351,29909.750491370825,30474.47239010557,30917.588687393079,31249.400320562265,31479.502934954806,31616.83069645608,31669.697530705638,18329.578090109535,0,0,0,0,{"$f":"SUM(BMO8:BMS8)","v":145338.43533569618},{"$f":"SUM(BMT8:BMX8)","v":156933.02017007186},{"$f":"SUM(BMY8:BNC8)","v":18329.578090109535},{"$f":"SUM(BMO8:BNC8)","v":320601.03359587758},{"$f":"BDP8+BIL8","v":24953.72794036274},5803.8358552665122,27371.364683415344,28370.477549017094,29212.370221787351,29909.750491370825,30474.47239010557,30917.588687393079,31249.400320562265,31479.502934954806,31616.83069645608,31669.697530705638,0,0,0,0,0,{"$f":"SUM(BNJ8:BNN8)","v":145338.43533569618},{"$f":"SUM(BNO8:BNS8)","v":156933.02017007186},{"$f":"SUM(BNT8:BNX8)","v":0},{"$f":"SUM(BNJ8:BNX8)","v":302271.45550576807},{"$f":"BEK8+BJG8","v":124768.63970181369},29019.179276332561,136856.82341707672,141852.38774508546,146061.85110893677,149548.75245685413,152372.36195052785,154587.9434369654,156247.00160281133,157397.51467477402,158084.15348228038,158348.48765352819,18329.578090109535,0,0,0,0,{"$f":"SUM(BOE8:BOI8)","v":726692.17667848093},{"$f":"SUM(BOJ8:BON8)","v":784665.10085035942},{"$f":"SUM(BOO8:BOS8)","v":18329.578090109535},{"$f":"SUM(BOE8:BOS8)","v":1529686.8556189497},{"$f":"$MJ8*($ATR8+$ATS8)","v":9648.8333961924855},{"$f":"BOX8","v":9648.8333961924855},{"$f":"IF(BOZ6<$CL$8,$MJ8*($ATR8+$ATS8+$ATZ8+$AUA8+$AUB8),0)","v":13032.222491423501},{"$f":"IF(BPA6<$CL$8,($MJ8*($ATR8+$ATS8)+$MJ8*($ATZ8+$AUA8+$AUB8))/(1+$BAI$5)^1,0)","v":12411.640468022384},{"$f":"IF(BPB6<$CL$8,($MJ8*($ATR8+$ATS8)+$MJ8*($ATR8+$ATS8)/-$ATY8+3*$MJ8*($ATZ8+$AUA8+$AUB8))/(1+$BAI$5)^2,0)","v":26710.053585558297},{"$f":"IF(BPC6<$CL$8,($MJ8*($ATR8+$ATS8)+$MJ8*($ATR8+$ATS8)/-$ATY8+4*$MJ8*($ATZ8+$AUA8+$AUB8))/(1+$BAI$5)^3,0)","v":28360.844982882223},{"$f":"IF(BPD6<$CL$8,($MJ8*($ATR8+$ATS8)+2*$MJ8*($ATR8+$ATS8)/-$ATY8+5*$MJ8*($ATZ8+$AUA8+$AUB8))/(1+$BAI$5)^4,0)","v":37731.970250858474},{"$f":"IF(BPE6<$CL$8,($MJ8*($ATR8+$ATS8)+2*$MJ8*($ATR8+$ATS8)/-$ATY8+6*$MJ8*($ATZ8+$AUA8+$AUB8))/(1+$BAI$5)^5,0)","v":0},{"$f":"IF(BPF6<$CL$8,($MJ8*($ATR8+$ATS8)+3*$MJ8*($ATR8+$ATS8)/-$ATY8+7*$MJ8*($ATZ8+$AUA8+$AUB8))/(1+$BAI$5)^6,0)","v":0},{"$f":"IF(BPG6<$CL$8,($MJ8*($ATR8+$ATS8)+3*$MJ8*($ATR8+$ATS8)/-$ATY8+8*$MJ8*($ATZ8+$AUA8+$AUB8))/(1+$BAI$5)^7,0)","v":0},{"$f":"IF(BPH6<$CL$8,($MJ8*($ATR8+$ATS8)+4*$MJ8*($ATR8+$ATS8)/-$ATY8+9*$MJ8*($ATZ8+$AUA8+$AUB8))/(1+$BAI$5)^8,0)","v":0},{"$f":"IF(BPI6<$CL$8,($MJ8*($ATR8+$ATS8)+5*$MJ8*($ATR8+$ATS8)/-$ATY8+10*$MJ8*($ATZ8+$AUA8+$AUB8))/(1+$BAI$5)^9,0)","v":0},{"$f":"VLOOKUP($A$8,SOURCE!$A$7:$IMC$146,COLUMN(),FALSE)","v":0},{"$f":"VLOOKUP($A$8,SOURCE!$A$7:$IMC$146,COLUMN(),FALSE)","v":0},{"$f":"VLOOKUP($A$8,SOURCE!$A$7:$IMC$146,COLUMN(),FALSE)","v":0},{"$f":"VLOOKUP($A$8,SOURCE!$A$7:$IMC$146,COLUMN(),FALSE)","v":0},{"$f":"VLOOKUP($A$8,SOURCE!$A$7:$IMC$146,COLUMN(),FALSE)","v":0},{"$f":"SUM(BOZ8:BPD8)","v":118246.73177874487},{"$f":"SUM(BPE8:BPI8)","v":0},{"$f":"SUM(BPJ8:BPN8)","v":0},{"$f":"SUM(BOZ8:BPN8)","v":118246.73177874487},{"$f":"$MK8*($ATR8+$ATS8)","v":9648.8333961924855},{"$f":"BPS8","v":9648.8333961924855},{"$f":"IF(BPU6<$CL$8,$MK8*($ATR8+$ATS8+$ATZ8+$AUA8+$AUB8),0)","v":13032.222491423501},{"$f":"IF(BPV6<$CL$8,($MK8*($ATR8+$ATS8)+2*$MK8*($ATZ8+$AUA8+$AUB8))/(1+$BAI$5)^1,0)","v":15633.915796813826},{"$f":"IF(BPW6<$CL$8,($MK8*($ATR8+$ATS8)+$MK8*($ATR8+$ATS8)/-$ATY8+3*$MK8*($ATZ8+$AUA8+$AUB8))/(1+$BAI$5)^2,0)","v":26710.053585558297},{"$f":"IF(BPX6<$CL$8,($MK8*($ATR8+$ATS8)+$MK8*($ATR8+$ATS8)/-$ATY8+4*$MK8*($ATZ8+$AUA8+$AUB8))/(1+$BAI$5)^3,0)","v":28360.844982882223},{"$f":"IF(BPY6<$CL$8,($MK8*($ATR8+$ATS8)+2*$MK8*($ATR8+$ATS8)/-$ATY8+5*$MK8*($ATZ8+$AUA8+$AUB8))/(1+$BAI$5)^4,0)","v":37731.970250858474},{"$f":"IF(BPZ6<$CL$8,($MK8*($ATR8+$ATS8)+2*$MK8*($ATR8+$ATS8)/-$ATY8+6*$MK8*($ATZ8+$AUA8+$AUB8))/(1+$BAI$5)^5,0)","v":0},{"$f":"IF(BQA6<$CL$8,($MK8*($ATR8+$ATS8)+3*$MK8*($ATR8+$ATS8)/-$ATY8+7*$MK8*($ATZ8+$AUA8+$AUB8))/(1+$BAI$5)^6,0)","v":0},{"$f":"IF(BQB6<$CL$8,($MK8*($ATR8+$ATS8)+3*$MK8*($ATR8+$ATS8)/-$ATY8+8*$MK8*($ATZ8+$AUA8+$AUB8))/(1+$BAI$5)^7,0)","v":0},{"$f":"IF(BQC6<$CL$8,($MK8*($ATR8+$ATS8)+4*$MK8*($ATR8+$ATS8)/-$ATY8+9*$MK8*($ATZ8+$AUA8+$AUB8))/(1+$BAI$5)^8,0)","v":0},{"$f":"IF(BQD6<$CL$8,($MK8*($ATR8+$ATS8)+4*$MK8*($ATR8+$ATS8)/-$ATY8+10*$MK8*($ATZ8+$AUA8+$AUB8))/(1+$BAI$5)^9,0)","v":0},{"$f":"VLOOKUP($A$8,SOURCE!$A$7:$IMC$146,COLUMN(),FALSE)","v":0},{"$f":"VLOOKUP($A$8,SOURCE!$A$7:$IMC$146,COLUMN(),FALSE)","v":0},{"$f":"VLOOKUP($A$8,SOURCE!$A$7:$IMC$146,COLUMN(),FALSE)","v":0},{"$f":"VLOOKUP($A$8,SOURCE!$A$7:$IMC$146,COLUMN(),FALSE)","v":0},{"$f":"VLOOKUP($A$8,SOURCE!$A$7:$IMC$146,COLUMN(),FALSE)","v":0},{"$f":"SUM(BPU8:BPY8)","v":121469.00710753632},{"$f":"SUM(BPZ8:BQD8)","v":0},{"$f":"SUM(BQE8:BQI8)","v":0},{"$f":"SUM(BPU8:BQI8)","v":121469.00710753632},{"$f":"$ML8*($ATR8+$ATS8)","v":9648.8333961924855},{"$f":"BQN8","v":9648.8333961924855},{"$f":"IF(BQP6<$CL$8,$ML8*($ATR8+$ATS8+$ATZ8+$AUA8+$AUB8),0)","v":13032.222491423501},{"$f":"IF(BQQ6<$CL$8,($ML8*($ATR8+$ATS8)+2*$ML8*($ATZ8+$AUA8+$AUB8))/(1+$BAI$5)^1,0)","v":15633.915796813826},{"$f":"IF(BQR6<$CL$8,($ML8*($ATR8+$ATS8)+$ML8*($ATR8+$ATS8)/-$ATY8+3*$ML8*($ATZ8+$AUA8+$AUB8))/(1+$BAI$5)^2,0)","v":26710.053585558297},{"$f":"IF(BQS6<$CL$8,($ML8*($ATR8+$ATS8)+$ML8*($ATR8+$ATS8)/-$ATY8+4*$ML8*($ATZ8+$AUA8+$AUB8))/(1+$BAI$5)^3,0)","v":28360.844982882223},{"$f":"IF(BQT6<$CL$8,($ML8*($ATR8+$ATS8)+2*$ML8*($ATR8+$ATS8)/-$ATY8+5*$ML8*($ATZ8+$AUA8+$AUB8))/(1+$BAI$5)^4,0)","v":37731.970250858474},{"$f":"IF(BQU6<$CL$8,($ML8*($ATR8+$ATS8)+2*$ML8*($ATR8+$ATS8)/-$ATY8+6*$ML8*($ATZ8+$AUA8+$AUB8))/(1+$BAI$5)^5,0)","v":0},{"$f":"IF(BQV6<$CL$8,($ML8*($ATR8+$ATS8)+3*$ML8*($ATR8+$ATS8)/-$ATY8+7*$ML8*($ATZ8+$AUA8+$AUB8))/(1+$BAI$5)^6,0)","v":0},{"$f":"IF(BQW6<$CL$8,($ML8*($ATR8+$ATS8)+3*$ML8*($ATR8+$ATS8)/-$ATY8+8*$ML8*($ATZ8+$AUA8+$AUB8))/(1+$BAI$5)^7,0)","v":0},{"$f":"IF(BQX6<$CL$8,($ML8*($ATR8+$ATS8)+4*$ML8*($ATR8+$ATS8)/-$ATY8+9*$ML8*($ATZ8+$AUA8+$AUB8))/(1+$BAI$5)^8,0)","v":0},{"$f":"IF(BQY6<$CL$8,($ML8*($ATR8+$ATS8)+4*$ML8*($ATR8+$ATS8)/-$ATY8+10*$ML8*($ATZ8+$AUA8+$AUB8))/(1+$BAI$5)^9,0)","v":0},{"$f":"VLOOKUP($A$8,SOURCE!$A$7:$IMC$146,COLUMN(),FALSE)","v":0},{"$f":"VLOOKUP($A$8,SOURCE!$A$7:$IMC$146,COLUMN(),FALSE)","v":0},{"$f":"VLOOKUP($A$8,SOURCE!$A$7:$IMC$146,COLUMN(),FALSE)","v":0},{"$f":"VLOOKUP($A$8,SOURCE!$A$7:$IMC$146,COLUMN(),FALSE)","v":0},{"$f":"VLOOKUP($A$8,SOURCE!$A$7:$IMC$146,COLUMN(),FALSE)","v":0},{"$f":"SUM(BQP8:BQT8)","v":121469.00710753632},{"$f":"SUM(BQU8:BQY8)","v":0},{"$f":"SUM(BQZ8:BRD8)","v":0},{"$f":"SUM(BQP8:BRD8)","v":121469.00710753632},{"$f":"$MM8*($ATR8+$ATS8)","v":9648.8333961924855},{"$f":"BRI8","v":9648.8333961924855},{"$f":"IF(BRK6<$CL$8,$MM8*($ATR8+$ATS8+$ATZ8+$AUA8+$AUB8),0)","v":13032.222491423501},{"$f":"IF(BRL6<$CL$8,($MM8*($ATR8+$ATS8)+2*$MM8*($ATZ8+$AUA8+$AUB8))/(1+$BAI$5)^1,0)","v":15633.915796813826},{"$f":"IF(BRM6<$CL$8,($MM8*($ATR8+$ATS8)+$MM8*($ATR8+$ATS8)/-$ATY8+3*$MM8*($ATZ8+$AUA8+$AUB8))/(1+$BAI$5)^2,0)","v":26710.053585558297},{"$f":"IF(BRN6<$CL$8,($MM8*($ATR8+$ATS8)+$MM8*($ATR8+$ATS8)/-$ATY8+4*$MM8*($ATZ8+$AUA8+$AUB8))/(1+$BAI$5)^3,0)","v":28360.844982882223},{"$f":"IF(BRO6<$CL$8,($MM8*($ATR8+$ATS8)+2*$MM8*($ATR8+$ATS8)/-$ATY8+5*$MM8*($ATZ8+$AUA8+$AUB8))/(1+$BAI$5)^4,0)","v":37731.970250858474},{"$f":"IF(BRP6<$CL$8,($MM8*($ATR8+$ATS8)+2*$MM8*($ATR8+$ATS8)/-$ATY8+6*$MM8*($ATZ8+$AUA8+$AUB8))/(1+$BAI$5)^5,0)","v":0},{"$f":"IF(BRQ6<$CL$8,($MM8*($ATR8+$ATS8)+3*$MM8*($ATR8+$ATS8)/-$ATY8+7*$MM8*($ATZ8+$AUA8+$AUB8))/(1+$BAI$5)^6,0)","v":0},{"$f":"IF(BRR6<$CL$8,($MM8*($ATR8+$ATS8)+3*$MM8*($ATR8+$ATS8)/-$ATY8+8*$MM8*($ATZ8+$AUA8+$AUB8))/(1+$BAI$5)^7,0)","v":0},{"$f":"IF(BRS6<$CL$8,($MM8*($ATR8+$ATS8)+4*$MM8*($ATR8+$ATS8)/-$ATY8+9*$MM8*($ATZ8+$AUA8+$AUB8))/(1+$BAI$5)^8,0)","v":0},{"$f":"IF(BRT6<$CL$8,($MM8*($ATR8+$ATS8)+4*$MM8*($ATR8+$ATS8)/-$ATY8+10*$MM8*($ATZ8+$AUA8+$AUB8))/(1+$BAI$5)^9,0)","v":0},{"$f":"VLOOKUP($A$8,SOURCE!$A$7:$IMC$146,COLUMN(),FALSE)","v":0},{"$f":"VLOOKUP($A$8,SOURCE!$A$7:$IMC$146,COLUMN(),FALSE)","v":0},{"$f":"VLOOKUP($A$8,SOURCE!$A$7:$IMC$146,COLUMN(),FALSE)","v":0},{"$f":"VLOOKUP($A$8,SOURCE!$A$7:$IMC$146,COLUMN(),FALSE)","v":0},{"$f":"VLOOKUP($A$8,SOURCE!$A$7:$IMC$146,COLUMN(),FALSE)","v":0},{"$f":"SUM(BRK8:BRO8)","v":121469.00710753632},{"$f":"SUM(BRP8:BRT8)","v":0},{"$f":"SUM(BRU8:BRY8)","v":0},{"$f":"SUM(BRK8:BRY8)","v":121469.00710753632},{"$f":"$MN8*($ATR8+$ATS8)","v":9648.8333961924855},{"$f":"BSD8","v":9648.8333961924855},{"$f":"IF(BSF6<$CL$8,$MN8*($ATR8+$ATS8+$ATZ8+$AUA8+$AUB8),0)","v":13032.222491423501},{"$f":"IF(BSG6<$CL$8,($MN8*($ATR8+$ATS8)+2*$MN8*($ATZ8+$AUA8+$AUB8))/(1+$BAI$5)^1,0)","v":15633.915796813826},{"$f":"IF(BSH6<$CL$8,($MN8*($ATR8+$ATS8)+$MN8*($ATR8+$ATS8)/-$ATY8+3*$MN8*($ATZ8+$AUA8+$AUB8))/(1+$BAI$5)^2,0)","v":26710.053585558297},{"$f":"IF(BSI6<$CL$8,($MN8*($ATR8+$ATS8)+$MN8*($ATR8+$ATS8)/-$ATY8+4*$MN8*($ATZ8+$AUA8+$AUB8))/(1+$BAI$5)^3,0)","v":28360.844982882223},{"$f":"IF(BSJ6<$CL$8,($MN8*($ATR8+$ATS8)+2*$MN8*($ATR8+$ATS8)/-$ATY8+5*$MN8*($ATZ8+$AUA8+$AUB8))/(1+$BAI$5)^4,0)","v":37731.970250858474},{"$f":"IF(BSK6<$CL$8,($MN8*($ATR8+$ATS8)+2*$MN8*($ATR8+$ATS8)/-$ATY8+6*$MN8*($ATZ8+$AUA8+$AUB8))/(1+$BAI$5)^5,0)","v":0},{"$f":"IF(BSL6<$CL$8,($MN8*($ATR8+$ATS8)+3*$MN8*($ATR8+$ATS8)/-$ATY8+7*$MN8*($ATZ8+$AUA8+$AUB8))/(1+$BAI$5)^6,0)","v":0},{"$f":"IF(BSM6<$CL$8,($MN8*($ATR8+$ATS8)+3*$MN8*($ATR8+$ATS8)/-$ATY8+8*$MN8*($ATZ8+$AUA8+$AUB8))/(1+$BAI$5)^7,0)","v":0},{"$f":"IF(BSN6<$CL$8,($MN8*($ATR8+$ATS8)+4*$MN8*($ATR8+$ATS8)/-$ATY8+9*$MN8*($ATZ8+$AUA8+$AUB8))/(1+$BAI$5)^8,0)","v":0},{"$f":"IF(BSO6<$CL$8,($MN8*($ATR8+$ATS8)+4*$MN8*($ATR8+$ATS8)/-$ATY8+10*$MN8*($ATZ8+$AUA8+$AUB8))/(1+$BAI$5)^9,0)","v":0},{"$f":"VLOOKUP($A$8,SOURCE!$A$7:$IMC$146,COLUMN(),FALSE)","v":0},{"$f":"VLOOKUP($A$8,SOURCE!$A$7:$IMC$146,COLUMN(),FALSE)","v":0},{"$f":"VLOOKUP($A$8,SOURCE!$A$7:$IMC$146,COLUMN(),FALSE)","v":0},{"$f":"VLOOKUP($A$8,SOURCE!$A$7:$IMC$146,COLUMN(),FALSE)","v":0},{"$f":"VLOOKUP($A$8,SOURCE!$A$7:$IMC$146,COLUMN(),FALSE)","v":0},{"$f":"SUM(BSF8:BSJ8)","v":121469.00710753632},{"$f":"SUM(BSK8:BSO8)","v":0},{"$f":"SUM(BSP8:BST8)","v":0},{"$f":"SUM(BSF8:BST8)","v":121469.00710753632},{"$f":"BOX8+BPS8+BQN8+BRI8+BSD8","v":48244.166980962429},{"$f":"VLOOKUP($A$8,SOURCE!$A$7:$IMC$146,COLUMN(),FALSE)","v":0},{"$f":"BOZ8+BPU8+BQP8+BRK8+BSF8","v":65161.112457117502},74947.30365527769,133550.26792779149,141804.22491441111,188659.85125429236,0,0,0,0,0,0,0,0,0,0,{"$f":"SUM(BTA8:BTE8)","v":604122.76020889007},{"$f":"SUM(BTF8:BTJ8)","v":0},{"$f":"SUM(BTK8:BTO8)","v":0},{"$f":"SUM(BTA8:BTO8)","v":604122.76020889007},{"$f":"$MQ8*(($ARO8+$ARP8)*$AYA8+($ASC8+$ASD8)*$AYF8)","v":146350.51380019626},{"$f":"$MQ8*(($ASC8+$ASD8)*$AYF8)","v":8231.6213761128365},{"$f":"HLOOKUP(BTV$6,$MQ$6:$NE$8,3,FALSE)*(($ARO8+$ARP8+$ARW8+$ARX8)*$AYA8+($ASC8+$ASD8+$ASK8+$ASL8)*$AYF8)","v":160831.18837794577},{"$f":"(HLOOKUP(BTW$6,$MQ$6:$NE$8,3,FALSE)*(($ARO8+$ARP8)*$AYA8+($ASC8+$ASD8)*$AYF8)+(BTW6-$BTV$6+1)*HLOOKUP(BTW$6,$MQ$6:$NE$8,3,FALSE)*(($ARW8+$ARX8)*$AYA8+($ASK8+$ASL8)*$AYF8))/(1+$BAI8)^(BTW6-$BTV$6)","v":166963.67900542408},{"$f":"(HLOOKUP(BTX$6,$MQ$6:$NE$8,3,FALSE)*(($ARO8+$ARP8)*$AYA8+($ASC8+$ASD8)*$AYF8)+(BTX6-$BTV$6+1)*HLOOKUP(BTX$6,$MQ$6:$NE$8,3,FALSE)*(($ARW8+$ARX8)*$AYA8+($ASK8+$ASL8)*$AYF8))/(1+$BAI8)^(BTX6-$BTV$6)","v":172147.4263341903},176458.88099444492,179969.36394933704,182745.3816772452,184848.92296859674,186337.73837352189,187265.60327963653,187682.56554531955,0,0,0,0,0,{"$f":"SUM(BTV8:BTZ8)","v":856370.53866134211},{"$f":"SUM(BUA8:BUE8)","v":928880.21184431994},{"$f":"SUM(BUF8:BUJ8)","v":0},{"$f":"SUM(BTV8:BUJ8)","v":1785250.7505056621},{"$f":"$NJ8*(($ARO8+$ARP8)*$AYA8+($ASC8+$ASD8)*$AYF8)","v":146350.51380019626},{"$f":"$NJ8*(($ASC8+$ASD8)*$AYF8)","v":8231.6213761128365},{"$f":"HLOOKUP(BUQ$6,$NJ$6:$NX$8,3,FALSE)*(($ARO8+$ARP8+$ARW8+$ARX8)*$AYA8+($ASC8+$ASD8+$ASK8+$ASL8)*$AYF8)","v":160831.18837794577},{"$f":"(HLOOKUP(BUR$6,$NJ$6:$NX$8,3,FALSE)*(($ARO8+$ARP8)*$AYA8+($ASC8+$ASD8)*$AYF8)+(BUR6-$BTV$6+1)*HLOOKUP(BUR$6,$NJ$6:$NX$8,3,FALSE)*(($ARW8+$ARX8)*$AYA8+($ASK8+$ASL8)*$AYF8))/(1+$BAI8)^(BUR6-$BTV$6)","v":166963.67900542408},{"$f":"(HLOOKUP(BUS$6,$NJ$6:$NX$8,3,FALSE)*(($ARO8+$ARP8)*$AYA8+($ASC8+$ASD8)*$AYF8)+(BUS6-$BTV$6+1)*HLOOKUP(BUS$6,$NJ$6:$NX$8,3,FALSE)*(($ARW8+$ARX8)*$AYA8+($ASK8+$ASL8)*$AYF8))/(1+$BAI8)^(BUS6-$BTV$6)","v":172147.4263341903},176458.88099444492,179969.36394933704,182745.3816772452,184848.92296859674,186337.73837352189,187265.60327963653,187682.56554531955,0,0,0,0,0,{"$f":"SUM(BUQ8:BUU8)","v":856370.53866134211},{"$f":"SUM(BUV8:BUZ8)","v":928880.21184431994},{"$f":"SUM(BVA8:BVE8)","v":0},{"$f":"SUM(BUQ8:BVE8)","v":1785250.7505056621},{"$f":"$OC8*(($ARO8+$ARP8)*$AYA8+($ASC8+$ASD8)*$AYF8)","v":146350.51380019626},{"$f":"$OC8*(($ASC8+$ASD8)*$AYF8)","v":8231.6213761128365},{"$f":"HLOOKUP(BVL$6,$OC$6:$OQ$8,3,FALSE)*(($ARO8+$ARP8+$ARW8+$ARX8)*$AYA8+($ASC8+$ASD8+$ASK8+$ASL8)*$AYF8)","v":160831.18837794577},{"$f":"(HLOOKUP(BVM$6,$OC$6:$OQ$8,3,FALSE)*(($ARO8+$ARP8)*$AYA8+($ASC8+$ASD8)*$AYF8)+(BVM6-$BTV$6+1)*HLOOKUP(BVM$6,$OC$6:$OQ$8,3,FALSE)*(($ARW8+$ARX8)*$AYA8+($ASK8+$ASL8)*$AYF8))/(1+$BAI8)^(BVM6-$BTV$6)","v":166963.67900542408},{"$f":"(HLOOKUP(BVN$6,$OC$6:$OQ$8,3,FALSE)*(($ARO8+$ARP8)*$AYA8+($ASC8+$ASD8)*$AYF8)+(BVN6-$BTV$6+1)*HLOOKUP(BVN$6,$OC$6:$OQ$8,3,FALSE)*(($ARW8+$ARX8)*$AYA8+($ASK8+$ASL8)*$AYF8))/(1+$BAI8)^(BVN6-$BTV$6)","v":172147.4263341903},176458.88099444492,179969.36394933704,182745.3816772452,184848.92296859674,186337.73837352189,187265.60327963653,187682.56554531955,0,0,0,0,0,{"$f":"SUM(BVL8:BVP8)","v":856370.53866134211},{"$f":"SUM(BVQ8:BVU8)","v":928880.21184431994},{"$f":"SUM(BVV8:BVZ8)","v":0},{"$f":"SUM(BVL8:BVZ8)","v":1785250.7505056621},{"$f":"$OV8*(($ARO8+$ARP8)*$AYA8+($ASC8+$ASD8)*$AYF8)","v":146350.51380019626},{"$f":"$OV8*(($ASC8+$ASD8)*$AYF8)","v":8231.6213761128365},{"$f":"HLOOKUP(BWG$6,$OV$6:$PJ$8,3,FALSE)*(($ARO8+$ARP8+$ARW8+$ARX8)*$AYA8+($ASC8+$ASD8+$ASK8+$ASL8)*$AYF8)","v":160831.18837794577},{"$f":"(HLOOKUP(BWH$6,$OV$6:$PJ$8,3,FALSE)*(($ARO8+$ARP8)*$AYA8+($ASC8+$ASD8)*$AYF8)+(BWH6-$BTV$6+1)*HLOOKUP(BWH$6,$OV$6:$PJ$8,3,FALSE)*(($ARW8+$ARX8)*$AYA8+($ASK8+$ASL8)*$AYF8))/(1+$BAI8)^(BWH6-$BTV$6)","v":166963.67900542408},{"$f":"(HLOOKUP(BWI$6,$OV$6:$PJ$8,3,FALSE)*(($ARO8+$ARP8)*$AYA8+($ASC8+$ASD8)*$AYF8)+(BWI6-$BTV$6+1)*HLOOKUP(BWI$6,$OV$6:$PJ$8,3,FALSE)*(($ARW8+$ARX8)*$AYA8+($ASK8+$ASL8)*$AYF8))/(1+$BAI8)^(BWI6-$BTV$6)","v":172147.4263341903},176458.88099444492,179969.36394933704,182745.3816772452,184848.92296859674,186337.73837352189,187265.60327963653,187682.56554531955,0,0,0,0,0,{"$f":"SUM(BWG8:BWK8)","v":856370.53866134211},{"$f":"SUM(BWL8:BWP8)","v":928880.21184431994},{"$f":"SUM(BWQ8:BWU8)","v":0},{"$f":"SUM(BWG8:BWU8)","v":1785250.7505056621},{"$f":"$PO8*(($ARO8+$ARP8)*$AYA8+($ASC8+$ASD8)*$AYF8)","v":146350.51380019626},{"$f":"$PO8*(($ASC8+$ASD8)*$AYF8)","v":8231.6213761128365},{"$f":"HLOOKUP(BXB$6,$PO$6:$QC$8,3,FALSE)*(($ARO8+$ARP8+$ARW8+$ARX8)*$AYA8+($ASC8+$ASD8+$ASK8+$ASL8)*$AYF8)","v":160831.18837794577},{"$f":"(HLOOKUP(BXC$6,$PO$6:$QC$8,3,FALSE)*(($ARO8+$ARP8)*$AYA8+($ASC8+$ASD8)*$AYF8)+(BXC6-$BTV$6+1)*HLOOKUP(BXC$6,$PO$6:$QC$8,3,FALSE)*(($ARW8+$ARX8)*$AYA8+($ASK8+$ASL8)*$AYF8))/(1+$BAI8)^(BXC6-$BTV$6)","v":166963.67900542408},{"$f":"(HLOOKUP(BXD$6,$PO$6:$QC$8,3,FALSE)*(($ARO8+$ARP8)*$AYA8+($ASC8+$ASD8)*$AYF8)+(BXD6-$BTV$6+1)*HLOOKUP(BXD$6,$PO$6:$QC$8,3,FALSE)*(($ARW8+$ARX8)*$AYA8+($ASK8+$ASL8)*$AYF8))/(1+$BAI8)^(BXD6-$BTV$6)","v":172147.4263341903},176458.88099444492,179969.36394933704,182745.3816772452,184848.92296859674,186337.73837352189,187265.60327963653,187682.56554531955,0,0,0,0,0,{"$f":"SUM(BXB8:BXF8)","v":856370.53866134211},{"$f":"SUM(BXG8:BXK8)","v":928880.21184431994},{"$f":"SUM(BXL8:BXP8)","v":0},{"$f":"SUM(BXB8:BXP8)","v":1785250.7505056621},{"$f":"BTT8+BUO8+BVJ8+BWE8+BWZ8","v":731752.56900098128},41158.106880564184,804155.94188972889,834818.39502712036,860737.13167095149,882294.40497222461,899846.81974668521,913726.90838622604,924244.61484298366,931688.69186760951,936328.0163981826,938412.82772659778,0,0,0,0,0,{"$f":"SUM(BXW8:BYA8)","v":4281852.6933067106},{"$f":"SUM(BYB8:BYF8)","v":4644401.0592215993},{"$f":"SUM(BYG8:BYK8)","v":0},{"$f":"SUM(BXW8:BYK8)","v":8926253.7525283098},{"$f":"$RA8*(($ASQ8+$ASR8)*$AYK8+($ATE8+$ATF8)*$AYP8)","v":25672.629405502896},{"$f":"$RA8*(($ASQ8+$ASR8)*$AYK8+($ATE8+$ATF8)*$AYP8)","v":25672.629405502896},{"$f":"HLOOKUP(BYR$6,$RA$6:$RO$8,3,FALSE)*(($ASQ8+$ASR8+$ASY8+$ASZ8)*$AYK8+($ATE8+$ATF8+$ATM8+$ATN8)*$AYP8)","v":28769.321894927663},{"$f":"(HLOOKUP(BYS$6,$RA$6:$RO$8,3,FALSE)*(($ASQ8+$ASR8)*$AYK8+($ATE8+$ATF8)*$AYP8)+(BYS6-$BYR$6+1)*HLOOKUP(BYS$6,$RA$6:$RO$8,3,FALSE)*(($ASY8+$ASZ8)*$AYK8+($ATM8+$ATN8)*$AYP8))/(1+$BAI8)^(BYS6-$BYR$6)","v":30348.585127954691},{"$f":"(HLOOKUP(BYT$6,$RA$6:$RO$8,3,FALSE)*(($ASQ8+$ASR8)*$AYK8+($ATE8+$ATF8)*$AYP8)+(BYT6-$BYR$6+1)*HLOOKUP(BYT$6,$RA$6:$RO$8,3,FALSE)*(($ASY8+$ASZ8)*$AYK8+($ATM8+$ATN8)*$AYP8))/(1+$BAI8)^(BYT6-$BYR$6)","v":31712.2057812038},32877.140147458762,33859.218619918021,34673.214471083047,35332.908634336862,35851.150712947259,36239.916428891069,36510.361712221282,0,0,0,0,0,{"$f":"SUM(BYR8:BYV8)","v":157566.47157146293},{"$f":"SUM(BYW8:BZA8)","v":178607.55195947952},{"$f":"SUM(BZB8:BZF8)","v":0},{"$f":"SUM(BYR8:BZF8)","v":336174.02353094245},{"$f":"$RT8*(($ASQ8+$ASR8)*$AYK8+($ATE8+$ATF8)*$AYP8)","v":25672.629405502896},{"$f":"$RT8*(($ASQ8+$ASR8)*$AYK8+($ATE8+$ATF8)*$AYP8)","v":25672.629405502896},{"$f":"HLOOKUP(BZM$6,$RT$6:$SH$8,3,FALSE)*(($ASQ8+$ASR8+$ASY8+$ASZ8)*$AYK8+($ATE8+$ATF8+$ATM8+$ATN8)*$AYP8)","v":28769.321894927663},{"$f":"(HLOOKUP(BZN$6,$RT$6:$SH$8,3,FALSE)*(($ASQ8+$ASR8)*$AYK8+($ATE8+$ATF8)*$AYP8)+(BZN6-$BYR$6+1)*HLOOKUP(BZN$6,$RA$6:$RO$8,3,FALSE)*(($ASY8+$ASZ8)*$AYK8+($ATM8+$ATN8)*$AYP8))/(1+$BAI8)^(BZN6-$BYR$6)","v":30348.585127954691},{"$f":"(HLOOKUP(BZO$6,$RT$6:$SH$8,3,FALSE)*(($ASQ8+$ASR8)*$AYK8+($ATE8+$ATF8)*$AYP8)+(BZO6-$BYR$6+1)*HLOOKUP(BZO$6,$RA$6:$RO$8,3,FALSE)*(($ASY8+$ASZ8)*$AYK8+($ATM8+$ATN8)*$AYP8))/(1+$BAI8)^(BZO6-$BYR$6)","v":31712.2057812038},32877.140147458762,33859.218619918021,34673.214471083047,35332.908634336862,35851.150712947259,36239.916428891069,36510.361712221282,0,0,0,0,0,{"$f":"SUM(BZM8:BZQ8)","v":157566.47157146293},{"$f":"SUM(BZR8:BZV8)","v":178607.55195947952},{"$f":"SUM(BZW8:CAA8)","v":0},{"$f":"SUM(BZM8:CAA8)","v":336174.02353094245},{"$f":"$SM8*(($ASQ8+$ASR8)*$AYK8+($ATE8+$ATF8)*$AYP8)","v":25672.629405502896},{"$f":"$SM8*(($ASQ8+$ASR8)*$AYK8+($ATE8+$ATF8)*$AYP8)","v":25672.629405502896},{"$f":"HLOOKUP(CAH$6,$SM$6:$TA$8,3,FALSE)*(($ASQ8+$ASR8+$ASY8+$ASZ8)*$AYK8+($ATE8+$ATF8+$ATM8+$ATN8)*$AYP8)","v":28769.321894927663},{"$f":"(HLOOKUP(CAI$6,$SM$6:$TA$8,3,FALSE)*(($ASQ8+$ASR8)*$AYK8+($ATE8+$ATF8)*$AYP8)+(CAI6-$BYR$6+1)*HLOOKUP(CAI$6,$SM$6:$TA$8,3,FALSE)*(($ASY8+$ASZ8)*$AYK8+($ATM8+$ATN8)*$AYP8))/(1+$BAI8)^(CAI6-$BYR$6)","v":30348.585127954691},{"$f":"(HLOOKUP(CAJ$6,$SM$6:$TA$8,3,FALSE)*(($ASQ8+$ASR8)*$AYK8+($ATE8+$ATF8)*$AYP8)+(CAJ6-$BYR$6+1)*HLOOKUP(CAJ$6,$SM$6:$TA$8,3,FALSE)*(($ASY8+$ASZ8)*$AYK8+($ATM8+$ATN8)*$AYP8))/(1+$BAI8)^(CAJ6-$BYR$6)","v":31712.2057812038},32877.140147458762,33859.218619918021,34673.214471083047,35332.908634336862,35851.150712947259,36239.916428891069,36510.361712221282,0,0,0,0,0,{"$f":"SUM(CAH8:CAL8)","v":157566.47157146293},{"$f":"SUM(CAM8:CAQ8)","v":178607.55195947952},{"$f":"SUM(CAR8:CAV8)","v":0},{"$f":"SUM(CAH8:CAV8)","v":336174.02353094245},{"$f":"$TF8*(($ASQ8+$ASR8)*$AYK8+($ATE8+$ATF8)*$AYP8)","v":25672.629405502896},{"$f":"$TF8*(($ASQ8+$ASR8)*$AYK8+($ATE8+$ATF8)*$AYP8)","v":25672.629405502896},{"$f":"HLOOKUP(CBC$6,$TF$6:$TT$8,3,FALSE)*(($ASQ8+$ASR8+$ASY8+$ASZ8)*$AYK8+($ATE8+$ATF8+$ATM8+$ATN8)*$AYP8)","v":28769.321894927663},{"$f":"(HLOOKUP(CBD$6,$TF$6:$TT$8,3,FALSE)*(($ASQ8+$ASR8)*$AYK8+($ATE8+$ATF8)*$AYP8)+(CBD6-$BYR$6+1)*HLOOKUP(CBD$6,$TF$6:$TT$8,3,FALSE)*(($ASY8+$ASZ8)*$AYK8+($ATM8+$ATN8)*$AYP8))/(1+$BAI8)^(CBD6-$BYR$6)","v":30348.585127954691},{"$f":"(HLOOKUP(CBE$6,$TF$6:$TT$8,3,FALSE)*(($ASQ8+$ASR8)*$AYK8+($ATE8+$ATF8)*$AYP8)+(CBE6-$BYR$6+1)*HLOOKUP(CBE$6,$TF$6:$TT$8,3,FALSE)*(($ASY8+$ASZ8)*$AYK8+($ATM8+$ATN8)*$AYP8))/(1+$BAI8)^(CBE6-$BYR$6)","v":31712.2057812038},32877.140147458762,33859.218619918021,34673.214471083047,35332.908634336862,35851.150712947259,36239.916428891069,36510.361712221282,0,0,0,0,0,{"$f":"SUM(CBC8:CBG8)","v":157566.47157146293},{"$f":"SUM(CBH8:CBL8)","v":178607.55195947952},{"$f":"SUM(CBM8:CBQ8)","v":0},{"$f":"SUM(CBC8:CBQ8)","v":336174.02353094245},{"$f":"$TY8*(($ASQ8+$ASR8)*$AYK8+($ATE8+$ATF8)*$AYP8)","v":25672.629405502896},{"$f":"$TY8*(($ASQ8+$ASR8)*$AYK8+($ATE8+$ATF8)*$AYP8)","v":25672.629405502896},{"$f":"HLOOKUP(CBX$6,$TY$6:$UM$8,3,FALSE)*(($ASQ8+$ASR8+$ASY8+$ASZ8)*$AYK8+($ATE8+$ATF8+$ATM8+$ATN8)*$AYP8)","v":28769.321894927663},{"$f":"(HLOOKUP(CBY$6,$TY$6:$UM$8,3,FALSE)*(($ASQ8+$ASR8)*$AYK8+($ATE8+$ATF8)*$AYP8)+(CBY6-$BYR$6+1)*HLOOKUP(CBY$6,$TY$6:$UM$8,3,FALSE)*(($ASY8+$ASZ8)*$AYK8+($ATM8+$ATN8)*$AYP8))/(1+$BAI8)^(CBY6-$BYR$6)","v":30348.585127954691},{"$f":"(HLOOKUP(CBZ$6,$TY$6:$UM$8,3,FALSE)*(($ASQ8+$ASR8)*$AYK8+($ATE8+$ATF8)*$AYP8)+(CBZ6-$BYR$6+1)*HLOOKUP(CBZ$6,$TY$6:$UM$8,3,FALSE)*(($ASY8+$ASZ8)*$AYK8+($ATM8+$ATN8)*$AYP8))/(1+$BAI8)^(CBZ6-$BYR$6)","v":31712.2057812038},32877.140147458762,33859.218619918021,34673.214471083047,35332.908634336862,35851.150712947259,36239.916428891069,36510.361712221282,0,0,0,0,{"$f":"(HLOOKUP(CCL$6,$TY$6:$UM$8,3,FALSE)*(($ASQ8+$ASR8)*$AYK8+($ATE8+$ATF8)*$AYP8)+(CCL6-$BYR$6+1)*HLOOKUP(CCL$6,$TY$6:$UM$8,3,FALSE)*(($ASY8+$ASZ8)*$AYK8+($ATM8+$ATN8)*$AYP8))/(1+$BAI8)^(CCL6-$BYR$6)","v":0},{"$f":"SUM(CBX8:CCB8)","v":157566.47157146293},{"$f":"SUM(CCC8:CCG8)","v":178607.55195947952},{"$f":"SUM(CCH8:CCL8)","v":0},{"$f":"SUM(CBX8:CCL8)","v":336174.02353094245},{"$f":"BYP8+BZK8+CAF8+CBA8+CBV8","v":128363.14702751448},128363.14702751448,143846.6094746383,151742.92563977346,158561.028906019,164385.70073729381,169296.0930995901,173366.07235541524,176664.54317168432,179255.75356473628,181199.58214445534,182551.80856110642,0,0,0,0,0,{"$f":"SUM(CCS8:CCW8)","v":787832.35785731464},{"$f":"SUM(CCX8:CDB8)","v":893037.75979739754},{"$f":"SUM(CDC8:CDG8)","v":0},{"$f":"SUM(CCS8:CDG8)","v":1680870.1176547122},{"$f":"BTT8+BYP8","v":172023.14320569916},33904.25078161573,189600.51027287345,197312.26413337878,203859.63211539411,209336.02114190368,213828.58256925506,217418.59614832824,220181.83160293361,222188.88908646913,223505.5197085276,224192.92725754084,0,0,0,0,0,{"$f":"SUM(CDN8:CDR8)","v":1013937.010232805},{"$f":"SUM(CDS8:CDW8)","v":1107487.7638037994},{"$f":"SUM(CDX8:CEB8)","v":0},{"$f":"SUM(CDN8:CEB8)","v":2121424.774036604},{"$f":"BUO8+BZK8","v":172023.14320569916},33904.25078161573,189600.51027287345,197312.26413337878,203859.63211539411,209336.02114190368,213828.58256925506,217418.59614832824,220181.83160293361,222188.88908646913,223505.5197085276,224192.92725754084,0,0,0,0,0,{"$f":"SUM(CEI8:CEM8)","v":1013937.010232805},{"$f":"SUM(CEN8:CER8)","v":1107487.7638037994},{"$f":"SUM(CES8:CEW8)","v":0},{"$f":"SUM(CEI8:CEW8)","v":2121424.774036604},{"$f":"BVJ8+CAF8","v":172023.14320569916},33904.25078161573,189600.51027287345,197312.26413337878,203859.63211539411,209336.02114190368,213828.58256925506,217418.59614832824,220181.83160293361,222188.88908646913,223505.5197085276,224192.92725754084,0,0,0,0,0,{"$f":"SUM(CFD8:CFH8)","v":1013937.010232805},{"$f":"SUM(CFI8:CFM8)","v":1107487.7638037994},{"$f":"SUM(CFN8:CFR8)","v":0},{"$f":"SUM(CFD8:CFR8)","v":2121424.774036604},{"$f":"BWE8+CBA8","v":172023.14320569916},33904.25078161573,189600.51027287345,197312.26413337878,203859.63211539411,209336.02114190368,213828.58256925506,217418.59614832824,220181.83160293361,222188.88908646913,223505.5197085276,224192.92725754084,0,0,0,0,0,{"$f":"SUM(CFY8:CGC8)","v":1013937.010232805},{"$f":"SUM(CGD8:CGH8)","v":1107487.7638037994},{"$f":"SUM(CGI8:CGM8)","v":0},{"$f":"SUM(CFY8:CGM8)","v":2121424.774036604},{"$f":"BWZ8+CBV8","v":172023.14320569916},33904.25078161573,189600.51027287345,197312.26413337878,203859.63211539411,209336.02114190368,213828.58256925506,217418.59614832824,220181.83160293361,222188.88908646913,223505.5197085276,224192.92725754084,0,0,0,0,0,{"$f":"SUM(CGT8:CGX8)","v":1013937.010232805},{"$f":"SUM(CGY8:CHC8)","v":1107487.7638037994},{"$f":"SUM(CHD8:CHH8)","v":0},{"$f":"SUM(CGT8:CHH8)","v":2121424.774036604},{"$f":"BXU8+CCQ8","v":860115.71602849581},169521.25390807865,948002.55136436713,986561.32066689385,1019298.1605769705,1046680.1057095184,1069142.9128462754,1087092.9807416413,1100909.1580146679,1110944.4454323458,1117527.5985426379,1120964.6362877041,0,0,0,0,0,{"$f":"SUM(CHO8:CHS8)","v":5069685.0511640254},{"$f":"SUM(CHT8:CHX8)","v":5537438.8190189973},{"$f":"SUM(CHY8:CIC8)","v":0},{"$f":"SUM(CHO8:CIC8)","v":10607123.870183023},{"$f":"$VK8*($AWE8+$AWF8)","v":9557.2207310187041},{"$f":"VLOOKUP($A$8,SOURCE!$A$7:$IMC$146,COLUMN(),FALSE)","v":0},{"$f":"HLOOKUP(CIJ$6,$VK$6:$VY$8,3,FALSE)*($AWE8+$AWF8+$AWN8+$AWO8+$AWP8)","v":10492.863405084137},{"$f":"(HLOOKUP(CIK$6,$VK$6:$VY$8,3,FALSE)*($AWE8+$AWF8)+(CIK6-$CIJ$6+1)*$VL8*($AWN8+$AWO8+$AWP8))/(1+$BAI$5)^(CIK6-$CIJ$6)","v":10884.291503951974},{"$f":"(HLOOKUP(CIL$6,$VK$6:$VY$8,3,FALSE)*($AWE8+$AWF8)+(CIL6-$CIJ$6+1)*$VL8*($AWN8+$AWO8+$AWP8))/(1+$BAI$5)^(CIL6-$CIJ$6)","v":11214.647395206355},11488.859887511448,11711.526864914003,11886.935627036695,12019.082042506172,12111.688582518156,12168.221297761411,12191.905798440643,6318.4378200579558,6564.6107221381371,6773.0110625234756,6946.678012844588,7088.4469518822352,{"$f":"SUM(CIJ8:CIN8)","v":55792.189056667921},{"$f":"SUM(CIO8:CIS8)","v":60377.83334826307},{"$f":"SUM(CIT8:CIX8)","v":33691.184569446392},{"$f":"SUM(CIJ8:CIX8)","v":149861.20697437739},{"$f":"$WD8*($AWE8+$AWF8)","v":9557.2207310187041},{"$f":"VLOOKUP($A$8,SOURCE!$A$7:$IMC$146,COLUMN(),FALSE)","v":0},{"$f":"HLOOKUP(CJE$6,$WD$6:$WR$8,3,FALSE)*($AWE8+$AWF8+$AWN8+$AWO8+$AWP8)","v":10492.863405084137},{"$f":"(HLOOKUP(CJF$6,$WD$6:$WR$8,3,FALSE)*($AWE8+$AWF8)+(CJF6-$CIJ$6+1)*$VL8*($AWN8+$AWO8+$AWP8))/(1+$BAI$5)^(CJF6-$CIJ$6)","v":10884.291503951974},{"$f":"(HLOOKUP(CJG$6,$WD$6:$WR$8,3,FALSE)*($AWE8+$AWF8)+(CJG6-$CIJ$6+1)*$VL8*($AWN8+$AWO8+$AWP8))/(1+$BAI$5)^(CJG6-$CIJ$6)","v":11214.647395206355},11488.859887511448,11711.526864914003,11886.935627036695,12019.082042506172,12111.688582518156,12168.221297761411,12191.905798440643,6318.4378200579558,6564.6107221381371,6773.0110625234756,6946.678012844588,7088.4469518822352,{"$f":"SUM(CJE8:CJI8)","v":55792.189056667921},{"$f":"SUM(CJJ8:CJN8)","v":60377.83334826307},{"$f":"SUM(CJO8:CJS8)","v":33691.184569446392},{"$f":"SUM(CJE8:CJS8)","v":149861.20697437739},{"$f":"$WW8*($AWE8+$AWF8)","v":9557.2207310187041},{"$f":"VLOOKUP($A$8,SOURCE!$A$7:$IMC$146,COLUMN(),FALSE)","v":0},{"$f":"HLOOKUP(CJZ$6,$WW$6:$XK$8,3,FALSE)*($AWE8+$AWF8+$AWN8+$AWO8+$AWP8)","v":10492.863405084137},{"$f":"(HLOOKUP(CKA$6,$WW$6:$XK$8,3,FALSE)*($AWE8+$AWF8)+(CKA6-$CIJ$6+1)*$VL8*($AWN8+$AWO8+$AWP8))/(1+$BAI$5)^(CKA6-$CIJ$6)","v":10884.291503951974},{"$f":"(HLOOKUP(CKB$6,$WW$6:$XK$8,3,FALSE)*($AWE8+$AWF8)+(CKB6-$CIJ$6+1)*$VL8*($AWN8+$AWO8+$AWP8))/(1+$BAI$5)^(CKB6-$CIJ$6)","v":11214.647395206355},11488.859887511448,11711.526864914003,11886.935627036695,12019.082042506172,12111.688582518156,12168.221297761411,12191.905798440643,6318.4378200579558,6564.6107221381371,6773.0110625234756,6946.678012844588,7088.4469518822352,{"$f":"SUM(CJZ8:CKD8)","v":55792.189056667921},{"$f":"SUM(CKE8:CKI8)","v":60377.83334826307},{"$f":"SUM(CKJ8:CKN8)","v":33691.184569446392},{"$f":"SUM(CJZ8:CKN8)","v":149861.20697437739},{"$f":"$XP8*($AWE8+$AWF8)","v":9557.2207310187041},{"$f":"VLOOKUP($A$8,SOURCE!$A$7:$IMC$146,COLUMN(),FALSE)","v":0},{"$f":"HLOOKUP(CKU$6,$XP$6:$YD$8,3,FALSE)*($AWE8+$AWF8+$AWN8+$AWO8+$AWP8)","v":10492.863405084137},{"$f":"(HLOOKUP(CKV$6,$XP$6:$YD$8,3,FALSE)*($AWE8+$AWF8)+(CKV6-$CIJ$6+1)*$VL8*($AWN8+$AWO8+$AWP8))/(1+$BAI$5)^(CKV6-$CIJ$6)","v":10884.291503951974},{"$f":"(HLOOKUP(CKW$6,$XP$6:$YD$8,3,FALSE)*($AWE8+$AWF8)+(CKW6-$CIJ$6+1)*$VL8*($AWN8+$AWO8+$AWP8))/(1+$BAI$5)^(CKW6-$CIJ$6)","v":11214.647395206355},11488.859887511448,11711.526864914003,11886.935627036695,12019.082042506172,12111.688582518156,12168.221297761411,12191.905798440643,6318.4378200579558,6564.6107221381371,6773.0110625234756,6946.678012844588,{"$f":"(HLOOKUP(CLI$6,$XP$6:$YD$8,3,FALSE)*($AWE8+$AWF8)+(CLI6-$CIJ$6+1)*$VL8*($AWN8+$AWO8+$AWP8))/(1+$BAI$5)^(CLI6-$CIJ$6)","v":7088.4469518822352},{"$f":"SUM(CKU8:CKY8)","v":55792.189056667921},{"$f":"SUM(CKZ8:CLD8)","v":60377.83334826307},{"$f":"SUM(CLE8:CLI8)","v":33691.184569446392},{"$f":"SUM(CKU8:CLI8)","v":149861.20697437739},{"$f":"$YI8*($AWE8+$AWF8)","v":9557.2207310187041},{"$f":"VLOOKUP($A$8,SOURCE!$A$7:$IMC$146,COLUMN(),FALSE)","v":0},{"$f":"HLOOKUP(CLP$6,$YI$6:$YW$8,3,FALSE)*($AWE8+$AWF8+$AWN8+$AWO8+$AWP8)","v":10492.863405084137},{"$f":"(HLOOKUP(CLQ$6,$YI$6:$YW$8,3,FALSE)*($AWE8+$AWF8)+(CLQ6-$CIJ$6+1)*$VL8*($AWN8+$AWO8+$AWP8))/(1+$BAI$5)^(CLQ6-$CIJ$6)","v":10884.291503951974},{"$f":"(HLOOKUP(CLR$6,$YI$6:$YW$8,3,FALSE)*($AWE8+$AWF8)+(CLR6-$CIJ$6+1)*$VL8*($AWN8+$AWO8+$AWP8))/(1+$BAI$5)^(CLR6-$CIJ$6)","v":11214.647395206355},11488.859887511448,11711.526864914003,11886.935627036695,12019.082042506172,12111.688582518156,12168.221297761411,12191.905798440643,6318.4378200579558,6564.6107221381371,6773.0110625234756,6946.678012844588,{"$f":"(HLOOKUP(CMD$6,$YI$6:$YW$8,3,FALSE)*($AWE8+$AWF8)+(CMD6-$CIJ$6+1)*$VL8*($AWN8+$AWO8+$AWP8))/(1+$BAI$5)^(CMD6-$CIJ$6)","v":7088.4469518822352},{"$f":"SUM(CLP8:CLT8)","v":55792.189056667921},{"$f":"SUM(CLU8:CLY8)","v":60377.83334826307},{"$f":"SUM(CLZ8:CMD8)","v":33691.184569446392},{"$f":"SUM(CLP8:CMD8)","v":149861.20697437739},{"$f":"CIH8+CJC8+CJX8+CKS8+CLN8","v":47786.103655093524},{"$f":"VLOOKUP($A$8,SOURCE!$A$7:$IMC$146,COLUMN(),FALSE)","v":0},{"$f":"CIJ8+CJE8+CJZ8+CKU8+CLP8","v":52464.317025420685},54421.457519759868,56073.236976031774,57444.299437557238,58557.634324570019,59434.67813518348,60095.410212530856,60558.442912590777,60841.106488807054,60959.52899220321,31592.189100289779,32823.053610690687,33865.055312617376,34733.390064222942,35442.234759411178,{"$f":"SUM(CMK8:CMO8)","v":278960.94528333959},{"$f":"SUM(CMP8:CMT8)","v":301889.16674131539},{"$f":"SUM(CMU8:CMY8)","v":168455.92284723197},{"$f":"SUM(CMK8:CMY8)","v":749306.03487188695},{"$f":"$ZU8*($AWS8+$AWT8)","v":7252.0995613200621},{"$f":"VLOOKUP($A$8,SOURCE!$A$7:$IMC$146,COLUMN(),FALSE)","v":0},{"$f":"HLOOKUP(CNF$6,$ZU$6:$AAI$8,3,FALSE)*($AWS8+$AWT8+$AXB8+$AXC8+$AXD8)","v":8492.7184938378996},{"$f":"(HLOOKUP(CNG$6,$ZU$6:$AAI$8,3,FALSE)*($AWS8+$AWT8)+(CNG6-$CNF$6+1)*HLOOKUP(CNG$6,$ZU$6:$AAI$8,3,FALSE)*($AXB8+$AXC8+$AXD8))/(1+$BAI$5)^(CNG6-$CNF$6)","v":9269.8451679578429},{"$f":"(HLOOKUP(CNH$6,$ZU$6:$AAI$8,3,FALSE)*($AWS8+$AWT8)+(CNH6-$CNF$6+1)*HLOOKUP(CNH$6,$ZU$6:$AAI$8,3,FALSE)*($AXB8+$AXC8+$AXD8))/(1+$BAI$5)^(CNH6-$CNF$6)","v":9953.7019128104967},10551.409386797459,11069.621586815572,11514.554145592056,11892.010992224714,12207.409467646114,12465.803981707144,12671.908293822122,0,0,0,0,0,{"$f":"SUM(CNF8:CNJ8)","v":49337.296548219267},{"$f":"SUM(CNK8:CNO8)","v":60751.686880992143},{"$f":"SUM(CNP8:CNT8)","v":0},{"$f":"SUM(CNF8:CNT8)","v":110088.98342921141},{"$f":"$AAN8*($AWS8+$AWT8)","v":7252.0995613200621},{"$f":"VLOOKUP($A$8,SOURCE!$A$7:$IMC$146,COLUMN(),FALSE)","v":0},{"$f":"HLOOKUP(COA$6,$AAN$6:$ABB$8,3,FALSE)*($AWS8+$AWT8+$AXB8+$AXC8+$AXD8)","v":8492.7184938378996},{"$f":"(HLOOKUP(COB$6,$ZU$6:$AAI$8,3,FALSE)*($AWS8+$AWT8)+(COB6-$CNF$6+1)*HLOOKUP(COB$6,$ZU$6:$AAI$8,3,FALSE)*($AXB8+$AXC8+$AXD8))/(1+$BAI$5)^(COB6-$CNF$6)","v":9269.8451679578429},{"$f":"(HLOOKUP(COC$6,$ZU$6:$AAI$8,3,FALSE)*($AWS8+$AWT8)+(COC6-$CNF$6+1)*HLOOKUP(COC$6,$ZU$6:$AAI$8,3,FALSE)*($AXB8+$AXC8+$AXD8))/(1+$BAI$5)^(COC6-$CNF$6)","v":9953.7019128104967},10551.409386797459,11069.621586815572,11514.554145592056,11892.010992224714,12207.409467646114,12465.803981707144,12671.908293822122,0,0,0,0,0,{"$f":"SUM(COA8:COE8)","v":49337.296548219267},{"$f":"SUM(COF8:COJ8)","v":60751.686880992143},{"$f":"SUM(COK8:COO8)","v":0},{"$f":"SUM(COA8:COO8)","v":110088.98342921141},{"$f":"$ABG8*($AWS8+$AWT8)","v":7252.0995613200621},{"$f":"VLOOKUP($A$8,SOURCE!$A$7:$IMC$146,COLUMN(),FALSE)","v":0},{"$f":"HLOOKUP(COV$6,$ABG$6:$ABU$8,3,FALSE)*($AWS8+$AWT8+$AXB8+$AXC8+$AXD8)","v":8492.7184938378996},{"$f":"(HLOOKUP(COW$6,$ABG$6:$ABU$8,3,FALSE)*($AWS8+$AWT8)+(COW6-$CNF$6+1)*HLOOKUP(COW$6,$ABG$6:$ABU$8,3,FALSE)*($AXB8+$AXC8+$AXD8))/(1+$BAI$5)^(COW6-$CNF$6)","v":9269.8451679578429},{"$f":"(HLOOKUP(COX$6,$ABG$6:$ABU$8,3,FALSE)*($AWS8+$AWT8)+(COX6-$CNF$6+1)*HLOOKUP(COX$6,$ABG$6:$ABU$8,3,FALSE)*($AXB8+$AXC8+$AXD8))/(1+$BAI$5)^(COX6-$CNF$6)","v":9953.7019128104967},10551.409386797459,11069.621586815572,11514.554145592056,11892.010992224714,12207.409467646114,12465.803981707144,12671.908293822122,0,0,0,0,0,{"$f":"SUM(COV8:COZ8)","v":49337.296548219267},{"$f":"SUM(CPA8:CPE8)","v":60751.686880992143},{"$f":"SUM(CPF8:CPJ8)","v":0},{"$f":"SUM(COV8:CPJ8)","v":110088.98342921141},{"$f":"$ABZ8*($AWS8+$AWT8)","v":7252.0995613200621},{"$f":"VLOOKUP($A$8,SOURCE!$A$7:$IMC$146,COLUMN(),FALSE)","v":0},{"$f":"HLOOKUP(CPQ$6,$ABZ$6:$ACN$8,3,FALSE)*($AWS8+$AWT8+$AXB8+$AXC8+$AXD8)","v":8492.7184938378996},{"$f":"(HLOOKUP(CPR$6,$ABZ$6:$ACN$8,3,FALSE)*($AWS8+$AWT8)+(CPR6-$CNF$6+1)*HLOOKUP(CPR$6,$ABZ$6:$ACN$8,3,FALSE)*($AXB8+$AXC8+$AXD8))/(1+$BAI$5)^(CPR6-$CNF$6)","v":9269.8451679578429},{"$f":"(HLOOKUP(CPS$6,$ABZ$6:$ACN$8,3,FALSE)*($AWS8+$AWT8)+(CPS6-$CNF$6+1)*HLOOKUP(CPS$6,$ABZ$6:$ACN$8,3,FALSE)*($AXB8+$AXC8+$AXD8))/(1+$BAI$5)^(CPS6-$CNF$6)","v":9953.7019128104967},10551.409386797459,11069.621586815572,11514.554145592056,11892.010992224714,12207.409467646114,12465.803981707144,12671.908293822122,0,0,0,0,0,{"$f":"SUM(CPQ8:CPU8)","v":49337.296548219267},{"$f":"SUM(CPV8:CPZ8)","v":60751.686880992143},{"$f":"SUM(CQA8:CQE8)","v":0},{"$f":"SUM(CPQ8:CQE8)","v":110088.98342921141},{"$f":"$ACS8*($AWS8+$AWT8)","v":7252.0995613200621},{"$f":"VLOOKUP($A$8,SOURCE!$A$7:$IMC$146,COLUMN(),FALSE)","v":0},{"$f":"HLOOKUP(CQL$6,$ACS$6:$ADG$8,3,FALSE)*($AWS8+$AWT8+$AXB8+$AXC8+$AXD8)","v":8492.7184938378996},{"$f":"(HLOOKUP(CQM$6,$ACS$6:$ADG$8,3,FALSE)*($AWS8+$AWT8)+(CQM6-$CNF$6+1)*HLOOKUP(CQM$6,$ACS$6:$ADG$8,3,FALSE)*($AXB8+$AXC8+$AXD8))/(1+$BAI$5)^(CQM6-$CNF$6)","v":9269.8451679578429},{"$f":"(HLOOKUP(CQN$6,$ACS$6:$ADG$8,3,FALSE)*($AWS8+$AWT8)+(CQN6-$CNF$6+1)*HLOOKUP(CQN$6,$ACS$6:$ADG$8,3,FALSE)*($AXB8+$AXC8+$AXD8))/(1+$BAI$5)^(CQN6-$CNF$6)","v":9953.7019128104967},10551.409386797459,11069.621586815572,11514.554145592056,11892.010992224714,12207.409467646114,12465.803981707144,12671.908293822122,0,0,0,0,0,{"$f":"SUM(CQL8:CQP8)","v":49337.296548219267},{"$f":"SUM(CQQ8:CQU8)","v":60751.686880992143},{"$f":"SUM(CQV8:CQZ8)","v":0},{"$f":"SUM(CQL8:CQZ8)","v":110088.98342921141},{"$f":"CND8+CNY8+COT8+CPO8+CQJ8","v":36260.49780660031},{"$f":"VLOOKUP($A$8,SOURCE!$A$7:$IMC$146,COLUMN(),FALSE)","v":0},{"$f":"CNF8+COA8+COV8+CPQ8+CQL8","v":42463.592469189498},46349.225839789215,49768.509564052481,52757.046933987294,55348.10793407786,57572.770727960276,59460.054961123569,61037.047338230564,62329.019908535716,63359.541469110613,0,0,0,0,0,{"$f":"SUM(CRG8:CRK8)","v":246686.48274109635},{"$f":"SUM(CRL8:CRP8)","v":303758.43440496072},{"$f":"SUM(CRQ8:CRU8)","v":0},{"$f":"SUM(CRG8:CRU8)","v":550444.91714605701},{"$f":"CIH8+CND8","v":16809.320292338765},{"$f":"VLOOKUP($A$8,SOURCE!$A$7:$IMC$146,COLUMN(),FALSE)","v":0},{"$f":"CIJ8+CNF8","v":18985.581898922035},20154.136671909815,21168.349308016852,22040.269274308906,22781.148451729576,23401.489772628753,23911.093034730886,24319.09805016427,24634.025279468555,24863.814092262764,6318.4378200579558,6564.6107221381371,6773.0110625234756,6946.678012844588,7088.4469518822352,{"$f":"SUM(CSB8:CSF8)","v":105129.48560488717},{"$f":"SUM(CSG8:CSK8)","v":121129.52022925521},{"$f":"SUM(CSL8:CSP8)","v":33691.184569446392},{"$f":"SUM(CSB8:CSP8)","v":259950.19040358879},{"$f":"CJC8+CNY8","v":16809.320292338765},{"$f":"VLOOKUP($A$8,SOURCE!$A$7:$IMC$146,COLUMN(),FALSE)","v":0},{"$f":"CJE8+COA8","v":18985.581898922035},20154.136671909815,21168.349308016852,22040.269274308906,22781.148451729576,23401.489772628753,23911.093034730886,24319.09805016427,24634.025279468555,24863.814092262764,6318.4378200579558,6564.6107221381371,6773.0110625234756,6946.678012844588,7088.4469518822352,{"$f":"SUM(CSW8:CTA8)","v":105129.48560488717},{"$f":"SUM(CTB8:CTF8)","v":121129.52022925521},{"$f":"SUM(CTG8:CTK8)","v":33691.184569446392},{"$f":"SUM(CSW8:CTK8)","v":259950.19040358879},{"$f":"CJX8+COT8","v":16809.320292338765},{"$f":"VLOOKUP($A$8,SOURCE!$A$7:$IMC$146,COLUMN(),FALSE)","v":0},{"$f":"CJZ8+COV8","v":18985.581898922035},20154.136671909815,21168.349308016852,22040.269274308906,22781.148451729576,23401.489772628753,23911.093034730886,24319.09805016427,24634.025279468555,24863.814092262764,6318.4378200579558,6564.6107221381371,6773.0110625234756,6946.678012844588,7088.4469518822352,{"$f":"SUM(CTR8:CTV8)","v":105129.48560488717},{"$f":"SUM(CTW8:CUA8)","v":121129.52022925521},{"$f":"SUM(CUB8:CUF8)","v":33691.184569446392},{"$f":"SUM(CTR8:CUF8)","v":259950.19040358879},{"$f":"CKS8+CPO8","v":16809.320292338765},{"$f":"VLOOKUP($A$8,SOURCE!$A$7:$IMC$146,COLUMN(),FALSE)","v":0},{"$f":"CKU8+CPQ8","v":18985.581898922035},20154.136671909815,21168.349308016852,22040.269274308906,22781.148451729576,23401.489772628753,23911.093034730886,24319.09805016427,24634.025279468555,24863.814092262764,6318.4378200579558,6564.6107221381371,6773.0110625234756,6946.678012844588,7088.4469518822352,{"$f":"SUM(CUM8:CUQ8)","v":105129.48560488717},{"$f":"SUM(CUR8:CUV8)","v":121129.52022925521},{"$f":"SUM(CUW8:CVA8)","v":33691.184569446392},{"$f":"SUM(CUM8:CVA8)","v":259950.19040358879},{"$f":"CLN8+CQJ8","v":16809.320292338765},{"$f":"VLOOKUP($A$8,SOURCE!$A$7:$IMC$146,COLUMN(),FALSE)","v":0},{"$f":"CLP8+CQL8","v":18985.581898922035},20154.136671909815,21168.349308016852,22040.269274308906,22781.148451729576,23401.489772628753,23911.093034730886,24319.09805016427,24634.025279468555,24863.814092262764,6318.4378200579558,6564.6107221381371,6773.0110625234756,6946.678012844588,7088.4469518822352,{"$f":"SUM(CVH8:CVL8)","v":105129.48560488717},{"$f":"SUM(CVM8:CVQ8)","v":121129.52022925521},{"$f":"SUM(CVR8:CVV8)","v":33691.184569446392},{"$f":"SUM(CVH8:CVV8)","v":259950.19040358879},{"$f":"CMI8+CRE8","v":84046.601461693834},{"$f":"VLOOKUP($A$8,SOURCE!$A$7:$IMC$146,COLUMN(),FALSE)","v":0},{"$f":"CMK8+CRG8","v":94927.909494610183},100770.68335954909,105841.74654008425,110201.34637154453,113905.74225864788,117007.44886314376,119555.46517365443,121595.49025082134,123170.12639734277,124319.07046131382,31592.189100289779,32823.053610690687,33865.055312617376,34733.390064222942,35442.234759411178,{"$f":"SUM(CWC8:CWG8)","v":525647.428024436},{"$f":"SUM(CWH8:CWL8)","v":605647.60114627611},{"$f":"SUM(CWM8:CWQ8)","v":168455.92284723197},{"$f":"SUM(CWC8:CWQ8)","v":1299750.9520179438},{"$f":"$AEE8*($AQN8+$AQO8)","v":43874.52753357761},{"$f":"VLOOKUP($A$8,SOURCE!$A$7:$IMC$146,COLUMN(),FALSE)","v":0},{"$f":"HLOOKUP(CWX$6,$AEE$6:$AES$8,3,FALSE)*($AQN8+$AQO8+$AQV8+$AQW8+$AQX8)","v":52535.596435776839},{"$f":"(HLOOKUP(CWY$6,$AEE$6:$AES$8,3,FALSE)*($AQN8+$AQO8)+(CWY6-$CWX$6+1)*HLOOKUP(CWY$6,$AEE$6:$AES$8,3,FALSE)*($AQV8+$AQW8+$AQX8))/(1+$BAI$5)^(CWY6-$CWX$6)","v":58282.538417120093},{"$f":"(HLOOKUP(CWZ$6,$AEE$6:$AES$8,3,FALSE)*($AQN8+$AQO8)+(CWZ6-$CWX$6+1)*HLOOKUP(CWZ$6,$AEE$6:$AES$8,3,FALSE)*($AQV8+$AQW8+$AQX8))/(1+$BAI$5)^(CWZ6-$CWX$6)","v":63363.024254127289},67827.494346074571,71723.096483110494,75093.885050755067,77981.008728775647,80422.887328502286,82455.378377396089,84111.934026330593,0,0,0,0,0,{"$f":"SUM(CWX8:CXB8)","v":313731.74993620929},{"$f":"SUM(CXC8:CXG8)","v":400065.09351175965},{"$f":"SUM(CXH8:CXL8)","v":0},{"$f":"SUM(CWX8:CXL8)","v":713796.84344796895},{"$f":"$AEX8*($AQN8+$AQO8)","v":43874.52753357761},{"$f":"VLOOKUP($A$8,SOURCE!$A$7:$IMC$146,COLUMN(),FALSE)","v":0},{"$f":"HLOOKUP(CXS$6,$AEX$6:$AFL$8,3,FALSE)*($AQN8+$AQO8+$AQV8+$AQW8+$AQX8)","v":52535.596435776839},{"$f":"(HLOOKUP(CXT$6,$AEX$6:$AFL$8,3,FALSE)*($AQN8+$AQO8)+(CXT6-$CWX$6+1)*HLOOKUP(CXT$6,$AEX$6:$AFL$8,3,FALSE)*($AQV8+$AQW8+$AQX8))/(1+$BAI$5)^(CXT6-$CWX$6)","v":58282.538417120093},{"$f":"(HLOOKUP(CXU$6,$AEX$6:$AFL$8,3,FALSE)*($AQN8+$AQO8)+(CXU6-$CWX$6+1)*HLOOKUP(CXU$6,$AEX$6:$AFL$8,3,FALSE)*($AQV8+$AQW8+$AQX8))/(1+$BAI$5)^(CXU6-$CWX$6)","v":63363.024254127289},67827.494346074571,71723.096483110494,75093.885050755067,77981.008728775647,80422.887328502286,82455.378377396089,84111.934026330593,0,0,0,0,0,{"$f":"SUM(CXS8:CXW8)","v":313731.74993620929},{"$f":"SUM(CXX8:CYB8)","v":400065.09351175965},{"$f":"SUM(CYC8:CYG8)","v":0},{"$f":"SUM(CXS8:CYG8)","v":713796.84344796895},{"$f":"$AFQ8*($AQN8+$AQO8)","v":43874.52753357761},{"$f":"VLOOKUP($A$8,SOURCE!$A$7:$IMC$146,COLUMN(),FALSE)","v":0},{"$f":"HLOOKUP(CYN$6,$AFQ$6:$AGE$8,3,FALSE)*($AQN8+$AQO8+$AQV8+$AQW8+$AQX8)","v":52535.596435776839},{"$f":"(HLOOKUP(CYO$6,$AFQ$6:$AGE$8,3,FALSE)*($AQN8+$AQO8)+(CYO6-$CWX$6+1)*HLOOKUP(CYO$6,$AFQ$6:$AGE$8,3,FALSE)*($AQV8+$AQW8+$AQX8))/(1+$BAI$5)^(CYO6-$CWX$6)","v":58282.538417120093},{"$f":"(HLOOKUP(CYP$6,$AFQ$6:$AGE$8,3,FALSE)*($AQN8+$AQO8)+(CYP6-$CWX$6+1)*HLOOKUP(CYP$6,$AFQ$6:$AGE$8,3,FALSE)*($AQV8+$AQW8+$AQX8))/(1+$BAI$5)^(CYP6-$CWX$6)","v":63363.024254127289},67827.494346074571,71723.096483110494,75093.885050755067,77981.008728775647,80422.887328502286,82455.378377396089,84111.934026330593,0,0,0,0,0,{"$f":"SUM(CYN8:CYR8)","v":313731.74993620929},{"$f":"SUM(CYS8:CYW8)","v":400065.09351175965},{"$f":"SUM(CYX8:CZB8)","v":0},{"$f":"SUM(CYN8:CZB8)","v":713796.84344796895},{"$f":"$AGJ8*($AQN8+$AQO8)","v":43874.52753357761},{"$f":"VLOOKUP($A$8,SOURCE!$A$7:$IMC$146,COLUMN(),FALSE)","v":0},{"$f":"HLOOKUP(CZI$6,$AGJ$6:$AGX$8,3,FALSE)*($AQN8+$AQO8+$AQV8+$AQW8+$AQX8)","v":52535.596435776839},{"$f":"(HLOOKUP(CZJ$6,$AGJ$6:$AGX$8,3,FALSE)*($AQN8+$AQO8)+(CZJ6-$CWX$6+1)*HLOOKUP(CZJ$6,$AGJ$6:$AGX$8,3,FALSE)*($AQV8+$AQW8+$AQX8))/(1+$BAI$5)^(CZJ6-$CWX$6)","v":58282.538417120093},{"$f":"(HLOOKUP(CZK$6,$AGJ$6:$AGX$8,3,FALSE)*($AQN8+$AQO8)+(CZK6-$CWX$6+1)*HLOOKUP(CZK$6,$AGJ$6:$AGX$8,3,FALSE)*($AQV8+$AQW8+$AQX8))/(1+$BAI$5)^(CZK6-$CWX$6)","v":63363.024254127289},67827.494346074571,71723.096483110494,75093.885050755067,77981.008728775647,80422.887328502286,82455.378377396089,84111.934026330593,0,0,0,0,0,{"$f":"SUM(CZI8:CZM8)","v":313731.74993620929},{"$f":"SUM(CZN8:CZR8)","v":400065.09351175965},{"$f":"SUM(CZS8:CZW8)","v":0},{"$f":"SUM(CZI8:CZW8)","v":713796.84344796895},{"$f":"$AHC8*($AQN8+$AQO8)","v":43874.52753357761},{"$f":"VLOOKUP($A$8,SOURCE!$A$7:$IMC$146,COLUMN(),FALSE)","v":0},{"$f":"HLOOKUP(DAD$6,$AHC$6:$AHQ$8,3,FALSE)*($AQN8+$AQO8+$AQV8+$AQW8+$AQX8)","v":52535.596435776839},{"$f":"(HLOOKUP(DAE$6,$AHC$6:$AHQ$8,3,FALSE)*($AQN8+$AQO8)+(DAE6-$CWX$6+1)*HLOOKUP(DAE$6,$AHC$6:$AHQ$8,3,FALSE)*($AQV8+$AQW8+$AQX8))/(1+$BAI$5)^(DAE6-$CWX$6)","v":58282.538417120093},{"$f":"(HLOOKUP(DAF$6,$AHC$6:$AHQ$8,3,FALSE)*($AQN8+$AQO8)+(DAF6-$CWX$6+1)*HLOOKUP(DAF$6,$AHC$6:$AHQ$8,3,FALSE)*($AQV8+$AQW8+$AQX8))/(1+$BAI$5)^(DAF6-$CWX$6)","v":63363.024254127289},67827.494346074571,71723.096483110494,75093.885050755067,77981.008728775647,80422.887328502286,82455.378377396089,84111.934026330593,0,0,0,0,0,{"$f":"SUM(DAD8:DAH8)","v":313731.74993620929},{"$f":"SUM(DAI8:DAM8)","v":400065.09351175965},{"$f":"SUM(DAN8:DAR8)","v":0},{"$f":"SUM(DAD8:DAR8)","v":713796.84344796895},{"$f":"CWV8+CXQ8+CYL8+CZG8+DAB8","v":219372.63766788805},{"$f":"VLOOKUP($A$8,SOURCE!$A$7:$IMC$146,COLUMN(),FALSE)","v":0},{"$f":"CWX8+CXS8+CYN8+CZI8+DAD8","v":262677.98217888421},291412.69208560046,316815.12127063645,339137.47173037287,358615.48241555248,375469.42525377532,389905.04364387825,402114.4366425114,412276.89188698045,420559.67013165297,0,0,0,0,0,{"$f":"SUM(DAY8:DBC8)","v":1568658.7496810465},{"$f":"SUM(DBD8:DBH8)","v":2000325.4675587984},{"$f":"SUM(DBI8:DBM8)","v":0},{"$f":"SUM(DAY8:DBM8)","v":3568984.2172398446},{"$f":"$AIO8*($ARA8+$ARB8)","v":41644.066918857097},{"$f":"VLOOKUP($A$8,SOURCE!$A$7:$IMC$146,COLUMN(),FALSE)","v":0},{"$f":"HLOOKUP(DBT$6,$AIO$6:$AJC$8,3,FALSE)*($ARA8+$ARB8+$ARI8+$ARJ8+$ARK8)","v":56503.276462385336},{"$f":"(HLOOKUP(DBU$6,$AIO$6:$AJC$8,3,FALSE)*($ARA8+$ARB8)+(DBU6-$DBT$6+1)*HLOOKUP(DBU$6,$AIO$6:$AJC$8,3,FALSE)*($ARI8+$ARJ8+$ARK8))/(1+$BAI$5)^(DBU6-$DBT$6)","v":67964.272386584344},{"$f":"(HLOOKUP(DBV$6,$AIO$6:$AJC$8,3,FALSE)*($ARA8+$ARB8)+(DBV6-$DBT$6+1)*HLOOKUP(DBV$6,$AIO$6:$AJC$8,3,FALSE)*($ARI8+$ARJ8+$ARK8))/(1+$BAI$5)^(DBV6-$DBT$6)","v":78205.61954597896},87317.486312899287,95384.219239101643,102484.69305144138,108692.64051603203,114076.96329453589,118702.02485486928,122627.92644053479,0,0,0,0,0,{"$f":"SUM(DBT8:DBX8)","v":385374.87394694955},{"$f":"SUM(DBY8:DCC8)","v":566584.24815741333},{"$f":"SUM(DCD8:DCH8)","v":0},{"$f":"SUM(DBT8:DCH8)","v":951959.12210436282},{"$f":"$AJH8*($ARA8+$ARB8)","v":41644.066918857097},{"$f":"VLOOKUP($A$8,SOURCE!$A$7:$IMC$146,COLUMN(),FALSE)","v":0},{"$f":"HLOOKUP(DCO$6,$AJH$6:$AJV$8,3,FALSE)*($ARA8+$ARB8+$ARI8+$ARJ8+$ARK8)","v":56503.276462385336},{"$f":"(HLOOKUP(DCP$6,$AJH$6:$AJV$8,3,FALSE)*($ARA8+$ARB8)+(DCP6-$DBT$6+1)*HLOOKUP(DCP$6,$AJH$6:$AJV$8,3,FALSE)*($ARI8+$ARJ8+$ARK8))/(1+$BAI$5)^(DCP6-$DBT$6)","v":67964.272386584344},{"$f":"(HLOOKUP(DCQ$6,$AJH$6:$AJV$8,3,FALSE)*($ARA8+$ARB8)+(DCQ6-$DBT$6+1)*HLOOKUP(DCQ$6,$AJH$6:$AJV$8,3,FALSE)*($ARI8+$ARJ8+$ARK8))/(1+$BAI$5)^(DCQ6-$DBT$6)","v":78205.61954597896},87317.486312899287,95384.219239101643,102484.69305144138,108692.64051603203,114076.96329453589,118702.02485486928,122627.92644053479,0,0,0,0,0,{"$f":"SUM(DCO8:DCS8)","v":385374.87394694955},{"$f":"SUM(DCT8:DCX8)","v":566584.24815741333},{"$f":"SUM(DCY8:DDC8)","v":0},{"$f":"SUM(DCO8:DDC8)","v":951959.12210436282},{"$f":"$AKA8*($ARA8+$ARB8)","v":41644.066918857097},{"$f":"VLOOKUP($A$8,SOURCE!$A$7:$IMC$146,COLUMN(),FALSE)","v":0},{"$f":"HLOOKUP(DDJ$6,$AKA$6:$AKO$8,3,FALSE)*($ARA8+$ARB8+$ARI8+$ARJ8+$ARK8)","v":56503.276462385336},{"$f":"(HLOOKUP(DDK$6,$AKA$6:$AKO$8,3,FALSE)*($ARA8+$ARB8)+(DDK6-$DBT$6+1)*HLOOKUP(DDK$6,$AKA$6:$AKO$8,3,FALSE)*($ARI8+$ARJ8+$ARK8))/(1+$BAI$5)^(DDK6-$DBT$6)","v":67964.272386584344},{"$f":"(HLOOKUP(DDL$6,$AKA$6:$AKO$8,3,FALSE)*($ARA8+$ARB8)+(DDL6-$DBT$6+1)*HLOOKUP(DDL$6,$AKA$6:$AKO$8,3,FALSE)*($ARI8+$ARJ8+$ARK8))/(1+$BAI$5)^(DDL6-$DBT$6)","v":78205.61954597896},87317.486312899287,95384.219239101643,102484.69305144138,108692.64051603203,114076.96329453589,118702.02485486928,122627.92644053479,0,0,0,0,0,{"$f":"SUM(DDJ8:DDN8)","v":385374.87394694955},{"$f":"SUM(DDO8:DDS8)","v":566584.24815741333},{"$f":"SUM(DDT8:DDX8)","v":0},{"$f":"SUM(DDJ8:DDX8)","v":951959.12210436282},{"$f":"$AKT8*($ARA8+$ARB8)","v":41644.066918857097},{"$f":"VLOOKUP($A$8,SOURCE!$A$7:$IMC$146,COLUMN(),FALSE)","v":0},{"$f":"HLOOKUP(DEE$6,$AKT$6:$ALH$8,3,FALSE)*($ARA8+$ARB8+$ARI8+$ARJ8+$ARK8)","v":56503.276462385336},{"$f":"(HLOOKUP(DEF$6,$AKT$6:$ALH$8,3,FALSE)*($ARA8+$ARB8)+(DEF6-$DBT$6+1)*HLOOKUP(DEF$6,$AKT$6:$ALH$8,3,FALSE)*($ARI8+$ARJ8+$ARK8))/(1+$BAI$5)^(DEF6-$DBT$6)","v":67964.272386584344},{"$f":"(HLOOKUP(DEG$6,$AKT$6:$ALH$8,3,FALSE)*($ARA8+$ARB8)+(DEG6-$DBT$6+1)*HLOOKUP(DEG$6,$AKT$6:$ALH$8,3,FALSE)*($ARI8+$ARJ8+$ARK8))/(1+$BAI$5)^(DEG6-$DBT$6)","v":78205.61954597896},87317.486312899287,95384.219239101643,102484.69305144138,108692.64051603203,114076.96329453589,118702.02485486928,122627.92644053479,0,0,0,0,0,{"$f":"SUM(DEE8:DEI8)","v":385374.87394694955},{"$f":"SUM(DEJ8:DEN8)","v":566584.24815741333},{"$f":"SUM(DEO8:DES8)","v":0},{"$f":"SUM(DEE8:DES8)","v":951959.12210436282},{"$f":"$ALM8*($ARA8+$ARB8)","v":41644.066918857097},{"$f":"VLOOKUP($A$8,SOURCE!$A$7:$IMC$146,COLUMN(),FALSE)","v":0},{"$f":"HLOOKUP(DEZ$6,$ALM$6:$AMA$8,3,FALSE)*($ARA8+$ARB8+$ARI8+$ARJ8+$ARK8)","v":56503.276462385336},{"$f":"(HLOOKUP(DFA$6,$ALM$6:$AMA$8,3,FALSE)*($ARA8+$ARB8)+(DFA6-$DBT$6+1)*HLOOKUP(DFA$6,$ALM$6:$AMA$8,3,FALSE)*($ARI8+$ARJ8+$ARK8))/(1+$BAI$5)^(DFA6-$DBT$6)","v":67964.272386584344},{"$f":"(HLOOKUP(DFB$6,$ALM$6:$AMA$8,3,FALSE)*($ARA8+$ARB8)+(DFB6-$DBT$6+1)*HLOOKUP(DFB$6,$ALM$6:$AMA$8,3,FALSE)*($ARI8+$ARJ8+$ARK8))/(1+$BAI$5)^(DFB6-$DBT$6)","v":78205.61954597896},87317.486312899287,95384.219239101643,102484.69305144138,108692.64051603203,114076.96329453589,118702.02485486928,122627.92644053479,0,0,0,0,{"$f":"(HLOOKUP(DFN$6,$ALM$6:$AMA$8,3,FALSE)*($ARA8+$ARB8)+(DFN6-$DBT$6+1)*HLOOKUP(DFN$6,$ALM$6:$AMA$8,3,FALSE)*($ARI8+$ARJ8+$ARK8))/(1+$BAI$5)^(DFN6-$DBT$6)","v":0},{"$f":"SUM(DEZ8:DFD8)","v":385374.87394694955},{"$f":"SUM(DFE8:DFI8)","v":566584.24815741333},{"$f":"SUM(DFJ8:DFN8)","v":0},{"$f":"SUM(DEZ8:DFN8)","v":951959.12210436282},{"$f":"DBR8+DCM8+DDH8+DEC8+DEX8","v":208220.33459428549},{"$f":"VLOOKUP($A$8,SOURCE!$A$7:$IMC$146,COLUMN(),FALSE)","v":0},{"$f":"DBT8+DCO8+DDJ8+DEE8+DEZ8","v":282516.38231192669},339821.36193292169,391028.0977298948,436587.43156449642,476921.0961955082,512423.46525720693,543463.20258016011,570384.81647267949,593510.1242743464,613139.63220267394,0,0,0,0,0,{"$f":"SUM(DFU8:DFY8)","v":1926874.3697347478},{"$f":"SUM(DFZ8:DGD8)","v":2832921.2407870665},{"$f":"SUM(DGE8:DGI8)","v":0},{"$f":"SUM(DFU8:DGI8)","v":4759795.6105218148},{"$f":"CWV8+DBR8","v":85518.594452434714},{"$f":"VLOOKUP($A$8,SOURCE!$A$7:$IMC$146,COLUMN(),FALSE)","v":0},{"$f":"CWX8+DBT8","v":109038.87289816217},126246.81080370443,141568.64380010625,155144.98065897386,167107.31572221214,177578.57810219645,186673.64924480766,194499.85062303819,201157.40323226538,206739.86046686539,0,0,0,0,0,{"$f":"SUM(DGP8:DGT8)","v":699106.6238831589},{"$f":"SUM(DGU8:DGY8)","v":966649.3416691731},{"$f":"SUM(DGZ8:DHD8)","v":0},{"$f":"SUM(DGP8:DHD8)","v":1665755.9655523319},{"$f":"CXQ8+DCM8","v":85518.594452434714},{"$f":"VLOOKUP($A$8,SOURCE!$A$7:$IMC$146,COLUMN(),FALSE)","v":0},{"$f":"CXS8+DCO8","v":109038.87289816217},126246.81080370443,141568.64380010625,155144.98065897386,167107.31572221214,177578.57810219645,186673.64924480766,194499.85062303819,201157.40323226538,206739.86046686539,0,0,0,0,0,{"$f":"SUM(DHK8:DHO8)","v":699106.6238831589},{"$f":"SUM(DHP8:DHT8)","v":966649.3416691731},{"$f":"SUM(DHU8:DHY8)","v":0},{"$f":"SUM(DHK8:DHY8)","v":1665755.9655523319},{"$f":"CYL8+DDH8","v":85518.594452434714},{"$f":"VLOOKUP($A$8,SOURCE!$A$7:$IMC$146,COLUMN(),FALSE)","v":0},{"$f":"CYN8+DDJ8","v":109038.87289816217},126246.81080370443,141568.64380010625,155144.98065897386,167107.31572221214,177578.57810219645,186673.64924480766,194499.85062303819,201157.40323226538,206739.86046686539,0,0,0,0,0,{"$f":"SUM(DIF8:DIJ8)","v":699106.6238831589},{"$f":"SUM(DIK8:DIO8)","v":966649.3416691731},{"$f":"SUM(DIP8:DIT8)","v":0},{"$f":"SUM(DIF8:DIT8)","v":1665755.9655523319},{"$f":"CZG8+DEC8","v":85518.594452434714},{"$f":"VLOOKUP($A$8,SOURCE!$A$7:$IMC$146,COLUMN(),FALSE)","v":0},{"$f":"CZI8+DEE8","v":109038.87289816217},126246.81080370443,141568.64380010625,155144.98065897386,167107.31572221214,177578.57810219645,186673.64924480766,194499.85062303819,201157.40323226538,206739.86046686539,0,0,0,0,0,{"$f":"SUM(DJA8:DJE8)","v":699106.6238831589},{"$f":"SUM(DJF8:DJJ8)","v":966649.3416691731},{"$f":"SUM(DJK8:DJO8)","v":0},{"$f":"SUM(DJA8:DJO8)","v":1665755.9655523319},{"$f":"DAB8+DEX8","v":85518.594452434714},{"$f":"VLOOKUP($A$8,SOURCE!$A$7:$IMC$146,COLUMN(),FALSE)","v":0},{"$f":"DAD8+DEZ8","v":109038.87289816217},126246.81080370443,141568.64380010625,155144.98065897386,167107.31572221214,177578.57810219645,186673.64924480766,194499.85062303819,201157.40323226538,206739.86046686539,0,0,0,0,0,{"$f":"SUM(DJV8:DJZ8)","v":699106.6238831589},{"$f":"SUM(DKA8:DKE8)","v":966649.3416691731},{"$f":"SUM(DKF8:DKJ8)","v":0},{"$f":"SUM(DJV8:DKJ8)","v":1665755.9655523319},{"$f":"DAW8+DFS8","v":427592.97226217354},{"$f":"VLOOKUP($A$8,SOURCE!$A$7:$IMC$146,COLUMN(),FALSE)","v":0},{"$f":"DAY8+DFU8","v":545194.3644908109},631234.05401852215,707843.21900053124,775724.90329486923,835536.57861106074,887892.89051098225,933368.2462240383,972499.25311519089,1005787.0161613268,1033699.3023343269,0,0,0,0,0,{"$f":"SUM(DKQ8:DKU8)","v":3495533.1194157945},{"$f":"SUM(DKV8:DKZ8)","v":4833246.7083458649},{"$f":"SUM(DLA8:DLE8)","v":0},{"$f":"SUM(DKQ8:DLE8)","v":8328779.8277616594},{"$f":"$AMY8*(($AUE8+$AUF8)*$AYU8+($AUR8+$AUS8)*$AYZ8)","v":215270.6748384308},{"$f":"VLOOKUP($A$8,SOURCE!$A$7:$IMC$146,COLUMN(),FALSE)","v":0},{"$f":"HLOOKUP(DLL$6,$AMY$6:$ANM$8,3,FALSE)*(($AUE8+$AUF8+$AUM8+$AUN8+$AUO8)*$AYU8+($AUR8+$AUS8+$AUZ8+$AVA8+$AVB8)*$AYZ8)","v":235429.05225555177},{"$f":"(HLOOKUP(DLM$6,$AMY$6:$ANM$8,3,FALSE)*(($AUE8+$AUF8)*$AYU8+($AUR8+$AUS8)*$AYZ8)+(DLM6-$DLL$6+1)*HLOOKUP(DLM$6,$AMY$6:$ANM$8,3,FALSE)*(($AUM8+$AUN8+$AUO8)*$AYU8+($AUZ8+$AVA8+$AVB8))*$AYZ8)/(1+$BAI$5)^(DLM6-$DLL$6)","v":230533.58106546823},{"$f":"(HLOOKUP(DLN$6,$AMY$6:$ANM$8,3,FALSE)*(($AUE8+$AUF8)*$AYU8+($AUR8+$AUS8)*$AYZ8)+(DLN6-$DLL$6+1)*HLOOKUP(DLN$6,$AMY$6:$ANM$8,3,FALSE)*(($AUM8+$AUN8+$AUO8)*$AYU8+($AUZ8+$AVA8+$AVB8))*$AYZ8)/(1+$BAI$5)^(DLN6-$DLL$6)","v":231705.26327337604},232242.60481507613,232203.36221159535,231641.22977711936,230606.09552866692,229144.28193476747,227298.7723667527,225109.42406840195,0,0,0,{"$f":"(HLOOKUP(DLY$6,$AMY$6:$ANM$8,3,FALSE)*(($AUE8+$AUF8)*$AYU8+($AUR8+$AUS8)*$AYZ8)+(DLY6-$DLL$6+1)*HLOOKUP(DLY$6,$AMY$6:$ANM$8,3,FALSE)*(($AUM8+$AUN8+$AUO8)*$AYU8+($AUZ8+$AVA8+$AVB8))*$AYZ8)/(1+$BAI$5)^(DLY6-$DLL$6)","v":0},0,{"$f":"SUM(DLL8:DLP8)","v":1162113.8636210675},{"$f":"SUM(DLQ8:DLU8)","v":1143799.8036757084},{"$f":"SUM(DLV8:DLZ8)","v":0},{"$f":"SUM(DLL8:DLZ8)","v":2305913.6672967756},{"$f":"ANR8*(($AVE8+$AVF8)*$AZE8+($AVR8+$AVS8)*$AZJ8)","v":780202.89473600453},{"$f":"VLOOKUP($A$8,SOURCE!$A$7:$IMC$146,COLUMN(),FALSE)","v":0},{"$f":"HLOOKUP(DMG$6,$ANR$6:$AOF$8,3,FALSE)*(($AVE8+$AVF8+$AVM8+$AVN8+$AVO8)*$AZE8+($AVR8+$AVS8+$AVZ8+$AWA8+$AWB8)*$AZJ8)","v":825581.79014469776},{"$f":"(HLOOKUP(DMH$6,$ANR$6:$AOF$8,3,FALSE)*(($AVE8+$AVF8)*$AZE8+($AVR8+$AVS8)*$AZJ8)+(DMH6-$DMG$6+1)*HLOOKUP(DMH$6,$ANR$6:$AOF$8,3,FALSE)*(($AVM8+$AVN8+$AVO8)*$AZE8+($AWA8+$AWB8)*$AZJ8))/(1+$BAI$5)^(DMH6-$DMG$6)","v":783589.59511431144},{"$f":"(HLOOKUP(DMI$6,$ANR$6:$AOF$8,3,FALSE)*(($AVE8+$AVF8)*$AZE8+($AVR8+$AVS8)*$AZJ8)+(DMI6-$DMG$6+1)*HLOOKUP(DMI$6,$ANR$6:$AOF$8,3,FALSE)*(($AVM8+$AVN8+$AVO8)*$AZE8+($AWA8+$AWB8)*$AZJ8))/(1+$BAI$5)^(DMI6-$DMG$6)","v":765580.19495422975},747509.1286073206,729423.1066858446,711364.53100494586,693371.79902452789,675479.5890671768,657719.12745264731,640118.43862438307,0,0,0,0,0,{"$f":"SUM(DMG8:DMK8)","v":3851683.8155064043},{"$f":"SUM(DML8:DMP8)","v":3378053.4851736808},{"$f":"SUM(DMQ8:DMU8)","v":0},{"$f":"SUM(DMG8:DMU8)","v":7229737.3006800851},{"$f":"DLJ8+DME8","v":995473.56957443536},{"$f":"VLOOKUP($A$8,SOURCE!$A$7:$IMC$146,COLUMN(),FALSE)","v":0},{"$f":"DLL8+DMG8","v":1061010.8424002496},1014123.1761797797,997285.45822760579,979751.7334223967,961626.46889744001,943005.76078206522,923977.89455319475,904623.8710019443,885017.89981940005,865227.86269278498,0,0,0,0,0,{"$f":"SUM(DNB8:DNF8)","v":5013797.6791274715},{"$f":"SUM(DNG8:DNK8)","v":4521853.2888493892},{"$f":"SUM(DNL8:DNP8)","v":0},{"$f":"SUM(DNB8:DNP8)","v":9535650.9679768588},{"$f":"BBA8","v":63524.706589539994},{"$f":"BBB8","v":66745.524042802906},{"$f":"BBC8","v":0},{"$f":"BBD8","v":130270.23063234291},{"$f":"DNX8/(AP8-'HOJA DE VERIFICACIÓN DE DATOS'!E6)","v":13027.02306323429},{"$f":"BBV8","v":63524.706589539994},{"$f":"BBW8","v":66745.524042802906},{"$f":"BBX8","v":0},{"$f":"BBY8","v":130270.23063234291},{"$f":"DOC8/(AP8-'HOJA DE VERIFICACIÓN DE DATOS'!E6)","v":13027.02306323429},{"$f":"BCQ8","v":63524.706589539994},{"$f":"BCR8","v":66745.524042802906},{"$f":"BCS8","v":0},{"$f":"BCT8","v":130270.23063234291},{"$f":"DOH8/(AP8-'HOJA DE VERIFICACIÓN DE DATOS'!E6)","v":13027.02306323429},{"$f":"BDL8","v":63524.706589539994},{"$f":"BDM8","v":66745.524042802906},{"$f":"BDN8","v":0},{"$f":"BDO8","v":130270.23063234291},{"$f":"DOM8/(AP8-'HOJA DE VERIFICACIÓN DE DATOS'!E6)","v":13027.02306323429},{"$f":"BEG8","v":63524.706589539994},{"$f":"BEH8","v":66745.524042802906},{"$f":"BEI8","v":0},{"$f":"BEJ8","v":130270.23063234291},{"$f":"DOR8/(AP8-'HOJA DE VERIFICACIÓN DE DATOS'!E6)","v":13027.02306323429},{"$f":"BFB8","v":317623.53294770001},{"$f":"BFC8","v":333727.62021401455},{"$f":"BFD8","v":0},{"$f":"BFE8","v":651351.15316171455},{"$f":"DOW8/(AP8-'HOJA DE VERIFICACIÓN DE DATOS'!E6)","v":65135.115316171454},{"$f":"BFW8","v":81813.728746156179},{"$f":"BFX8","v":90187.49612726894},{"$f":"BFY8","v":0},{"$f":"BFZ8","v":172001.22487342515},{"$f":"DPB8/(AX8-'HOJA DE VERIFICACIÓN DE DATOS'!E6)","v":17200.122487342516},{"$f":"BGR8","v":81813.728746156179},{"$f":"BGS8","v":90187.49612726894},{"$f":"BGT8","v":0},{"$f":"BGU8","v":172001.22487342515},{"$f":"DPG8/(AX8-'HOJA DE VERIFICACIÓN DE DATOS'!E6)","v":17200.122487342516},{"$f":"BHM8","v":81813.728746156179},{"$f":"BHN8","v":90187.49612726894},{"$f":"BHO8","v":0},{"$f":"BHP8","v":172001.22487342515},{"$f":"DPL8/(AX8-'HOJA DE VERIFICACIÓN DE DATOS'!E6)","v":17200.122487342516},{"$f":"BIH8","v":81813.728746156179},{"$f":"BII8","v":90187.49612726894},{"$f":"BIJ8","v":18329.578090109535},{"$f":"BIK8","v":190330.80296353469},{"$f":"DPQ8/(AX8-'HOJA DE VERIFICACIÓN DE DATOS'!E6)","v":19033.08029635347},{"$f":"BJC8","v":81813.728746156179},{"$f":"BJD8","v":90187.49612726894},{"$f":"BJE8","v":0},{"$f":"BJF8","v":172001.22487342515},{"$f":"DPV8/(AX8-'HOJA DE VERIFICACIÓN DE DATOS'!E6)","v":17200.122487342516},{"$f":"BJX8","v":409068.64373078092},{"$f":"BJY8","v":450937.48063634482},{"$f":"BJZ8","v":18329.578090109535},{"$f":"BKA8","v":878335.70245723531},{"$f":"DQA8/(AX8-'HOJA DE VERIFICACIÓN DE DATOS'!E6)","v":87833.570245723531},{"$f":"DNU8+DOY8","v":145338.43533569618},156933.02017007186,0,302271.45550576807,30227.145550576806,145338.43533569618,156933.02017007186,0,302271.45550576807,30227.145550576806,145338.43533569618,156933.02017007186,0,302271.45550576807,30227.145550576806,145338.43533569618,156933.02017007186,18329.578090109535,320601.03359587758,32060.10335958776,145338.43533569618,156933.02017007186,0,302271.45550576807,30227.145550576806,726692.17667848093,784665.1008503593,18329.578090109535,1529686.85561895,152968.68556189499,{"$f":"BUK8","v":856370.53866134211},{"$f":"BUL8","v":928880.21184431994},{"$f":"BUM8","v":0},{"$f":"BUN8","v":1785250.7505056621},{"$f":"DRJ8/(BV8-'HOJA DE VERIFICACIÓN DE DATOS'!E6)","v":178525.0750505662},{"$f":"BVF8","v":856370.53866134211},{"$f":"BVG8","v":928880.21184431994},{"$f":"BVH8","v":0},{"$f":"BVI8","v":1785250.7505056621},{"$f":"DRO8/(BV8-'HOJA DE VERIFICACIÓN DE DATOS'!E6)","v":178525.0750505662},{"$f":"BWA8","v":856370.53866134211},{"$f":"BWB8","v":928880.21184431994},{"$f":"BWC8","v":0},{"$f":"BWD8","v":1785250.7505056621},{"$f":"DRT8/(BV8-'HOJA DE VERIFICACIÓN DE DATOS'!E6)","v":178525.0750505662},{"$f":"BWV8","v":856370.53866134211},{"$f":"BWW8","v":928880.21184431994},{"$f":"BWX8","v":0},{"$f":"BWY8","v":1785250.7505056621},{"$f":"DRY8/(BV8-'HOJA DE VERIFICACIÓN DE DATOS'!E6)","v":178525.0750505662},{"$f":"BXQ8","v":856370.53866134211},{"$f":"BXR8","v":928880.21184431994},{"$f":"BXS8","v":0},{"$f":"BXT8","v":1785250.7505056621},{"$f":"DSD8/(BV8-'HOJA DE VERIFICACIÓN DE DATOS'!E6)","v":178525.0750505662},{"$f":"BYL8","v":4281852.6933067106},{"$f":"BYM8","v":4644401.0592215993},{"$f":"BYN8","v":0},{"$f":"BYO8","v":8926253.7525283098},{"$f":"DSI8/(BV8-'HOJA DE VERIFICACIÓN DE DATOS'!E6)","v":892625.37525283103},{"$f":"BZG8","v":157566.47157146293},{"$f":"BZH8","v":178607.55195947952},{"$f":"BZI8","v":0},{"$f":"BZJ8","v":336174.02353094245},{"$f":"DSN8/(CD8-'HOJA DE VERIFICACIÓN DE DATOS'!E6)","v":33617.402353094243},{"$f":"CAB8","v":157566.47157146293},{"$f":"CAC8","v":178607.55195947952},{"$f":"CAD8","v":0},{"$f":"CAE8","v":336174.02353094245},{"$f":"DSS8/(CD8-'HOJA DE VERIFICACIÓN DE DATOS'!E6)","v":33617.402353094243},{"$f":"CAW8","v":157566.47157146293},{"$f":"CAX8","v":178607.55195947952},{"$f":"CAY8","v":0},{"$f":"CAZ8","v":336174.02353094245},{"$f":"DSX8/(CD8-'HOJA DE VERIFICACIÓN DE DATOS'!E6)","v":33617.402353094243},{"$f":"CBR8","v":157566.47157146293},{"$f":"CBS8","v":178607.55195947952},{"$f":"CBT8","v":0},{"$f":"CBU8","v":336174.02353094245},{"$f":"DTC8/(CD8-'HOJA DE VERIFICACIÓN DE DATOS'!E6)","v":33617.402353094243},{"$f":"CCM8","v":157566.47157146293},{"$f":"CCN8","v":178607.55195947952},{"$f":"CCO8","v":0},{"$f":"CCP8","v":336174.02353094245},{"$f":"DTH8/(CD8-'HOJA DE VERIFICACIÓN DE DATOS'!E6)","v":33617.402353094243},{"$f":"CDH8","v":787832.35785731464},{"$f":"CDI8","v":893037.75979739754},{"$f":"CDJ8","v":0},{"$f":"CDK8","v":1680870.1176547122},{"$f":"DTM8/(CD8-'HOJA DE VERIFICACIÓN DE DATOS'!E6)","v":168087.01176547122},{"$f":"DRG8+DSK8","v":1013937.010232805},1107487.7638037994,0,2121424.7740366044,212142.47740366045,1013937.010232805,1107487.7638037994,0,2121424.7740366044,212142.47740366045,1013937.010232805,1107487.7638037994,0,2121424.7740366044,212142.47740366045,1013937.010232805,1107487.7638037994,0,2121424.7740366044,212142.47740366045,1013937.010232805,1107487.7638037994,0,2121424.7740366044,212142.47740366045,5069685.0511640254,5537438.8190189973,0,10607123.870183023,1060712.3870183022,{"$f":"CIY8","v":55792.189056667921},{"$f":"CIZ8","v":60377.83334826307},{"$f":"CJA8","v":33691.184569446392},{"$f":"CJB8","v":149861.20697437739},{"$f":"DUV8/(DF8-'HOJA DE VERIFICACIÓN DE DATOS'!E6)","v":14986.120697437738},{"$f":"CJT8","v":55792.189056667921},{"$f":"CJU8","v":60377.83334826307},{"$f":"CJV8","v":33691.184569446392},{"$f":"CJW8","v":149861.20697437739},{"$f":"DVA8/(DF8-'HOJA DE VERIFICACIÓN DE DATOS'!E6)","v":14986.120697437738},{"$f":"CKO8","v":55792.189056667921},{"$f":"CKP8","v":60377.83334826307},{"$f":"CKQ8","v":33691.184569446392},{"$f":"CKR8","v":149861.20697437739},{"$f":"DVF8/(DF8-'HOJA DE VERIFICACIÓN DE DATOS'!E6)","v":14986.120697437738},{"$f":"CLJ8","v":55792.189056667921},{"$f":"CLK8","v":60377.83334826307},{"$f":"CLL8","v":33691.184569446392},{"$f":"CLM8","v":149861.20697437739},{"$f":"DVK8/(DF8-'HOJA DE VERIFICACIÓN DE DATOS'!E6)","v":14986.120697437738},{"$f":"CME8","v":55792.189056667921},{"$f":"CMF8","v":60377.83334826307},{"$f":"CMG8","v":33691.184569446392},{"$f":"CMH8","v":149861.20697437739},{"$f":"DVP8/(DF8-'HOJA DE VERIFICACIÓN DE DATOS'!E6)","v":14986.120697437738},{"$f":"CMZ8","v":278960.94528333959},{"$f":"CNA8","v":301889.16674131539},{"$f":"CNB8","v":168455.92284723197},{"$f":"CNC8","v":749306.03487188695},{"$f":"DVU8/(DF8-'HOJA DE VERIFICACIÓN DE DATOS'!E6)","v":74930.603487188695},{"$f":"CNU8","v":49337.296548219267},{"$f":"CNV8","v":60751.686880992143},{"$f":"CNW8","v":0},{"$f":"CNX8","v":110088.98342921141},{"$f":"DVZ8/(DN8-'HOJA DE VERIFICACIÓN DE DATOS'!E6)","v":11008.89834292114},{"$f":"COP8","v":49337.296548219267},{"$f":"COQ8","v":60751.686880992143},{"$f":"COR8","v":0},{"$f":"COS8","v":110088.98342921141},{"$f":"DWE8/(DN8-'HOJA DE VERIFICACIÓN DE DATOS'!E6)","v":11008.89834292114},{"$f":"CPK8","v":49337.296548219267},{"$f":"CPL8","v":60751.686880992143},{"$f":"CPM8","v":0},{"$f":"CPN8","v":110088.98342921141},{"$f":"DWJ8/(DN8-'HOJA DE VERIFICACIÓN DE DATOS'!E6)","v":11008.89834292114},{"$f":"CQF8","v":49337.296548219267},{"$f":"CQG8","v":60751.686880992143},{"$f":"CQH8","v":0},{"$f":"CQI8","v":110088.98342921141},{"$f":"DWO8/(DN8-'HOJA DE VERIFICACIÓN DE DATOS'!E6)","v":11008.89834292114},{"$f":"CRA8","v":49337.296548219267},{"$f":"CRB8","v":60751.686880992143},{"$f":"CRC8","v":0},{"$f":"CRD8","v":110088.98342921141},{"$f":"DWT8/(DN8-'HOJA DE VERIFICACIÓN DE DATOS'!E6)","v":11008.89834292114},{"$f":"CRV8","v":246686.48274109635},{"$f":"CRW8","v":303758.43440496072},{"$f":"CRX8","v":0},{"$f":"CRY8","v":550444.91714605701},{"$f":"DWY8/(DN8-'HOJA DE VERIFICACIÓN DE DATOS'!E6)","v":55044.491714605698},{"$f":"DUS8+DVW8","v":105129.48560488719},121129.52022925521,33691.184569446392,259950.19040358881,25995.019040358879,105129.48560488719,121129.52022925521,33691.184569446392,259950.19040358881,25995.019040358879,105129.48560488719,121129.52022925521,33691.184569446392,259950.19040358881,25995.019040358879,105129.48560488719,121129.52022925521,33691.184569446392,259950.19040358881,25995.019040358879,105129.48560488719,121129.52022925521,33691.184569446392,259950.19040358881,25995.019040358879,525647.42802443588,605647.60114627611,168455.92284723197,1299750.9520179438,129975.09520179439,{"$f":"BBA8+BUK8+CIY8","v":975687.43430755008},{"$f":"BBB8+BUL8+CIZ8","v":1056003.5692353859},{"$f":"BBC8+BUM8+CJA8","v":33691.184569446392},{"$f":"BBD8+BUN8+CJB8","v":2065382.1881123823},{"$f":"DNY8+DRK8+DUW8","v":206538.21881123821},{"$f":"BBV8+BVF8+CJT8","v":975687.43430755008},{"$f":"BBW8+BVG8+CJU8","v":1056003.5692353859},{"$f":"BBX8+BVH8+CJV8","v":33691.184569446392},{"$f":"BBY8+BVI8+CJW8","v":2065382.1881123823},{"$f":"DOD8+DRP8+DVB8","v":206538.21881123821},{"$f":"BCQ8+BWA8+CKO8","v":975687.43430755008},{"$f":"BCR8+BWB8+CKP8","v":1056003.5692353859},{"$f":"BCS8+BWC8+CKQ8","v":33691.184569446392},{"$f":"BCT8+BWD8+CKR8","v":2065382.1881123823},{"$f":"DOI8+DRU8+DVG8","v":206538.21881123821},{"$f":"BDL8+BWV8+CLJ8","v":975687.43430755008},{"$f":"BDM8+BWW8+CLK8","v":1056003.5692353859},{"$f":"BDN8+BWX8+CLL8","v":33691.184569446392},{"$f":"BDO8+BWY8+CLM8","v":2065382.1881123823},{"$f":"DON8+DRZ8+DVL8","v":206538.21881123821},{"$f":"BEG8+BXQ8+CME8","v":975687.43430755008},{"$f":"BEH8+BXR8+CMF8","v":1056003.5692353859},{"$f":"BEI8+BXS8+CMG8","v":33691.184569446392},{"$f":"BEJ8+BXT8+CMH8","v":2065382.1881123823},{"$f":"DOS8+DSE8+DVQ8","v":206538.21881123821},{"$f":"BFB8+BYL8+CMZ8","v":4878437.1715377504},{"$f":"BFC8+BYM8+CNA8","v":5280017.8461769288},{"$f":"BFD8+BYN8+CNB8","v":168455.92284723197},{"$f":"BFE8+BYO8+CNC8","v":10326910.940561911},{"$f":"DOX8+DSJ8+DVV8","v":1032691.0940561912},{"$f":"BFW8+BZG8+CNU8","v":288717.49686583836},{"$f":"BFX8+BZH8+CNV8","v":329546.7349677406},{"$f":"BFY8+BZI8+CNW8","v":0},{"$f":"BFZ8+BZJ8+CNX8","v":618264.23183357902},{"$f":"DWA8+DSO8+DPC8","v":61826.423183357903},{"$f":"BGR8+CAB8+COP8","v":288717.49686583836},{"$f":"BGS8+CAC8+COQ8","v":329546.7349677406},{"$f":"BGT8+CAD8+COR8","v":0},{"$f":"BGU8+CAE8+COS8","v":618264.23183357902},{"$f":"DWF8+DST8+DPH8","v":61826.423183357903},{"$f":"BHM8+CAW8+CPK8","v":288717.49686583836},{"$f":"BHN8+CAX8+CPL8","v":329546.7349677406},{"$f":"BHO8+CAY8+CPM8","v":0},{"$f":"BHP8+CAZ8+CPN8","v":618264.23183357902},{"$f":"DWK8+DSY8+DPM8","v":61826.423183357903},{"$f":"BIH8+CBR8+CQF8","v":288717.49686583836},{"$f":"BII8+CBS8+CQG8","v":329546.7349677406},{"$f":"BIJ8+CBT8+CQH8","v":18329.578090109535},{"$f":"BIK8+CBU8+CQI8","v":636593.80992368853},{"$f":"DWP8+DTD8+DPR8","v":63659.380992368853},{"$f":"BJC8+CCM8+CRA8","v":288717.49686583836},{"$f":"BJD8+CCN8+CRB8","v":329546.7349677406},{"$f":"BJE8+CCO8+CRC8","v":0},{"$f":"BJF8+CCP8+CRD8","v":618264.23183357902},{"$f":"DWU8+DTI8+DPW8","v":61826.423183357903},{"$f":"BJX8+CDH8+CRV8","v":1443587.4843291917},{"$f":"BJY8+CDI8+CRW8","v":1647733.6748387031},{"$f":"BJZ8+CDJ8+CRX8","v":18329.578090109535},{"$f":"BKA8+CDK8+CRY8","v":3109650.7372580045},{"$f":"DWZ8+DTN8+DQB8","v":310965.07372580044},{"$f":"DYE8+DZI8","v":1264404.9311733884},1385550.3042031266,33691.184569446392,2683646.4199459613,268364.64199459611,1264404.9311733884,1385550.3042031266,33691.184569446392,2683646.4199459613,268364.64199459611,1264404.9311733884,1385550.3042031266,33691.184569446392,2683646.4199459613,268364.64199459611,1264404.9311733884,1385550.3042031266,52020.762659555927,2701975.9980360707,270197.5998036071,1264404.9311733884,1385550.3042031266,33691.184569446392,2683646.4199459613,268364.64199459611,6322024.6558669424,6927751.521015632,186785.50093734151,13436561.677819915,1343656.1677819917,{"$f":"VLOOKUP($A$8,SOURCE!$A$7:$IMC$146,COLUMN(),FALSE)","v":0},{"$f":"VLOOKUP($A$8,SOURCE!$A$7:$IMC$146,COLUMN(),FALSE)","v":0},{"$f":"VLOOKUP($A$8,SOURCE!$A$7:$IMC$146,COLUMN(),FALSE)","v":0},{"$f":"VLOOKUP($A$8,SOURCE!$A$7:$IMC$146,COLUMN(),FALSE)","v":0},{"$f":"EBT8/15","v":0},{"$f":"VLOOKUP($A$8,SOURCE!$A$7:$IMC$146,COLUMN(),FALSE)","v":0},{"$f":"VLOOKUP($A$8,SOURCE!$A$7:$IMC$146,COLUMN(),FALSE)","v":0},{"$f":"VLOOKUP($A$8,SOURCE!$A$7:$IMC$146,COLUMN(),FALSE)","v":0},{"$f":"VLOOKUP($A$8,SOURCE!$A$7:$IMC$146,COLUMN(),FALSE)","v":0},{"$f":"EBY8/15","v":0},{"$f":"VLOOKUP($A$8,SOURCE!$A$7:$IMC$146,COLUMN(),FALSE)","v":0},{"$f":"VLOOKUP($A$8,SOURCE!$A$7:$IMC$146,COLUMN(),FALSE)","v":0},{"$f":"VLOOKUP($A$8,SOURCE!$A$7:$IMC$146,COLUMN(),FALSE)","v":0},{"$f":"VLOOKUP($A$8,SOURCE!$A$7:$IMC$146,COLUMN(),FALSE)","v":0},{"$f":"ECD8/15","v":0},{"$f":"VLOOKUP($A$8,SOURCE!$A$7:$IMC$146,COLUMN(),FALSE)","v":0},{"$f":"VLOOKUP($A$8,SOURCE!$A$7:$IMC$146,COLUMN(),FALSE)","v":0},{"$f":"VLOOKUP($A$8,SOURCE!$A$7:$IMC$146,COLUMN(),FALSE)","v":0},{"$f":"VLOOKUP($A$8,SOURCE!$A$7:$IMC$146,COLUMN(),FALSE)","v":0},{"$f":"ECI8/15","v":0},{"$f":"VLOOKUP($A$8,SOURCE!$A$7:$IMC$146,COLUMN(),FALSE)","v":0},{"$f":"VLOOKUP($A$8,SOURCE!$A$7:$IMC$146,COLUMN(),FALSE)","v":0},{"$f":"VLOOKUP($A$8,SOURCE!$A$7:$IMC$146,COLUMN(),FALSE)","v":0},{"$f":"VLOOKUP($A$8,SOURCE!$A$7:$IMC$146,COLUMN(),FALSE)","v":0},{"$f":"ECN8/15","v":0},{"$f":"VLOOKUP($A$8,SOURCE!$A$7:$IMC$146,COLUMN(),FALSE)","v":0},{"$f":"VLOOKUP($A$8,SOURCE!$A$7:$IMC$146,COLUMN(),FALSE)","v":0},{"$f":"VLOOKUP($A$8,SOURCE!$A$7:$IMC$146,COLUMN(),FALSE)","v":0},{"$f":"VLOOKUP($A$8,SOURCE!$A$7:$IMC$146,COLUMN(),FALSE)","v":0},{"$f":"ECS8/15","v":0},{"$f":"VLOOKUP($A$8,SOURCE!$A$7:$IMC$146,COLUMN(),FALSE)","v":0},{"$f":"VLOOKUP($A$8,SOURCE!$A$7:$IMC$146,COLUMN(),FALSE)","v":0},{"$f":"VLOOKUP($A$8,SOURCE!$A$7:$IMC$146,COLUMN(),FALSE)","v":0},{"$f":"VLOOKUP($A$8,SOURCE!$A$7:$IMC$146,COLUMN(),FALSE)","v":0},{"$f":"ECX8/15","v":0},{"$f":"VLOOKUP($A$8,SOURCE!$A$7:$IMC$146,COLUMN(),FALSE)","v":0},{"$f":"VLOOKUP($A$8,SOURCE!$A$7:$IMC$146,COLUMN(),FALSE)","v":0},{"$f":"VLOOKUP($A$8,SOURCE!$A$7:$IMC$146,COLUMN(),FALSE)","v":0},{"$f":"VLOOKUP($A$8,SOURCE!$A$7:$IMC$146,COLUMN(),FALSE)","v":0},{"$f":"EDC8/15","v":0},{"$f":"VLOOKUP($A$8,SOURCE!$A$7:$IMC$146,COLUMN(),FALSE)","v":0},{"$f":"VLOOKUP($A$8,SOURCE!$A$7:$IMC$146,COLUMN(),FALSE)","v":0},{"$f":"VLOOKUP($A$8,SOURCE!$A$7:$IMC$146,COLUMN(),FALSE)","v":0},{"$f":"VLOOKUP($A$8,SOURCE!$A$7:$IMC$146,COLUMN(),FALSE)","v":0},{"$f":"EDH8/15","v":0},{"$f":"VLOOKUP($A$8,SOURCE!$A$7:$IMC$146,COLUMN(),FALSE)","v":0},{"$f":"VLOOKUP($A$8,SOURCE!$A$7:$IMC$146,COLUMN(),FALSE)","v":0},{"$f":"VLOOKUP($A$8,SOURCE!$A$7:$IMC$146,COLUMN(),FALSE)","v":0},{"$f":"VLOOKUP($A$8,SOURCE!$A$7:$IMC$146,COLUMN(),FALSE)","v":0},{"$f":"EDM8/15","v":0},{"$f":"VLOOKUP($A$8,SOURCE!$A$7:$IMC$146,COLUMN(),FALSE)","v":0},{"$f":"VLOOKUP($A$8,SOURCE!$A$7:$IMC$146,COLUMN(),FALSE)","v":0},{"$f":"VLOOKUP($A$8,SOURCE!$A$7:$IMC$146,COLUMN(),FALSE)","v":0},{"$f":"VLOOKUP($A$8,SOURCE!$A$7:$IMC$146,COLUMN(),FALSE)","v":0},{"$f":"EDR8/15","v":0},{"$f":"VLOOKUP($A$8,SOURCE!$A$7:$IMC$146,COLUMN(),FALSE)","v":0},{"$f":"VLOOKUP($A$8,SOURCE!$A$7:$IMC$146,COLUMN(),FALSE)","v":0},{"$f":"VLOOKUP($A$8,SOURCE!$A$7:$IMC$146,COLUMN(),FALSE)","v":0},{"$f":"VLOOKUP($A$8,SOURCE!$A$7:$IMC$146,COLUMN(),FALSE)","v":0},{"$f":"EDW8/15","v":0},{"$f":"VLOOKUP($A$8,SOURCE!$A$7:$IMC$146,COLUMN(),FALSE)","v":0},{"$f":"VLOOKUP($A$8,SOURCE!$A$7:$IMC$146,COLUMN(),FALSE)","v":0},{"$f":"VLOOKUP($A$8,SOURCE!$A$7:$IMC$146,COLUMN(),FALSE)","v":0},{"$f":"VLOOKUP($A$8,SOURCE!$A$7:$IMC$146,COLUMN(),FALSE)","v":0},{"$f":"EEB8/15","v":0},{"$f":"VLOOKUP($A$8,SOURCE!$A$7:$IMC$146,COLUMN(),FALSE)","v":0},{"$f":"VLOOKUP($A$8,SOURCE!$A$7:$IMC$146,COLUMN(),FALSE)","v":0},{"$f":"VLOOKUP($A$8,SOURCE!$A$7:$IMC$146,COLUMN(),FALSE)","v":0},{"$f":"VLOOKUP($A$8,SOURCE!$A$7:$IMC$146,COLUMN(),FALSE)","v":0},{"$f":"EEG8/15","v":0},{"$f":"VLOOKUP($A$8,SOURCE!$A$7:$IMC$146,COLUMN(),FALSE)","v":0},{"$f":"VLOOKUP($A$8,SOURCE!$A$7:$IMC$146,COLUMN(),FALSE)","v":0},{"$f":"VLOOKUP($A$8,SOURCE!$A$7:$IMC$146,COLUMN(),FALSE)","v":0},{"$f":"VLOOKUP($A$8,SOURCE!$A$7:$IMC$146,COLUMN(),FALSE)","v":0},{"$f":"EEL8/15","v":0},{"$f":"VLOOKUP($A$8,SOURCE!$A$7:$IMC$146,COLUMN(),FALSE)","v":0},{"$f":"VLOOKUP($A$8,SOURCE!$A$7:$IMC$146,COLUMN(),FALSE)","v":0},{"$f":"VLOOKUP($A$8,SOURCE!$A$7:$IMC$146,COLUMN(),FALSE)","v":0},{"$f":"VLOOKUP($A$8,SOURCE!$A$7:$IMC$146,COLUMN(),FALSE)","v":0},{"$f":"EEQ8/15","v":0},{"$f":"VLOOKUP($A$8,SOURCE!$A$7:$IMC$146,COLUMN(),FALSE)","v":0},{"$f":"VLOOKUP($A$8,SOURCE!$A$7:$IMC$146,COLUMN(),FALSE)","v":0},{"$f":"VLOOKUP($A$8,SOURCE!$A$7:$IMC$146,COLUMN(),FALSE)","v":0},{"$f":"VLOOKUP($A$8,SOURCE!$A$7:$IMC$146,COLUMN(),FALSE)","v":0},{"$f":"EEV8/15","v":0},{"$f":"VLOOKUP($A$8,SOURCE!$A$7:$IMC$146,COLUMN(),FALSE)","v":0},{"$f":"VLOOKUP($A$8,SOURCE!$A$7:$IMC$146,COLUMN(),FALSE)","v":0},{"$f":"VLOOKUP($A$8,SOURCE!$A$7:$IMC$146,COLUMN(),FALSE)","v":0},{"$f":"VLOOKUP($A$8,SOURCE!$A$7:$IMC$146,COLUMN(),FALSE)","v":0},{"$f":"EFA8/15","v":0},{"$f":"VLOOKUP($A$8,SOURCE!$A$7:$IMC$146,COLUMN(),FALSE)","v":0},{"$f":"VLOOKUP($A$8,SOURCE!$A$7:$IMC$146,COLUMN(),FALSE)","v":0},{"$f":"VLOOKUP($A$8,SOURCE!$A$7:$IMC$146,COLUMN(),FALSE)","v":0},{"$f":"VLOOKUP($A$8,SOURCE!$A$7:$IMC$146,COLUMN(),FALSE)","v":0},{"$f":"EFF8/15","v":0},{"$f":"VLOOKUP($A$8,SOURCE!$A$7:$IMC$146,COLUMN(),FALSE)","v":0},{"$f":"VLOOKUP($A$8,SOURCE!$A$7:$IMC$146,COLUMN(),FALSE)","v":0},{"$f":"VLOOKUP($A$8,SOURCE!$A$7:$IMC$146,COLUMN(),FALSE)","v":0},{"$f":"VLOOKUP($A$8,SOURCE!$A$7:$IMC$146,COLUMN(),FALSE)","v":0},{"$f":"EFK8/15","v":0},{"$f":"VLOOKUP($A$8,SOURCE!$A$7:$IMC$146,COLUMN(),FALSE)","v":0},{"$f":"VLOOKUP($A$8,SOURCE!$A$7:$IMC$146,COLUMN(),FALSE)","v":0},{"$f":"VLOOKUP($A$8,SOURCE!$A$7:$IMC$146,COLUMN(),FALSE)","v":0},{"$f":"VLOOKUP($A$8,SOURCE!$A$7:$IMC$146,COLUMN(),FALSE)","v":0},{"$f":"EFP8/15","v":0},{"$f":"VLOOKUP($A$8,SOURCE!$A$7:$IMC$146,COLUMN(),FALSE)","v":0},{"$f":"VLOOKUP($A$8,SOURCE!$A$7:$IMC$146,COLUMN(),FALSE)","v":0},{"$f":"VLOOKUP($A$8,SOURCE!$A$7:$IMC$146,COLUMN(),FALSE)","v":0},{"$f":"VLOOKUP($A$8,SOURCE!$A$7:$IMC$146,COLUMN(),FALSE)","v":0},{"$f":"EFU8/15","v":0},{"$f":"VLOOKUP($A$8,SOURCE!$A$7:$IMC$146,COLUMN(),FALSE)","v":0},{"$f":"VLOOKUP($A$8,SOURCE!$A$7:$IMC$146,COLUMN(),FALSE)","v":0},{"$f":"VLOOKUP($A$8,SOURCE!$A$7:$IMC$146,COLUMN(),FALSE)","v":0},{"$f":"VLOOKUP($A$8,SOURCE!$A$7:$IMC$146,COLUMN(),FALSE)","v":0},{"$f":"EFZ8/15","v":0},{"$f":"VLOOKUP($A$8,SOURCE!$A$7:$IMC$146,COLUMN(),FALSE)","v":0},{"$f":"VLOOKUP($A$8,SOURCE!$A$7:$IMC$146,COLUMN(),FALSE)","v":0},{"$f":"VLOOKUP($A$8,SOURCE!$A$7:$IMC$146,COLUMN(),FALSE)","v":0},{"$f":"VLOOKUP($A$8,SOURCE!$A$7:$IMC$146,COLUMN(),FALSE)","v":0},{"$f":"EGE8/15","v":0},{"$f":"VLOOKUP($A$8,SOURCE!$A$7:$IMC$146,COLUMN(),FALSE)","v":0},{"$f":"VLOOKUP($A$8,SOURCE!$A$7:$IMC$146,COLUMN(),FALSE)","v":0},{"$f":"VLOOKUP($A$8,SOURCE!$A$7:$IMC$146,COLUMN(),FALSE)","v":0},{"$f":"VLOOKUP($A$8,SOURCE!$A$7:$IMC$146,COLUMN(),FALSE)","v":0},{"$f":"EGJ8/15","v":0},{"$f":"VLOOKUP($A$8,SOURCE!$A$7:$IMC$146,COLUMN(),FALSE)","v":0},{"$f":"VLOOKUP($A$8,SOURCE!$A$7:$IMC$146,COLUMN(),FALSE)","v":0},{"$f":"VLOOKUP($A$8,SOURCE!$A$7:$IMC$146,COLUMN(),FALSE)","v":0},{"$f":"VLOOKUP($A$8,SOURCE!$A$7:$IMC$146,COLUMN(),FALSE)","v":0},{"$f":"EGO8/15","v":0},{"$f":"VLOOKUP($A$8,SOURCE!$A$7:$IMC$146,COLUMN(),FALSE)","v":0},{"$f":"VLOOKUP($A$8,SOURCE!$A$7:$IMC$146,COLUMN(),FALSE)","v":0},{"$f":"VLOOKUP($A$8,SOURCE!$A$7:$IMC$146,COLUMN(),FALSE)","v":0},{"$f":"VLOOKUP($A$8,SOURCE!$A$7:$IMC$146,COLUMN(),FALSE)","v":0},{"$f":"EGT8/15","v":0},{"$f":"VLOOKUP($A$8,SOURCE!$A$7:$IMC$146,COLUMN(),FALSE)","v":0},{"$f":"VLOOKUP($A$8,SOURCE!$A$7:$IMC$146,COLUMN(),FALSE)","v":0},{"$f":"VLOOKUP($A$8,SOURCE!$A$7:$IMC$146,COLUMN(),FALSE)","v":0},{"$f":"VLOOKUP($A$8,SOURCE!$A$7:$IMC$146,COLUMN(),FALSE)","v":0},{"$f":"EGY8/15","v":0},{"$f":"VLOOKUP($A$8,SOURCE!$A$7:$IMC$146,COLUMN(),FALSE)","v":0},{"$f":"VLOOKUP($A$8,SOURCE!$A$7:$IMC$146,COLUMN(),FALSE)","v":0},{"$f":"VLOOKUP($A$8,SOURCE!$A$7:$IMC$146,COLUMN(),FALSE)","v":0},{"$f":"VLOOKUP($A$8,SOURCE!$A$7:$IMC$146,COLUMN(),FALSE)","v":0},{"$f":"EHD8/15","v":0},{"$f":"VLOOKUP($A$8,SOURCE!$A$7:$IMC$146,COLUMN(),FALSE)","v":0},{"$f":"VLOOKUP($A$8,SOURCE!$A$7:$IMC$146,COLUMN(),FALSE)","v":0},{"$f":"VLOOKUP($A$8,SOURCE!$A$7:$IMC$146,COLUMN(),FALSE)","v":0},{"$f":"VLOOKUP($A$8,SOURCE!$A$7:$IMC$146,COLUMN(),FALSE)","v":0},{"$f":"EHI8/15","v":0},{"$f":"VLOOKUP($A$8,SOURCE!$A$7:$IMC$146,COLUMN(),FALSE)","v":0},{"$f":"VLOOKUP($A$8,SOURCE!$A$7:$IMC$146,COLUMN(),FALSE)","v":0},{"$f":"VLOOKUP($A$8,SOURCE!$A$7:$IMC$146,COLUMN(),FALSE)","v":0},{"$f":"VLOOKUP($A$8,SOURCE!$A$7:$IMC$146,COLUMN(),FALSE)","v":0},{"$f":"EHN8/15","v":0},{"$f":"VLOOKUP($A$8,SOURCE!$A$7:$IMC$146,COLUMN(),FALSE)","v":0},{"$f":"VLOOKUP($A$8,SOURCE!$A$7:$IMC$146,COLUMN(),FALSE)","v":0},{"$f":"VLOOKUP($A$8,SOURCE!$A$7:$IMC$146,COLUMN(),FALSE)","v":0},{"$f":"VLOOKUP($A$8,SOURCE!$A$7:$IMC$146,COLUMN(),FALSE)","v":0},{"$f":"EHS8/15","v":0},{"$f":"VLOOKUP($A$8,SOURCE!$A$7:$IMC$146,COLUMN(),FALSE)","v":0},{"$f":"VLOOKUP($A$8,SOURCE!$A$7:$IMC$146,COLUMN(),FALSE)","v":0},{"$f":"VLOOKUP($A$8,SOURCE!$A$7:$IMC$146,COLUMN(),FALSE)","v":0},{"$f":"VLOOKUP($A$8,SOURCE!$A$7:$IMC$146,COLUMN(),FALSE)","v":0},{"$f":"EHX8/15","v":0},{"$f":"VLOOKUP($A$8,SOURCE!$A$7:$IMC$146,COLUMN(),FALSE)","v":0},{"$f":"VLOOKUP($A$8,SOURCE!$A$7:$IMC$146,COLUMN(),FALSE)","v":0},{"$f":"VLOOKUP($A$8,SOURCE!$A$7:$IMC$146,COLUMN(),FALSE)","v":0},{"$f":"VLOOKUP($A$8,SOURCE!$A$7:$IMC$146,COLUMN(),FALSE)","v":0},{"$f":"EIC8/15","v":0},{"$f":"VLOOKUP($A$8,SOURCE!$A$7:$IMC$146,COLUMN(),FALSE)","v":0},{"$f":"VLOOKUP($A$8,SOURCE!$A$7:$IMC$146,COLUMN(),FALSE)","v":0},{"$f":"VLOOKUP($A$8,SOURCE!$A$7:$IMC$146,COLUMN(),FALSE)","v":0},{"$f":"VLOOKUP($A$8,SOURCE!$A$7:$IMC$146,COLUMN(),FALSE)","v":0},{"$f":"EIH8/15","v":0},{"$f":"VLOOKUP($A$8,SOURCE!$A$7:$IMC$146,COLUMN(),FALSE)","v":0},{"$f":"VLOOKUP($A$8,SOURCE!$A$7:$IMC$146,COLUMN(),FALSE)","v":0},{"$f":"VLOOKUP($A$8,SOURCE!$A$7:$IMC$146,COLUMN(),FALSE)","v":0},{"$f":"VLOOKUP($A$8,SOURCE!$A$7:$IMC$146,COLUMN(),FALSE)","v":0},{"$f":"EIM8/15","v":0},{"$f":"VLOOKUP($A$8,SOURCE!$A$7:$IMC$146,COLUMN(),FALSE)","v":0},{"$f":"VLOOKUP($A$8,SOURCE!$A$7:$IMC$146,COLUMN(),FALSE)","v":0},{"$f":"VLOOKUP($A$8,SOURCE!$A$7:$IMC$146,COLUMN(),FALSE)","v":0},{"$f":"VLOOKUP($A$8,SOURCE!$A$7:$IMC$146,COLUMN(),FALSE)","v":0},{"$f":"EIR8/15","v":0},{"$f":"VLOOKUP($A$8,SOURCE!$A$7:$IMC$146,COLUMN(),FALSE)","v":0},{"$f":"VLOOKUP($A$8,SOURCE!$A$7:$IMC$146,COLUMN(),FALSE)","v":0},{"$f":"VLOOKUP($A$8,SOURCE!$A$7:$IMC$146,COLUMN(),FALSE)","v":0},{"$f":"VLOOKUP($A$8,SOURCE!$A$7:$IMC$146,COLUMN(),FALSE)","v":0},{"$f":"EIW8/15","v":0},{"$f":"VLOOKUP($A$8,SOURCE!$A$7:$IMC$146,COLUMN(),FALSE)","v":0},{"$f":"VLOOKUP($A$8,SOURCE!$A$7:$IMC$146,COLUMN(),FALSE)","v":0},{"$f":"VLOOKUP($A$8,SOURCE!$A$7:$IMC$146,COLUMN(),FALSE)","v":0},{"$f":"VLOOKUP($A$8,SOURCE!$A$7:$IMC$146,COLUMN(),FALSE)","v":0},{"$f":"EJB8/15","v":0},{"$f":"VLOOKUP($A$8,SOURCE!$A$7:$IMC$146,COLUMN(),FALSE)","v":0},{"$f":"VLOOKUP($A$8,SOURCE!$A$7:$IMC$146,COLUMN(),FALSE)","v":0},{"$f":"VLOOKUP($A$8,SOURCE!$A$7:$IMC$146,COLUMN(),FALSE)","v":0},{"$f":"VLOOKUP($A$8,SOURCE!$A$7:$IMC$146,COLUMN(),FALSE)","v":0},{"$f":"EJG8/15","v":0},{"$f":"VLOOKUP($A$8,SOURCE!$A$7:$IMC$146,COLUMN(),FALSE)","v":0},{"$f":"VLOOKUP($A$8,SOURCE!$A$7:$IMC$146,COLUMN(),FALSE)","v":0},{"$f":"VLOOKUP($A$8,SOURCE!$A$7:$IMC$146,COLUMN(),FALSE)","v":0},{"$f":"VLOOKUP($A$8,SOURCE!$A$7:$IMC$146,COLUMN(),FALSE)","v":0},{"$f":"EJL8/15","v":0},{"$f":"VLOOKUP($A$8,SOURCE!$A$7:$IMC$146,COLUMN(),FALSE)","v":0},{"$f":"VLOOKUP($A$8,SOURCE!$A$7:$IMC$146,COLUMN(),FALSE)","v":0},{"$f":"VLOOKUP($A$8,SOURCE!$A$7:$IMC$146,COLUMN(),FALSE)","v":0},{"$f":"VLOOKUP($A$8,SOURCE!$A$7:$IMC$146,COLUMN(),FALSE)","v":0},{"$f":"EJQ8/15","v":0},{"$f":"VLOOKUP($A$8,SOURCE!$A$7:$IMC$146,COLUMN(),FALSE)","v":0},{"$f":"VLOOKUP($A$8,SOURCE!$A$7:$IMC$146,COLUMN(),FALSE)","v":0},{"$f":"VLOOKUP($A$8,SOURCE!$A$7:$IMC$146,COLUMN(),FALSE)","v":0},{"$f":"VLOOKUP($A$8,SOURCE!$A$7:$IMC$146,COLUMN(),FALSE)","v":0},{"$f":"EJV8/15","v":0},{"$f":"VLOOKUP($A$8,SOURCE!$A$7:$IMC$146,COLUMN(),FALSE)","v":0},{"$f":"VLOOKUP($A$8,SOURCE!$A$7:$IMC$146,COLUMN(),FALSE)","v":0},{"$f":"VLOOKUP($A$8,SOURCE!$A$7:$IMC$146,COLUMN(),FALSE)","v":0},{"$f":"VLOOKUP($A$8,SOURCE!$A$7:$IMC$146,COLUMN(),FALSE)","v":0},{"$f":"EKA8/15","v":0},{"$f":"VLOOKUP($A$8,SOURCE!$A$7:$IMC$146,COLUMN(),FALSE)","v":0},{"$f":"VLOOKUP($A$8,SOURCE!$A$7:$IMC$146,COLUMN(),FALSE)","v":0},{"$f":"VLOOKUP($A$8,SOURCE!$A$7:$IMC$146,COLUMN(),FALSE)","v":0},{"$f":"VLOOKUP($A$8,SOURCE!$A$7:$IMC$146,COLUMN(),FALSE)","v":0},{"$f":"EKF8/15","v":0},{"$f":"VLOOKUP($A$8,SOURCE!$A$7:$IMC$146,COLUMN(),FALSE)","v":0},{"$f":"VLOOKUP($A$8,SOURCE!$A$7:$IMC$146,COLUMN(),FALSE)","v":0},{"$f":"VLOOKUP($A$8,SOURCE!$A$7:$IMC$146,COLUMN(),FALSE)","v":0},{"$f":"VLOOKUP($A$8,SOURCE!$A$7:$IMC$146,COLUMN(),FALSE)","v":0},{"$f":"EKK8/15","v":0},{"$f":"VLOOKUP($A$8,SOURCE!$A$7:$IMC$146,COLUMN(),FALSE)","v":0},{"$f":"VLOOKUP($A$8,SOURCE!$A$7:$IMC$146,COLUMN(),FALSE)","v":0},{"$f":"VLOOKUP($A$8,SOURCE!$A$7:$IMC$146,COLUMN(),FALSE)","v":0},{"$f":"VLOOKUP($A$8,SOURCE!$A$7:$IMC$146,COLUMN(),FALSE)","v":0},{"$f":"EKP8/15","v":0},{"$f":"VLOOKUP($A$8,SOURCE!$A$7:$IMC$146,COLUMN(),FALSE)","v":0},{"$f":"VLOOKUP($A$8,SOURCE!$A$7:$IMC$146,COLUMN(),FALSE)","v":0},{"$f":"VLOOKUP($A$8,SOURCE!$A$7:$IMC$146,COLUMN(),FALSE)","v":0},{"$f":"VLOOKUP($A$8,SOURCE!$A$7:$IMC$146,COLUMN(),FALSE)","v":0},{"$f":"EKU8/15","v":0},{"$f":"VLOOKUP($A$8,SOURCE!$A$7:$IMC$146,COLUMN(),FALSE)","v":0},{"$f":"VLOOKUP($A$8,SOURCE!$A$7:$IMC$146,COLUMN(),FALSE)","v":0},{"$f":"VLOOKUP($A$8,SOURCE!$A$7:$IMC$146,COLUMN(),FALSE)","v":0},{"$f":"VLOOKUP($A$8,SOURCE!$A$7:$IMC$146,COLUMN(),FALSE)","v":0},{"$f":"EKZ8/15","v":0},{"$f":"VLOOKUP($A$8,SOURCE!$A$7:$IMC$146,COLUMN(),FALSE)","v":0},{"$f":"VLOOKUP($A$8,SOURCE!$A$7:$IMC$146,COLUMN(),FALSE)","v":0},{"$f":"VLOOKUP($A$8,SOURCE!$A$7:$IMC$146,COLUMN(),FALSE)","v":0},{"$f":"VLOOKUP($A$8,SOURCE!$A$7:$IMC$146,COLUMN(),FALSE)","v":0},{"$f":"ELE8/15","v":0},{"$f":"VLOOKUP($A$8,SOURCE!$A$7:$IMC$146,COLUMN(),FALSE)","v":0},{"$f":"VLOOKUP($A$8,SOURCE!$A$7:$IMC$146,COLUMN(),FALSE)","v":0},{"$f":"VLOOKUP($A$8,SOURCE!$A$7:$IMC$146,COLUMN(),FALSE)","v":0},{"$f":"VLOOKUP($A$8,SOURCE!$A$7:$IMC$146,COLUMN(),FALSE)","v":0},{"$f":"ELJ8/15","v":0},{"$f":"VLOOKUP($A$8,SOURCE!$A$7:$IMC$146,COLUMN(),FALSE)","v":0},{"$f":"VLOOKUP($A$8,SOURCE!$A$7:$IMC$146,COLUMN(),FALSE)","v":0},{"$f":"VLOOKUP($A$8,SOURCE!$A$7:$IMC$146,COLUMN(),FALSE)","v":0},{"$f":"VLOOKUP($A$8,SOURCE!$A$7:$IMC$146,COLUMN(),FALSE)","v":0},{"$f":"ELO8/15","v":0},{"$f":"VLOOKUP($A$8,SOURCE!$A$7:$IMC$146,COLUMN(),FALSE)","v":0},{"$f":"VLOOKUP($A$8,SOURCE!$A$7:$IMC$146,COLUMN(),FALSE)","v":0},{"$f":"VLOOKUP($A$8,SOURCE!$A$7:$IMC$146,COLUMN(),FALSE)","v":0},{"$f":"VLOOKUP($A$8,SOURCE!$A$7:$IMC$146,COLUMN(),FALSE)","v":0},{"$f":"ELT8/15","v":0},{"$f":"VLOOKUP($A$8,SOURCE!$A$7:$IMC$146,COLUMN(),FALSE)","v":0},{"$f":"VLOOKUP($A$8,SOURCE!$A$7:$IMC$146,COLUMN(),FALSE)","v":0},{"$f":"VLOOKUP($A$8,SOURCE!$A$7:$IMC$146,COLUMN(),FALSE)","v":0},{"$f":"VLOOKUP($A$8,SOURCE!$A$7:$IMC$146,COLUMN(),FALSE)","v":0},{"$f":"ELY8/15","v":0},{"$f":"VLOOKUP($A$8,SOURCE!$A$7:$IMC$146,COLUMN(),FALSE)","v":0},{"$f":"VLOOKUP($A$8,SOURCE!$A$7:$IMC$146,COLUMN(),FALSE)","v":0},{"$f":"VLOOKUP($A$8,SOURCE!$A$7:$IMC$146,COLUMN(),FALSE)","v":0},{"$f":"VLOOKUP($A$8,SOURCE!$A$7:$IMC$146,COLUMN(),FALSE)","v":0},{"$f":"EMD8/15","v":0},{"$f":"VLOOKUP($A$8,SOURCE!$A$7:$IMC$146,COLUMN(),FALSE)","v":0},{"$f":"VLOOKUP($A$8,SOURCE!$A$7:$IMC$146,COLUMN(),FALSE)","v":0},{"$f":"VLOOKUP($A$8,SOURCE!$A$7:$IMC$146,COLUMN(),FALSE)","v":0},{"$f":"VLOOKUP($A$8,SOURCE!$A$7:$IMC$146,COLUMN(),FALSE)","v":0},{"$f":"EMI8/15","v":0},{"$f":"VLOOKUP($A$8,SOURCE!$A$7:$IMC$146,COLUMN(),FALSE)","v":0},{"$f":"VLOOKUP($A$8,SOURCE!$A$7:$IMC$146,COLUMN(),FALSE)","v":0},{"$f":"VLOOKUP($A$8,SOURCE!$A$7:$IMC$146,COLUMN(),FALSE)","v":0},{"$f":"VLOOKUP($A$8,SOURCE!$A$7:$IMC$146,COLUMN(),FALSE)","v":0},{"$f":"EMN8/15","v":0},{"$f":"VLOOKUP($A$8,SOURCE!$A$7:$IMC$146,COLUMN(),FALSE)","v":0},{"$f":"VLOOKUP($A$8,SOURCE!$A$7:$IMC$146,COLUMN(),FALSE)","v":0},{"$f":"VLOOKUP($A$8,SOURCE!$A$7:$IMC$146,COLUMN(),FALSE)","v":0},{"$f":"VLOOKUP($A$8,SOURCE!$A$7:$IMC$146,COLUMN(),FALSE)","v":0},{"$f":"EMS8/15","v":0},{"$f":"VLOOKUP($A$8,SOURCE!$A$7:$IMC$146,COLUMN(),FALSE)","v":0},{"$f":"VLOOKUP($A$8,SOURCE!$A$7:$IMC$146,COLUMN(),FALSE)","v":0},{"$f":"VLOOKUP($A$8,SOURCE!$A$7:$IMC$146,COLUMN(),FALSE)","v":0},{"$f":"VLOOKUP($A$8,SOURCE!$A$7:$IMC$146,COLUMN(),FALSE)","v":0},{"$f":"EMX8/15","v":0},{"$f":"VLOOKUP($A$8,SOURCE!$A$7:$IMC$146,COLUMN(),FALSE)","v":0},{"$f":"VLOOKUP($A$8,SOURCE!$A$7:$IMC$146,COLUMN(),FALSE)","v":0},{"$f":"VLOOKUP($A$8,SOURCE!$A$7:$IMC$146,COLUMN(),FALSE)","v":0},{"$f":"VLOOKUP($A$8,SOURCE!$A$7:$IMC$146,COLUMN(),FALSE)","v":0},{"$f":"ENC8/15","v":0},{"$f":"VLOOKUP($A$8,SOURCE!$A$7:$IMC$146,COLUMN(),FALSE)","v":0},{"$f":"VLOOKUP($A$8,SOURCE!$A$7:$IMC$146,COLUMN(),FALSE)","v":0},{"$f":"VLOOKUP($A$8,SOURCE!$A$7:$IMC$146,COLUMN(),FALSE)","v":0},{"$f":"VLOOKUP($A$8,SOURCE!$A$7:$IMC$146,COLUMN(),FALSE)","v":0},{"$f":"ENH8/15","v":0},{"$f":"VLOOKUP($A$8,SOURCE!$A$7:$IMC$146,COLUMN(),FALSE)","v":0},{"$f":"VLOOKUP($A$8,SOURCE!$A$7:$IMC$146,COLUMN(),FALSE)","v":0},{"$f":"VLOOKUP($A$8,SOURCE!$A$7:$IMC$146,COLUMN(),FALSE)","v":0},{"$f":"VLOOKUP($A$8,SOURCE!$A$7:$IMC$146,COLUMN(),FALSE)","v":0},{"$f":"ENM8/15","v":0},{"$f":"VLOOKUP($A$8,SOURCE!$A$7:$IMC$146,COLUMN(),FALSE)","v":0},{"$f":"VLOOKUP($A$8,SOURCE!$A$7:$IMC$146,COLUMN(),FALSE)","v":0},{"$f":"VLOOKUP($A$8,SOURCE!$A$7:$IMC$146,COLUMN(),FALSE)","v":0},{"$f":"VLOOKUP($A$8,SOURCE!$A$7:$IMC$146,COLUMN(),FALSE)","v":0},{"$f":"ENR8/15","v":0},{"$f":"VLOOKUP($A$8,SOURCE!$A$7:$IMC$146,COLUMN(),FALSE)","v":0},{"$f":"VLOOKUP($A$8,SOURCE!$A$7:$IMC$146,COLUMN(),FALSE)","v":0},{"$f":"VLOOKUP($A$8,SOURCE!$A$7:$IMC$146,COLUMN(),FALSE)","v":0},{"$f":"VLOOKUP($A$8,SOURCE!$A$7:$IMC$146,COLUMN(),FALSE)","v":0},{"$f":"ENW8/15","v":0},{"$f":"VLOOKUP($A$8,SOURCE!$A$7:$IMC$146,COLUMN(),FALSE)","v":0},{"$f":"VLOOKUP($A$8,SOURCE!$A$7:$IMC$146,COLUMN(),FALSE)","v":0},{"$f":"VLOOKUP($A$8,SOURCE!$A$7:$IMC$146,COLUMN(),FALSE)","v":0},{"$f":"VLOOKUP($A$8,SOURCE!$A$7:$IMC$146,COLUMN(),FALSE)","v":0},{"$f":"EOB8/15","v":0},{"$f":"VLOOKUP($A$8,SOURCE!$A$7:$IMC$146,COLUMN(),FALSE)","v":0},{"$f":"VLOOKUP($A$8,SOURCE!$A$7:$IMC$146,COLUMN(),FALSE)","v":0},{"$f":"VLOOKUP($A$8,SOURCE!$A$7:$IMC$146,COLUMN(),FALSE)","v":0},{"$f":"VLOOKUP($A$8,SOURCE!$A$7:$IMC$146,COLUMN(),FALSE)","v":0},{"$f":"EOG8/15","v":0},{"$f":"VLOOKUP($A$8,SOURCE!$A$7:$IMC$146,COLUMN(),FALSE)","v":0},{"$f":"VLOOKUP($A$8,SOURCE!$A$7:$IMC$146,COLUMN(),FALSE)","v":0},{"$f":"VLOOKUP($A$8,SOURCE!$A$7:$IMC$146,COLUMN(),FALSE)","v":0},{"$f":"VLOOKUP($A$8,SOURCE!$A$7:$IMC$146,COLUMN(),FALSE)","v":0},{"$f":"EOL8/15","v":0},{"$f":"VLOOKUP($A$8,SOURCE!$A$7:$IMC$146,COLUMN(),FALSE)","v":0},{"$f":"VLOOKUP($A$8,SOURCE!$A$7:$IMC$146,COLUMN(),FALSE)","v":0},{"$f":"VLOOKUP($A$8,SOURCE!$A$7:$IMC$146,COLUMN(),FALSE)","v":0},{"$f":"VLOOKUP($A$8,SOURCE!$A$7:$IMC$146,COLUMN(),FALSE)","v":0},{"$f":"EOQ8/15","v":0},{"$f":"VLOOKUP($A$8,SOURCE!$A$7:$IMC$146,COLUMN(),FALSE)","v":0},{"$f":"VLOOKUP($A$8,SOURCE!$A$7:$IMC$146,COLUMN(),FALSE)","v":0},{"$f":"VLOOKUP($A$8,SOURCE!$A$7:$IMC$146,COLUMN(),FALSE)","v":0},{"$f":"VLOOKUP($A$8,SOURCE!$A$7:$IMC$146,COLUMN(),FALSE)","v":0},{"$f":"EOV8/15","v":0},{"$f":"VLOOKUP($A$8,SOURCE!$A$7:$IMC$146,COLUMN(),FALSE)","v":0},{"$f":"VLOOKUP($A$8,SOURCE!$A$7:$IMC$146,COLUMN(),FALSE)","v":0},{"$f":"VLOOKUP($A$8,SOURCE!$A$7:$IMC$146,COLUMN(),FALSE)","v":0},{"$f":"VLOOKUP($A$8,SOURCE!$A$7:$IMC$146,COLUMN(),FALSE)","v":0},{"$f":"EPA8/15","v":0},{"$f":"VLOOKUP($A$8,SOURCE!$A$7:$IMC$146,COLUMN(),FALSE)","v":0},{"$f":"VLOOKUP($A$8,SOURCE!$A$7:$IMC$146,COLUMN(),FALSE)","v":0},{"$f":"VLOOKUP($A$8,SOURCE!$A$7:$IMC$146,COLUMN(),FALSE)","v":0},{"$f":"VLOOKUP($A$8,SOURCE!$A$7:$IMC$146,COLUMN(),FALSE)","v":0},{"$f":"EPF8/15","v":0},{"$f":"VLOOKUP($A$8,SOURCE!$A$7:$IMC$146,COLUMN(),FALSE)","v":0},{"$f":"VLOOKUP($A$8,SOURCE!$A$7:$IMC$146,COLUMN(),FALSE)","v":0},{"$f":"VLOOKUP($A$8,SOURCE!$A$7:$IMC$146,COLUMN(),FALSE)","v":0},{"$f":"VLOOKUP($A$8,SOURCE!$A$7:$IMC$146,COLUMN(),FALSE)","v":0},{"$f":"EPK8/15","v":0},{"$f":"VLOOKUP($A$8,SOURCE!$A$7:$IMC$146,COLUMN(),FALSE)","v":0},{"$f":"VLOOKUP($A$8,SOURCE!$A$7:$IMC$146,COLUMN(),FALSE)","v":0},{"$f":"VLOOKUP($A$8,SOURCE!$A$7:$IMC$146,COLUMN(),FALSE)","v":0},{"$f":"VLOOKUP($A$8,SOURCE!$A$7:$IMC$146,COLUMN(),FALSE)","v":0},{"$f":"EPP8/15","v":0},{"$f":"VLOOKUP($A$8,SOURCE!$A$7:$IMC$146,COLUMN(),FALSE)","v":0},{"$f":"VLOOKUP($A$8,SOURCE!$A$7:$IMC$146,COLUMN(),FALSE)","v":0},{"$f":"VLOOKUP($A$8,SOURCE!$A$7:$IMC$146,COLUMN(),FALSE)","v":0},{"$f":"VLOOKUP($A$8,SOURCE!$A$7:$IMC$146,COLUMN(),FALSE)","v":0},{"$f":"EPU8/15","v":0},{"$f":"VLOOKUP($A$8,SOURCE!$A$7:$IMC$146,COLUMN(),FALSE)","v":0},{"$f":"VLOOKUP($A$8,SOURCE!$A$7:$IMC$146,COLUMN(),FALSE)","v":0},{"$f":"VLOOKUP($A$8,SOURCE!$A$7:$IMC$146,COLUMN(),FALSE)","v":0},{"$f":"VLOOKUP($A$8,SOURCE!$A$7:$IMC$146,COLUMN(),FALSE)","v":0},{"$f":"EPZ8/15","v":0},{"$f":"VLOOKUP($A$8,SOURCE!$A$7:$IMC$146,COLUMN(),FALSE)","v":0},{"$f":"VLOOKUP($A$8,SOURCE!$A$7:$IMC$146,COLUMN(),FALSE)","v":0},{"$f":"VLOOKUP($A$8,SOURCE!$A$7:$IMC$146,COLUMN(),FALSE)","v":0},{"$f":"VLOOKUP($A$8,SOURCE!$A$7:$IMC$146,COLUMN(),FALSE)","v":0},{"$f":"EQE8/15","v":0},{"$f":"VLOOKUP($A$8,SOURCE!$A$7:$IMC$146,COLUMN(),FALSE)","v":0},{"$f":"VLOOKUP($A$8,SOURCE!$A$7:$IMC$146,COLUMN(),FALSE)","v":0},{"$f":"VLOOKUP($A$8,SOURCE!$A$7:$IMC$146,COLUMN(),FALSE)","v":0},{"$f":"VLOOKUP($A$8,SOURCE!$A$7:$IMC$146,COLUMN(),FALSE)","v":0},{"$f":"EQJ8/15","v":0},{"$f":"VLOOKUP($A$8,SOURCE!$A$7:$IMC$146,COLUMN(),FALSE)","v":0},{"$f":"VLOOKUP($A$8,SOURCE!$A$7:$IMC$146,COLUMN(),FALSE)","v":0},{"$f":"VLOOKUP($A$8,SOURCE!$A$7:$IMC$146,COLUMN(),FALSE)","v":0},{"$f":"VLOOKUP($A$8,SOURCE!$A$7:$IMC$146,COLUMN(),FALSE)","v":0},{"$f":"EQO8/15","v":0},{"$f":"VLOOKUP($A$8,SOURCE!$A$7:$IMC$146,COLUMN(),FALSE)","v":0},{"$f":"VLOOKUP($A$8,SOURCE!$A$7:$IMC$146,COLUMN(),FALSE)","v":0},{"$f":"VLOOKUP($A$8,SOURCE!$A$7:$IMC$146,COLUMN(),FALSE)","v":0},{"$f":"VLOOKUP($A$8,SOURCE!$A$7:$IMC$146,COLUMN(),FALSE)","v":0},{"$f":"EQT8/15","v":0},{"$f":"VLOOKUP($A$8,SOURCE!$A$7:$IMC$146,COLUMN(),FALSE)","v":0},{"$f":"VLOOKUP($A$8,SOURCE!$A$7:$IMC$146,COLUMN(),FALSE)","v":0},{"$f":"VLOOKUP($A$8,SOURCE!$A$7:$IMC$146,COLUMN(),FALSE)","v":0},{"$f":"VLOOKUP($A$8,SOURCE!$A$7:$IMC$146,COLUMN(),FALSE)","v":0},{"$f":"EQY8/15","v":0},{"$f":"VLOOKUP($A$8,SOURCE!$A$7:$IMC$146,COLUMN(),FALSE)","v":0},{"$f":"VLOOKUP($A$8,SOURCE!$A$7:$IMC$146,COLUMN(),FALSE)","v":0},{"$f":"VLOOKUP($A$8,SOURCE!$A$7:$IMC$146,COLUMN(),FALSE)","v":0},{"$f":"VLOOKUP($A$8,SOURCE!$A$7:$IMC$146,COLUMN(),FALSE)","v":0},{"$f":"ERD8/15","v":0},{"$f":"VLOOKUP($A$8,SOURCE!$A$7:$IMC$146,COLUMN(),FALSE)","v":0},{"$f":"VLOOKUP($A$8,SOURCE!$A$7:$IMC$146,COLUMN(),FALSE)","v":0},{"$f":"VLOOKUP($A$8,SOURCE!$A$7:$IMC$146,COLUMN(),FALSE)","v":0},{"$f":"VLOOKUP($A$8,SOURCE!$A$7:$IMC$146,COLUMN(),FALSE)","v":0},{"$f":"ERI8/15","v":0},{"$f":"VLOOKUP($A$8,SOURCE!$A$7:$IMC$146,COLUMN(),FALSE)","v":0},{"$f":"VLOOKUP($A$8,SOURCE!$A$7:$IMC$146,COLUMN(),FALSE)","v":0},{"$f":"VLOOKUP($A$8,SOURCE!$A$7:$IMC$146,COLUMN(),FALSE)","v":0},{"$f":"VLOOKUP($A$8,SOURCE!$A$7:$IMC$146,COLUMN(),FALSE)","v":0},{"$f":"ERN8/15","v":0},{"$f":"VLOOKUP($A$8,SOURCE!$A$7:$IMC$146,COLUMN(),FALSE)","v":0},{"$f":"VLOOKUP($A$8,SOURCE!$A$7:$IMC$146,COLUMN(),FALSE)","v":0},{"$f":"VLOOKUP($A$8,SOURCE!$A$7:$IMC$146,COLUMN(),FALSE)","v":0},{"$f":"VLOOKUP($A$8,SOURCE!$A$7:$IMC$146,COLUMN(),FALSE)","v":0},{"$f":"ERS8/15","v":0},{"$f":"VLOOKUP($A$8,SOURCE!$A$7:$IMC$146,COLUMN(),FALSE)","v":0},{"$f":"VLOOKUP($A$8,SOURCE!$A$7:$IMC$146,COLUMN(),FALSE)","v":0},{"$f":"VLOOKUP($A$8,SOURCE!$A$7:$IMC$146,COLUMN(),FALSE)","v":0},{"$f":"VLOOKUP($A$8,SOURCE!$A$7:$IMC$146,COLUMN(),FALSE)","v":0},{"$f":"ERX8/15","v":0},{"$f":"VLOOKUP($A$8,SOURCE!$A$7:$IMC$146,COLUMN(),FALSE)","v":0},{"$f":"VLOOKUP($A$8,SOURCE!$A$7:$IMC$146,COLUMN(),FALSE)","v":0},{"$f":"VLOOKUP($A$8,SOURCE!$A$7:$IMC$146,COLUMN(),FALSE)","v":0},{"$f":"VLOOKUP($A$8,SOURCE!$A$7:$IMC$146,COLUMN(),FALSE)","v":0},{"$f":"ESC8/15","v":0},{"$f":"VLOOKUP($A$8,SOURCE!$A$7:$IMC$146,COLUMN(),FALSE)","v":0},{"$f":"VLOOKUP($A$8,SOURCE!$A$7:$IMC$146,COLUMN(),FALSE)","v":0},{"$f":"VLOOKUP($A$8,SOURCE!$A$7:$IMC$146,COLUMN(),FALSE)","v":0},{"$f":"VLOOKUP($A$8,SOURCE!$A$7:$IMC$146,COLUMN(),FALSE)","v":0},{"$f":"ESH8/15","v":0},{"$f":"VLOOKUP($A$8,SOURCE!$A$7:$IMC$146,COLUMN(),FALSE)","v":0},{"$f":"VLOOKUP($A$8,SOURCE!$A$7:$IMC$146,COLUMN(),FALSE)","v":0},{"$f":"VLOOKUP($A$8,SOURCE!$A$7:$IMC$146,COLUMN(),FALSE)","v":0},{"$f":"VLOOKUP($A$8,SOURCE!$A$7:$IMC$146,COLUMN(),FALSE)","v":0},{"$f":"ESM8/15","v":0},{"$f":"VLOOKUP($A$8,SOURCE!$A$7:$IMC$146,COLUMN(),FALSE)","v":0},{"$f":"VLOOKUP($A$8,SOURCE!$A$7:$IMC$146,COLUMN(),FALSE)","v":0},{"$f":"VLOOKUP($A$8,SOURCE!$A$7:$IMC$146,COLUMN(),FALSE)","v":0},{"$f":"VLOOKUP($A$8,SOURCE!$A$7:$IMC$146,COLUMN(),FALSE)","v":0},{"$f":"ESR8/15","v":0},{"$f":"VLOOKUP($A$8,SOURCE!$A$7:$IMC$146,COLUMN(),FALSE)","v":0},{"$f":"VLOOKUP($A$8,SOURCE!$A$7:$IMC$146,COLUMN(),FALSE)","v":0},{"$f":"VLOOKUP($A$8,SOURCE!$A$7:$IMC$146,COLUMN(),FALSE)","v":0},{"$f":"VLOOKUP($A$8,SOURCE!$A$7:$IMC$146,COLUMN(),FALSE)","v":0},{"$f":"ESW8/15","v":0},{"$f":"VLOOKUP($A$8,SOURCE!$A$7:$IMC$146,COLUMN(),FALSE)","v":0},{"$f":"VLOOKUP($A$8,SOURCE!$A$7:$IMC$146,COLUMN(),FALSE)","v":0},{"$f":"VLOOKUP($A$8,SOURCE!$A$7:$IMC$146,COLUMN(),FALSE)","v":0},{"$f":"VLOOKUP($A$8,SOURCE!$A$7:$IMC$146,COLUMN(),FALSE)","v":0},{"$f":"ETB8/15","v":0},{"$f":"VLOOKUP($A$8,SOURCE!$A$7:$IMC$146,COLUMN(),FALSE)","v":0},{"$f":"VLOOKUP($A$8,SOURCE!$A$7:$IMC$146,COLUMN(),FALSE)","v":0},{"$f":"VLOOKUP($A$8,SOURCE!$A$7:$IMC$146,COLUMN(),FALSE)","v":0},{"$f":"VLOOKUP($A$8,SOURCE!$A$7:$IMC$146,COLUMN(),FALSE)","v":0},{"$f":"ETG8/15","v":0},{"$f":"VLOOKUP($A$8,SOURCE!$A$7:$IMC$146,COLUMN(),FALSE)","v":0},{"$f":"VLOOKUP($A$8,SOURCE!$A$7:$IMC$146,COLUMN(),FALSE)","v":0},{"$f":"VLOOKUP($A$8,SOURCE!$A$7:$IMC$146,COLUMN(),FALSE)","v":0},{"$f":"VLOOKUP($A$8,SOURCE!$A$7:$IMC$146,COLUMN(),FALSE)","v":0},{"$f":"ETL8/15","v":0},{"$f":"VLOOKUP($A$8,SOURCE!$A$7:$IMC$146,COLUMN(),FALSE)","v":0},{"$f":"VLOOKUP($A$8,SOURCE!$A$7:$IMC$146,COLUMN(),FALSE)","v":0},{"$f":"VLOOKUP($A$8,SOURCE!$A$7:$IMC$146,COLUMN(),FALSE)","v":0},{"$f":"VLOOKUP($A$8,SOURCE!$A$7:$IMC$146,COLUMN(),FALSE)","v":0},{"$f":"ETQ8/15","v":0},{"$f":"VLOOKUP($A$8,SOURCE!$A$7:$IMC$146,COLUMN(),FALSE)","v":0},{"$f":"VLOOKUP($A$8,SOURCE!$A$7:$IMC$146,COLUMN(),FALSE)","v":0},{"$f":"VLOOKUP($A$8,SOURCE!$A$7:$IMC$146,COLUMN(),FALSE)","v":0},{"$f":"VLOOKUP($A$8,SOURCE!$A$7:$IMC$146,COLUMN(),FALSE)","v":0},{"$f":"ETV8/15","v":0},{"$f":"VLOOKUP($A$8,SOURCE!$A$7:$IMC$146,COLUMN(),FALSE)","v":0},{"$f":"VLOOKUP($A$8,SOURCE!$A$7:$IMC$146,COLUMN(),FALSE)","v":0},{"$f":"VLOOKUP($A$8,SOURCE!$A$7:$IMC$146,COLUMN(),FALSE)","v":0},{"$f":"VLOOKUP($A$8,SOURCE!$A$7:$IMC$146,COLUMN(),FALSE)","v":0},{"$f":"EUA8/15","v":0},{"$f":"VLOOKUP($A$8,SOURCE!$A$7:$IMC$146,COLUMN(),FALSE)","v":0},{"$f":"VLOOKUP($A$8,SOURCE!$A$7:$IMC$146,COLUMN(),FALSE)","v":0},{"$f":"VLOOKUP($A$8,SOURCE!$A$7:$IMC$146,COLUMN(),FALSE)","v":0},{"$f":"VLOOKUP($A$8,SOURCE!$A$7:$IMC$146,COLUMN(),FALSE)","v":0},{"$f":"EUF8/15","v":0},{"$f":"VLOOKUP($A$8,SOURCE!$A$7:$IMC$146,COLUMN(),FALSE)","v":0},{"$f":"VLOOKUP($A$8,SOURCE!$A$7:$IMC$146,COLUMN(),FALSE)","v":0},{"$f":"VLOOKUP($A$8,SOURCE!$A$7:$IMC$146,COLUMN(),FALSE)","v":0},{"$f":"VLOOKUP($A$8,SOURCE!$A$7:$IMC$146,COLUMN(),FALSE)","v":0},{"$f":"EUK8/15","v":0},{"$f":"VLOOKUP($A$8,SOURCE!$A$7:$IMC$146,COLUMN(),FALSE)","v":0},{"$f":"VLOOKUP($A$8,SOURCE!$A$7:$IMC$146,COLUMN(),FALSE)","v":0},{"$f":"VLOOKUP($A$8,SOURCE!$A$7:$IMC$146,COLUMN(),FALSE)","v":0},{"$f":"VLOOKUP($A$8,SOURCE!$A$7:$IMC$146,COLUMN(),FALSE)","v":0},{"$f":"EUP8/15","v":0},{"$f":"VLOOKUP($A$8,SOURCE!$A$7:$IMC$146,COLUMN(),FALSE)","v":0},{"$f":"VLOOKUP($A$8,SOURCE!$A$7:$IMC$146,COLUMN(),FALSE)","v":0},{"$f":"VLOOKUP($A$8,SOURCE!$A$7:$IMC$146,COLUMN(),FALSE)","v":0},{"$f":"VLOOKUP($A$8,SOURCE!$A$7:$IMC$146,COLUMN(),FALSE)","v":0},{"$f":"EUU8/15","v":0},{"$f":"VLOOKUP($A$8,SOURCE!$A$7:$IMC$146,COLUMN(),FALSE)","v":0},{"$f":"VLOOKUP($A$8,SOURCE!$A$7:$IMC$146,COLUMN(),FALSE)","v":0},{"$f":"VLOOKUP($A$8,SOURCE!$A$7:$IMC$146,COLUMN(),FALSE)","v":0},{"$f":"VLOOKUP($A$8,SOURCE!$A$7:$IMC$146,COLUMN(),FALSE)","v":0},{"$f":"EUZ8/15","v":0},{"$f":"VLOOKUP($A$8,SOURCE!$A$7:$IMC$146,COLUMN(),FALSE)","v":0},{"$f":"VLOOKUP($A$8,SOURCE!$A$7:$IMC$146,COLUMN(),FALSE)","v":0},{"$f":"VLOOKUP($A$8,SOURCE!$A$7:$IMC$146,COLUMN(),FALSE)","v":0},{"$f":"VLOOKUP($A$8,SOURCE!$A$7:$IMC$146,COLUMN(),FALSE)","v":0},{"$f":"EVE8/15","v":0},{"$f":"VLOOKUP($A$8,SOURCE!$A$7:$IMC$146,COLUMN(),FALSE)","v":0},{"$f":"VLOOKUP($A$8,SOURCE!$A$7:$IMC$146,COLUMN(),FALSE)","v":0},{"$f":"VLOOKUP($A$8,SOURCE!$A$7:$IMC$146,COLUMN(),FALSE)","v":0},{"$f":"VLOOKUP($A$8,SOURCE!$A$7:$IMC$146,COLUMN(),FALSE)","v":0},{"$f":"EVJ8/15","v":0},{"$f":"VLOOKUP($A$8,SOURCE!$A$7:$IMC$146,COLUMN(),FALSE)","v":0},{"$f":"VLOOKUP($A$8,SOURCE!$A$7:$IMC$146,COLUMN(),FALSE)","v":0},{"$f":"VLOOKUP($A$8,SOURCE!$A$7:$IMC$146,COLUMN(),FALSE)","v":0},{"$f":"VLOOKUP($A$8,SOURCE!$A$7:$IMC$146,COLUMN(),FALSE)","v":0},{"$f":"EVO8/15","v":0},{"$f":"VLOOKUP($A$8,SOURCE!$A$7:$IMC$146,COLUMN(),FALSE)","v":0},{"$f":"VLOOKUP($A$8,SOURCE!$A$7:$IMC$146,COLUMN(),FALSE)","v":0},{"$f":"VLOOKUP($A$8,SOURCE!$A$7:$IMC$146,COLUMN(),FALSE)","v":0},{"$f":"VLOOKUP($A$8,SOURCE!$A$7:$IMC$146,COLUMN(),FALSE)","v":0},{"$f":"EVT8/15","v":0},{"$f":"VLOOKUP($A$8,SOURCE!$A$7:$IMC$146,COLUMN(),FALSE)","v":0},{"$f":"VLOOKUP($A$8,SOURCE!$A$7:$IMC$146,COLUMN(),FALSE)","v":0},{"$f":"VLOOKUP($A$8,SOURCE!$A$7:$IMC$146,COLUMN(),FALSE)","v":0},{"$f":"VLOOKUP($A$8,SOURCE!$A$7:$IMC$146,COLUMN(),FALSE)","v":0},{"$f":"EVY8/15","v":0},{"$f":"VLOOKUP($A$8,SOURCE!$A$7:$IMC$146,COLUMN(),FALSE)","v":0},{"$f":"VLOOKUP($A$8,SOURCE!$A$7:$IMC$146,COLUMN(),FALSE)","v":0},{"$f":"VLOOKUP($A$8,SOURCE!$A$7:$IMC$146,COLUMN(),FALSE)","v":0},{"$f":"VLOOKUP($A$8,SOURCE!$A$7:$IMC$146,COLUMN(),FALSE)","v":0},{"$f":"EWD8/15","v":0},{"$f":"VLOOKUP($A$8,SOURCE!$A$7:$IMC$146,COLUMN(),FALSE)","v":0},{"$f":"VLOOKUP($A$8,SOURCE!$A$7:$IMC$146,COLUMN(),FALSE)","v":0},{"$f":"VLOOKUP($A$8,SOURCE!$A$7:$IMC$146,COLUMN(),FALSE)","v":0},{"$f":"VLOOKUP($A$8,SOURCE!$A$7:$IMC$146,COLUMN(),FALSE)","v":0},{"$f":"EWI8/15","v":0},{"$f":"VLOOKUP($A$8,SOURCE!$A$7:$IMC$146,COLUMN(),FALSE)","v":0},{"$f":"VLOOKUP($A$8,SOURCE!$A$7:$IMC$146,COLUMN(),FALSE)","v":0},{"$f":"VLOOKUP($A$8,SOURCE!$A$7:$IMC$146,COLUMN(),FALSE)","v":0},{"$f":"VLOOKUP($A$8,SOURCE!$A$7:$IMC$146,COLUMN(),FALSE)","v":0},{"$f":"EWN8/15","v":0},{"$f":"VLOOKUP($A$8,SOURCE!$A$7:$IMC$146,COLUMN(),FALSE)","v":0},{"$f":"VLOOKUP($A$8,SOURCE!$A$7:$IMC$146,COLUMN(),FALSE)","v":0},{"$f":"VLOOKUP($A$8,SOURCE!$A$7:$IMC$146,COLUMN(),FALSE)","v":0},{"$f":"VLOOKUP($A$8,SOURCE!$A$7:$IMC$146,COLUMN(),FALSE)","v":0},{"$f":"EWS8/15","v":0},{"$f":"VLOOKUP($A$8,SOURCE!$A$7:$IMC$146,COLUMN(),FALSE)","v":0},{"$f":"VLOOKUP($A$8,SOURCE!$A$7:$IMC$146,COLUMN(),FALSE)","v":0},{"$f":"VLOOKUP($A$8,SOURCE!$A$7:$IMC$146,COLUMN(),FALSE)","v":0},{"$f":"VLOOKUP($A$8,SOURCE!$A$7:$IMC$146,COLUMN(),FALSE)","v":0},{"$f":"EWX8/15","v":0},{"$f":"VLOOKUP($A$8,SOURCE!$A$7:$IMC$146,COLUMN(),FALSE)","v":0},{"$f":"VLOOKUP($A$8,SOURCE!$A$7:$IMC$146,COLUMN(),FALSE)","v":0},{"$f":"VLOOKUP($A$8,SOURCE!$A$7:$IMC$146,COLUMN(),FALSE)","v":0},{"$f":"VLOOKUP($A$8,SOURCE!$A$7:$IMC$146,COLUMN(),FALSE)","v":0},{"$f":"EXC8/15","v":0},{"$f":"VLOOKUP($A$8,SOURCE!$A$7:$IMC$146,COLUMN(),FALSE)","v":0},{"$f":"VLOOKUP($A$8,SOURCE!$A$7:$IMC$146,COLUMN(),FALSE)","v":0},{"$f":"VLOOKUP($A$8,SOURCE!$A$7:$IMC$146,COLUMN(),FALSE)","v":0},{"$f":"VLOOKUP($A$8,SOURCE!$A$7:$IMC$146,COLUMN(),FALSE)","v":0},{"$f":"EXH8/15","v":0},{"$f":"VLOOKUP($A$8,SOURCE!$A$7:$IMC$146,COLUMN(),FALSE)","v":0},{"$f":"VLOOKUP($A$8,SOURCE!$A$7:$IMC$146,COLUMN(),FALSE)","v":0},{"$f":"VLOOKUP($A$8,SOURCE!$A$7:$IMC$146,COLUMN(),FALSE)","v":0},{"$f":"VLOOKUP($A$8,SOURCE!$A$7:$IMC$146,COLUMN(),FALSE)","v":0},{"$f":"EXM8/15","v":0},{"$f":"VLOOKUP($A$8,SOURCE!$A$7:$IMC$146,COLUMN(),FALSE)","v":0},{"$f":"VLOOKUP($A$8,SOURCE!$A$7:$IMC$146,COLUMN(),FALSE)","v":0},{"$f":"VLOOKUP($A$8,SOURCE!$A$7:$IMC$146,COLUMN(),FALSE)","v":0},{"$f":"VLOOKUP($A$8,SOURCE!$A$7:$IMC$146,COLUMN(),FALSE)","v":0},{"$f":"EXR8/15","v":0},{"$f":"VLOOKUP($A$8,SOURCE!$A$7:$IMC$146,COLUMN(),FALSE)","v":0},{"$f":"VLOOKUP($A$8,SOURCE!$A$7:$IMC$146,COLUMN(),FALSE)","v":0},{"$f":"VLOOKUP($A$8,SOURCE!$A$7:$IMC$146,COLUMN(),FALSE)","v":0},{"$f":"VLOOKUP($A$8,SOURCE!$A$7:$IMC$146,COLUMN(),FALSE)","v":0},{"$f":"EXW8/15","v":0},{"$f":"VLOOKUP($A$8,SOURCE!$A$7:$IMC$146,COLUMN(),FALSE)","v":0},{"$f":"VLOOKUP($A$8,SOURCE!$A$7:$IMC$146,COLUMN(),FALSE)","v":0},{"$f":"VLOOKUP($A$8,SOURCE!$A$7:$IMC$146,COLUMN(),FALSE)","v":0},{"$f":"VLOOKUP($A$8,SOURCE!$A$7:$IMC$146,COLUMN(),FALSE)","v":0},{"$f":"EYB8/15","v":0},{"$f":"VLOOKUP($A$8,SOURCE!$A$7:$IMC$146,COLUMN(),FALSE)","v":0},{"$f":"VLOOKUP($A$8,SOURCE!$A$7:$IMC$146,COLUMN(),FALSE)","v":0},{"$f":"VLOOKUP($A$8,SOURCE!$A$7:$IMC$146,COLUMN(),FALSE)","v":0},{"$f":"VLOOKUP($A$8,SOURCE!$A$7:$IMC$146,COLUMN(),FALSE)","v":0},{"$f":"EYG8/15","v":0},{"$f":"VLOOKUP($A$8,SOURCE!$A$7:$IMC$146,COLUMN(),FALSE)","v":0},{"$f":"VLOOKUP($A$8,SOURCE!$A$7:$IMC$146,COLUMN(),FALSE)","v":0},{"$f":"VLOOKUP($A$8,SOURCE!$A$7:$IMC$146,COLUMN(),FALSE)","v":0},{"$f":"VLOOKUP($A$8,SOURCE!$A$7:$IMC$146,COLUMN(),FALSE)","v":0},{"$f":"EYL8/15","v":0},{"$f":"VLOOKUP($A$8,SOURCE!$A$7:$IMC$146,COLUMN(),FALSE)","v":0},{"$f":"VLOOKUP($A$8,SOURCE!$A$7:$IMC$146,COLUMN(),FALSE)","v":0},{"$f":"VLOOKUP($A$8,SOURCE!$A$7:$IMC$146,COLUMN(),FALSE)","v":0},{"$f":"VLOOKUP($A$8,SOURCE!$A$7:$IMC$146,COLUMN(),FALSE)","v":0},{"$f":"EYQ8/15","v":0},{"$f":"VLOOKUP($A$8,SOURCE!$A$7:$IMC$146,COLUMN(),FALSE)","v":0},{"$f":"VLOOKUP($A$8,SOURCE!$A$7:$IMC$146,COLUMN(),FALSE)","v":0},{"$f":"VLOOKUP($A$8,SOURCE!$A$7:$IMC$146,COLUMN(),FALSE)","v":0},{"$f":"VLOOKUP($A$8,SOURCE!$A$7:$IMC$146,COLUMN(),FALSE)","v":0},{"$f":"EYV8/15","v":0},{"$f":"VLOOKUP($A$8,SOURCE!$A$7:$IMC$146,COLUMN(),FALSE)","v":0},{"$f":"VLOOKUP($A$8,SOURCE!$A$7:$IMC$146,COLUMN(),FALSE)","v":0},{"$f":"VLOOKUP($A$8,SOURCE!$A$7:$IMC$146,COLUMN(),FALSE)","v":0},{"$f":"VLOOKUP($A$8,SOURCE!$A$7:$IMC$146,COLUMN(),FALSE)","v":0},{"$f":"EZA8/15","v":0},{"$f":"VLOOKUP($A$8,SOURCE!$A$7:$IMC$146,COLUMN(),FALSE)","v":0},{"$f":"VLOOKUP($A$8,SOURCE!$A$7:$IMC$146,COLUMN(),FALSE)","v":0},{"$f":"VLOOKUP($A$8,SOURCE!$A$7:$IMC$146,COLUMN(),FALSE)","v":0},{"$f":"VLOOKUP($A$8,SOURCE!$A$7:$IMC$146,COLUMN(),FALSE)","v":0},{"$f":"EZF8/15","v":0},{"$f":"VLOOKUP($A$8,SOURCE!$A$7:$IMC$146,COLUMN(),FALSE)","v":0},{"$f":"VLOOKUP($A$8,SOURCE!$A$7:$IMC$146,COLUMN(),FALSE)","v":0},{"$f":"VLOOKUP($A$8,SOURCE!$A$7:$IMC$146,COLUMN(),FALSE)","v":0},{"$f":"VLOOKUP($A$8,SOURCE!$A$7:$IMC$146,COLUMN(),FALSE)","v":0},{"$f":"EZK8/15","v":0},{"$f":"VLOOKUP($A$8,SOURCE!$A$7:$IMC$146,COLUMN(),FALSE)","v":0},{"$f":"VLOOKUP($A$8,SOURCE!$A$7:$IMC$146,COLUMN(),FALSE)","v":0},{"$f":"VLOOKUP($A$8,SOURCE!$A$7:$IMC$146,COLUMN(),FALSE)","v":0},{"$f":"VLOOKUP($A$8,SOURCE!$A$7:$IMC$146,COLUMN(),FALSE)","v":0},{"$f":"EZP8/15","v":0},{"$f":"VLOOKUP($A$8,SOURCE!$A$7:$IMC$146,COLUMN(),FALSE)","v":0},{"$f":"VLOOKUP($A$8,SOURCE!$A$7:$IMC$146,COLUMN(),FALSE)","v":0},{"$f":"VLOOKUP($A$8,SOURCE!$A$7:$IMC$146,COLUMN(),FALSE)","v":0},{"$f":"VLOOKUP($A$8,SOURCE!$A$7:$IMC$146,COLUMN(),FALSE)","v":0},{"$f":"EZU8/15","v":0},{"$f":"VLOOKUP($A$8,SOURCE!$A$7:$IMC$146,COLUMN(),FALSE)","v":0},{"$f":"VLOOKUP($A$8,SOURCE!$A$7:$IMC$146,COLUMN(),FALSE)","v":0},{"$f":"VLOOKUP($A$8,SOURCE!$A$7:$IMC$146,COLUMN(),FALSE)","v":0},{"$f":"VLOOKUP($A$8,SOURCE!$A$7:$IMC$146,COLUMN(),FALSE)","v":0},{"$f":"VLOOKUP($A$8,SOURCE!$A$7:$IMC$146,COLUMN(),FALSE)","v":0},{"$f":"VLOOKUP($A$8,SOURCE!$A$7:$IMC$146,COLUMN(),FALSE)","v":0},{"$f":"VLOOKUP($A$8,SOURCE!$A$7:$IMC$146,COLUMN(),FALSE)","v":0},{"$f":"VLOOKUP($A$8,SOURCE!$A$7:$IMC$146,COLUMN(),FALSE)","v":0},{"$f":"VLOOKUP($A$8,SOURCE!$A$7:$IMC$146,COLUMN(),FALSE)","v":0},{"$f":"VLOOKUP($A$8,SOURCE!$A$7:$IMC$146,COLUMN(),FALSE)","v":0},{"$f":"VLOOKUP($A$8,SOURCE!$A$7:$IMC$146,COLUMN(),FALSE)","v":0},{"$f":"VLOOKUP($A$8,SOURCE!$A$7:$IMC$146,COLUMN(),FALSE)","v":0},{"$f":"VLOOKUP($A$8,SOURCE!$A$7:$IMC$146,COLUMN(),FALSE)","v":0},{"$f":"VLOOKUP($A$8,SOURCE!$A$7:$IMC$146,COLUMN(),FALSE)","v":0},{"$f":"VLOOKUP($A$8,SOURCE!$A$7:$IMC$146,COLUMN(),FALSE)","v":0},{"$f":"SUM(EZW8:FAA8)","v":0},{"$f":"SUM(FAB8:FAF8)","v":0},{"$f":"SUM(FAG8:FAK8)","v":0},{"$f":"SUM(EZW8:FAK8)","v":0},{"$f":"VLOOKUP($A$8,SOURCE!$A$7:$IMC$146,COLUMN(),FALSE)","v":0},{"$f":"VLOOKUP($A$8,SOURCE!$A$7:$IMC$146,COLUMN(),FALSE)","v":0},{"$f":"VLOOKUP($A$8,SOURCE!$A$7:$IMC$146,COLUMN(),FALSE)","v":0},{"$f":"VLOOKUP($A$8,SOURCE!$A$7:$IMC$146,COLUMN(),FALSE)","v":0},{"$f":"VLOOKUP($A$8,SOURCE!$A$7:$IMC$146,COLUMN(),FALSE)","v":0},{"$f":"VLOOKUP($A$8,SOURCE!$A$7:$IMC$146,COLUMN(),FALSE)","v":0},{"$f":"VLOOKUP($A$8,SOURCE!$A$7:$IMC$146,COLUMN(),FALSE)","v":0},{"$f":"VLOOKUP($A$8,SOURCE!$A$7:$IMC$146,COLUMN(),FALSE)","v":0},{"$f":"VLOOKUP($A$8,SOURCE!$A$7:$IMC$146,COLUMN(),FALSE)","v":0},{"$f":"VLOOKUP($A$8,SOURCE!$A$7:$IMC$146,COLUMN(),FALSE)","v":0},{"$f":"VLOOKUP($A$8,SOURCE!$A$7:$IMC$146,COLUMN(),FALSE)","v":0},{"$f":"VLOOKUP($A$8,SOURCE!$A$7:$IMC$146,COLUMN(),FALSE)","v":0},{"$f":"VLOOKUP($A$8,SOURCE!$A$7:$IMC$146,COLUMN(),FALSE)","v":0},{"$f":"VLOOKUP($A$8,SOURCE!$A$7:$IMC$146,COLUMN(),FALSE)","v":0},{"$f":"VLOOKUP($A$8,SOURCE!$A$7:$IMC$146,COLUMN(),FALSE)","v":0},{"$f":"SUM(FAP8:FAT8)","v":0},{"$f":"SUM(FAU8:FAY8)","v":0},{"$f":"SUM(FAZ8:FBD8)","v":0},{"$f":"SUM(FAP8:FBD8)","v":0},{"$f":"VLOOKUP($A$8,SOURCE!$A$7:$IMC$146,COLUMN(),FALSE)","v":0},{"$f":"VLOOKUP($A$8,SOURCE!$A$7:$IMC$146,COLUMN(),FALSE)","v":0},{"$f":"VLOOKUP($A$8,SOURCE!$A$7:$IMC$146,COLUMN(),FALSE)","v":0},{"$f":"VLOOKUP($A$8,SOURCE!$A$7:$IMC$146,COLUMN(),FALSE)","v":0},{"$f":"VLOOKUP($A$8,SOURCE!$A$7:$IMC$146,COLUMN(),FALSE)","v":0},{"$f":"VLOOKUP($A$8,SOURCE!$A$7:$IMC$146,COLUMN(),FALSE)","v":0},{"$f":"VLOOKUP($A$8,SOURCE!$A$7:$IMC$146,COLUMN(),FALSE)","v":0},{"$f":"VLOOKUP($A$8,SOURCE!$A$7:$IMC$146,COLUMN(),FALSE)","v":0},{"$f":"VLOOKUP($A$8,SOURCE!$A$7:$IMC$146,COLUMN(),FALSE)","v":0},{"$f":"VLOOKUP($A$8,SOURCE!$A$7:$IMC$146,COLUMN(),FALSE)","v":0},{"$f":"VLOOKUP($A$8,SOURCE!$A$7:$IMC$146,COLUMN(),FALSE)","v":0},{"$f":"VLOOKUP($A$8,SOURCE!$A$7:$IMC$146,COLUMN(),FALSE)","v":0},{"$f":"VLOOKUP($A$8,SOURCE!$A$7:$IMC$146,COLUMN(),FALSE)","v":0},{"$f":"VLOOKUP($A$8,SOURCE!$A$7:$IMC$146,COLUMN(),FALSE)","v":0},{"$f":"VLOOKUP($A$8,SOURCE!$A$7:$IMC$146,COLUMN(),FALSE)","v":0},{"$f":"SUM(FBI8:FBM8)","v":0},{"$f":"SUM(FBN8:FBR8)","v":0},{"$f":"SUM(FBS8:FBW8)","v":0},{"$f":"SUM(FBI8:FBW8)","v":0},{"$f":"VLOOKUP($A$8,SOURCE!$A$7:$IMC$146,COLUMN(),FALSE)","v":0},{"$f":"VLOOKUP($A$8,SOURCE!$A$7:$IMC$146,COLUMN(),FALSE)","v":0},{"$f":"VLOOKUP($A$8,SOURCE!$A$7:$IMC$146,COLUMN(),FALSE)","v":0},{"$f":"VLOOKUP($A$8,SOURCE!$A$7:$IMC$146,COLUMN(),FALSE)","v":0},{"$f":"VLOOKUP($A$8,SOURCE!$A$7:$IMC$146,COLUMN(),FALSE)","v":0},{"$f":"VLOOKUP($A$8,SOURCE!$A$7:$IMC$146,COLUMN(),FALSE)","v":0},{"$f":"VLOOKUP($A$8,SOURCE!$A$7:$IMC$146,COLUMN(),FALSE)","v":0},{"$f":"VLOOKUP($A$8,SOURCE!$A$7:$IMC$146,COLUMN(),FALSE)","v":0},{"$f":"VLOOKUP($A$8,SOURCE!$A$7:$IMC$146,COLUMN(),FALSE)","v":0},{"$f":"VLOOKUP($A$8,SOURCE!$A$7:$IMC$146,COLUMN(),FALSE)","v":0},{"$f":"VLOOKUP($A$8,SOURCE!$A$7:$IMC$146,COLUMN(),FALSE)","v":0},{"$f":"VLOOKUP($A$8,SOURCE!$A$7:$IMC$146,COLUMN(),FALSE)","v":0},{"$f":"VLOOKUP($A$8,SOURCE!$A$7:$IMC$146,COLUMN(),FALSE)","v":0},{"$f":"VLOOKUP($A$8,SOURCE!$A$7:$IMC$146,COLUMN(),FALSE)","v":0},{"$f":"VLOOKUP($A$8,SOURCE!$A$7:$IMC$146,COLUMN(),FALSE)","v":0},{"$f":"SUM(FCB8:FCF8)","v":0},{"$f":"SUM(FCG8:FCK8)","v":0},{"$f":"SUM(FCL8:FCP8)","v":0},{"$f":"SUM(FCB8:FCP8)","v":0},{"$f":"VLOOKUP($A$8,SOURCE!$A$7:$IMC$146,COLUMN(),FALSE)","v":0},{"$f":"VLOOKUP($A$8,SOURCE!$A$7:$IMC$146,COLUMN(),FALSE)","v":0},{"$f":"VLOOKUP($A$8,SOURCE!$A$7:$IMC$146,COLUMN(),FALSE)","v":0},{"$f":"VLOOKUP($A$8,SOURCE!$A$7:$IMC$146,COLUMN(),FALSE)","v":0},{"$f":"VLOOKUP($A$8,SOURCE!$A$7:$IMC$146,COLUMN(),FALSE)","v":0},{"$f":"VLOOKUP($A$8,SOURCE!$A$7:$IMC$146,COLUMN(),FALSE)","v":0},{"$f":"VLOOKUP($A$8,SOURCE!$A$7:$IMC$146,COLUMN(),FALSE)","v":0},{"$f":"VLOOKUP($A$8,SOURCE!$A$7:$IMC$146,COLUMN(),FALSE)","v":0},{"$f":"VLOOKUP($A$8,SOURCE!$A$7:$IMC$146,COLUMN(),FALSE)","v":0},{"$f":"VLOOKUP($A$8,SOURCE!$A$7:$IMC$146,COLUMN(),FALSE)","v":0},{"$f":"VLOOKUP($A$8,SOURCE!$A$7:$IMC$146,COLUMN(),FALSE)","v":0},{"$f":"VLOOKUP($A$8,SOURCE!$A$7:$IMC$146,COLUMN(),FALSE)","v":0},{"$f":"VLOOKUP($A$8,SOURCE!$A$7:$IMC$146,COLUMN(),FALSE)","v":0},{"$f":"VLOOKUP($A$8,SOURCE!$A$7:$IMC$146,COLUMN(),FALSE)","v":0},{"$f":"VLOOKUP($A$8,SOURCE!$A$7:$IMC$146,COLUMN(),FALSE)","v":0},{"$f":"SUM(FCU8:FCY8)","v":0},{"$f":"SUM(FCZ8:FDD8)","v":0},{"$f":"SUM(FDE8:FDI8)","v":0},{"$f":"SUM(FCU8:FDI8)","v":0},{"$f":"EZW8+FAP8+FBI8+FCB8+FCU8","v":0},0,0,0,0,0,0,0,0,0,0,0,0,0,0,{"$f":"SUM(FDN8:FDR8)","v":0},{"$f":"SUM(FDS8:FDW8)","v":0},{"$f":"SUM(FDX8:FEB8)","v":0},{"$f":"SUM(FDN8:FEB8)","v":0},{"$f":"VLOOKUP($A$8,SOURCE!$A$7:$IMC$146,COLUMN(),FALSE)","v":0},{"$f":"VLOOKUP($A$8,SOURCE!$A$7:$IMC$146,COLUMN(),FALSE)","v":0},{"$f":"VLOOKUP($A$8,SOURCE!$A$7:$IMC$146,COLUMN(),FALSE)","v":0},{"$f":"VLOOKUP($A$8,SOURCE!$A$7:$IMC$146,COLUMN(),FALSE)","v":0},{"$f":"VLOOKUP($A$8,SOURCE!$A$7:$IMC$146,COLUMN(),FALSE)","v":0},{"$f":"VLOOKUP($A$8,SOURCE!$A$7:$IMC$146,COLUMN(),FALSE)","v":0},{"$f":"VLOOKUP($A$8,SOURCE!$A$7:$IMC$146,COLUMN(),FALSE)","v":0},{"$f":"VLOOKUP($A$8,SOURCE!$A$7:$IMC$146,COLUMN(),FALSE)","v":0},{"$f":"VLOOKUP($A$8,SOURCE!$A$7:$IMC$146,COLUMN(),FALSE)","v":0},{"$f":"VLOOKUP($A$8,SOURCE!$A$7:$IMC$146,COLUMN(),FALSE)","v":0},{"$f":"VLOOKUP($A$8,SOURCE!$A$7:$IMC$146,COLUMN(),FALSE)","v":0},{"$f":"VLOOKUP($A$8,SOURCE!$A$7:$IMC$146,COLUMN(),FALSE)","v":0},{"$f":"VLOOKUP($A$8,SOURCE!$A$7:$IMC$146,COLUMN(),FALSE)","v":0},{"$f":"VLOOKUP($A$8,SOURCE!$A$7:$IMC$146,COLUMN(),FALSE)","v":0},{"$f":"VLOOKUP($A$8,SOURCE!$A$7:$IMC$146,COLUMN(),FALSE)","v":0},{"$f":"SUM(FEG8:FEK8)","v":0},{"$f":"SUM(FEL8:FEP8)","v":0},{"$f":"SUM(FEQ8:FEU8)","v":0},{"$f":"SUM(FEG8:FEU8)","v":0},{"$f":"VLOOKUP($A$8,SOURCE!$A$7:$IMC$146,COLUMN(),FALSE)","v":0},{"$f":"VLOOKUP($A$8,SOURCE!$A$7:$IMC$146,COLUMN(),FALSE)","v":0},{"$f":"VLOOKUP($A$8,SOURCE!$A$7:$IMC$146,COLUMN(),FALSE)","v":0},{"$f":"VLOOKUP($A$8,SOURCE!$A$7:$IMC$146,COLUMN(),FALSE)","v":0},{"$f":"VLOOKUP($A$8,SOURCE!$A$7:$IMC$146,COLUMN(),FALSE)","v":0},{"$f":"VLOOKUP($A$8,SOURCE!$A$7:$IMC$146,COLUMN(),FALSE)","v":0},{"$f":"VLOOKUP($A$8,SOURCE!$A$7:$IMC$146,COLUMN(),FALSE)","v":0},{"$f":"VLOOKUP($A$8,SOURCE!$A$7:$IMC$146,COLUMN(),FALSE)","v":0},{"$f":"VLOOKUP($A$8,SOURCE!$A$7:$IMC$146,COLUMN(),FALSE)","v":0},{"$f":"VLOOKUP($A$8,SOURCE!$A$7:$IMC$146,COLUMN(),FALSE)","v":0},{"$f":"VLOOKUP($A$8,SOURCE!$A$7:$IMC$146,COLUMN(),FALSE)","v":0},{"$f":"VLOOKUP($A$8,SOURCE!$A$7:$IMC$146,COLUMN(),FALSE)","v":0},{"$f":"VLOOKUP($A$8,SOURCE!$A$7:$IMC$146,COLUMN(),FALSE)","v":0},{"$f":"VLOOKUP($A$8,SOURCE!$A$7:$IMC$146,COLUMN(),FALSE)","v":0},{"$f":"VLOOKUP($A$8,SOURCE!$A$7:$IMC$146,COLUMN(),FALSE)","v":0},{"$f":"SUM(FEZ8:FFD8)","v":0},{"$f":"SUM(FFE8:FFI8)","v":0},{"$f":"SUM(FFJ8:FFN8)","v":0},{"$f":"SUM(FEZ8:FFN8)","v":0},{"$f":"VLOOKUP($A$8,SOURCE!$A$7:$IMC$146,COLUMN(),FALSE)","v":0},{"$f":"VLOOKUP($A$8,SOURCE!$A$7:$IMC$146,COLUMN(),FALSE)","v":0},{"$f":"VLOOKUP($A$8,SOURCE!$A$7:$IMC$146,COLUMN(),FALSE)","v":0},{"$f":"VLOOKUP($A$8,SOURCE!$A$7:$IMC$146,COLUMN(),FALSE)","v":0},{"$f":"VLOOKUP($A$8,SOURCE!$A$7:$IMC$146,COLUMN(),FALSE)","v":0},{"$f":"VLOOKUP($A$8,SOURCE!$A$7:$IMC$146,COLUMN(),FALSE)","v":0},{"$f":"VLOOKUP($A$8,SOURCE!$A$7:$IMC$146,COLUMN(),FALSE)","v":0},{"$f":"VLOOKUP($A$8,SOURCE!$A$7:$IMC$146,COLUMN(),FALSE)","v":0},{"$f":"VLOOKUP($A$8,SOURCE!$A$7:$IMC$146,COLUMN(),FALSE)","v":0},{"$f":"VLOOKUP($A$8,SOURCE!$A$7:$IMC$146,COLUMN(),FALSE)","v":0},{"$f":"VLOOKUP($A$8,SOURCE!$A$7:$IMC$146,COLUMN(),FALSE)","v":0},{"$f":"VLOOKUP($A$8,SOURCE!$A$7:$IMC$146,COLUMN(),FALSE)","v":0},{"$f":"VLOOKUP($A$8,SOURCE!$A$7:$IMC$146,COLUMN(),FALSE)","v":0},{"$f":"VLOOKUP($A$8,SOURCE!$A$7:$IMC$146,COLUMN(),FALSE)","v":0},{"$f":"VLOOKUP($A$8,SOURCE!$A$7:$IMC$146,COLUMN(),FALSE)","v":0},{"$f":"SUM(FFS8:FFW8)","v":0},{"$f":"SUM(FFX8:FGB8)","v":0},{"$f":"SUM(FGC8:FGG8)","v":0},{"$f":"SUM(FFS8:FGG8)","v":0},{"$f":"VLOOKUP($A$8,SOURCE!$A$7:$IMC$146,COLUMN(),FALSE)","v":0},{"$f":"VLOOKUP($A$8,SOURCE!$A$7:$IMC$146,COLUMN(),FALSE)","v":0},{"$f":"VLOOKUP($A$8,SOURCE!$A$7:$IMC$146,COLUMN(),FALSE)","v":0},{"$f":"VLOOKUP($A$8,SOURCE!$A$7:$IMC$146,COLUMN(),FALSE)","v":0},{"$f":"VLOOKUP($A$8,SOURCE!$A$7:$IMC$146,COLUMN(),FALSE)","v":0},{"$f":"VLOOKUP($A$8,SOURCE!$A$7:$IMC$146,COLUMN(),FALSE)","v":0},{"$f":"VLOOKUP($A$8,SOURCE!$A$7:$IMC$146,COLUMN(),FALSE)","v":0},{"$f":"VLOOKUP($A$8,SOURCE!$A$7:$IMC$146,COLUMN(),FALSE)","v":0},{"$f":"VLOOKUP($A$8,SOURCE!$A$7:$IMC$146,COLUMN(),FALSE)","v":0},{"$f":"VLOOKUP($A$8,SOURCE!$A$7:$IMC$146,COLUMN(),FALSE)","v":0},{"$f":"VLOOKUP($A$8,SOURCE!$A$7:$IMC$146,COLUMN(),FALSE)","v":0},{"$f":"VLOOKUP($A$8,SOURCE!$A$7:$IMC$146,COLUMN(),FALSE)","v":0},{"$f":"VLOOKUP($A$8,SOURCE!$A$7:$IMC$146,COLUMN(),FALSE)","v":0},{"$f":"VLOOKUP($A$8,SOURCE!$A$7:$IMC$146,COLUMN(),FALSE)","v":0},{"$f":"VLOOKUP($A$8,SOURCE!$A$7:$IMC$146,COLUMN(),FALSE)","v":0},{"$f":"SUM(FGL8:FGP8)","v":0},{"$f":"SUM(FGQ8:FGU8)","v":0},{"$f":"SUM(FGV8:FGZ8)","v":0},{"$f":"SUM(FGL8:FGZ8)","v":0},{"$f":"VLOOKUP($A$8,SOURCE!$A$7:$IMC$146,COLUMN(),FALSE)","v":0},{"$f":"VLOOKUP($A$8,SOURCE!$A$7:$IMC$146,COLUMN(),FALSE)","v":0},{"$f":"VLOOKUP($A$8,SOURCE!$A$7:$IMC$146,COLUMN(),FALSE)","v":0},{"$f":"VLOOKUP($A$8,SOURCE!$A$7:$IMC$146,COLUMN(),FALSE)","v":0},{"$f":"VLOOKUP($A$8,SOURCE!$A$7:$IMC$146,COLUMN(),FALSE)","v":0},{"$f":"VLOOKUP($A$8,SOURCE!$A$7:$IMC$146,COLUMN(),FALSE)","v":0},{"$f":"VLOOKUP($A$8,SOURCE!$A$7:$IMC$146,COLUMN(),FALSE)","v":0},{"$f":"VLOOKUP($A$8,SOURCE!$A$7:$IMC$146,COLUMN(),FALSE)","v":0},{"$f":"VLOOKUP($A$8,SOURCE!$A$7:$IMC$146,COLUMN(),FALSE)","v":0},{"$f":"VLOOKUP($A$8,SOURCE!$A$7:$IMC$146,COLUMN(),FALSE)","v":0},{"$f":"VLOOKUP($A$8,SOURCE!$A$7:$IMC$146,COLUMN(),FALSE)","v":0},{"$f":"VLOOKUP($A$8,SOURCE!$A$7:$IMC$146,COLUMN(),FALSE)","v":0},{"$f":"VLOOKUP($A$8,SOURCE!$A$7:$IMC$146,COLUMN(),FALSE)","v":0},{"$f":"VLOOKUP($A$8,SOURCE!$A$7:$IMC$146,COLUMN(),FALSE)","v":0},{"$f":"VLOOKUP($A$8,SOURCE!$A$7:$IMC$146,COLUMN(),FALSE)","v":0},{"$f":"SUM(FHE8:FHI8)","v":0},{"$f":"SUM(FHJ8:FHN8)","v":0},{"$f":"SUM(FHO8:FHS8)","v":0},{"$f":"SUM(FHE8:FHS8)","v":0},{"$f":"FEG8+FEZ8+FFS8+FGL8+FHE8","v":0},0,0,0,0,0,0,0,0,0,0,0,0,0,0,{"$f":"SUM(FHX8:FIB8)","v":0},{"$f":"SUM(FIC8:FIG8)","v":0},{"$f":"SUM(FIH8:FIL8)","v":0},{"$f":"SUM(FHX8:FIL8)","v":0},{"$f":"VLOOKUP($A$8,SOURCE!$A$7:$IMC$146,COLUMN(),FALSE)","v":0},{"$f":"VLOOKUP($A$8,SOURCE!$A$7:$IMC$146,COLUMN(),FALSE)","v":0},{"$f":"VLOOKUP($A$8,SOURCE!$A$7:$IMC$146,COLUMN(),FALSE)","v":0},{"$f":"VLOOKUP($A$8,SOURCE!$A$7:$IMC$146,COLUMN(),FALSE)","v":0},{"$f":"VLOOKUP($A$8,SOURCE!$A$7:$IMC$146,COLUMN(),FALSE)","v":0},{"$f":"VLOOKUP($A$8,SOURCE!$A$7:$IMC$146,COLUMN(),FALSE)","v":0},{"$f":"VLOOKUP($A$8,SOURCE!$A$7:$IMC$146,COLUMN(),FALSE)","v":0},{"$f":"VLOOKUP($A$8,SOURCE!$A$7:$IMC$146,COLUMN(),FALSE)","v":0},{"$f":"VLOOKUP($A$8,SOURCE!$A$7:$IMC$146,COLUMN(),FALSE)","v":0},{"$f":"VLOOKUP($A$8,SOURCE!$A$7:$IMC$146,COLUMN(),FALSE)","v":0},{"$f":"VLOOKUP($A$8,SOURCE!$A$7:$IMC$146,COLUMN(),FALSE)","v":0},{"$f":"VLOOKUP($A$8,SOURCE!$A$7:$IMC$146,COLUMN(),FALSE)","v":0},{"$f":"VLOOKUP($A$8,SOURCE!$A$7:$IMC$146,COLUMN(),FALSE)","v":0},{"$f":"VLOOKUP($A$8,SOURCE!$A$7:$IMC$146,COLUMN(),FALSE)","v":0},{"$f":"VLOOKUP($A$8,SOURCE!$A$7:$IMC$146,COLUMN(),FALSE)","v":0},{"$f":"SUM(FIQ8:FIU8)","v":0},{"$f":"SUM(FIV8:FIZ8)","v":0},{"$f":"SUM(FJA8:FJE8)","v":0},{"$f":"SUM(FIQ8:FJE8)","v":0},{"$f":"VLOOKUP($A$8,SOURCE!$A$7:$IMC$146,COLUMN(),FALSE)","v":0},{"$f":"VLOOKUP($A$8,SOURCE!$A$7:$IMC$146,COLUMN(),FALSE)","v":0},{"$f":"VLOOKUP($A$8,SOURCE!$A$7:$IMC$146,COLUMN(),FALSE)","v":0},{"$f":"VLOOKUP($A$8,SOURCE!$A$7:$IMC$146,COLUMN(),FALSE)","v":0},{"$f":"VLOOKUP($A$8,SOURCE!$A$7:$IMC$146,COLUMN(),FALSE)","v":0},{"$f":"VLOOKUP($A$8,SOURCE!$A$7:$IMC$146,COLUMN(),FALSE)","v":0},{"$f":"VLOOKUP($A$8,SOURCE!$A$7:$IMC$146,COLUMN(),FALSE)","v":0},{"$f":"VLOOKUP($A$8,SOURCE!$A$7:$IMC$146,COLUMN(),FALSE)","v":0},{"$f":"VLOOKUP($A$8,SOURCE!$A$7:$IMC$146,COLUMN(),FALSE)","v":0},{"$f":"VLOOKUP($A$8,SOURCE!$A$7:$IMC$146,COLUMN(),FALSE)","v":0},{"$f":"VLOOKUP($A$8,SOURCE!$A$7:$IMC$146,COLUMN(),FALSE)","v":0},{"$f":"VLOOKUP($A$8,SOURCE!$A$7:$IMC$146,COLUMN(),FALSE)","v":0},{"$f":"VLOOKUP($A$8,SOURCE!$A$7:$IMC$146,COLUMN(),FALSE)","v":0},{"$f":"VLOOKUP($A$8,SOURCE!$A$7:$IMC$146,COLUMN(),FALSE)","v":0},{"$f":"VLOOKUP($A$8,SOURCE!$A$7:$IMC$146,COLUMN(),FALSE)","v":0},{"$f":"SUM(FJJ8:FJN8)","v":0},{"$f":"SUM(FJO8:FJS8)","v":0},{"$f":"SUM(FJT8:FJX8)","v":0},{"$f":"SUM(FJJ8:FJX8)","v":0},{"$f":"VLOOKUP($A$8,SOURCE!$A$7:$IMC$146,COLUMN(),FALSE)","v":0},{"$f":"VLOOKUP($A$8,SOURCE!$A$7:$IMC$146,COLUMN(),FALSE)","v":0},{"$f":"VLOOKUP($A$8,SOURCE!$A$7:$IMC$146,COLUMN(),FALSE)","v":0},{"$f":"VLOOKUP($A$8,SOURCE!$A$7:$IMC$146,COLUMN(),FALSE)","v":0},{"$f":"VLOOKUP($A$8,SOURCE!$A$7:$IMC$146,COLUMN(),FALSE)","v":0},{"$f":"VLOOKUP($A$8,SOURCE!$A$7:$IMC$146,COLUMN(),FALSE)","v":0},{"$f":"VLOOKUP($A$8,SOURCE!$A$7:$IMC$146,COLUMN(),FALSE)","v":0},{"$f":"VLOOKUP($A$8,SOURCE!$A$7:$IMC$146,COLUMN(),FALSE)","v":0},{"$f":"VLOOKUP($A$8,SOURCE!$A$7:$IMC$146,COLUMN(),FALSE)","v":0},{"$f":"VLOOKUP($A$8,SOURCE!$A$7:$IMC$146,COLUMN(),FALSE)","v":0},{"$f":"VLOOKUP($A$8,SOURCE!$A$7:$IMC$146,COLUMN(),FALSE)","v":0},{"$f":"VLOOKUP($A$8,SOURCE!$A$7:$IMC$146,COLUMN(),FALSE)","v":0},{"$f":"VLOOKUP($A$8,SOURCE!$A$7:$IMC$146,COLUMN(),FALSE)","v":0},{"$f":"VLOOKUP($A$8,SOURCE!$A$7:$IMC$146,COLUMN(),FALSE)","v":0},{"$f":"VLOOKUP($A$8,SOURCE!$A$7:$IMC$146,COLUMN(),FALSE)","v":0},{"$f":"SUM(FKC8:FKG8)","v":0},{"$f":"SUM(FKH8:FKL8)","v":0},{"$f":"SUM(FKM8:FKQ8)","v":0},{"$f":"SUM(FKC8:FKQ8)","v":0},{"$f":"VLOOKUP($A$8,SOURCE!$A$7:$IMC$146,COLUMN(),FALSE)","v":0},{"$f":"VLOOKUP($A$8,SOURCE!$A$7:$IMC$146,COLUMN(),FALSE)","v":0},{"$f":"VLOOKUP($A$8,SOURCE!$A$7:$IMC$146,COLUMN(),FALSE)","v":0},{"$f":"VLOOKUP($A$8,SOURCE!$A$7:$IMC$146,COLUMN(),FALSE)","v":0},{"$f":"VLOOKUP($A$8,SOURCE!$A$7:$IMC$146,COLUMN(),FALSE)","v":0},{"$f":"VLOOKUP($A$8,SOURCE!$A$7:$IMC$146,COLUMN(),FALSE)","v":0},{"$f":"VLOOKUP($A$8,SOURCE!$A$7:$IMC$146,COLUMN(),FALSE)","v":0},{"$f":"VLOOKUP($A$8,SOURCE!$A$7:$IMC$146,COLUMN(),FALSE)","v":0},{"$f":"VLOOKUP($A$8,SOURCE!$A$7:$IMC$146,COLUMN(),FALSE)","v":0},{"$f":"VLOOKUP($A$8,SOURCE!$A$7:$IMC$146,COLUMN(),FALSE)","v":0},{"$f":"VLOOKUP($A$8,SOURCE!$A$7:$IMC$146,COLUMN(),FALSE)","v":0},{"$f":"VLOOKUP($A$8,SOURCE!$A$7:$IMC$146,COLUMN(),FALSE)","v":0},{"$f":"VLOOKUP($A$8,SOURCE!$A$7:$IMC$146,COLUMN(),FALSE)","v":0},{"$f":"VLOOKUP($A$8,SOURCE!$A$7:$IMC$146,COLUMN(),FALSE)","v":0},{"$f":"VLOOKUP($A$8,SOURCE!$A$7:$IMC$146,COLUMN(),FALSE)","v":0},{"$f":"SUM(FKV8:FKZ8)","v":0},{"$f":"SUM(FLA8:FLE8)","v":0},{"$f":"SUM(FLF8:FLJ8)","v":0},{"$f":"SUM(FKV8:FLJ8)","v":0},{"$f":"VLOOKUP($A$8,SOURCE!$A$7:$IMC$146,COLUMN(),FALSE)","v":0},{"$f":"VLOOKUP($A$8,SOURCE!$A$7:$IMC$146,COLUMN(),FALSE)","v":0},{"$f":"VLOOKUP($A$8,SOURCE!$A$7:$IMC$146,COLUMN(),FALSE)","v":0},{"$f":"VLOOKUP($A$8,SOURCE!$A$7:$IMC$146,COLUMN(),FALSE)","v":0},{"$f":"VLOOKUP($A$8,SOURCE!$A$7:$IMC$146,COLUMN(),FALSE)","v":0},{"$f":"VLOOKUP($A$8,SOURCE!$A$7:$IMC$146,COLUMN(),FALSE)","v":0},{"$f":"VLOOKUP($A$8,SOURCE!$A$7:$IMC$146,COLUMN(),FALSE)","v":0},{"$f":"VLOOKUP($A$8,SOURCE!$A$7:$IMC$146,COLUMN(),FALSE)","v":0},{"$f":"VLOOKUP($A$8,SOURCE!$A$7:$IMC$146,COLUMN(),FALSE)","v":0},{"$f":"VLOOKUP($A$8,SOURCE!$A$7:$IMC$146,COLUMN(),FALSE)","v":0},{"$f":"VLOOKUP($A$8,SOURCE!$A$7:$IMC$146,COLUMN(),FALSE)","v":0},{"$f":"VLOOKUP($A$8,SOURCE!$A$7:$IMC$146,COLUMN(),FALSE)","v":0},{"$f":"VLOOKUP($A$8,SOURCE!$A$7:$IMC$146,COLUMN(),FALSE)","v":0},{"$f":"VLOOKUP($A$8,SOURCE!$A$7:$IMC$146,COLUMN(),FALSE)","v":0},{"$f":"VLOOKUP($A$8,SOURCE!$A$7:$IMC$146,COLUMN(),FALSE)","v":0},{"$f":"SUM(FLO8:FLS8)","v":0},{"$f":"SUM(FLT8:FLX8)","v":0},{"$f":"SUM(FLY8:FMC8)","v":0},{"$f":"SUM(FLO8:FMC8)","v":0},{"$f":"VLOOKUP($A$8,SOURCE!$A$7:$IMC$146,COLUMN(),FALSE)","v":0},{"$f":"VLOOKUP($A$8,SOURCE!$A$7:$IMC$146,COLUMN(),FALSE)","v":0},{"$f":"VLOOKUP($A$8,SOURCE!$A$7:$IMC$146,COLUMN(),FALSE)","v":0},{"$f":"VLOOKUP($A$8,SOURCE!$A$7:$IMC$146,COLUMN(),FALSE)","v":0},{"$f":"VLOOKUP($A$8,SOURCE!$A$7:$IMC$146,COLUMN(),FALSE)","v":0},{"$f":"VLOOKUP($A$8,SOURCE!$A$7:$IMC$146,COLUMN(),FALSE)","v":0},{"$f":"VLOOKUP($A$8,SOURCE!$A$7:$IMC$146,COLUMN(),FALSE)","v":0},{"$f":"VLOOKUP($A$8,SOURCE!$A$7:$IMC$146,COLUMN(),FALSE)","v":0},{"$f":"VLOOKUP($A$8,SOURCE!$A$7:$IMC$146,COLUMN(),FALSE)","v":0},{"$f":"VLOOKUP($A$8,SOURCE!$A$7:$IMC$146,COLUMN(),FALSE)","v":0},{"$f":"VLOOKUP($A$8,SOURCE!$A$7:$IMC$146,COLUMN(),FALSE)","v":0},{"$f":"VLOOKUP($A$8,SOURCE!$A$7:$IMC$146,COLUMN(),FALSE)","v":0},{"$f":"VLOOKUP($A$8,SOURCE!$A$7:$IMC$146,COLUMN(),FALSE)","v":0},{"$f":"VLOOKUP($A$8,SOURCE!$A$7:$IMC$146,COLUMN(),FALSE)","v":0},{"$f":"VLOOKUP($A$8,SOURCE!$A$7:$IMC$146,COLUMN(),FALSE)","v":0},{"$f":"SUM(FMH8:FML8)","v":0},{"$f":"SUM(FMM8:FMQ8)","v":0},{"$f":"SUM(FMR8:FMV8)","v":0},{"$f":"SUM(FMH8:FMV8)","v":0},{"$f":"VLOOKUP($A$8,SOURCE!$A$7:$IMC$146,COLUMN(),FALSE)","v":0},{"$f":"VLOOKUP($A$8,SOURCE!$A$7:$IMC$146,COLUMN(),FALSE)","v":0},{"$f":"VLOOKUP($A$8,SOURCE!$A$7:$IMC$146,COLUMN(),FALSE)","v":0},{"$f":"VLOOKUP($A$8,SOURCE!$A$7:$IMC$146,COLUMN(),FALSE)","v":0},{"$f":"VLOOKUP($A$8,SOURCE!$A$7:$IMC$146,COLUMN(),FALSE)","v":0},{"$f":"VLOOKUP($A$8,SOURCE!$A$7:$IMC$146,COLUMN(),FALSE)","v":0},{"$f":"VLOOKUP($A$8,SOURCE!$A$7:$IMC$146,COLUMN(),FALSE)","v":0},{"$f":"VLOOKUP($A$8,SOURCE!$A$7:$IMC$146,COLUMN(),FALSE)","v":0},{"$f":"VLOOKUP($A$8,SOURCE!$A$7:$IMC$146,COLUMN(),FALSE)","v":0},{"$f":"VLOOKUP($A$8,SOURCE!$A$7:$IMC$146,COLUMN(),FALSE)","v":0},{"$f":"VLOOKUP($A$8,SOURCE!$A$7:$IMC$146,COLUMN(),FALSE)","v":0},{"$f":"VLOOKUP($A$8,SOURCE!$A$7:$IMC$146,COLUMN(),FALSE)","v":0},{"$f":"VLOOKUP($A$8,SOURCE!$A$7:$IMC$146,COLUMN(),FALSE)","v":0},{"$f":"VLOOKUP($A$8,SOURCE!$A$7:$IMC$146,COLUMN(),FALSE)","v":0},{"$f":"VLOOKUP($A$8,SOURCE!$A$7:$IMC$146,COLUMN(),FALSE)","v":0},{"$f":"SUM(FNA8:FNE8)","v":0},{"$f":"SUM(FNF8:FNJ8)","v":0},{"$f":"SUM(FNK8:FNO8)","v":0},{"$f":"SUM(FNA8:FNO8)","v":0},{"$f":"VLOOKUP($A$8,SOURCE!$A$7:$IMC$146,COLUMN(),FALSE)","v":0},{"$f":"VLOOKUP($A$8,SOURCE!$A$7:$IMC$146,COLUMN(),FALSE)","v":0},{"$f":"VLOOKUP($A$8,SOURCE!$A$7:$IMC$146,COLUMN(),FALSE)","v":0},{"$f":"VLOOKUP($A$8,SOURCE!$A$7:$IMC$146,COLUMN(),FALSE)","v":0},{"$f":"VLOOKUP($A$8,SOURCE!$A$7:$IMC$146,COLUMN(),FALSE)","v":0},{"$f":"VLOOKUP($A$8,SOURCE!$A$7:$IMC$146,COLUMN(),FALSE)","v":0},{"$f":"VLOOKUP($A$8,SOURCE!$A$7:$IMC$146,COLUMN(),FALSE)","v":0},{"$f":"VLOOKUP($A$8,SOURCE!$A$7:$IMC$146,COLUMN(),FALSE)","v":0},{"$f":"VLOOKUP($A$8,SOURCE!$A$7:$IMC$146,COLUMN(),FALSE)","v":0},{"$f":"VLOOKUP($A$8,SOURCE!$A$7:$IMC$146,COLUMN(),FALSE)","v":0},{"$f":"VLOOKUP($A$8,SOURCE!$A$7:$IMC$146,COLUMN(),FALSE)","v":0},{"$f":"VLOOKUP($A$8,SOURCE!$A$7:$IMC$146,COLUMN(),FALSE)","v":0},{"$f":"VLOOKUP($A$8,SOURCE!$A$7:$IMC$146,COLUMN(),FALSE)","v":0},{"$f":"VLOOKUP($A$8,SOURCE!$A$7:$IMC$146,COLUMN(),FALSE)","v":0},{"$f":"VLOOKUP($A$8,SOURCE!$A$7:$IMC$146,COLUMN(),FALSE)","v":0},{"$f":"SUM(FNT8:FNX8)","v":0},{"$f":"SUM(FNY8:FOC8)","v":0},{"$f":"SUM(FOD8:FOH8)","v":0},{"$f":"SUM(FNT8:FOH8)","v":0},{"$f":"VLOOKUP($A$8,SOURCE!$A$7:$IMC$146,COLUMN(),FALSE)","v":0},{"$f":"VLOOKUP($A$8,SOURCE!$A$7:$IMC$146,COLUMN(),FALSE)","v":0},{"$f":"VLOOKUP($A$8,SOURCE!$A$7:$IMC$146,COLUMN(),FALSE)","v":0},{"$f":"VLOOKUP($A$8,SOURCE!$A$7:$IMC$146,COLUMN(),FALSE)","v":0},{"$f":"VLOOKUP($A$8,SOURCE!$A$7:$IMC$146,COLUMN(),FALSE)","v":0},{"$f":"VLOOKUP($A$8,SOURCE!$A$7:$IMC$146,COLUMN(),FALSE)","v":0},{"$f":"VLOOKUP($A$8,SOURCE!$A$7:$IMC$146,COLUMN(),FALSE)","v":0},{"$f":"VLOOKUP($A$8,SOURCE!$A$7:$IMC$146,COLUMN(),FALSE)","v":0},{"$f":"VLOOKUP($A$8,SOURCE!$A$7:$IMC$146,COLUMN(),FALSE)","v":0},{"$f":"VLOOKUP($A$8,SOURCE!$A$7:$IMC$146,COLUMN(),FALSE)","v":0},{"$f":"VLOOKUP($A$8,SOURCE!$A$7:$IMC$146,COLUMN(),FALSE)","v":0},{"$f":"VLOOKUP($A$8,SOURCE!$A$7:$IMC$146,COLUMN(),FALSE)","v":0},{"$f":"VLOOKUP($A$8,SOURCE!$A$7:$IMC$146,COLUMN(),FALSE)","v":0},{"$f":"VLOOKUP($A$8,SOURCE!$A$7:$IMC$146,COLUMN(),FALSE)","v":0},{"$f":"VLOOKUP($A$8,SOURCE!$A$7:$IMC$146,COLUMN(),FALSE)","v":0},{"$f":"SUM(FOM8:FOQ8)","v":0},{"$f":"SUM(FOR8:FOV8)","v":0},{"$f":"SUM(FOW8:FPA8)","v":0},{"$f":"SUM(FOM8:FPA8)","v":0},{"$f":"VLOOKUP($A$8,SOURCE!$A$7:$IMC$146,COLUMN(),FALSE)","v":0},{"$f":"VLOOKUP($A$8,SOURCE!$A$7:$IMC$146,COLUMN(),FALSE)","v":0},{"$f":"VLOOKUP($A$8,SOURCE!$A$7:$IMC$146,COLUMN(),FALSE)","v":0},{"$f":"VLOOKUP($A$8,SOURCE!$A$7:$IMC$146,COLUMN(),FALSE)","v":0},{"$f":"VLOOKUP($A$8,SOURCE!$A$7:$IMC$146,COLUMN(),FALSE)","v":0},{"$f":"VLOOKUP($A$8,SOURCE!$A$7:$IMC$146,COLUMN(),FALSE)","v":0},{"$f":"VLOOKUP($A$8,SOURCE!$A$7:$IMC$146,COLUMN(),FALSE)","v":0},{"$f":"VLOOKUP($A$8,SOURCE!$A$7:$IMC$146,COLUMN(),FALSE)","v":0},{"$f":"VLOOKUP($A$8,SOURCE!$A$7:$IMC$146,COLUMN(),FALSE)","v":0},{"$f":"VLOOKUP($A$8,SOURCE!$A$7:$IMC$146,COLUMN(),FALSE)","v":0},{"$f":"VLOOKUP($A$8,SOURCE!$A$7:$IMC$146,COLUMN(),FALSE)","v":0},{"$f":"VLOOKUP($A$8,SOURCE!$A$7:$IMC$146,COLUMN(),FALSE)","v":0},{"$f":"VLOOKUP($A$8,SOURCE!$A$7:$IMC$146,COLUMN(),FALSE)","v":0},{"$f":"VLOOKUP($A$8,SOURCE!$A$7:$IMC$146,COLUMN(),FALSE)","v":0},{"$f":"VLOOKUP($A$8,SOURCE!$A$7:$IMC$146,COLUMN(),FALSE)","v":0},{"$f":"SUM(FPF8:FPJ8)","v":0},{"$f":"SUM(FPK8:FPO8)","v":0},{"$f":"SUM(FPP8:FPT8)","v":0},{"$f":"SUM(FPF8:FPT8)","v":0},{"$f":"VLOOKUP($A$8,SOURCE!$A$7:$IMC$146,COLUMN(),FALSE)","v":0},{"$f":"VLOOKUP($A$8,SOURCE!$A$7:$IMC$146,COLUMN(),FALSE)","v":0},{"$f":"VLOOKUP($A$8,SOURCE!$A$7:$IMC$146,COLUMN(),FALSE)","v":0},{"$f":"VLOOKUP($A$8,SOURCE!$A$7:$IMC$146,COLUMN(),FALSE)","v":0},{"$f":"VLOOKUP($A$8,SOURCE!$A$7:$IMC$146,COLUMN(),FALSE)","v":0},{"$f":"VLOOKUP($A$8,SOURCE!$A$7:$IMC$146,COLUMN(),FALSE)","v":0},{"$f":"VLOOKUP($A$8,SOURCE!$A$7:$IMC$146,COLUMN(),FALSE)","v":0},{"$f":"VLOOKUP($A$8,SOURCE!$A$7:$IMC$146,COLUMN(),FALSE)","v":0},{"$f":"VLOOKUP($A$8,SOURCE!$A$7:$IMC$146,COLUMN(),FALSE)","v":0},{"$f":"VLOOKUP($A$8,SOURCE!$A$7:$IMC$146,COLUMN(),FALSE)","v":0},{"$f":"VLOOKUP($A$8,SOURCE!$A$7:$IMC$146,COLUMN(),FALSE)","v":0},{"$f":"VLOOKUP($A$8,SOURCE!$A$7:$IMC$146,COLUMN(),FALSE)","v":0},{"$f":"VLOOKUP($A$8,SOURCE!$A$7:$IMC$146,COLUMN(),FALSE)","v":0},{"$f":"VLOOKUP($A$8,SOURCE!$A$7:$IMC$146,COLUMN(),FALSE)","v":0},{"$f":"VLOOKUP($A$8,SOURCE!$A$7:$IMC$146,COLUMN(),FALSE)","v":0},{"$f":"SUM(FPY8:FQC8)","v":0},{"$f":"SUM(FQD8:FQH8)","v":0},{"$f":"SUM(FQI8:FQM8)","v":0},{"$f":"SUM(FPY8:FQM8)","v":0},{"$f":"FNA8+FNT8+FOM8+FPF8+FPY8","v":0},0,0,0,0,0,0,0,0,0,0,0,0,0,0,{"$f":"SUM(FQR8:FQV8)","v":0},{"$f":"SUM(FQW8:FRA8)","v":0},{"$f":"SUM(FRB8:FRF8)","v":0},{"$f":"SUM(FQR8:FRF8)","v":0},{"$f":"VLOOKUP($A$8,SOURCE!$A$7:$IMC$146,COLUMN(),FALSE)","v":0},{"$f":"VLOOKUP($A$8,SOURCE!$A$7:$IMC$146,COLUMN(),FALSE)","v":0},{"$f":"VLOOKUP($A$8,SOURCE!$A$7:$IMC$146,COLUMN(),FALSE)","v":0},{"$f":"VLOOKUP($A$8,SOURCE!$A$7:$IMC$146,COLUMN(),FALSE)","v":0},{"$f":"VLOOKUP($A$8,SOURCE!$A$7:$IMC$146,COLUMN(),FALSE)","v":0},{"$f":"VLOOKUP($A$8,SOURCE!$A$7:$IMC$146,COLUMN(),FALSE)","v":0},{"$f":"VLOOKUP($A$8,SOURCE!$A$7:$IMC$146,COLUMN(),FALSE)","v":0},{"$f":"VLOOKUP($A$8,SOURCE!$A$7:$IMC$146,COLUMN(),FALSE)","v":0},{"$f":"VLOOKUP($A$8,SOURCE!$A$7:$IMC$146,COLUMN(),FALSE)","v":0},{"$f":"VLOOKUP($A$8,SOURCE!$A$7:$IMC$146,COLUMN(),FALSE)","v":0},{"$f":"VLOOKUP($A$8,SOURCE!$A$7:$IMC$146,COLUMN(),FALSE)","v":0},{"$f":"VLOOKUP($A$8,SOURCE!$A$7:$IMC$146,COLUMN(),FALSE)","v":0},{"$f":"VLOOKUP($A$8,SOURCE!$A$7:$IMC$146,COLUMN(),FALSE)","v":0},{"$f":"VLOOKUP($A$8,SOURCE!$A$7:$IMC$146,COLUMN(),FALSE)","v":0},{"$f":"VLOOKUP($A$8,SOURCE!$A$7:$IMC$146,COLUMN(),FALSE)","v":0},{"$f":"SUM(FRK8:FRO8)","v":0},{"$f":"SUM(FRP8:FRT8)","v":0},{"$f":"SUM(FRU8:FRY8)","v":0},{"$f":"SUM(FRK8:FRY8)","v":0},{"$f":"VLOOKUP($A$8,SOURCE!$A$7:$IMC$146,COLUMN(),FALSE)","v":0},{"$f":"VLOOKUP($A$8,SOURCE!$A$7:$IMC$146,COLUMN(),FALSE)","v":0},{"$f":"VLOOKUP($A$8,SOURCE!$A$7:$IMC$146,COLUMN(),FALSE)","v":0},{"$f":"VLOOKUP($A$8,SOURCE!$A$7:$IMC$146,COLUMN(),FALSE)","v":0},{"$f":"VLOOKUP($A$8,SOURCE!$A$7:$IMC$146,COLUMN(),FALSE)","v":0},{"$f":"VLOOKUP($A$8,SOURCE!$A$7:$IMC$146,COLUMN(),FALSE)","v":0},{"$f":"VLOOKUP($A$8,SOURCE!$A$7:$IMC$146,COLUMN(),FALSE)","v":0},{"$f":"VLOOKUP($A$8,SOURCE!$A$7:$IMC$146,COLUMN(),FALSE)","v":0},{"$f":"VLOOKUP($A$8,SOURCE!$A$7:$IMC$146,COLUMN(),FALSE)","v":0},{"$f":"VLOOKUP($A$8,SOURCE!$A$7:$IMC$146,COLUMN(),FALSE)","v":0},{"$f":"VLOOKUP($A$8,SOURCE!$A$7:$IMC$146,COLUMN(),FALSE)","v":0},{"$f":"VLOOKUP($A$8,SOURCE!$A$7:$IMC$146,COLUMN(),FALSE)","v":0},{"$f":"VLOOKUP($A$8,SOURCE!$A$7:$IMC$146,COLUMN(),FALSE)","v":0},{"$f":"VLOOKUP($A$8,SOURCE!$A$7:$IMC$146,COLUMN(),FALSE)","v":0},{"$f":"VLOOKUP($A$8,SOURCE!$A$7:$IMC$146,COLUMN(),FALSE)","v":0},{"$f":"SUM(FSD8:FSH8)","v":0},{"$f":"SUM(FSI8:FSM8)","v":0},{"$f":"SUM(FSN8:FSR8)","v":0},{"$f":"SUM(FSD8:FSR8)","v":0},{"$f":"VLOOKUP($A$8,SOURCE!$A$7:$IMC$146,COLUMN(),FALSE)","v":0},{"$f":"VLOOKUP($A$8,SOURCE!$A$7:$IMC$146,COLUMN(),FALSE)","v":0},{"$f":"VLOOKUP($A$8,SOURCE!$A$7:$IMC$146,COLUMN(),FALSE)","v":0},{"$f":"VLOOKUP($A$8,SOURCE!$A$7:$IMC$146,COLUMN(),FALSE)","v":0},{"$f":"VLOOKUP($A$8,SOURCE!$A$7:$IMC$146,COLUMN(),FALSE)","v":0},{"$f":"VLOOKUP($A$8,SOURCE!$A$7:$IMC$146,COLUMN(),FALSE)","v":0},{"$f":"VLOOKUP($A$8,SOURCE!$A$7:$IMC$146,COLUMN(),FALSE)","v":0},{"$f":"VLOOKUP($A$8,SOURCE!$A$7:$IMC$146,COLUMN(),FALSE)","v":0},{"$f":"VLOOKUP($A$8,SOURCE!$A$7:$IMC$146,COLUMN(),FALSE)","v":0},{"$f":"VLOOKUP($A$8,SOURCE!$A$7:$IMC$146,COLUMN(),FALSE)","v":0},{"$f":"VLOOKUP($A$8,SOURCE!$A$7:$IMC$146,COLUMN(),FALSE)","v":0},{"$f":"VLOOKUP($A$8,SOURCE!$A$7:$IMC$146,COLUMN(),FALSE)","v":0},{"$f":"VLOOKUP($A$8,SOURCE!$A$7:$IMC$146,COLUMN(),FALSE)","v":0},{"$f":"VLOOKUP($A$8,SOURCE!$A$7:$IMC$146,COLUMN(),FALSE)","v":0},{"$f":"VLOOKUP($A$8,SOURCE!$A$7:$IMC$146,COLUMN(),FALSE)","v":0},{"$f":"SUM(FSW8:FTA8)","v":0},{"$f":"SUM(FTB8:FTF8)","v":0},{"$f":"SUM(FTG8:FTK8)","v":0},{"$f":"SUM(FSW8:FTK8)","v":0},{"$f":"VLOOKUP($A$8,SOURCE!$A$7:$IMC$146,COLUMN(),FALSE)","v":0},{"$f":"VLOOKUP($A$8,SOURCE!$A$7:$IMC$146,COLUMN(),FALSE)","v":0},{"$f":"VLOOKUP($A$8,SOURCE!$A$7:$IMC$146,COLUMN(),FALSE)","v":0},{"$f":"VLOOKUP($A$8,SOURCE!$A$7:$IMC$146,COLUMN(),FALSE)","v":0},{"$f":"VLOOKUP($A$8,SOURCE!$A$7:$IMC$146,COLUMN(),FALSE)","v":0},{"$f":"VLOOKUP($A$8,SOURCE!$A$7:$IMC$146,COLUMN(),FALSE)","v":0},{"$f":"VLOOKUP($A$8,SOURCE!$A$7:$IMC$146,COLUMN(),FALSE)","v":0},{"$f":"VLOOKUP($A$8,SOURCE!$A$7:$IMC$146,COLUMN(),FALSE)","v":0},{"$f":"VLOOKUP($A$8,SOURCE!$A$7:$IMC$146,COLUMN(),FALSE)","v":0},{"$f":"VLOOKUP($A$8,SOURCE!$A$7:$IMC$146,COLUMN(),FALSE)","v":0},{"$f":"VLOOKUP($A$8,SOURCE!$A$7:$IMC$146,COLUMN(),FALSE)","v":0},{"$f":"VLOOKUP($A$8,SOURCE!$A$7:$IMC$146,COLUMN(),FALSE)","v":0},{"$f":"VLOOKUP($A$8,SOURCE!$A$7:$IMC$146,COLUMN(),FALSE)","v":0},{"$f":"VLOOKUP($A$8,SOURCE!$A$7:$IMC$146,COLUMN(),FALSE)","v":0},{"$f":"VLOOKUP($A$8,SOURCE!$A$7:$IMC$146,COLUMN(),FALSE)","v":0},{"$f":"SUM(FTP8:FTT8)","v":0},{"$f":"SUM(FTU8:FTY8)","v":0},{"$f":"SUM(FTZ8:FUD8)","v":0},{"$f":"SUM(FTP8:FUD8)","v":0},{"$f":"VLOOKUP($A$8,SOURCE!$A$7:$IMC$146,COLUMN(),FALSE)","v":0},{"$f":"VLOOKUP($A$8,SOURCE!$A$7:$IMC$146,COLUMN(),FALSE)","v":0},{"$f":"VLOOKUP($A$8,SOURCE!$A$7:$IMC$146,COLUMN(),FALSE)","v":0},{"$f":"VLOOKUP($A$8,SOURCE!$A$7:$IMC$146,COLUMN(),FALSE)","v":0},{"$f":"VLOOKUP($A$8,SOURCE!$A$7:$IMC$146,COLUMN(),FALSE)","v":0},{"$f":"VLOOKUP($A$8,SOURCE!$A$7:$IMC$146,COLUMN(),FALSE)","v":0},{"$f":"VLOOKUP($A$8,SOURCE!$A$7:$IMC$146,COLUMN(),FALSE)","v":0},{"$f":"VLOOKUP($A$8,SOURCE!$A$7:$IMC$146,COLUMN(),FALSE)","v":0},{"$f":"VLOOKUP($A$8,SOURCE!$A$7:$IMC$146,COLUMN(),FALSE)","v":0},{"$f":"VLOOKUP($A$8,SOURCE!$A$7:$IMC$146,COLUMN(),FALSE)","v":0},{"$f":"VLOOKUP($A$8,SOURCE!$A$7:$IMC$146,COLUMN(),FALSE)","v":0},{"$f":"VLOOKUP($A$8,SOURCE!$A$7:$IMC$146,COLUMN(),FALSE)","v":0},{"$f":"VLOOKUP($A$8,SOURCE!$A$7:$IMC$146,COLUMN(),FALSE)","v":0},{"$f":"VLOOKUP($A$8,SOURCE!$A$7:$IMC$146,COLUMN(),FALSE)","v":0},{"$f":"VLOOKUP($A$8,SOURCE!$A$7:$IMC$146,COLUMN(),FALSE)","v":0},{"$f":"SUM(FUI8:FUM8)","v":0},{"$f":"SUM(FUN8:FUR8)","v":0},{"$f":"SUM(FUS8:FUW8)","v":0},{"$f":"SUM(FUI8:FUW8)","v":0},{"$f":"FRK8+FSD8+FSW8+FTP8+FUI8","v":0},0,0,0,0,0,0,0,0,0,0,0,0,0,0,{"$f":"SUM(FVB8:FVF8)","v":0},{"$f":"SUM(FVG8:FVK8)","v":0},{"$f":"SUM(FVL8:FVP8)","v":0},{"$f":"SUM(FVB8:FVP8)","v":0},{"$f":"FNA8+FRK8","v":0},0,0,0,0,0,0,0,0,0,0,0,0,0,0,{"$f":"SUM(FVU8:FVY8)","v":0},{"$f":"SUM(FVZ8:FWD8)","v":0},{"$f":"SUM(FWE8:FWI8)","v":0},{"$f":"SUM(FVU8:FWI8)","v":0},{"$f":"FNT8+FSD8","v":0},0,0,0,0,0,0,0,0,0,0,0,0,0,0,{"$f":"SUM(FWN8:FWR8)","v":0},{"$f":"SUM(FWS8:FWW8)","v":0},{"$f":"SUM(FWX8:FXB8)","v":0},{"$f":"SUM(FWN8:FXB8)","v":0},{"$f":"FOM8+FSW8","v":0},0,0,0,0,0,0,0,0,0,0,0,0,0,0,{"$f":"SUM(FXG8:FXK8)","v":0},{"$f":"SUM(FXL8:FXP8)","v":0},{"$f":"SUM(FXQ8:FXU8)","v":0},{"$f":"SUM(FXG8:FXU8)","v":0},{"$f":"FPF8+FTP8","v":0},0,0,0,0,0,0,0,0,0,0,0,0,0,0,{"$f":"SUM(FXZ8:FYD8)","v":0},{"$f":"SUM(FYE8:FYI8)","v":0},{"$f":"SUM(FYJ8:FYN8)","v":0},{"$f":"SUM(FXZ8:FYN8)","v":0},{"$f":"FPY8+FUI8","v":0},0,0,0,0,0,0,0,0,0,0,0,0,0,0,{"$f":"SUM(FYS8:FYW8)","v":0},{"$f":"SUM(FYX8:FZB8)","v":0},{"$f":"SUM(FZC8:FZG8)","v":0},{"$f":"SUM(FYS8:FZG8)","v":0},{"$f":"FQR8+FVB8","v":0},0,0,0,0,0,0,0,0,0,0,0,0,0,0,{"$f":"SUM(FZL8:FZP8)","v":0},{"$f":"SUM(FZQ8:FZU8)","v":0},{"$f":"SUM(FZV8:FZZ8)","v":0},{"$f":"SUM(FZL8:FZZ8)","v":0},{"$f":"VLOOKUP($A$8,SOURCE!$A$7:$IMC$146,COLUMN(),FALSE)","v":0},{"$f":"VLOOKUP($A$8,SOURCE!$A$7:$IMC$146,COLUMN(),FALSE)","v":0},{"$f":"VLOOKUP($A$8,SOURCE!$A$7:$IMC$146,COLUMN(),FALSE)","v":0},{"$f":"VLOOKUP($A$8,SOURCE!$A$7:$IMC$146,COLUMN(),FALSE)","v":0},{"$f":"VLOOKUP($A$8,SOURCE!$A$7:$IMC$146,COLUMN(),FALSE)","v":0},{"$f":"VLOOKUP($A$8,SOURCE!$A$7:$IMC$146,COLUMN(),FALSE)","v":0},{"$f":"VLOOKUP($A$8,SOURCE!$A$7:$IMC$146,COLUMN(),FALSE)","v":0},{"$f":"VLOOKUP($A$8,SOURCE!$A$7:$IMC$146,COLUMN(),FALSE)","v":0},{"$f":"VLOOKUP($A$8,SOURCE!$A$7:$IMC$146,COLUMN(),FALSE)","v":0},{"$f":"VLOOKUP($A$8,SOURCE!$A$7:$IMC$146,COLUMN(),FALSE)","v":0},{"$f":"VLOOKUP($A$8,SOURCE!$A$7:$IMC$146,COLUMN(),FALSE)","v":0},{"$f":"VLOOKUP($A$8,SOURCE!$A$7:$IMC$146,COLUMN(),FALSE)","v":0},{"$f":"VLOOKUP($A$8,SOURCE!$A$7:$IMC$146,COLUMN(),FALSE)","v":0},{"$f":"VLOOKUP($A$8,SOURCE!$A$7:$IMC$146,COLUMN(),FALSE)","v":0},{"$f":"VLOOKUP($A$8,SOURCE!$A$7:$IMC$146,COLUMN(),FALSE)","v":0},{"$f":"SUM(GAE8:GAI8)","v":0},{"$f":"SUM(GAJ8:GAN8)","v":0},{"$f":"SUM(GAO8:GAS8)","v":0},{"$f":"SUM(GAE8:GAS8)","v":0},{"$f":"VLOOKUP($A$8,SOURCE!$A$7:$IMC$146,COLUMN(),FALSE)","v":0},{"$f":"VLOOKUP($A$8,SOURCE!$A$7:$IMC$146,COLUMN(),FALSE)","v":0},{"$f":"VLOOKUP($A$8,SOURCE!$A$7:$IMC$146,COLUMN(),FALSE)","v":0},{"$f":"VLOOKUP($A$8,SOURCE!$A$7:$IMC$146,COLUMN(),FALSE)","v":0},{"$f":"VLOOKUP($A$8,SOURCE!$A$7:$IMC$146,COLUMN(),FALSE)","v":0},{"$f":"VLOOKUP($A$8,SOURCE!$A$7:$IMC$146,COLUMN(),FALSE)","v":0},{"$f":"VLOOKUP($A$8,SOURCE!$A$7:$IMC$146,COLUMN(),FALSE)","v":0},{"$f":"VLOOKUP($A$8,SOURCE!$A$7:$IMC$146,COLUMN(),FALSE)","v":0},{"$f":"VLOOKUP($A$8,SOURCE!$A$7:$IMC$146,COLUMN(),FALSE)","v":0},{"$f":"VLOOKUP($A$8,SOURCE!$A$7:$IMC$146,COLUMN(),FALSE)","v":0},{"$f":"VLOOKUP($A$8,SOURCE!$A$7:$IMC$146,COLUMN(),FALSE)","v":0},{"$f":"VLOOKUP($A$8,SOURCE!$A$7:$IMC$146,COLUMN(),FALSE)","v":0},{"$f":"VLOOKUP($A$8,SOURCE!$A$7:$IMC$146,COLUMN(),FALSE)","v":0},{"$f":"VLOOKUP($A$8,SOURCE!$A$7:$IMC$146,COLUMN(),FALSE)","v":0},{"$f":"VLOOKUP($A$8,SOURCE!$A$7:$IMC$146,COLUMN(),FALSE)","v":0},{"$f":"SUM(GAX8:GBB8)","v":0},{"$f":"SUM(GBC8:GBG8)","v":0},{"$f":"SUM(GBH8:GBL8)","v":0},{"$f":"SUM(GAX8:GBL8)","v":0},{"$f":"VLOOKUP($A$8,SOURCE!$A$7:$IMC$146,COLUMN(),FALSE)","v":0},{"$f":"VLOOKUP($A$8,SOURCE!$A$7:$IMC$146,COLUMN(),FALSE)","v":0},{"$f":"VLOOKUP($A$8,SOURCE!$A$7:$IMC$146,COLUMN(),FALSE)","v":0},{"$f":"VLOOKUP($A$8,SOURCE!$A$7:$IMC$146,COLUMN(),FALSE)","v":0},{"$f":"VLOOKUP($A$8,SOURCE!$A$7:$IMC$146,COLUMN(),FALSE)","v":0},{"$f":"VLOOKUP($A$8,SOURCE!$A$7:$IMC$146,COLUMN(),FALSE)","v":0},{"$f":"VLOOKUP($A$8,SOURCE!$A$7:$IMC$146,COLUMN(),FALSE)","v":0},{"$f":"VLOOKUP($A$8,SOURCE!$A$7:$IMC$146,COLUMN(),FALSE)","v":0},{"$f":"VLOOKUP($A$8,SOURCE!$A$7:$IMC$146,COLUMN(),FALSE)","v":0},{"$f":"VLOOKUP($A$8,SOURCE!$A$7:$IMC$146,COLUMN(),FALSE)","v":0},{"$f":"VLOOKUP($A$8,SOURCE!$A$7:$IMC$146,COLUMN(),FALSE)","v":0},{"$f":"VLOOKUP($A$8,SOURCE!$A$7:$IMC$146,COLUMN(),FALSE)","v":0},{"$f":"VLOOKUP($A$8,SOURCE!$A$7:$IMC$146,COLUMN(),FALSE)","v":0},{"$f":"VLOOKUP($A$8,SOURCE!$A$7:$IMC$146,COLUMN(),FALSE)","v":0},{"$f":"VLOOKUP($A$8,SOURCE!$A$7:$IMC$146,COLUMN(),FALSE)","v":0},{"$f":"SUM(GBQ8:GBU8)","v":0},{"$f":"SUM(GBV8:GBZ8)","v":0},{"$f":"SUM(GCA8:GCE8)","v":0},{"$f":"SUM(GBQ8:GCE8)","v":0},{"$f":"VLOOKUP($A$8,SOURCE!$A$7:$IMC$146,COLUMN(),FALSE)","v":0},{"$f":"VLOOKUP($A$8,SOURCE!$A$7:$IMC$146,COLUMN(),FALSE)","v":0},{"$f":"VLOOKUP($A$8,SOURCE!$A$7:$IMC$146,COLUMN(),FALSE)","v":0},{"$f":"VLOOKUP($A$8,SOURCE!$A$7:$IMC$146,COLUMN(),FALSE)","v":0},{"$f":"VLOOKUP($A$8,SOURCE!$A$7:$IMC$146,COLUMN(),FALSE)","v":0},{"$f":"VLOOKUP($A$8,SOURCE!$A$7:$IMC$146,COLUMN(),FALSE)","v":0},{"$f":"VLOOKUP($A$8,SOURCE!$A$7:$IMC$146,COLUMN(),FALSE)","v":0},{"$f":"VLOOKUP($A$8,SOURCE!$A$7:$IMC$146,COLUMN(),FALSE)","v":0},{"$f":"VLOOKUP($A$8,SOURCE!$A$7:$IMC$146,COLUMN(),FALSE)","v":0},{"$f":"VLOOKUP($A$8,SOURCE!$A$7:$IMC$146,COLUMN(),FALSE)","v":0},{"$f":"VLOOKUP($A$8,SOURCE!$A$7:$IMC$146,COLUMN(),FALSE)","v":0},{"$f":"VLOOKUP($A$8,SOURCE!$A$7:$IMC$146,COLUMN(),FALSE)","v":0},{"$f":"VLOOKUP($A$8,SOURCE!$A$7:$IMC$146,COLUMN(),FALSE)","v":0},{"$f":"VLOOKUP($A$8,SOURCE!$A$7:$IMC$146,COLUMN(),FALSE)","v":0},{"$f":"VLOOKUP($A$8,SOURCE!$A$7:$IMC$146,COLUMN(),FALSE)","v":0},{"$f":"SUM(GCJ8:GCN8)","v":0},{"$f":"SUM(GCO8:GCS8)","v":0},{"$f":"SUM(GCT8:GCX8)","v":0},{"$f":"SUM(GCJ8:GCX8)","v":0},{"$f":"VLOOKUP($A$8,SOURCE!$A$7:$IMC$146,COLUMN(),FALSE)","v":0},{"$f":"VLOOKUP($A$8,SOURCE!$A$7:$IMC$146,COLUMN(),FALSE)","v":0},{"$f":"VLOOKUP($A$8,SOURCE!$A$7:$IMC$146,COLUMN(),FALSE)","v":0},{"$f":"VLOOKUP($A$8,SOURCE!$A$7:$IMC$146,COLUMN(),FALSE)","v":0},{"$f":"VLOOKUP($A$8,SOURCE!$A$7:$IMC$146,COLUMN(),FALSE)","v":0},{"$f":"VLOOKUP($A$8,SOURCE!$A$7:$IMC$146,COLUMN(),FALSE)","v":0},{"$f":"VLOOKUP($A$8,SOURCE!$A$7:$IMC$146,COLUMN(),FALSE)","v":0},{"$f":"VLOOKUP($A$8,SOURCE!$A$7:$IMC$146,COLUMN(),FALSE)","v":0},{"$f":"VLOOKUP($A$8,SOURCE!$A$7:$IMC$146,COLUMN(),FALSE)","v":0},{"$f":"VLOOKUP($A$8,SOURCE!$A$7:$IMC$146,COLUMN(),FALSE)","v":0},{"$f":"VLOOKUP($A$8,SOURCE!$A$7:$IMC$146,COLUMN(),FALSE)","v":0},{"$f":"VLOOKUP($A$8,SOURCE!$A$7:$IMC$146,COLUMN(),FALSE)","v":0},{"$f":"VLOOKUP($A$8,SOURCE!$A$7:$IMC$146,COLUMN(),FALSE)","v":0},{"$f":"VLOOKUP($A$8,SOURCE!$A$7:$IMC$146,COLUMN(),FALSE)","v":0},{"$f":"VLOOKUP($A$8,SOURCE!$A$7:$IMC$146,COLUMN(),FALSE)","v":0},{"$f":"SUM(GDC8:GDG8)","v":0},{"$f":"SUM(GDH8:GDL8)","v":0},{"$f":"SUM(GDM8:GDQ8)","v":0},{"$f":"SUM(GDC8:GDQ8)","v":0},{"$f":"GAE8+GAX8+GBQ8+GCJ8+GDC8","v":0},0,0,0,0,0,0,0,0,0,0,0,0,0,0,{"$f":"SUM(GDV8:GDZ8)","v":0},{"$f":"SUM(GEA8:GEE8)","v":0},{"$f":"SUM(GEF8:GEJ8)","v":0},{"$f":"SUM(GDV8:GEJ8)","v":0},{"$f":"VLOOKUP($A$8,SOURCE!$A$7:$IMC$146,COLUMN(),FALSE)","v":0},{"$f":"VLOOKUP($A$8,SOURCE!$A$7:$IMC$146,COLUMN(),FALSE)","v":0},{"$f":"VLOOKUP($A$8,SOURCE!$A$7:$IMC$146,COLUMN(),FALSE)","v":0},{"$f":"VLOOKUP($A$8,SOURCE!$A$7:$IMC$146,COLUMN(),FALSE)","v":0},{"$f":"VLOOKUP($A$8,SOURCE!$A$7:$IMC$146,COLUMN(),FALSE)","v":0},{"$f":"VLOOKUP($A$8,SOURCE!$A$7:$IMC$146,COLUMN(),FALSE)","v":0},{"$f":"VLOOKUP($A$8,SOURCE!$A$7:$IMC$146,COLUMN(),FALSE)","v":0},{"$f":"VLOOKUP($A$8,SOURCE!$A$7:$IMC$146,COLUMN(),FALSE)","v":0},{"$f":"VLOOKUP($A$8,SOURCE!$A$7:$IMC$146,COLUMN(),FALSE)","v":0},{"$f":"VLOOKUP($A$8,SOURCE!$A$7:$IMC$146,COLUMN(),FALSE)","v":0},{"$f":"VLOOKUP($A$8,SOURCE!$A$7:$IMC$146,COLUMN(),FALSE)","v":0},{"$f":"VLOOKUP($A$8,SOURCE!$A$7:$IMC$146,COLUMN(),FALSE)","v":0},{"$f":"VLOOKUP($A$8,SOURCE!$A$7:$IMC$146,COLUMN(),FALSE)","v":0},{"$f":"VLOOKUP($A$8,SOURCE!$A$7:$IMC$146,COLUMN(),FALSE)","v":0},{"$f":"VLOOKUP($A$8,SOURCE!$A$7:$IMC$146,COLUMN(),FALSE)","v":0},{"$f":"SUM(GEO8:GES8)","v":0},{"$f":"SUM(GET8:GEX8)","v":0},{"$f":"SUM(GEY8:GFC8)","v":0},{"$f":"SUM(GEO8:GFC8)","v":0},{"$f":"VLOOKUP($A$8,SOURCE!$A$7:$IMC$146,COLUMN(),FALSE)","v":0},{"$f":"VLOOKUP($A$8,SOURCE!$A$7:$IMC$146,COLUMN(),FALSE)","v":0},{"$f":"VLOOKUP($A$8,SOURCE!$A$7:$IMC$146,COLUMN(),FALSE)","v":0},{"$f":"VLOOKUP($A$8,SOURCE!$A$7:$IMC$146,COLUMN(),FALSE)","v":0},{"$f":"VLOOKUP($A$8,SOURCE!$A$7:$IMC$146,COLUMN(),FALSE)","v":0},{"$f":"VLOOKUP($A$8,SOURCE!$A$7:$IMC$146,COLUMN(),FALSE)","v":0},{"$f":"VLOOKUP($A$8,SOURCE!$A$7:$IMC$146,COLUMN(),FALSE)","v":0},{"$f":"VLOOKUP($A$8,SOURCE!$A$7:$IMC$146,COLUMN(),FALSE)","v":0},{"$f":"VLOOKUP($A$8,SOURCE!$A$7:$IMC$146,COLUMN(),FALSE)","v":0},{"$f":"VLOOKUP($A$8,SOURCE!$A$7:$IMC$146,COLUMN(),FALSE)","v":0},{"$f":"VLOOKUP($A$8,SOURCE!$A$7:$IMC$146,COLUMN(),FALSE)","v":0},{"$f":"VLOOKUP($A$8,SOURCE!$A$7:$IMC$146,COLUMN(),FALSE)","v":0},{"$f":"VLOOKUP($A$8,SOURCE!$A$7:$IMC$146,COLUMN(),FALSE)","v":0},{"$f":"VLOOKUP($A$8,SOURCE!$A$7:$IMC$146,COLUMN(),FALSE)","v":0},{"$f":"VLOOKUP($A$8,SOURCE!$A$7:$IMC$146,COLUMN(),FALSE)","v":0},{"$f":"SUM(GFH8:GFL8)","v":0},{"$f":"SUM(GFM8:GFQ8)","v":0},{"$f":"SUM(GFR8:GFV8)","v":0},{"$f":"SUM(GFH8:GFV8)","v":0},{"$f":"VLOOKUP($A$8,SOURCE!$A$7:$IMC$146,COLUMN(),FALSE)","v":0},{"$f":"VLOOKUP($A$8,SOURCE!$A$7:$IMC$146,COLUMN(),FALSE)","v":0},{"$f":"VLOOKUP($A$8,SOURCE!$A$7:$IMC$146,COLUMN(),FALSE)","v":0},{"$f":"VLOOKUP($A$8,SOURCE!$A$7:$IMC$146,COLUMN(),FALSE)","v":0},{"$f":"VLOOKUP($A$8,SOURCE!$A$7:$IMC$146,COLUMN(),FALSE)","v":0},{"$f":"VLOOKUP($A$8,SOURCE!$A$7:$IMC$146,COLUMN(),FALSE)","v":0},{"$f":"VLOOKUP($A$8,SOURCE!$A$7:$IMC$146,COLUMN(),FALSE)","v":0},{"$f":"VLOOKUP($A$8,SOURCE!$A$7:$IMC$146,COLUMN(),FALSE)","v":0},{"$f":"VLOOKUP($A$8,SOURCE!$A$7:$IMC$146,COLUMN(),FALSE)","v":0},{"$f":"VLOOKUP($A$8,SOURCE!$A$7:$IMC$146,COLUMN(),FALSE)","v":0},{"$f":"VLOOKUP($A$8,SOURCE!$A$7:$IMC$146,COLUMN(),FALSE)","v":0},{"$f":"VLOOKUP($A$8,SOURCE!$A$7:$IMC$146,COLUMN(),FALSE)","v":0},{"$f":"VLOOKUP($A$8,SOURCE!$A$7:$IMC$146,COLUMN(),FALSE)","v":0},{"$f":"VLOOKUP($A$8,SOURCE!$A$7:$IMC$146,COLUMN(),FALSE)","v":0},{"$f":"VLOOKUP($A$8,SOURCE!$A$7:$IMC$146,COLUMN(),FALSE)","v":0},{"$f":"SUM(GGA8:GGE8)","v":0},{"$f":"SUM(GGF8:GGJ8)","v":0},{"$f":"SUM(GGK8:GGO8)","v":0},{"$f":"SUM(GGA8:GGO8)","v":0},{"$f":"VLOOKUP($A$8,SOURCE!$A$7:$IMC$146,COLUMN(),FALSE)","v":0},{"$f":"VLOOKUP($A$8,SOURCE!$A$7:$IMC$146,COLUMN(),FALSE)","v":0},{"$f":"VLOOKUP($A$8,SOURCE!$A$7:$IMC$146,COLUMN(),FALSE)","v":0},{"$f":"VLOOKUP($A$8,SOURCE!$A$7:$IMC$146,COLUMN(),FALSE)","v":0},{"$f":"VLOOKUP($A$8,SOURCE!$A$7:$IMC$146,COLUMN(),FALSE)","v":0},{"$f":"VLOOKUP($A$8,SOURCE!$A$7:$IMC$146,COLUMN(),FALSE)","v":0},{"$f":"VLOOKUP($A$8,SOURCE!$A$7:$IMC$146,COLUMN(),FALSE)","v":0},{"$f":"VLOOKUP($A$8,SOURCE!$A$7:$IMC$146,COLUMN(),FALSE)","v":0},{"$f":"VLOOKUP($A$8,SOURCE!$A$7:$IMC$146,COLUMN(),FALSE)","v":0},{"$f":"VLOOKUP($A$8,SOURCE!$A$7:$IMC$146,COLUMN(),FALSE)","v":0},{"$f":"VLOOKUP($A$8,SOURCE!$A$7:$IMC$146,COLUMN(),FALSE)","v":0},{"$f":"VLOOKUP($A$8,SOURCE!$A$7:$IMC$146,COLUMN(),FALSE)","v":0},{"$f":"VLOOKUP($A$8,SOURCE!$A$7:$IMC$146,COLUMN(),FALSE)","v":0},{"$f":"VLOOKUP($A$8,SOURCE!$A$7:$IMC$146,COLUMN(),FALSE)","v":0},{"$f":"VLOOKUP($A$8,SOURCE!$A$7:$IMC$146,COLUMN(),FALSE)","v":0},{"$f":"SUM(GGT8:GGX8)","v":0},{"$f":"SUM(GGY8:GHC8)","v":0},{"$f":"SUM(GHD8:GHH8)","v":0},{"$f":"SUM(GGT8:GHH8)","v":0},{"$f":"VLOOKUP($A$8,SOURCE!$A$7:$IMC$146,COLUMN(),FALSE)","v":0},{"$f":"VLOOKUP($A$8,SOURCE!$A$7:$IMC$146,COLUMN(),FALSE)","v":0},{"$f":"VLOOKUP($A$8,SOURCE!$A$7:$IMC$146,COLUMN(),FALSE)","v":0},{"$f":"VLOOKUP($A$8,SOURCE!$A$7:$IMC$146,COLUMN(),FALSE)","v":0},{"$f":"VLOOKUP($A$8,SOURCE!$A$7:$IMC$146,COLUMN(),FALSE)","v":0},{"$f":"VLOOKUP($A$8,SOURCE!$A$7:$IMC$146,COLUMN(),FALSE)","v":0},{"$f":"VLOOKUP($A$8,SOURCE!$A$7:$IMC$146,COLUMN(),FALSE)","v":0},{"$f":"VLOOKUP($A$8,SOURCE!$A$7:$IMC$146,COLUMN(),FALSE)","v":0},{"$f":"VLOOKUP($A$8,SOURCE!$A$7:$IMC$146,COLUMN(),FALSE)","v":0},{"$f":"VLOOKUP($A$8,SOURCE!$A$7:$IMC$146,COLUMN(),FALSE)","v":0},{"$f":"VLOOKUP($A$8,SOURCE!$A$7:$IMC$146,COLUMN(),FALSE)","v":0},{"$f":"VLOOKUP($A$8,SOURCE!$A$7:$IMC$146,COLUMN(),FALSE)","v":0},{"$f":"VLOOKUP($A$8,SOURCE!$A$7:$IMC$146,COLUMN(),FALSE)","v":0},{"$f":"VLOOKUP($A$8,SOURCE!$A$7:$IMC$146,COLUMN(),FALSE)","v":0},{"$f":"VLOOKUP($A$8,SOURCE!$A$7:$IMC$146,COLUMN(),FALSE)","v":0},{"$f":"SUM(GHM8:GHQ8)","v":0},{"$f":"SUM(GHR8:GHV8)","v":0},{"$f":"SUM(GHW8:GIA8)","v":0},{"$f":"SUM(GHM8:GIA8)","v":0},{"$f":"GEO8+GFH8+GGA8+GGT8+GHM8","v":0},0,0,0,0,0,0,0,0,0,0,0,0,0,0,{"$f":"SUM(GIF8:GIJ8)","v":0},{"$f":"SUM(GIK8:GIO8)","v":0},{"$f":"SUM(GIP8:GIT8)","v":0},{"$f":"SUM(GIF8:GIT8)","v":0},{"$f":"GAE8+GEO8","v":0},0,0,0,0,0,0,0,0,0,0,0,0,0,0,{"$f":"SUM(GIY8:GJC8)","v":0},{"$f":"SUM(GJD8:GJH8)","v":0},{"$f":"SUM(GJI8:GJM8)","v":0},{"$f":"SUM(GIY8:GJM8)","v":0},{"$f":"GAX8+GFH8","v":0},0,0,0,0,0,0,0,0,0,0,0,0,0,0,{"$f":"SUM(GJR8:GJV8)","v":0},{"$f":"SUM(GJW8:GKA8)","v":0},{"$f":"SUM(GKB8:GKF8)","v":0},{"$f":"SUM(GJR8:GKF8)","v":0},{"$f":"GBQ8+GGA8","v":0},0,0,0,0,0,0,0,0,0,0,0,0,0,0,{"$f":"SUM(GKK8:GKO8)","v":0},{"$f":"SUM(GKP8:GKT8)","v":0},{"$f":"SUM(GKU8:GKY8)","v":0},{"$f":"SUM(GKK8:GKY8)","v":0},{"$f":"GCJ8+GGT8","v":0},0,0,0,0,0,0,0,0,0,0,0,0,0,0,{"$f":"SUM(GLD8:GLH8)","v":0},{"$f":"SUM(GLI8:GLM8)","v":0},{"$f":"SUM(GLN8:GLR8)","v":0},{"$f":"SUM(GLD8:GLR8)","v":0},{"$f":"GDC8+GHM8","v":0},0,0,0,0,0,0,0,0,0,0,0,0,0,0,{"$f":"SUM(GLW8:GMA8)","v":0},{"$f":"SUM(GMB8:GMF8)","v":0},{"$f":"SUM(GMG8:GMK8)","v":0},{"$f":"SUM(GLW8:GMK8)","v":0},{"$f":"GDV8+GIF8","v":0},0,0,0,0,0,0,0,0,0,0,0,0,0,0,{"$f":"SUM(GMP8:GMT8)","v":0},{"$f":"SUM(GMU8:GMY8)","v":0},{"$f":"SUM(GMZ8:GND8)","v":0},{"$f":"SUM(GMP8:GND8)","v":0},{"$f":"VLOOKUP($A$8,SOURCE!$A$7:$IMC$146,COLUMN(),FALSE)","v":0},{"$f":"VLOOKUP($A$8,SOURCE!$A$7:$IMC$146,COLUMN(),FALSE)","v":0},{"$f":"VLOOKUP($A$8,SOURCE!$A$7:$IMC$146,COLUMN(),FALSE)","v":0},{"$f":"VLOOKUP($A$8,SOURCE!$A$7:$IMC$146,COLUMN(),FALSE)","v":0},{"$f":"VLOOKUP($A$8,SOURCE!$A$7:$IMC$146,COLUMN(),FALSE)","v":0},{"$f":"VLOOKUP($A$8,SOURCE!$A$7:$IMC$146,COLUMN(),FALSE)","v":0},{"$f":"VLOOKUP($A$8,SOURCE!$A$7:$IMC$146,COLUMN(),FALSE)","v":0},{"$f":"VLOOKUP($A$8,SOURCE!$A$7:$IMC$146,COLUMN(),FALSE)","v":0},{"$f":"VLOOKUP($A$8,SOURCE!$A$7:$IMC$146,COLUMN(),FALSE)","v":0},{"$f":"VLOOKUP($A$8,SOURCE!$A$7:$IMC$146,COLUMN(),FALSE)","v":0},{"$f":"VLOOKUP($A$8,SOURCE!$A$7:$IMC$146,COLUMN(),FALSE)","v":0},{"$f":"VLOOKUP($A$8,SOURCE!$A$7:$IMC$146,COLUMN(),FALSE)","v":0},{"$f":"VLOOKUP($A$8,SOURCE!$A$7:$IMC$146,COLUMN(),FALSE)","v":0},{"$f":"VLOOKUP($A$8,SOURCE!$A$7:$IMC$146,COLUMN(),FALSE)","v":0},{"$f":"VLOOKUP($A$8,SOURCE!$A$7:$IMC$146,COLUMN(),FALSE)","v":0},{"$f":"SUM(GNI8:GNM8)","v":0},{"$f":"SUM(GNN8:GNR8)","v":0},{"$f":"SUM(GNS8:GNW8)","v":0},{"$f":"SUM(GNI8:GNW8)","v":0},{"$f":"VLOOKUP($A$8,SOURCE!$A$7:$IMC$146,COLUMN(),FALSE)","v":0},{"$f":"VLOOKUP($A$8,SOURCE!$A$7:$IMC$146,COLUMN(),FALSE)","v":0},{"$f":"VLOOKUP($A$8,SOURCE!$A$7:$IMC$146,COLUMN(),FALSE)","v":0},{"$f":"VLOOKUP($A$8,SOURCE!$A$7:$IMC$146,COLUMN(),FALSE)","v":0},{"$f":"VLOOKUP($A$8,SOURCE!$A$7:$IMC$146,COLUMN(),FALSE)","v":0},{"$f":"VLOOKUP($A$8,SOURCE!$A$7:$IMC$146,COLUMN(),FALSE)","v":0},{"$f":"VLOOKUP($A$8,SOURCE!$A$7:$IMC$146,COLUMN(),FALSE)","v":0},{"$f":"VLOOKUP($A$8,SOURCE!$A$7:$IMC$146,COLUMN(),FALSE)","v":0},{"$f":"VLOOKUP($A$8,SOURCE!$A$7:$IMC$146,COLUMN(),FALSE)","v":0},{"$f":"VLOOKUP($A$8,SOURCE!$A$7:$IMC$146,COLUMN(),FALSE)","v":0},{"$f":"VLOOKUP($A$8,SOURCE!$A$7:$IMC$146,COLUMN(),FALSE)","v":0},{"$f":"VLOOKUP($A$8,SOURCE!$A$7:$IMC$146,COLUMN(),FALSE)","v":0},{"$f":"VLOOKUP($A$8,SOURCE!$A$7:$IMC$146,COLUMN(),FALSE)","v":0},{"$f":"VLOOKUP($A$8,SOURCE!$A$7:$IMC$146,COLUMN(),FALSE)","v":0},{"$f":"VLOOKUP($A$8,SOURCE!$A$7:$IMC$146,COLUMN(),FALSE)","v":0},{"$f":"SUM(GOB8:GOF8)","v":0},{"$f":"SUM(GOG8:GOK8)","v":0},{"$f":"SUM(GOL8:GOP8)","v":0},{"$f":"SUM(GOB8:GOP8)","v":0},{"$f":"VLOOKUP($A$8,SOURCE!$A$7:$IMC$146,COLUMN(),FALSE)","v":0},{"$f":"VLOOKUP($A$8,SOURCE!$A$7:$IMC$146,COLUMN(),FALSE)","v":0},{"$f":"VLOOKUP($A$8,SOURCE!$A$7:$IMC$146,COLUMN(),FALSE)","v":0},{"$f":"VLOOKUP($A$8,SOURCE!$A$7:$IMC$146,COLUMN(),FALSE)","v":0},{"$f":"VLOOKUP($A$8,SOURCE!$A$7:$IMC$146,COLUMN(),FALSE)","v":0},{"$f":"VLOOKUP($A$8,SOURCE!$A$7:$IMC$146,COLUMN(),FALSE)","v":0},{"$f":"VLOOKUP($A$8,SOURCE!$A$7:$IMC$146,COLUMN(),FALSE)","v":0},{"$f":"VLOOKUP($A$8,SOURCE!$A$7:$IMC$146,COLUMN(),FALSE)","v":0},{"$f":"VLOOKUP($A$8,SOURCE!$A$7:$IMC$146,COLUMN(),FALSE)","v":0},{"$f":"VLOOKUP($A$8,SOURCE!$A$7:$IMC$146,COLUMN(),FALSE)","v":0},{"$f":"VLOOKUP($A$8,SOURCE!$A$7:$IMC$146,COLUMN(),FALSE)","v":0},{"$f":"VLOOKUP($A$8,SOURCE!$A$7:$IMC$146,COLUMN(),FALSE)","v":0},{"$f":"VLOOKUP($A$8,SOURCE!$A$7:$IMC$146,COLUMN(),FALSE)","v":0},{"$f":"VLOOKUP($A$8,SOURCE!$A$7:$IMC$146,COLUMN(),FALSE)","v":0},{"$f":"VLOOKUP($A$8,SOURCE!$A$7:$IMC$146,COLUMN(),FALSE)","v":0},{"$f":"SUM(GOU8:GOY8)","v":0},{"$f":"SUM(GOZ8:GPD8)","v":0},{"$f":"SUM(GPE8:GPI8)","v":0},{"$f":"SUM(GOU8:GPI8)","v":0},{"$f":"VLOOKUP($A$8,SOURCE!$A$7:$IMC$146,COLUMN(),FALSE)","v":0},{"$f":"VLOOKUP($A$8,SOURCE!$A$7:$IMC$146,COLUMN(),FALSE)","v":0},{"$f":"VLOOKUP($A$8,SOURCE!$A$7:$IMC$146,COLUMN(),FALSE)","v":0},{"$f":"VLOOKUP($A$8,SOURCE!$A$7:$IMC$146,COLUMN(),FALSE)","v":0},{"$f":"VLOOKUP($A$8,SOURCE!$A$7:$IMC$146,COLUMN(),FALSE)","v":0},{"$f":"VLOOKUP($A$8,SOURCE!$A$7:$IMC$146,COLUMN(),FALSE)","v":0},{"$f":"VLOOKUP($A$8,SOURCE!$A$7:$IMC$146,COLUMN(),FALSE)","v":0},{"$f":"VLOOKUP($A$8,SOURCE!$A$7:$IMC$146,COLUMN(),FALSE)","v":0},{"$f":"VLOOKUP($A$8,SOURCE!$A$7:$IMC$146,COLUMN(),FALSE)","v":0},{"$f":"VLOOKUP($A$8,SOURCE!$A$7:$IMC$146,COLUMN(),FALSE)","v":0},{"$f":"VLOOKUP($A$8,SOURCE!$A$7:$IMC$146,COLUMN(),FALSE)","v":0},{"$f":"VLOOKUP($A$8,SOURCE!$A$7:$IMC$146,COLUMN(),FALSE)","v":0},{"$f":"VLOOKUP($A$8,SOURCE!$A$7:$IMC$146,COLUMN(),FALSE)","v":0},{"$f":"VLOOKUP($A$8,SOURCE!$A$7:$IMC$146,COLUMN(),FALSE)","v":0},{"$f":"VLOOKUP($A$8,SOURCE!$A$7:$IMC$146,COLUMN(),FALSE)","v":0},{"$f":"SUM(GPN8:GPR8)","v":0},{"$f":"SUM(GPS8:GPW8)","v":0},{"$f":"SUM(GPX8:GQB8)","v":0},{"$f":"SUM(GPN8:GQB8)","v":0},{"$f":"VLOOKUP($A$8,SOURCE!$A$7:$IMC$146,COLUMN(),FALSE)","v":0},{"$f":"VLOOKUP($A$8,SOURCE!$A$7:$IMC$146,COLUMN(),FALSE)","v":0},{"$f":"VLOOKUP($A$8,SOURCE!$A$7:$IMC$146,COLUMN(),FALSE)","v":0},{"$f":"VLOOKUP($A$8,SOURCE!$A$7:$IMC$146,COLUMN(),FALSE)","v":0},{"$f":"VLOOKUP($A$8,SOURCE!$A$7:$IMC$146,COLUMN(),FALSE)","v":0},{"$f":"VLOOKUP($A$8,SOURCE!$A$7:$IMC$146,COLUMN(),FALSE)","v":0},{"$f":"VLOOKUP($A$8,SOURCE!$A$7:$IMC$146,COLUMN(),FALSE)","v":0},{"$f":"VLOOKUP($A$8,SOURCE!$A$7:$IMC$146,COLUMN(),FALSE)","v":0},{"$f":"VLOOKUP($A$8,SOURCE!$A$7:$IMC$146,COLUMN(),FALSE)","v":0},{"$f":"VLOOKUP($A$8,SOURCE!$A$7:$IMC$146,COLUMN(),FALSE)","v":0},{"$f":"VLOOKUP($A$8,SOURCE!$A$7:$IMC$146,COLUMN(),FALSE)","v":0},{"$f":"VLOOKUP($A$8,SOURCE!$A$7:$IMC$146,COLUMN(),FALSE)","v":0},{"$f":"VLOOKUP($A$8,SOURCE!$A$7:$IMC$146,COLUMN(),FALSE)","v":0},{"$f":"VLOOKUP($A$8,SOURCE!$A$7:$IMC$146,COLUMN(),FALSE)","v":0},{"$f":"VLOOKUP($A$8,SOURCE!$A$7:$IMC$146,COLUMN(),FALSE)","v":0},{"$f":"SUM(GQG8:GQK8)","v":0},{"$f":"SUM(GQL8:GQP8)","v":0},{"$f":"SUM(GQQ8:GQU8)","v":0},{"$f":"SUM(GQG8:GQU8)","v":0},{"$f":"GNI8+GOB8+GOU8+GPN8+GQG8","v":0},0,0,0,0,0,0,0,0,0,0,0,0,0,0,{"$f":"SUM(GQZ8:GRD8)","v":0},{"$f":"SUM(GRE8:GRI8)","v":0},{"$f":"SUM(GRJ8:GRN8)","v":0},{"$f":"SUM(GQZ8:GRN8)","v":0},{"$f":"VLOOKUP($A$8,SOURCE!$A$7:$IMC$146,COLUMN(),FALSE)","v":0},{"$f":"VLOOKUP($A$8,SOURCE!$A$7:$IMC$146,COLUMN(),FALSE)","v":0},{"$f":"VLOOKUP($A$8,SOURCE!$A$7:$IMC$146,COLUMN(),FALSE)","v":0},{"$f":"VLOOKUP($A$8,SOURCE!$A$7:$IMC$146,COLUMN(),FALSE)","v":0},{"$f":"VLOOKUP($A$8,SOURCE!$A$7:$IMC$146,COLUMN(),FALSE)","v":0},{"$f":"VLOOKUP($A$8,SOURCE!$A$7:$IMC$146,COLUMN(),FALSE)","v":0},{"$f":"VLOOKUP($A$8,SOURCE!$A$7:$IMC$146,COLUMN(),FALSE)","v":0},{"$f":"VLOOKUP($A$8,SOURCE!$A$7:$IMC$146,COLUMN(),FALSE)","v":0},{"$f":"VLOOKUP($A$8,SOURCE!$A$7:$IMC$146,COLUMN(),FALSE)","v":0},{"$f":"VLOOKUP($A$8,SOURCE!$A$7:$IMC$146,COLUMN(),FALSE)","v":0},{"$f":"VLOOKUP($A$8,SOURCE!$A$7:$IMC$146,COLUMN(),FALSE)","v":0},{"$f":"VLOOKUP($A$8,SOURCE!$A$7:$IMC$146,COLUMN(),FALSE)","v":0},{"$f":"VLOOKUP($A$8,SOURCE!$A$7:$IMC$146,COLUMN(),FALSE)","v":0},{"$f":"VLOOKUP($A$8,SOURCE!$A$7:$IMC$146,COLUMN(),FALSE)","v":0},{"$f":"VLOOKUP($A$8,SOURCE!$A$7:$IMC$146,COLUMN(),FALSE)","v":0},{"$f":"SUM(GRS8:GRW8)","v":0},{"$f":"SUM(GRX8:GSB8)","v":0},{"$f":"SUM(GSC8:GSG8)","v":0},{"$f":"SUM(GRS8:GSG8)","v":0},{"$f":"VLOOKUP($A$8,SOURCE!$A$7:$IMC$146,COLUMN(),FALSE)","v":0},{"$f":"VLOOKUP($A$8,SOURCE!$A$7:$IMC$146,COLUMN(),FALSE)","v":0},{"$f":"VLOOKUP($A$8,SOURCE!$A$7:$IMC$146,COLUMN(),FALSE)","v":0},{"$f":"VLOOKUP($A$8,SOURCE!$A$7:$IMC$146,COLUMN(),FALSE)","v":0},{"$f":"VLOOKUP($A$8,SOURCE!$A$7:$IMC$146,COLUMN(),FALSE)","v":0},{"$f":"VLOOKUP($A$8,SOURCE!$A$7:$IMC$146,COLUMN(),FALSE)","v":0},{"$f":"VLOOKUP($A$8,SOURCE!$A$7:$IMC$146,COLUMN(),FALSE)","v":0},{"$f":"VLOOKUP($A$8,SOURCE!$A$7:$IMC$146,COLUMN(),FALSE)","v":0},{"$f":"VLOOKUP($A$8,SOURCE!$A$7:$IMC$146,COLUMN(),FALSE)","v":0},{"$f":"VLOOKUP($A$8,SOURCE!$A$7:$IMC$146,COLUMN(),FALSE)","v":0},{"$f":"VLOOKUP($A$8,SOURCE!$A$7:$IMC$146,COLUMN(),FALSE)","v":0},{"$f":"VLOOKUP($A$8,SOURCE!$A$7:$IMC$146,COLUMN(),FALSE)","v":0},{"$f":"VLOOKUP($A$8,SOURCE!$A$7:$IMC$146,COLUMN(),FALSE)","v":0},{"$f":"VLOOKUP($A$8,SOURCE!$A$7:$IMC$146,COLUMN(),FALSE)","v":0},{"$f":"VLOOKUP($A$8,SOURCE!$A$7:$IMC$146,COLUMN(),FALSE)","v":0},{"$f":"SUM(GSL8:GSP8)","v":0},{"$f":"SUM(GSQ8:GSU8)","v":0},{"$f":"SUM(GSV8:GSZ8)","v":0},{"$f":"SUM(GSL8:GSZ8)","v":0},{"$f":"VLOOKUP($A$8,SOURCE!$A$7:$IMC$146,COLUMN(),FALSE)","v":0},{"$f":"VLOOKUP($A$8,SOURCE!$A$7:$IMC$146,COLUMN(),FALSE)","v":0},{"$f":"VLOOKUP($A$8,SOURCE!$A$7:$IMC$146,COLUMN(),FALSE)","v":0},{"$f":"VLOOKUP($A$8,SOURCE!$A$7:$IMC$146,COLUMN(),FALSE)","v":0},{"$f":"VLOOKUP($A$8,SOURCE!$A$7:$IMC$146,COLUMN(),FALSE)","v":0},{"$f":"VLOOKUP($A$8,SOURCE!$A$7:$IMC$146,COLUMN(),FALSE)","v":0},{"$f":"VLOOKUP($A$8,SOURCE!$A$7:$IMC$146,COLUMN(),FALSE)","v":0},{"$f":"VLOOKUP($A$8,SOURCE!$A$7:$IMC$146,COLUMN(),FALSE)","v":0},{"$f":"VLOOKUP($A$8,SOURCE!$A$7:$IMC$146,COLUMN(),FALSE)","v":0},{"$f":"VLOOKUP($A$8,SOURCE!$A$7:$IMC$146,COLUMN(),FALSE)","v":0},{"$f":"VLOOKUP($A$8,SOURCE!$A$7:$IMC$146,COLUMN(),FALSE)","v":0},{"$f":"VLOOKUP($A$8,SOURCE!$A$7:$IMC$146,COLUMN(),FALSE)","v":0},{"$f":"VLOOKUP($A$8,SOURCE!$A$7:$IMC$146,COLUMN(),FALSE)","v":0},{"$f":"VLOOKUP($A$8,SOURCE!$A$7:$IMC$146,COLUMN(),FALSE)","v":0},{"$f":"VLOOKUP($A$8,SOURCE!$A$7:$IMC$146,COLUMN(),FALSE)","v":0},{"$f":"SUM(GTE8:GTI8)","v":0},{"$f":"SUM(GTJ8:GTN8)","v":0},{"$f":"SUM(GTO8:GTS8)","v":0},{"$f":"SUM(GTE8:GTS8)","v":0},{"$f":"VLOOKUP($A$8,SOURCE!$A$7:$IMC$146,COLUMN(),FALSE)","v":0},{"$f":"VLOOKUP($A$8,SOURCE!$A$7:$IMC$146,COLUMN(),FALSE)","v":0},{"$f":"VLOOKUP($A$8,SOURCE!$A$7:$IMC$146,COLUMN(),FALSE)","v":0},{"$f":"VLOOKUP($A$8,SOURCE!$A$7:$IMC$146,COLUMN(),FALSE)","v":0},{"$f":"VLOOKUP($A$8,SOURCE!$A$7:$IMC$146,COLUMN(),FALSE)","v":0},{"$f":"VLOOKUP($A$8,SOURCE!$A$7:$IMC$146,COLUMN(),FALSE)","v":0},{"$f":"VLOOKUP($A$8,SOURCE!$A$7:$IMC$146,COLUMN(),FALSE)","v":0},{"$f":"VLOOKUP($A$8,SOURCE!$A$7:$IMC$146,COLUMN(),FALSE)","v":0},{"$f":"VLOOKUP($A$8,SOURCE!$A$7:$IMC$146,COLUMN(),FALSE)","v":0},{"$f":"VLOOKUP($A$8,SOURCE!$A$7:$IMC$146,COLUMN(),FALSE)","v":0},{"$f":"VLOOKUP($A$8,SOURCE!$A$7:$IMC$146,COLUMN(),FALSE)","v":0},{"$f":"VLOOKUP($A$8,SOURCE!$A$7:$IMC$146,COLUMN(),FALSE)","v":0},{"$f":"VLOOKUP($A$8,SOURCE!$A$7:$IMC$146,COLUMN(),FALSE)","v":0},{"$f":"VLOOKUP($A$8,SOURCE!$A$7:$IMC$146,COLUMN(),FALSE)","v":0},{"$f":"VLOOKUP($A$8,SOURCE!$A$7:$IMC$146,COLUMN(),FALSE)","v":0},{"$f":"SUM(GTX8:GUB8)","v":0},{"$f":"SUM(GUC8:GUG8)","v":0},{"$f":"SUM(GUH8:GUL8)","v":0},{"$f":"SUM(GTX8:GUL8)","v":0},{"$f":"VLOOKUP($A$8,SOURCE!$A$7:$IMC$146,COLUMN(),FALSE)","v":0},{"$f":"VLOOKUP($A$8,SOURCE!$A$7:$IMC$146,COLUMN(),FALSE)","v":0},{"$f":"VLOOKUP($A$8,SOURCE!$A$7:$IMC$146,COLUMN(),FALSE)","v":0},{"$f":"VLOOKUP($A$8,SOURCE!$A$7:$IMC$146,COLUMN(),FALSE)","v":0},{"$f":"VLOOKUP($A$8,SOURCE!$A$7:$IMC$146,COLUMN(),FALSE)","v":0},{"$f":"VLOOKUP($A$8,SOURCE!$A$7:$IMC$146,COLUMN(),FALSE)","v":0},{"$f":"VLOOKUP($A$8,SOURCE!$A$7:$IMC$146,COLUMN(),FALSE)","v":0},{"$f":"VLOOKUP($A$8,SOURCE!$A$7:$IMC$146,COLUMN(),FALSE)","v":0},{"$f":"VLOOKUP($A$8,SOURCE!$A$7:$IMC$146,COLUMN(),FALSE)","v":0},{"$f":"VLOOKUP($A$8,SOURCE!$A$7:$IMC$146,COLUMN(),FALSE)","v":0},{"$f":"VLOOKUP($A$8,SOURCE!$A$7:$IMC$146,COLUMN(),FALSE)","v":0},{"$f":"VLOOKUP($A$8,SOURCE!$A$7:$IMC$146,COLUMN(),FALSE)","v":0},{"$f":"VLOOKUP($A$8,SOURCE!$A$7:$IMC$146,COLUMN(),FALSE)","v":0},{"$f":"VLOOKUP($A$8,SOURCE!$A$7:$IMC$146,COLUMN(),FALSE)","v":0},{"$f":"VLOOKUP($A$8,SOURCE!$A$7:$IMC$146,COLUMN(),FALSE)","v":0},{"$f":"SUM(GUQ8:GUU8)","v":0},{"$f":"SUM(GUV8:GUZ8)","v":0},{"$f":"SUM(GVA8:GVE8)","v":0},{"$f":"SUM(GUQ8:GVE8)","v":0},{"$f":"GRS8+GSL8+GTE8+GTX8+GUQ8","v":0},0,0,0,0,0,0,0,0,0,0,0,0,0,0,{"$f":"SUM(GVJ8:GVN8)","v":0},{"$f":"SUM(GVO8:GVS8)","v":0},{"$f":"SUM(GVT8:GVX8)","v":0},{"$f":"SUM(GVJ8:GVX8)","v":0},{"$f":"GNI8+GRS8","v":0},0,0,0,0,0,0,0,0,0,0,0,0,0,0,{"$f":"SUM(GWC8:GWG8)","v":0},{"$f":"SUM(GWH8:GWL8)","v":0},{"$f":"SUM(GWM8:GWQ8)","v":0},{"$f":"SUM(GWC8:GWQ8)","v":0},{"$f":"GOB8+GSL8","v":0},0,0,0,0,0,0,0,0,0,0,0,0,0,0,{"$f":"SUM(GWV8:GWZ8)","v":0},{"$f":"SUM(GXA8:GXE8)","v":0},{"$f":"SUM(GXF8:GXJ8)","v":0},{"$f":"SUM(GWV8:GXJ8)","v":0},{"$f":"GOU8+GTE8","v":0},0,0,0,0,0,0,0,0,0,0,0,0,0,0,{"$f":"SUM(GXO8:GXS8)","v":0},{"$f":"SUM(GXT8:GXX8)","v":0},{"$f":"SUM(GXY8:GYC8)","v":0},{"$f":"SUM(GXO8:GYC8)","v":0},{"$f":"GPN8+GTX8","v":0},0,0,0,0,0,0,0,0,0,0,0,0,0,0,{"$f":"SUM(GYH8:GYL8)","v":0},{"$f":"SUM(GYM8:GYQ8)","v":0},{"$f":"SUM(GYR8:GYV8)","v":0},{"$f":"SUM(GYH8:GYV8)","v":0},{"$f":"GQG8+GUQ8","v":0},0,0,0,0,0,0,0,0,0,0,0,0,0,0,{"$f":"SUM(GZA8:GZE8)","v":0},{"$f":"SUM(GZF8:GZJ8)","v":0},{"$f":"SUM(GZK8:GZO8)","v":0},{"$f":"SUM(GZA8:GZO8)","v":0},{"$f":"GQZ8+GVJ8","v":0},0,0,0,0,0,0,0,0,0,0,0,0,0,0,{"$f":"SUM(GZT8:GZX8)","v":0},{"$f":"SUM(GZY8:HAC8)","v":0},{"$f":"SUM(HAD8:HAH8)","v":0},{"$f":"SUM(GZT8:HAH8)","v":0},{"$f":"VLOOKUP($A$8,SOURCE!$A$7:$IMC$146,COLUMN(),FALSE)","v":0},{"$f":"VLOOKUP($A$8,SOURCE!$A$7:$IMC$146,COLUMN(),FALSE)","v":0},{"$f":"VLOOKUP($A$8,SOURCE!$A$7:$IMC$146,COLUMN(),FALSE)","v":0},{"$f":"VLOOKUP($A$8,SOURCE!$A$7:$IMC$146,COLUMN(),FALSE)","v":0},{"$f":"VLOOKUP($A$8,SOURCE!$A$7:$IMC$146,COLUMN(),FALSE)","v":0},{"$f":"VLOOKUP($A$8,SOURCE!$A$7:$IMC$146,COLUMN(),FALSE)","v":0},{"$f":"VLOOKUP($A$8,SOURCE!$A$7:$IMC$146,COLUMN(),FALSE)","v":0},{"$f":"VLOOKUP($A$8,SOURCE!$A$7:$IMC$146,COLUMN(),FALSE)","v":0},{"$f":"VLOOKUP($A$8,SOURCE!$A$7:$IMC$146,COLUMN(),FALSE)","v":0},{"$f":"VLOOKUP($A$8,SOURCE!$A$7:$IMC$146,COLUMN(),FALSE)","v":0},{"$f":"VLOOKUP($A$8,SOURCE!$A$7:$IMC$146,COLUMN(),FALSE)","v":0},{"$f":"VLOOKUP($A$8,SOURCE!$A$7:$IMC$146,COLUMN(),FALSE)","v":0},{"$f":"VLOOKUP($A$8,SOURCE!$A$7:$IMC$146,COLUMN(),FALSE)","v":0},{"$f":"VLOOKUP($A$8,SOURCE!$A$7:$IMC$146,COLUMN(),FALSE)","v":0},{"$f":"VLOOKUP($A$8,SOURCE!$A$7:$IMC$146,COLUMN(),FALSE)","v":0},{"$f":"SUM(HAM8:HAQ8)","v":0},{"$f":"SUM(HAR8:HAV8)","v":0},{"$f":"SUM(HAW8:HBA8)","v":0},{"$f":"SUM(HAM8:HBA8)","v":0},{"$f":"VLOOKUP($A$8,SOURCE!$A$7:$IMC$146,COLUMN(),FALSE)","v":0},{"$f":"VLOOKUP($A$8,SOURCE!$A$7:$IMC$146,COLUMN(),FALSE)","v":0},{"$f":"VLOOKUP($A$8,SOURCE!$A$7:$IMC$146,COLUMN(),FALSE)","v":0},{"$f":"VLOOKUP($A$8,SOURCE!$A$7:$IMC$146,COLUMN(),FALSE)","v":0},{"$f":"VLOOKUP($A$8,SOURCE!$A$7:$IMC$146,COLUMN(),FALSE)","v":0},{"$f":"VLOOKUP($A$8,SOURCE!$A$7:$IMC$146,COLUMN(),FALSE)","v":0},{"$f":"VLOOKUP($A$8,SOURCE!$A$7:$IMC$146,COLUMN(),FALSE)","v":0},{"$f":"VLOOKUP($A$8,SOURCE!$A$7:$IMC$146,COLUMN(),FALSE)","v":0},{"$f":"VLOOKUP($A$8,SOURCE!$A$7:$IMC$146,COLUMN(),FALSE)","v":0},{"$f":"VLOOKUP($A$8,SOURCE!$A$7:$IMC$146,COLUMN(),FALSE)","v":0},{"$f":"VLOOKUP($A$8,SOURCE!$A$7:$IMC$146,COLUMN(),FALSE)","v":0},{"$f":"VLOOKUP($A$8,SOURCE!$A$7:$IMC$146,COLUMN(),FALSE)","v":0},{"$f":"VLOOKUP($A$8,SOURCE!$A$7:$IMC$146,COLUMN(),FALSE)","v":0},{"$f":"VLOOKUP($A$8,SOURCE!$A$7:$IMC$146,COLUMN(),FALSE)","v":0},{"$f":"VLOOKUP($A$8,SOURCE!$A$7:$IMC$146,COLUMN(),FALSE)","v":0},{"$f":"SUM(HBF8:HBJ8)","v":0},{"$f":"SUM(HBK8:HBO8)","v":0},{"$f":"SUM(HBP8:HBT8)","v":0},{"$f":"SUM(HBF8:HBT8)","v":0},{"$f":"VLOOKUP($A$8,SOURCE!$A$7:$IMC$146,COLUMN(),FALSE)","v":0},{"$f":"VLOOKUP($A$8,SOURCE!$A$7:$IMC$146,COLUMN(),FALSE)","v":0},{"$f":"VLOOKUP($A$8,SOURCE!$A$7:$IMC$146,COLUMN(),FALSE)","v":0},{"$f":"VLOOKUP($A$8,SOURCE!$A$7:$IMC$146,COLUMN(),FALSE)","v":0},{"$f":"VLOOKUP($A$8,SOURCE!$A$7:$IMC$146,COLUMN(),FALSE)","v":0},{"$f":"VLOOKUP($A$8,SOURCE!$A$7:$IMC$146,COLUMN(),FALSE)","v":0},{"$f":"VLOOKUP($A$8,SOURCE!$A$7:$IMC$146,COLUMN(),FALSE)","v":0},{"$f":"VLOOKUP($A$8,SOURCE!$A$7:$IMC$146,COLUMN(),FALSE)","v":0},{"$f":"VLOOKUP($A$8,SOURCE!$A$7:$IMC$146,COLUMN(),FALSE)","v":0},{"$f":"VLOOKUP($A$8,SOURCE!$A$7:$IMC$146,COLUMN(),FALSE)","v":0},{"$f":"VLOOKUP($A$8,SOURCE!$A$7:$IMC$146,COLUMN(),FALSE)","v":0},{"$f":"VLOOKUP($A$8,SOURCE!$A$7:$IMC$146,COLUMN(),FALSE)","v":0},{"$f":"VLOOKUP($A$8,SOURCE!$A$7:$IMC$146,COLUMN(),FALSE)","v":0},{"$f":"VLOOKUP($A$8,SOURCE!$A$7:$IMC$146,COLUMN(),FALSE)","v":0},{"$f":"VLOOKUP($A$8,SOURCE!$A$7:$IMC$146,COLUMN(),FALSE)","v":0},{"$f":"SUM(HBY8:HCC8)","v":0},{"$f":"SUM(HCD8:HCH8)","v":0},{"$f":"SUM(HCI8:HCM8)","v":0},{"$f":"SUM(HBY8:HCM8)","v":0},{"$f":"VLOOKUP($A$8,SOURCE!$A$7:$IMC$146,COLUMN(),FALSE)","v":0},{"$f":"VLOOKUP($A$8,SOURCE!$A$7:$IMC$146,COLUMN(),FALSE)","v":0},{"$f":"VLOOKUP($A$8,SOURCE!$A$7:$IMC$146,COLUMN(),FALSE)","v":0},{"$f":"VLOOKUP($A$8,SOURCE!$A$7:$IMC$146,COLUMN(),FALSE)","v":0},{"$f":"VLOOKUP($A$8,SOURCE!$A$7:$IMC$146,COLUMN(),FALSE)","v":0},{"$f":"VLOOKUP($A$8,SOURCE!$A$7:$IMC$146,COLUMN(),FALSE)","v":0},{"$f":"VLOOKUP($A$8,SOURCE!$A$7:$IMC$146,COLUMN(),FALSE)","v":0},{"$f":"VLOOKUP($A$8,SOURCE!$A$7:$IMC$146,COLUMN(),FALSE)","v":0},{"$f":"VLOOKUP($A$8,SOURCE!$A$7:$IMC$146,COLUMN(),FALSE)","v":0},{"$f":"VLOOKUP($A$8,SOURCE!$A$7:$IMC$146,COLUMN(),FALSE)","v":0},{"$f":"VLOOKUP($A$8,SOURCE!$A$7:$IMC$146,COLUMN(),FALSE)","v":0},{"$f":"VLOOKUP($A$8,SOURCE!$A$7:$IMC$146,COLUMN(),FALSE)","v":0},{"$f":"VLOOKUP($A$8,SOURCE!$A$7:$IMC$146,COLUMN(),FALSE)","v":0},{"$f":"VLOOKUP($A$8,SOURCE!$A$7:$IMC$146,COLUMN(),FALSE)","v":0},{"$f":"VLOOKUP($A$8,SOURCE!$A$7:$IMC$146,COLUMN(),FALSE)","v":0},{"$f":"SUM(HCR8:HCV8)","v":0},{"$f":"SUM(HCW8:HDA8)","v":0},{"$f":"SUM(HDB8:HDF8)","v":0},{"$f":"SUM(HCR8:HDF8)","v":0},{"$f":"VLOOKUP($A$8,SOURCE!$A$7:$IMC$146,COLUMN(),FALSE)","v":0},{"$f":"VLOOKUP($A$8,SOURCE!$A$7:$IMC$146,COLUMN(),FALSE)","v":0},{"$f":"VLOOKUP($A$8,SOURCE!$A$7:$IMC$146,COLUMN(),FALSE)","v":0},{"$f":"VLOOKUP($A$8,SOURCE!$A$7:$IMC$146,COLUMN(),FALSE)","v":0},{"$f":"VLOOKUP($A$8,SOURCE!$A$7:$IMC$146,COLUMN(),FALSE)","v":0},{"$f":"VLOOKUP($A$8,SOURCE!$A$7:$IMC$146,COLUMN(),FALSE)","v":0},{"$f":"VLOOKUP($A$8,SOURCE!$A$7:$IMC$146,COLUMN(),FALSE)","v":0},{"$f":"VLOOKUP($A$8,SOURCE!$A$7:$IMC$146,COLUMN(),FALSE)","v":0},{"$f":"VLOOKUP($A$8,SOURCE!$A$7:$IMC$146,COLUMN(),FALSE)","v":0},{"$f":"VLOOKUP($A$8,SOURCE!$A$7:$IMC$146,COLUMN(),FALSE)","v":0},{"$f":"VLOOKUP($A$8,SOURCE!$A$7:$IMC$146,COLUMN(),FALSE)","v":0},{"$f":"VLOOKUP($A$8,SOURCE!$A$7:$IMC$146,COLUMN(),FALSE)","v":0},{"$f":"VLOOKUP($A$8,SOURCE!$A$7:$IMC$146,COLUMN(),FALSE)","v":0},{"$f":"VLOOKUP($A$8,SOURCE!$A$7:$IMC$146,COLUMN(),FALSE)","v":0},{"$f":"VLOOKUP($A$8,SOURCE!$A$7:$IMC$146,COLUMN(),FALSE)","v":0},{"$f":"SUM(HDK8:HDO8)","v":0},{"$f":"SUM(HDP8:HDT8)","v":0},{"$f":"SUM(HDU8:HDY8)","v":0},{"$f":"SUM(HDK8:HDY8)","v":0},{"$f":"HAM8+HBF8+HBY8+HCR8+HDK8","v":0},0,0,0,0,0,0,0,0,0,0,0,0,0,0,{"$f":"SUM(HED8:HEH8)","v":0},{"$f":"SUM(HEI8:HEM8)","v":0},{"$f":"SUM(HEN8:HER8)","v":0},{"$f":"SUM(HED8:HER8)","v":0},{"$f":"VLOOKUP($A$8,SOURCE!$A$7:$IMC$146,COLUMN(),FALSE)","v":0},{"$f":"VLOOKUP($A$8,SOURCE!$A$7:$IMC$146,COLUMN(),FALSE)","v":0},{"$f":"VLOOKUP($A$8,SOURCE!$A$7:$IMC$146,COLUMN(),FALSE)","v":0},{"$f":"VLOOKUP($A$8,SOURCE!$A$7:$IMC$146,COLUMN(),FALSE)","v":0},{"$f":"VLOOKUP($A$8,SOURCE!$A$7:$IMC$146,COLUMN(),FALSE)","v":0},{"$f":"VLOOKUP($A$8,SOURCE!$A$7:$IMC$146,COLUMN(),FALSE)","v":0},{"$f":"VLOOKUP($A$8,SOURCE!$A$7:$IMC$146,COLUMN(),FALSE)","v":0},{"$f":"VLOOKUP($A$8,SOURCE!$A$7:$IMC$146,COLUMN(),FALSE)","v":0},{"$f":"VLOOKUP($A$8,SOURCE!$A$7:$IMC$146,COLUMN(),FALSE)","v":0},{"$f":"VLOOKUP($A$8,SOURCE!$A$7:$IMC$146,COLUMN(),FALSE)","v":0},{"$f":"VLOOKUP($A$8,SOURCE!$A$7:$IMC$146,COLUMN(),FALSE)","v":0},{"$f":"VLOOKUP($A$8,SOURCE!$A$7:$IMC$146,COLUMN(),FALSE)","v":0},{"$f":"VLOOKUP($A$8,SOURCE!$A$7:$IMC$146,COLUMN(),FALSE)","v":0},{"$f":"VLOOKUP($A$8,SOURCE!$A$7:$IMC$146,COLUMN(),FALSE)","v":0},{"$f":"VLOOKUP($A$8,SOURCE!$A$7:$IMC$146,COLUMN(),FALSE)","v":0},{"$f":"SUM(HEW8:HFA8)","v":0},{"$f":"SUM(HFB8:HFF8)","v":0},{"$f":"SUM(HFG8:HFK8)","v":0},{"$f":"SUM(HEW8:HFK8)","v":0},{"$f":"VLOOKUP($A$8,SOURCE!$A$7:$IMC$146,COLUMN(),FALSE)","v":0},{"$f":"VLOOKUP($A$8,SOURCE!$A$7:$IMC$146,COLUMN(),FALSE)","v":0},{"$f":"VLOOKUP($A$8,SOURCE!$A$7:$IMC$146,COLUMN(),FALSE)","v":0},{"$f":"VLOOKUP($A$8,SOURCE!$A$7:$IMC$146,COLUMN(),FALSE)","v":0},{"$f":"VLOOKUP($A$8,SOURCE!$A$7:$IMC$146,COLUMN(),FALSE)","v":0},{"$f":"VLOOKUP($A$8,SOURCE!$A$7:$IMC$146,COLUMN(),FALSE)","v":0},{"$f":"VLOOKUP($A$8,SOURCE!$A$7:$IMC$146,COLUMN(),FALSE)","v":0},{"$f":"VLOOKUP($A$8,SOURCE!$A$7:$IMC$146,COLUMN(),FALSE)","v":0},{"$f":"VLOOKUP($A$8,SOURCE!$A$7:$IMC$146,COLUMN(),FALSE)","v":0},{"$f":"VLOOKUP($A$8,SOURCE!$A$7:$IMC$146,COLUMN(),FALSE)","v":0},{"$f":"VLOOKUP($A$8,SOURCE!$A$7:$IMC$146,COLUMN(),FALSE)","v":0},{"$f":"VLOOKUP($A$8,SOURCE!$A$7:$IMC$146,COLUMN(),FALSE)","v":0},{"$f":"VLOOKUP($A$8,SOURCE!$A$7:$IMC$146,COLUMN(),FALSE)","v":0},{"$f":"VLOOKUP($A$8,SOURCE!$A$7:$IMC$146,COLUMN(),FALSE)","v":0},{"$f":"VLOOKUP($A$8,SOURCE!$A$7:$IMC$146,COLUMN(),FALSE)","v":0},{"$f":"SUM(HFP8:HFT8)","v":0},{"$f":"SUM(HFU8:HFY8)","v":0},{"$f":"SUM(HFZ8:HGD8)","v":0},{"$f":"SUM(HFP8:HGD8)","v":0},{"$f":"VLOOKUP($A$8,SOURCE!$A$7:$IMC$146,COLUMN(),FALSE)","v":0},{"$f":"VLOOKUP($A$8,SOURCE!$A$7:$IMC$146,COLUMN(),FALSE)","v":0},{"$f":"VLOOKUP($A$8,SOURCE!$A$7:$IMC$146,COLUMN(),FALSE)","v":0},{"$f":"VLOOKUP($A$8,SOURCE!$A$7:$IMC$146,COLUMN(),FALSE)","v":0},{"$f":"VLOOKUP($A$8,SOURCE!$A$7:$IMC$146,COLUMN(),FALSE)","v":0},{"$f":"VLOOKUP($A$8,SOURCE!$A$7:$IMC$146,COLUMN(),FALSE)","v":0},{"$f":"VLOOKUP($A$8,SOURCE!$A$7:$IMC$146,COLUMN(),FALSE)","v":0},{"$f":"VLOOKUP($A$8,SOURCE!$A$7:$IMC$146,COLUMN(),FALSE)","v":0},{"$f":"VLOOKUP($A$8,SOURCE!$A$7:$IMC$146,COLUMN(),FALSE)","v":0},{"$f":"VLOOKUP($A$8,SOURCE!$A$7:$IMC$146,COLUMN(),FALSE)","v":0},{"$f":"VLOOKUP($A$8,SOURCE!$A$7:$IMC$146,COLUMN(),FALSE)","v":0},{"$f":"VLOOKUP($A$8,SOURCE!$A$7:$IMC$146,COLUMN(),FALSE)","v":0},{"$f":"VLOOKUP($A$8,SOURCE!$A$7:$IMC$146,COLUMN(),FALSE)","v":0},{"$f":"VLOOKUP($A$8,SOURCE!$A$7:$IMC$146,COLUMN(),FALSE)","v":0},{"$f":"VLOOKUP($A$8,SOURCE!$A$7:$IMC$146,COLUMN(),FALSE)","v":0},{"$f":"SUM(HGI8:HGM8)","v":0},{"$f":"SUM(HGN8:HGR8)","v":0},{"$f":"SUM(HGS8:HGW8)","v":0},{"$f":"SUM(HGI8:HGW8)","v":0},{"$f":"VLOOKUP($A$8,SOURCE!$A$7:$IMC$146,COLUMN(),FALSE)","v":0},{"$f":"VLOOKUP($A$8,SOURCE!$A$7:$IMC$146,COLUMN(),FALSE)","v":0},{"$f":"VLOOKUP($A$8,SOURCE!$A$7:$IMC$146,COLUMN(),FALSE)","v":0},{"$f":"VLOOKUP($A$8,SOURCE!$A$7:$IMC$146,COLUMN(),FALSE)","v":0},{"$f":"VLOOKUP($A$8,SOURCE!$A$7:$IMC$146,COLUMN(),FALSE)","v":0},{"$f":"VLOOKUP($A$8,SOURCE!$A$7:$IMC$146,COLUMN(),FALSE)","v":0},{"$f":"VLOOKUP($A$8,SOURCE!$A$7:$IMC$146,COLUMN(),FALSE)","v":0},{"$f":"VLOOKUP($A$8,SOURCE!$A$7:$IMC$146,COLUMN(),FALSE)","v":0},{"$f":"VLOOKUP($A$8,SOURCE!$A$7:$IMC$146,COLUMN(),FALSE)","v":0},{"$f":"VLOOKUP($A$8,SOURCE!$A$7:$IMC$146,COLUMN(),FALSE)","v":0},{"$f":"VLOOKUP($A$8,SOURCE!$A$7:$IMC$146,COLUMN(),FALSE)","v":0},{"$f":"VLOOKUP($A$8,SOURCE!$A$7:$IMC$146,COLUMN(),FALSE)","v":0},{"$f":"VLOOKUP($A$8,SOURCE!$A$7:$IMC$146,COLUMN(),FALSE)","v":0},{"$f":"VLOOKUP($A$8,SOURCE!$A$7:$IMC$146,COLUMN(),FALSE)","v":0},{"$f":"VLOOKUP($A$8,SOURCE!$A$7:$IMC$146,COLUMN(),FALSE)","v":0},{"$f":"SUM(HHB8:HHF8)","v":0},{"$f":"SUM(HHG8:HHK8)","v":0},{"$f":"SUM(HHL8:HHP8)","v":0},{"$f":"SUM(HHB8:HHP8)","v":0},{"$f":"VLOOKUP($A$8,SOURCE!$A$7:$IMC$146,COLUMN(),FALSE)","v":0},{"$f":"VLOOKUP($A$8,SOURCE!$A$7:$IMC$146,COLUMN(),FALSE)","v":0},{"$f":"VLOOKUP($A$8,SOURCE!$A$7:$IMC$146,COLUMN(),FALSE)","v":0},{"$f":"VLOOKUP($A$8,SOURCE!$A$7:$IMC$146,COLUMN(),FALSE)","v":0},{"$f":"VLOOKUP($A$8,SOURCE!$A$7:$IMC$146,COLUMN(),FALSE)","v":0},{"$f":"VLOOKUP($A$8,SOURCE!$A$7:$IMC$146,COLUMN(),FALSE)","v":0},{"$f":"VLOOKUP($A$8,SOURCE!$A$7:$IMC$146,COLUMN(),FALSE)","v":0},{"$f":"VLOOKUP($A$8,SOURCE!$A$7:$IMC$146,COLUMN(),FALSE)","v":0},{"$f":"VLOOKUP($A$8,SOURCE!$A$7:$IMC$146,COLUMN(),FALSE)","v":0},{"$f":"VLOOKUP($A$8,SOURCE!$A$7:$IMC$146,COLUMN(),FALSE)","v":0},{"$f":"VLOOKUP($A$8,SOURCE!$A$7:$IMC$146,COLUMN(),FALSE)","v":0},{"$f":"VLOOKUP($A$8,SOURCE!$A$7:$IMC$146,COLUMN(),FALSE)","v":0},{"$f":"VLOOKUP($A$8,SOURCE!$A$7:$IMC$146,COLUMN(),FALSE)","v":0},{"$f":"VLOOKUP($A$8,SOURCE!$A$7:$IMC$146,COLUMN(),FALSE)","v":0},{"$f":"VLOOKUP($A$8,SOURCE!$A$7:$IMC$146,COLUMN(),FALSE)","v":0},{"$f":"SUM(HHU8:HHY8)","v":0},{"$f":"SUM(HHZ8:HID8)","v":0},{"$f":"SUM(HIE8:HII8)","v":0},{"$f":"SUM(HHU8:HII8)","v":0},{"$f":"HEW8+HFP8+HGI8+HHB8+HHU8","v":0},0,0,0,0,0,0,0,0,0,0,0,0,0,0,{"$f":"VLOOKUP($A$8,SOURCE!$A$7:$IMC$146,COLUMN(),FALSE)","v":0},{"$f":"VLOOKUP($A$8,SOURCE!$A$7:$IMC$146,COLUMN(),FALSE)","v":0},{"$f":"VLOOKUP($A$8,SOURCE!$A$7:$IMC$146,COLUMN(),FALSE)","v":0},{"$f":"VLOOKUP($A$8,SOURCE!$A$7:$IMC$146,COLUMN(),FALSE)","v":0},{"$f":"HAM8+HEW8","v":0},0,0,0,0,0,0,0,0,0,0,0,0,0,0,{"$f":"SUM(HJG8:HJK8)","v":0},{"$f":"SUM(HJL8:HJP8)","v":0},{"$f":"SUM(HJQ8:HJU8)","v":0},{"$f":"SUM(HJG8:HJU8)","v":0},{"$f":"HBF8+HFP8","v":0},0,0,0,0,0,0,0,0,0,0,0,0,0,0,{"$f":"SUM(HJZ8:HKD8)","v":0},{"$f":"SUM(HKE8:HKI8)","v":0},{"$f":"SUM(HKJ8:HKN8)","v":0},{"$f":"SUM(HJZ8:HKN8)","v":0},{"$f":"HBY8+HGI8","v":0},0,0,0,0,0,0,0,0,0,0,0,0,0,0,{"$f":"SUM(HKS8:HKW8)","v":0},{"$f":"SUM(HKX8:HLB8)","v":0},{"$f":"SUM(HLC8:HLG8)","v":0},{"$f":"SUM(HKS8:HLG8)","v":0},{"$f":"HCR8+HHB8","v":0},0,0,0,0,0,0,0,0,0,0,0,0,0,0,{"$f":"SUM(HLL8:HLP8)","v":0},{"$f":"SUM(HLQ8:HLU8)","v":0},{"$f":"SUM(HLV8:HLZ8)","v":0},{"$f":"SUM(HLL8:HLZ8)","v":0},{"$f":"HDK8+HHU8","v":0},0,0,0,0,0,0,0,0,0,0,0,0,0,0,{"$f":"SUM(HME8:HMI8)","v":0},{"$f":"SUM(HMJ8:HMN8)","v":0},{"$f":"SUM(HMO8:HMS8)","v":0},{"$f":"SUM(HME8:HMS8)","v":0},{"$f":"HED8+HIN8","v":0},0,0,0,0,0,0,0,0,0,0,0,0,0,0,{"$f":"SUM(HMX8:HNB8)","v":0},{"$f":"SUM(HNC8:HNG8)","v":0},{"$f":"SUM(HNH8:HNL8)","v":0},{"$f":"SUM(HMX8:HNL8)","v":0},{"$f":"BPO8","v":118246.73177874487},{"$f":"BPP8","v":0},{"$f":"BPQ8","v":0},{"$f":"SUM(HNQ8:HNS8)","v":118246.73177874487},{"$f":"HNT8/(CL8-'HOJA DE VERIFICACIÓN DE DATOS'!E6)","v":23649.346355748974},{"$f":"BQJ8","v":121469.00710753632},{"$f":"BQK8","v":0},{"$f":"BQL8","v":0},{"$f":"SUM(HNV8:HNX8)","v":121469.00710753632},{"$f":"HNY8/(CL8-'HOJA DE VERIFICACIÓN DE DATOS'!E6)","v":24293.801421507265},{"$f":"BRE8","v":121469.00710753632},{"$f":"BRF8","v":0},{"$f":"BRG8","v":0},{"$f":"SUM(HOA8:HOC8)","v":121469.00710753632},{"$f":"HOD8/(CL8-'HOJA DE VERIFICACIÓN DE DATOS'!E6)","v":24293.801421507265},{"$f":"BRZ8","v":121469.00710753632},{"$f":"BSA8","v":0},{"$f":"BSB8","v":0},{"$f":"SUM(HOF8:HOH8)","v":121469.00710753632},{"$f":"HOI8/(CL8-'HOJA DE VERIFICACIÓN DE DATOS'!E6)","v":24293.801421507265},{"$f":"BSU8","v":121469.00710753632},{"$f":"BSV8","v":0},{"$f":"BSW8","v":0},{"$f":"SUM(HOK8:HOM8)","v":121469.00710753632},{"$f":"HON8/(CL8-'HOJA DE VERIFICACIÓN DE DATOS'!E6)","v":24293.801421507265},{"$f":"HNQ8+HNV8+HOA8+HOF8+HOK8","v":604122.76020889019},{"$f":"HNR8+HNW8+HOB8+HOG8+HOL8","v":0},{"$f":"HNS8+HNX8+HOC8+HOH8+HOM8","v":0},{"$f":"SUM(HOP8:HOR8)","v":604122.76020889019},{"$f":"HOS8/(CL8-'HOJA DE VERIFICACIÓN DE DATOS'!E6)","v":120824.55204177804},{"$f":"CXM8","v":313731.74993620929},{"$f":"CXN8","v":400065.09351175965},{"$f":"CXO8","v":0},{"$f":"SUM(HOU8:HOW8)","v":713796.84344796895},{"$f":"HOX8/(BF8-'HOJA DE VERIFICACIÓN DE DATOS'!E6)","v":71379.6843447969},{"$f":"CYH8","v":313731.74993620929},{"$f":"CYI8","v":400065.09351175965},{"$f":"CYJ8","v":0},{"$f":"SUM(HOZ8:HPB8)","v":713796.84344796895},{"$f":"HPC8/(BF8-'HOJA DE VERIFICACIÓN DE DATOS'!E6)","v":71379.6843447969},{"$f":"CZC8","v":313731.74993620929},{"$f":"CZD8","v":400065.09351175965},{"$f":"CZE8","v":0},{"$f":"SUM(HPE8:HPG8)","v":713796.84344796895},{"$f":"HPH8/(BF8-'HOJA DE VERIFICACIÓN DE DATOS'!E6)","v":71379.6843447969},{"$f":"CZX8","v":313731.74993620929},{"$f":"CZY8","v":400065.09351175965},{"$f":"CZZ8","v":0},{"$f":"SUM(HPJ8:HPL8)","v":713796.84344796895},{"$f":"HPM8/(BF8-'HOJA DE VERIFICACIÓN DE DATOS'!E6)","v":71379.6843447969},{"$f":"DAS8","v":313731.74993620929},{"$f":"DAT8","v":400065.09351175965},{"$f":"DAU8","v":0},{"$f":"SUM(HPO8:HPQ8)","v":713796.84344796895},{"$f":"HPR8/(BF8-'HOJA DE VERIFICACIÓN DE DATOS'!E6)","v":71379.6843447969},{"$f":"DBN8","v":1568658.7496810465},{"$f":"DBO8","v":2000325.4675587984},{"$f":"DBP8","v":0},{"$f":"SUM(HPT8:HPV8)","v":3568984.2172398446},{"$f":"HPW8/(BF8-'HOJA DE VERIFICACIÓN DE DATOS'!E6)","v":356898.42172398447},{"$f":"DCI8","v":385374.87394694955},{"$f":"DCJ8","v":566584.24815741333},{"$f":"DCK8","v":0},{"$f":"SUM(HPY8:HQA8)","v":951959.12210436282},{"$f":"HQB8/(BN8-'HOJA DE VERIFICACIÓN DE DATOS'!E6)","v":95195.912210436276},{"$f":"DDD8","v":385374.87394694955},{"$f":"DDE8","v":566584.24815741333},{"$f":"DDF8","v":0},{"$f":"SUM(HQD8:HQF8)","v":951959.12210436282},{"$f":"HQG8/(BN8-'HOJA DE VERIFICACIÓN DE DATOS'!E6)","v":95195.912210436276},{"$f":"DDY8","v":385374.87394694955},{"$f":"DDZ8","v":566584.24815741333},{"$f":"DEA8","v":0},{"$f":"SUM(HQI8:HQK8)","v":951959.12210436282},{"$f":"HQL8/(BN8-'HOJA DE VERIFICACIÓN DE DATOS'!E6)","v":95195.912210436276},{"$f":"DET8","v":385374.87394694955},{"$f":"DEU8","v":566584.24815741333},{"$f":"DEV8","v":0},{"$f":"SUM(HQN8:HQP8)","v":951959.12210436282},{"$f":"HQQ8/(BN8-'HOJA DE VERIFICACIÓN DE DATOS'!E6)","v":95195.912210436276},{"$f":"DFO8","v":385374.87394694955},{"$f":"DFP8","v":566584.24815741333},{"$f":"DFQ8","v":0},{"$f":"SUM(HQS8:HQU8)","v":951959.12210436282},{"$f":"HQV8/(BN8-'HOJA DE VERIFICACIÓN DE DATOS'!E6)","v":95195.912210436276},{"$f":"DGJ8","v":1926874.3697347478},{"$f":"DGK8","v":2832921.2407870665},{"$f":"DGL8","v":0},{"$f":"SUM(HQX8:HQZ8)","v":4759795.6105218139},{"$f":"HRA8/(BN8-'HOJA DE VERIFICACIÓN DE DATOS'!E6)","v":475979.56105218141},{"$f":"HOU8+HPY8","v":699106.6238831589},966649.34166917298,0,1665755.9655523319,166575.59655523318,699106.6238831589,966649.34166917298,0,1665755.9655523319,166575.59655523318,699106.6238831589,966649.34166917298,0,1665755.9655523319,166575.59655523318,699106.6238831589,966649.34166917298,0,1665755.9655523319,166575.59655523318,699106.6238831589,966649.34166917298,0,1665755.9655523319,166575.59655523318,3495533.1194157945,4833246.7083458649,0,8328779.8277616585,832877.98277616594,{"$f":"DMA8","v":1162113.8636210675},{"$f":"DMB8","v":1143799.8036757084},{"$f":"DMC8","v":0},{"$f":"SUM(HSG8:HSI8)","v":2305913.6672967756},{"$f":"HSJ8/(CR8-'HOJA DE VERIFICACIÓN DE DATOS'!E6)","v":230591.36672967757},{"$f":"DMV8","v":3851683.8155064043},{"$f":"DMW8","v":3378053.4851736808},{"$f":"DMX8","v":0},{"$f":"SUM(HSL8:HSN8)","v":7229737.3006800851},{"$f":"HSO8/(CX8-'HOJA DE VERIFICACIÓN DE DATOS'!E6)","v":722973.73006800853},{"$f":"HSG8+HSL8","v":5013797.6791274715},{"$f":"HSH8+HSM8","v":4521853.2888493892},{"$f":"HSI8+HSN8","v":0},{"$f":"SUM(HSQ8:HSS8)","v":9535650.9679768607},{"$f":"HSK8+HSP8","v":953565.09679768607},{"$f":"$DP8*#REF!+2*$DP8*#REF!/(1+$BAI$5)^1+3*$DP8*#REF!/(1+$BAI$5)^2+4*$DP8*#REF!/(1+$BAI$5)^3+5*$DP8*#REF!/(1+$BAI$5)^4+6*$DP8*#REF!/(1+$BAI$5)^5+8*$DP8*#REF!/(1+$BAI$5)^6+8*$DP8*#REF!/(1+$BAI$5)^8+9*$DP8*#REF!/(1+$BAI$5)^8+10*$DP8*#REF!/(1+$BAI$5)^9+11*$DP8*#REF!/(1+$BAI$5)^10+12*$DP8*#REF!/(1+$BAI$5)^11+13*$DP8*#REF!/(1+$BAI$5)^12+14*$DP8*#REF!/(1+$BAI$5)^13+15*$DP8*#REF!/(1+$BAI$5)^14","v":{"$error":"#REF!"}},{"$f":"$EI8*#REF!+2*$EI8*#REF!/(1+$BAI$5)^1+3*$EI8*#REF!/(1+$BAI$5)^2+4*$EI8*#REF!/(1+$BAI$5)^3+5*$EI8*#REF!/(1+$BAI$5)^4+6*$EI8*#REF!/(1+$BAI$5)^5+8*$EI8*#REF!/(1+$BAI$5)^6+8*$EI8*#REF!/(1+$BAI$5)^8+9*$EI8*#REF!/(1+$BAI$5)^8+10*$EI8*#REF!/(1+$BAI$5)^9+11*$EI8*#REF!/(1+$BAI$5)^10+12*$EI8*#REF!/(1+$BAI$5)^11+13*$EI8*#REF!/(1+$BAI$5)^12+14*$EI8*#REF!/(1+$BAI$5)^13+15*$EI8*#REF!/(1+$BAI$5)^14","v":{"$error":"#REF!"}},{"$f":"$FB8*#REF!+2*$FB8*#REF!/(1+$BAI$5)^1+3*$FB8*#REF!/(1+$BAI$5)^2+4*$FB8*#REF!/(1+$BAI$5)^3+5*$FB8*#REF!/(1+$BAI$5)^4+6*$FB8*#REF!/(1+$BAI$5)^5+8*$FB8*#REF!/(1+$BAI$5)^6+8*$FB8*#REF!/(1+$BAI$5)^8+9*$FB8*#REF!/(1+$BAI$5)^8+10*$FB8*#REF!/(1+$BAI$5)^9+11*$FB8*#REF!/(1+$BAI$5)^10+12*$FB8*#REF!/(1+$BAI$5)^11+13*$FB8*#REF!/(1+$BAI$5)^12+14*$FB8*#REF!/(1+$BAI$5)^13+15*$FB8*#REF!/(1+$BAI$5)^14","v":{"$error":"#REF!"}},{"$f":"$FU8*#REF!+2*$FU8*#REF!/(1+$BAI$5)^1+3*$FU8*#REF!/(1+$BAI$5)^2+4*$FU8*#REF!/(1+$BAI$5)^3+5*$FU8*#REF!/(1+$BAI$5)^4+6*$FU8*#REF!/(1+$BAI$5)^5+8*$FU8*#REF!/(1+$BAI$5)^6+8*$FU8*#REF!/(1+$BAI$5)^8+9*$FU8*#REF!/(1+$BAI$5)^8+10*$FU8*#REF!/(1+$BAI$5)^9+11*$FU8*#REF!/(1+$BAI$5)^10+12*$FU8*#REF!/(1+$BAI$5)^11+13*$FU8*#REF!/(1+$BAI$5)^12+14*$FU8*#REF!/(1+$BAI$5)^13+15*$FU8*#REF!/(1+$BAI$5)^14","v":{"$error":"#REF!"}},{"$f":"$GN8*#REF!+2*$GN8*#REF!/(1+$BAI$5)^1+3*$GN8*#REF!/(1+$BAI$5)^2+4*$GN8*#REF!/(1+$BAI$5)^3+5*$GN8*#REF!/(1+$BAI$5)^4+6*$GN8*#REF!/(1+$BAI$5)^5+8*$GN8*#REF!/(1+$BAI$5)^6+8*$GN8*#REF!/(1+$BAI$5)^8+9*$GN8*#REF!/(1+$BAI$5)^8+10*$GN8*#REF!/(1+$BAI$5)^9+11*$GN8*#REF!/(1+$BAI$5)^10+12*$GN8*#REF!/(1+$BAI$5)^11+13*$GN8*#REF!/(1+$BAI$5)^12+14*$GN8*#REF!/(1+$BAI$5)^13+15*$GN8*#REF!/(1+$BAI$5)^14","v":{"$error":"#REF!"}},{"$f":"SUM(HSV8:HSZ8)","v":{"$error":"#REF!"}},{"$f":"$HZ8*#REF!+2*$HZ8*#REF!/(1+$BAI$5)^1+3*$HZ8*#REF!/(1+$BAI$5)^2+4*$HZ8*#REF!/(1+$BAI$5)^3+5*$HZ8*#REF!/(1+$BAI$5)^4+6*$HZ8*#REF!/(1+$BAI$5)^5+8*$HZ8*#REF!/(1+$BAI$5)^6+8*$HZ8*#REF!/(1+$BAI$5)^8+9*$HZ8*#REF!/(1+$BAI$5)^8+10*$HZ8*#REF!/(1+$BAI$5)^9+11*$HZ8*#REF!/(1+$BAI$5)^10+12*$HZ8*#REF!/(1+$BAI$5)^11+13*$HZ8*#REF!/(1+$BAI$5)^12+14*$HZ8*#REF!/(1+$BAI$5)^13+15*$HZ8*#REF!/(1+$BAI$5)^14","v":{"$error":"#REF!"}},{"$f":"$IS8*#REF!+2*$IS8*#REF!/(1+$BAI$5)^1+3*$IS8*#REF!/(1+$BAI$5)^2+4*$IS8*#REF!/(1+$BAI$5)^3+5*$IS8*#REF!/(1+$BAI$5)^4+6*$IS8*#REF!/(1+$BAI$5)^5+8*$IS8*#REF!/(1+$BAI$5)^6+8*$IS8*#REF!/(1+$BAI$5)^8+9*$IS8*#REF!/(1+$BAI$5)^8+10*$IS8*#REF!/(1+$BAI$5)^9+11*$IS8*#REF!/(1+$BAI$5)^10+12*$IS8*#REF!/(1+$BAI$5)^11+13*$IS8*#REF!/(1+$BAI$5)^12+14*$IS8*#REF!/(1+$BAI$5)^13+15*$IS8*#REF!/(1+$BAI$5)^14","v":{"$error":"#REF!"}},{"$f":"$JL8*#REF!+2*$JL8*#REF!/(1+$BAI$5)^1+3*$JL8*#REF!/(1+$BAI$5)^2+4*$JL8*#REF!/(1+$BAI$5)^3+5*$JL8*#REF!/(1+$BAI$5)^4+6*$JL8*#REF!/(1+$BAI$5)^5+8*$JL8*#REF!/(1+$BAI$5)^6+8*$JL8*#REF!/(1+$BAI$5)^8+9*$JL8*#REF!/(1+$BAI$5)^8+10*$JL8*#REF!/(1+$BAI$5)^9+11*$JL8*#REF!/(1+$BAI$5)^10+12*$JL8*#REF!/(1+$BAI$5)^11+13*$JL8*#REF!/(1+$BAI$5)^12+14*$JL8*#REF!/(1+$BAI$5)^13+15*$JL8*#REF!/(1+$BAI$5)^14","v":{"$error":"#REF!"}},{"$f":"$KE8*#REF!+2*$KE8*#REF!/(1+$BAI$5)^1+3*$KE8*#REF!/(1+$BAI$5)^2+4*$KE8*#REF!/(1+$BAI$5)^3+5*$KE8*#REF!/(1+$BAI$5)^4+6*$KE8*#REF!/(1+$BAI$5)^5+8*$KE8*#REF!/(1+$BAI$5)^6+8*$KE8*#REF!/(1+$BAI$5)^8+9*$KE8*#REF!/(1+$BAI$5)^8+10*$KE8*#REF!/(1+$BAI$5)^9+11*$KE8*#REF!/(1+$BAI$5)^10+12*$KE8*#REF!/(1+$BAI$5)^11+13*$KE8*#REF!/(1+$BAI$5)^12+14*$KE8*#REF!/(1+$BAI$5)^13+15*$KE8*#REF!/(1+$BAI$5)^14","v":{"$error":"#REF!"}},{"$f":"$KX8*#REF!+2*$KX8*#REF!/(1+$BAI$5)^1+3*$KX8*#REF!/(1+$BAI$5)^2+4*$KX8*#REF!/(1+$BAI$5)^3+5*$KX8*#REF!/(1+$BAI$5)^4+6*$KX8*#REF!/(1+$BAI$5)^5+8*$KX8*#REF!/(1+$BAI$5)^6+8*$KX8*#REF!/(1+$BAI$5)^8+9*$KX8*#REF!/(1+$BAI$5)^8+10*$KX8*#REF!/(1+$BAI$5)^9+11*$KX8*#REF!/(1+$BAI$5)^10+12*$KX8*#REF!/(1+$BAI$5)^11+13*$KX8*#REF!/(1+$BAI$5)^12+14*$KX8*#REF!/(1+$BAI$5)^13+15*$KX8*#REF!/(1+$BAI$5)^14","v":{"$error":"#REF!"}},{"$f":"SUM(HTB8:HTF8)","v":{"$error":"#REF!"}},{"$f":"HSV8+HTB8","v":{"$error":"#REF!"}},{"$f":"HSW8+HTC8","v":{"$error":"#REF!"}},{"$f":"HSX8+HTD8","v":{"$error":"#REF!"}},{"$f":"HSY8+HTE8","v":{"$error":"#REF!"}},{"$f":"HSZ8+HTF8","v":{"$error":"#REF!"}},{"$f":"SUM(HTH8:HTL8)","v":{"$error":"#REF!"}},{"$f":"$MQ8*#REF!+2*$MQ8*#REF!/(1+$BAI$5)^1+3*$MQ8*#REF!/(1+$BAI$5)^2+4*$MQ8*#REF!/(1+$BAI$5)^3+5*$MQ8*#REF!/(1+$BAI$5)^4+6*$MQ8*#REF!/(1+$BAI$5)^5+8*$MQ8*#REF!/(1+$BAI$5)^6+8*$MQ8*#REF!/(1+$BAI$5)^8+9*$MQ8*#REF!/(1+$BAI$5)^8+10*$MQ8*#REF!/(1+$BAI$5)^9+11*$MQ8*#REF!/(1+$BAI$5)^10+12*$MQ8*#REF!/(1+$BAI$5)^11+13*$MQ8*#REF!/(1+$BAI$5)^12+14*$MQ8*#REF!/(1+$BAI$5)^13+15*$MQ8*#REF!/(1+$BAI$5)^14","v":{"$error":"#REF!"}},{"$f":"$NJ8*#REF!+2*$NJ8*#REF!/(1+$BAI$5)^1+3*$NJ8*#REF!/(1+$BAI$5)^2+4*$NJ8*#REF!/(1+$BAI$5)^3+5*$NJ8*#REF!/(1+$BAI$5)^4+6*$NJ8*#REF!/(1+$BAI$5)^5+8*$NJ8*#REF!/(1+$BAI$5)^6+8*$NJ8*#REF!/(1+$BAI$5)^8+9*$NJ8*#REF!/(1+$BAI$5)^8+10*$NJ8*#REF!/(1+$BAI$5)^9+11*$NJ8*#REF!/(1+$BAI$5)^10+12*$NJ8*#REF!/(1+$BAI$5)^11+13*$NJ8*#REF!/(1+$BAI$5)^12+14*$NJ8*#REF!/(1+$BAI$5)^13+15*$NJ8*#REF!/(1+$BAI$5)^14","v":{"$error":"#REF!"}},{"$f":"$OC8*#REF!+2*$OC8*#REF!/(1+$BAI$5)^1+3*$OC8*#REF!/(1+$BAI$5)^2+4*$OC8*#REF!/(1+$BAI$5)^3+5*$OC8*#REF!/(1+$BAI$5)^4+6*$OC8*#REF!/(1+$BAI$5)^5+8*$OC8*#REF!/(1+$BAI$5)^6+8*$OC8*#REF!/(1+$BAI$5)^8+9*$OC8*#REF!/(1+$BAI$5)^8+10*$OC8*#REF!/(1+$BAI$5)^9+11*$OC8*#REF!/(1+$BAI$5)^10+12*$OC8*#REF!/(1+$BAI$5)^11+13*$OC8*#REF!/(1+$BAI$5)^12+14*$OC8*#REF!/(1+$BAI$5)^13+15*$OC8*#REF!/(1+$BAI$5)^14","v":{"$error":"#REF!"}},{"$f":"$OV8*#REF!+2*$OV8*#REF!/(1+$BAI$5)^1+3*$OV8*#REF!/(1+$BAI$5)^2+4*$OV8*#REF!/(1+$BAI$5)^3+5*$OV8*#REF!/(1+$BAI$5)^4+6*$OV8*#REF!/(1+$BAI$5)^5+8*$OV8*#REF!/(1+$BAI$5)^6+8*$OV8*#REF!/(1+$BAI$5)^8+9*$OV8*#REF!/(1+$BAI$5)^8+10*$OV8*#REF!/(1+$BAI$5)^9+11*$OV8*#REF!/(1+$BAI$5)^10+12*$OV8*#REF!/(1+$BAI$5)^11+13*$OV8*#REF!/(1+$BAI$5)^12+14*$OV8*#REF!/(1+$BAI$5)^13+15*$OV8*#REF!/(1+$BAI$5)^14","v":{"$error":"#REF!"}},{"$f":"$PO8*#REF!+2*$PO8*#REF!/(1+$BAI$5)^1+3*$PO8*#REF!/(1+$BAI$5)^2+4*$PO8*#REF!/(1+$BAI$5)^3+5*$PO8*#REF!/(1+$BAI$5)^4+6*$PO8*#REF!/(1+$BAI$5)^5+8*$PO8*#REF!/(1+$BAI$5)^6+8*$PO8*#REF!/(1+$BAI$5)^8+9*$PO8*#REF!/(1+$BAI$5)^8+10*$PO8*#REF!/(1+$BAI$5)^9+11*$PO8*#REF!/(1+$BAI$5)^10+12*$PO8*#REF!/(1+$BAI$5)^11+13*$PO8*#REF!/(1+$BAI$5)^12+14*$PO8*#REF!/(1+$BAI$5)^13+15*$PO8*#REF!/(1+$BAI$5)^14","v":{"$error":"#REF!"}},{"$f":"SUM(HTN8:HTR8)","v":{"$error":"#REF!"}},{"$f":"$RA8*#REF!+2*$RA8*#REF!/(1+$BAI$5)^1+3*$RA8*#REF!/(1+$BAI$5)^2+4*$RA8*#REF!/(1+$BAI$5)^3+5*$RA8*#REF!/(1+$BAI$5)^4+6*$RA8*#REF!/(1+$BAI$5)^5+8*$RA8*#REF!/(1+$BAI$5)^6+8*$RA8*#REF!/(1+$BAI$5)^8+9*$RA8*#REF!/(1+$BAI$5)^8+10*$RA8*#REF!/(1+$BAI$5)^9+11*$RA8*#REF!/(1+$BAI$5)^10+12*$RA8*#REF!/(1+$BAI$5)^11+13*$RA8*#REF!/(1+$BAI$5)^12+14*$RA8*#REF!/(1+$BAI$5)^13+15*$RA8*#REF!/(1+$BAI$5)^14","v":{"$error":"#REF!"}},{"$f":"$RT8*#REF!+2*$RT8*#REF!/(1+$BAI$5)^1+3*$RT8*#REF!/(1+$BAI$5)^2+4*$RT8*#REF!/(1+$BAI$5)^3+5*$RT8*#REF!/(1+$BAI$5)^4+6*$RT8*#REF!/(1+$BAI$5)^5+8*$RT8*#REF!/(1+$BAI$5)^6+8*$RT8*#REF!/(1+$BAI$5)^8+9*$RT8*#REF!/(1+$BAI$5)^8+10*$RT8*#REF!/(1+$BAI$5)^9+11*$RT8*#REF!/(1+$BAI$5)^10+12*$RT8*#REF!/(1+$BAI$5)^11+13*$RT8*#REF!/(1+$BAI$5)^12+14*$RT8*#REF!/(1+$BAI$5)^13+15*$RT8*#REF!/(1+$BAI$5)^14","v":{"$error":"#REF!"}},{"$f":"$SM8*#REF!+2*$SM8*#REF!/(1+$BAI$5)^1+3*$SM8*#REF!/(1+$BAI$5)^2+4*$SM8*#REF!/(1+$BAI$5)^3+5*$SM8*#REF!/(1+$BAI$5)^4+6*$SM8*#REF!/(1+$BAI$5)^5+8*$SM8*#REF!/(1+$BAI$5)^6+8*$SM8*#REF!/(1+$BAI$5)^8+9*$SM8*#REF!/(1+$BAI$5)^8+10*$SM8*#REF!/(1+$BAI$5)^9+11*$SM8*#REF!/(1+$BAI$5)^10+12*$SM8*#REF!/(1+$BAI$5)^11+13*$SM8*#REF!/(1+$BAI$5)^12+14*$SM8*#REF!/(1+$BAI$5)^13+15*$SM8*#REF!/(1+$BAI$5)^14","v":{"$error":"#REF!"}},{"$f":"$TF8*#REF!+2*$TF8*#REF!/(1+$BAI$5)^1+3*$TF8*#REF!/(1+$BAI$5)^2+4*$TF8*#REF!/(1+$BAI$5)^3+5*$TF8*#REF!/(1+$BAI$5)^4+6*$TF8*#REF!/(1+$BAI$5)^5+8*$TF8*#REF!/(1+$BAI$5)^6+8*$TF8*#REF!/(1+$BAI$5)^8+9*$TF8*#REF!/(1+$BAI$5)^8+10*$TF8*#REF!/(1+$BAI$5)^9+11*$TF8*#REF!/(1+$BAI$5)^10+12*$TF8*#REF!/(1+$BAI$5)^11+13*$TF8*#REF!/(1+$BAI$5)^12+14*$TF8*#REF!/(1+$BAI$5)^13+15*$TF8*#REF!/(1+$BAI$5)^14","v":{"$error":"#REF!"}},{"$f":"$TY8*#REF!+2*$TY8*#REF!/(1+$BAI$5)^1+3*$TY8*#REF!/(1+$BAI$5)^2+4*$TY8*#REF!/(1+$BAI$5)^3+5*$TY8*#REF!/(1+$BAI$5)^4+6*$TY8*#REF!/(1+$BAI$5)^5+8*$TY8*#REF!/(1+$BAI$5)^6+8*$TY8*#REF!/(1+$BAI$5)^8+9*$TY8*#REF!/(1+$BAI$5)^8+10*$TY8*#REF!/(1+$BAI$5)^9+11*$TY8*#REF!/(1+$BAI$5)^10+12*$TY8*#REF!/(1+$BAI$5)^11+13*$TY8*#REF!/(1+$BAI$5)^12+14*$TY8*#REF!/(1+$BAI$5)^13+15*$TY8*#REF!/(1+$BAI$5)^14","v":{"$error":"#REF!"}},{"$f":"SUM(HTT8:HTX8)","v":{"$error":"#REF!"}},{"$f":"HTN8+HTT8","v":{"$error":"#REF!"}},{"$f":"HTO8+HTU8","v":{"$error":"#REF!"}},{"$f":"HTP8+HTV8","v":{"$error":"#REF!"}},{"$f":"HTQ8+HTW8","v":{"$error":"#REF!"}},{"$f":"HTR8+HTX8","v":{"$error":"#REF!"}},{"$f":"SUM(HTZ8:HUD8)","v":{"$error":"#REF!"}},{"$f":"$VK8*#REF!+2*$VK8*#REF!/(1+$BAI$5)^1+3*$VK8*#REF!/(1+$BAI$5)^2+4*$VK8*#REF!/(1+$BAI$5)^3+5*$VK8*#REF!/(1+$BAI$5)^4+6*$VK8*#REF!/(1+$BAI$5)^5+8*$VK8*#REF!/(1+$BAI$5)^6+8*$VK8*#REF!/(1+$BAI$5)^8+9*$VK8*#REF!/(1+$BAI$5)^8+10*$VK8*#REF!/(1+$BAI$5)^9+11*$VK8*#REF!/(1+$BAI$5)^10+12*$VK8*#REF!/(1+$BAI$5)^11+13*$VK8*#REF!/(1+$BAI$5)^12+14*$VK8*#REF!/(1+$BAI$5)^13+15*$VK8*#REF!/(1+$BAI$5)^14","v":{"$error":"#REF!"}},{"$f":"$WD8*#REF!+2*$WD8*#REF!/(1+$BAI$5)^1+3*$WD8*#REF!/(1+$BAI$5)^2+4*$WD8*#REF!/(1+$BAI$5)^3+5*$WD8*#REF!/(1+$BAI$5)^4+6*$WD8*#REF!/(1+$BAI$5)^5+8*$WD8*#REF!/(1+$BAI$5)^6+8*$WD8*#REF!/(1+$BAI$5)^8+9*$WD8*#REF!/(1+$BAI$5)^8+10*$WD8*#REF!/(1+$BAI$5)^9+11*$WD8*#REF!/(1+$BAI$5)^10+12*$WD8*#REF!/(1+$BAI$5)^11+13*$WD8*#REF!/(1+$BAI$5)^12+14*$WD8*#REF!/(1+$BAI$5)^13+15*$WD8*#REF!/(1+$BAI$5)^14","v":{"$error":"#REF!"}},{"$f":"$WW8*#REF!+2*$WW8*#REF!/(1+$BAI$5)^1+3*$WW8*#REF!/(1+$BAI$5)^2+4*$WW8*#REF!/(1+$BAI$5)^3+5*$WW8*#REF!/(1+$BAI$5)^4+6*$WW8*#REF!/(1+$BAI$5)^5+8*$WW8*#REF!/(1+$BAI$5)^6+8*$WW8*#REF!/(1+$BAI$5)^8+9*$WW8*#REF!/(1+$BAI$5)^8+10*$WW8*#REF!/(1+$BAI$5)^9+11*$WW8*#REF!/(1+$BAI$5)^10+12*$WW8*#REF!/(1+$BAI$5)^11+13*$WW8*#REF!/(1+$BAI$5)^12+14*$WW8*#REF!/(1+$BAI$5)^13+15*$WW8*#REF!/(1+$BAI$5)^14","v":{"$error":"#REF!"}},{"$f":"$XP8*#REF!+2*$XP8*#REF!/(1+$BAI$5)^1+3*$XP8*#REF!/(1+$BAI$5)^2+4*$XP8*#REF!/(1+$BAI$5)^3+5*$XP8*#REF!/(1+$BAI$5)^4+6*$XP8*#REF!/(1+$BAI$5)^5+8*$XP8*#REF!/(1+$BAI$5)^6+8*$XP8*#REF!/(1+$BAI$5)^8+9*$XP8*#REF!/(1+$BAI$5)^8+10*$XP8*#REF!/(1+$BAI$5)^9+11*$XP8*#REF!/(1+$BAI$5)^10+12*$XP8*#REF!/(1+$BAI$5)^11+13*$XP8*#REF!/(1+$BAI$5)^12+14*$XP8*#REF!/(1+$BAI$5)^13+15*$XP8*#REF!/(1+$BAI$5)^14","v":{"$error":"#REF!"}},{"$f":"$YI8*#REF!+2*$YI8*#REF!/(1+$BAI$5)^1+3*$YI8*#REF!/(1+$BAI$5)^2+4*$YI8*#REF!/(1+$BAI$5)^3+5*$YI8*#REF!/(1+$BAI$5)^4+6*$YI8*#REF!/(1+$BAI$5)^5+8*$YI8*#REF!/(1+$BAI$5)^6+8*$YI8*#REF!/(1+$BAI$5)^8+9*$YI8*#REF!/(1+$BAI$5)^8+10*$YI8*#REF!/(1+$BAI$5)^9+11*$YI8*#REF!/(1+$BAI$5)^10+12*$YI8*#REF!/(1+$BAI$5)^11+13*$YI8*#REF!/(1+$BAI$5)^12+14*$YI8*#REF!/(1+$BAI$5)^13+15*$YI8*#REF!/(1+$BAI$5)^14","v":{"$error":"#REF!"}},{"$f":"SUM(HUF8:HUJ8)","v":{"$error":"#REF!"}},{"$f":"$ZU8*#REF!+2*$ZU8*#REF!/(1+$BAI$5)^1+3*$ZU8*#REF!/(1+$BAI$5)^2+4*$ZU8*#REF!/(1+$BAI$5)^3+5*$ZU8*#REF!/(1+$BAI$5)^4+6*$ZU8*#REF!/(1+$BAI$5)^5+8*$ZU8*#REF!/(1+$BAI$5)^6+8*$ZU8*#REF!/(1+$BAI$5)^8+9*$ZU8*#REF!/(1+$BAI$5)^8+10*$ZU8*#REF!/(1+$BAI$5)^9+11*$ZU8*#REF!/(1+$BAI$5)^10+12*$ZU8*#REF!/(1+$BAI$5)^11+13*$ZU8*#REF!/(1+$BAI$5)^12+14*$ZU8*#REF!/(1+$BAI$5)^13+15*$ZU8*#REF!/(1+$BAI$5)^14","v":{"$error":"#REF!"}},{"$f":"$AAN8*#REF!+2*$AAN8*#REF!/(1+$BAI$5)^1+3*$AAN8*#REF!/(1+$BAI$5)^2+4*$AAN8*#REF!/(1+$BAI$5)^3+5*$AAN8*#REF!/(1+$BAI$5)^4+6*$AAN8*#REF!/(1+$BAI$5)^5+8*$AAN8*#REF!/(1+$BAI$5)^6+8*$AAN8*#REF!/(1+$BAI$5)^8+9*$AAN8*#REF!/(1+$BAI$5)^8+10*$AAN8*#REF!/(1+$BAI$5)^9+11*$AAN8*#REF!/(1+$BAI$5)^10+12*$AAN8*#REF!/(1+$BAI$5)^11+13*$AAN8*#REF!/(1+$BAI$5)^12+14*$AAN8*#REF!/(1+$BAI$5)^13+15*$AAN8*#REF!/(1+$BAI$5)^14","v":{"$error":"#REF!"}},{"$f":"$ABG8*#REF!+2*$ABG8*#REF!/(1+$BAI$5)^1+3*$ABG8*#REF!/(1+$BAI$5)^2+4*$ABG8*#REF!/(1+$BAI$5)^3+5*$ABG8*#REF!/(1+$BAI$5)^4+6*$ABG8*#REF!/(1+$BAI$5)^5+8*$ABG8*#REF!/(1+$BAI$5)^6+8*$ABG8*#REF!/(1+$BAI$5)^8+9*$ABG8*#REF!/(1+$BAI$5)^8+10*$ABG8*#REF!/(1+$BAI$5)^9+11*$ABG8*#REF!/(1+$BAI$5)^10+12*$ABG8*#REF!/(1+$BAI$5)^11+13*$ABG8*#REF!/(1+$BAI$5)^12+14*$ABG8*#REF!/(1+$BAI$5)^13+15*$ABG8*#REF!/(1+$BAI$5)^14","v":{"$error":"#REF!"}},{"$f":"$ABZ8*#REF!+2*$ABZ8*#REF!/(1+$BAI$5)^1+3*$ABZ8*#REF!/(1+$BAI$5)^2+4*$ABZ8*#REF!/(1+$BAI$5)^3+5*$ABZ8*#REF!/(1+$BAI$5)^4+6*$ABZ8*#REF!/(1+$BAI$5)^5+8*$ABZ8*#REF!/(1+$BAI$5)^6+8*$ABZ8*#REF!/(1+$BAI$5)^8+9*$ABZ8*#REF!/(1+$BAI$5)^8+10*$ABZ8*#REF!/(1+$BAI$5)^9+11*$ABZ8*#REF!/(1+$BAI$5)^10+12*$ABZ8*#REF!/(1+$BAI$5)^11+13*$ABZ8*#REF!/(1+$BAI$5)^12+14*$ABZ8*#REF!/(1+$BAI$5)^13+15*$ABZ8*#REF!/(1+$BAI$5)^14","v":{"$error":"#REF!"}},{"$f":"$ACS8*#REF!+2*$ACS8*#REF!/(1+$BAI$5)^1+3*$ACS8*#REF!/(1+$BAI$5)^2+4*$ACS8*#REF!/(1+$BAI$5)^3+5*$ACS8*#REF!/(1+$BAI$5)^4+6*$ACS8*#REF!/(1+$BAI$5)^5+8*$ACS8*#REF!/(1+$BAI$5)^6+8*$ACS8*#REF!/(1+$BAI$5)^8+9*$ACS8*#REF!/(1+$BAI$5)^8+10*$ACS8*#REF!/(1+$BAI$5)^9+11*$ACS8*#REF!/(1+$BAI$5)^10+12*$ACS8*#REF!/(1+$BAI$5)^11+13*$ACS8*#REF!/(1+$BAI$5)^12+14*$ACS8*#REF!/(1+$BAI$5)^13+15*$ACS8*#REF!/(1+$BAI$5)^14","v":{"$error":"#REF!"}},{"$f":"SUM(HUL8:HUP8)","v":{"$error":"#REF!"}},{"$f":"HUF8+HUL8","v":{"$error":"#REF!"}},{"$f":"HUG8+HUM8","v":{"$error":"#REF!"}},{"$f":"HUH8+HUN8","v":{"$error":"#REF!"}},{"$f":"HUI8+HUO8","v":{"$error":"#REF!"}},{"$f":"HUJ8+HUP8","v":{"$error":"#REF!"}},{"$f":"SUM(HUR8:HUV8)","v":{"$error":"#REF!"}},{"$f":"HSV8+HTN8+HUF8","v":{"$error":"#REF!"}},{"$f":"HSW8+HTO8+HUG8","v":{"$error":"#REF!"}},{"$f":"HSX8+HTP8+HUH8","v":{"$error":"#REF!"}},{"$f":"HSY8+HTQ8+HUI8","v":{"$error":"#REF!"}},{"$f":"HSZ8+HTR8+HUJ8","v":{"$error":"#REF!"}},{"$f":"SUM(HUX8:HVB8)","v":{"$error":"#REF!"}},{"$f":"HTB8+HTT8+HUL8","v":{"$error":"#REF!"}},{"$f":"HTC8+HTU8+HUM8","v":{"$error":"#REF!"}},{"$f":"HTD8+HTV8+HUN8","v":{"$error":"#REF!"}},{"$f":"HTE8+HTW8+HUO8","v":{"$error":"#REF!"}},{"$f":"HTF8+HTX8+HUP8","v":{"$error":"#REF!"}},{"$f":"SUM(HVD8:HVH8)","v":{"$error":"#REF!"}},{"$f":"HTH8+HTZ8+HUR8","v":{"$error":"#REF!"}},{"$f":"HTI8+HUA8+HUS8","v":{"$error":"#REF!"}},{"$f":"HTJ8+HUB8+HUT8","v":{"$error":"#REF!"}},{"$f":"HTK8+HUC8+HUU8","v":{"$error":"#REF!"}},{"$f":"HTL8+HUD8+HUV8","v":{"$error":"#REF!"}},{"$f":"SUM(HVJ8:HVN8)","v":{"$error":"#REF!"}},{"$f":"$MJ8*#REF!+2*$MJ8*#REF!/(1+$BAI$5)^1+3*$MJ8*#REF!/(1+$BAI$5)^2+4*$MJ8*#REF!/(1+$BAI$5)^3+5*$MJ8*#REF!/(1+$BAI$5)^4+6*$MJ8*#REF!/(1+$BAI$5)^5+8*$MJ8*#REF!/(1+$BAI$5)^6+8*$MJ8*#REF!/(1+$BAI$5)^8+9*$MJ8*#REF!/(1+$BAI$5)^8+10*$MJ8*#REF!/(1+$BAI$5)^9+11*$MJ8*#REF!/(1+$BAI$5)^10+12*$MJ8*#REF!/(1+$BAI$5)^11+13*$MJ8*#REF!/(1+$BAI$5)^12+14*$MJ8*#REF!/(1+$BAI$5)^13+15*$MJ8*#REF!/(1+$BAI$5)^14","v":{"$error":"#REF!"}},{"$f":"$MK8*#REF!+2*$MK8*#REF!/(1+$BAI$5)^1+3*$MK8*#REF!/(1+$BAI$5)^2+4*$MK8*#REF!/(1+$BAI$5)^3+5*$MK8*#REF!/(1+$BAI$5)^4+6*$MK8*#REF!/(1+$BAI$5)^5+8*$MK8*#REF!/(1+$BAI$5)^6+8*$MK8*#REF!/(1+$BAI$5)^8+9*$MK8*#REF!/(1+$BAI$5)^8+10*$MK8*#REF!/(1+$BAI$5)^9+11*$MK8*#REF!/(1+$BAI$5)^10+12*$MK8*#REF!/(1+$BAI$5)^11+13*$MK8*#REF!/(1+$BAI$5)^12+14*$MK8*#REF!/(1+$BAI$5)^13+15*$MK8*#REF!/(1+$BAI$5)^14","v":{"$error":"#REF!"}},{"$f":"$ML8*#REF!+2*$ML8*#REF!/(1+$BAI$5)^1+3*$ML8*#REF!/(1+$BAI$5)^2+4*$ML8*#REF!/(1+$BAI$5)^3+5*$ML8*#REF!/(1+$BAI$5)^4+6*$ML8*#REF!/(1+$BAI$5)^5+8*$ML8*#REF!/(1+$BAI$5)^6+8*$ML8*#REF!/(1+$BAI$5)^8+9*$ML8*#REF!/(1+$BAI$5)^8+10*$ML8*#REF!/(1+$BAI$5)^9+11*$ML8*#REF!/(1+$BAI$5)^10+12*$ML8*#REF!/(1+$BAI$5)^11+13*$ML8*#REF!/(1+$BAI$5)^12+14*$ML8*#REF!/(1+$BAI$5)^13+15*$ML8*#REF!/(1+$BAI$5)^14","v":{"$error":"#REF!"}},{"$f":"$MM8*#REF!+2*$MM8*#REF!/(1+$BAI$5)^1+3*$MM8*#REF!/(1+$BAI$5)^2+4*$MM8*#REF!/(1+$BAI$5)^3+5*$MM8*#REF!/(1+$BAI$5)^4+6*$MM8*#REF!/(1+$BAI$5)^5+8*$MM8*#REF!/(1+$BAI$5)^6+8*$MM8*#REF!/(1+$BAI$5)^8+9*$MM8*#REF!/(1+$BAI$5)^8+10*$MM8*#REF!/(1+$BAI$5)^9+11*$MM8*#REF!/(1+$BAI$5)^10+12*$MM8*#REF!/(1+$BAI$5)^11+13*$MM8*#REF!/(1+$BAI$5)^12+14*$MM8*#REF!/(1+$BAI$5)^13+15*$MM8*#REF!/(1+$BAI$5)^14","v":{"$error":"#REF!"}},{"$f":"$MN8*#REF!+2*$MN8*#REF!/(1+$BAI$5)^1+3*$MN8*#REF!/(1+$BAI$5)^2+4*$MN8*#REF!/(1+$BAI$5)^3+5*$MN8*#REF!/(1+$BAI$5)^4+6*$MN8*#REF!/(1+$BAI$5)^5+8*$MN8*#REF!/(1+$BAI$5)^6+8*$MN8*#REF!/(1+$BAI$5)^8+9*$MN8*#REF!/(1+$BAI$5)^8+10*$MN8*#REF!/(1+$BAI$5)^9+11*$MN8*#REF!/(1+$BAI$5)^10+12*$MN8*#REF!/(1+$BAI$5)^11+13*$MN8*#REF!/(1+$BAI$5)^12+14*$MN8*#REF!/(1+$BAI$5)^13+15*$MN8*#REF!/(1+$BAI$5)^14","v":{"$error":"#REF!"}},{"$f":"SUM(HVP8:HVT8)","v":{"$error":"#REF!"}},{"$f":"$AEE8*#REF!+2*$AEE8*#REF!/(1+$BAI$5)^1+3*$AEE8*#REF!/(1+$BAI$5)^2+4*$AEE8*#REF!/(1+$BAI$5)^3+5*$AEE8*#REF!/(1+$BAI$5)^4+6*$AEE8*#REF!/(1+$BAI$5)^5+8*$AEE8*#REF!/(1+$BAI$5)^6+8*$AEE8*#REF!/(1+$BAI$5)^8+9*$AEE8*#REF!/(1+$BAI$5)^8+10*$AEE8*#REF!/(1+$BAI$5)^9+11*$AEE8*#REF!/(1+$BAI$5)^10+12*$AEE8*#REF!/(1+$BAI$5)^11+13*$AEE8*#REF!/(1+$BAI$5)^12+14*$AEE8*#REF!/(1+$BAI$5)^13+15*$AEE8*#REF!/(1+$BAI$5)^14","v":{"$error":"#REF!"}},{"$f":"$AEX8*#REF!+2*$AEX8*#REF!/(1+$BAI$5)^1+3*$AEX8*#REF!/(1+$BAI$5)^2+4*$AEX8*#REF!/(1+$BAI$5)^3+5*$AEX8*#REF!/(1+$BAI$5)^4+6*$AEX8*#REF!/(1+$BAI$5)^5+8*$AEX8*#REF!/(1+$BAI$5)^6+8*$AEX8*#REF!/(1+$BAI$5)^8+9*$AEX8*#REF!/(1+$BAI$5)^8+10*$AEX8*#REF!/(1+$BAI$5)^9+11*$AEX8*#REF!/(1+$BAI$5)^10+12*$AEX8*#REF!/(1+$BAI$5)^11+13*$AEX8*#REF!/(1+$BAI$5)^12+14*$AEX8*#REF!/(1+$BAI$5)^13+15*$AEX8*#REF!/(1+$BAI$5)^14","v":{"$error":"#REF!"}},{"$f":"$AFQ8*#REF!+2*$AFQ8*#REF!/(1+$BAI$5)^1+3*$AFQ8*#REF!/(1+$BAI$5)^2+4*$AFQ8*#REF!/(1+$BAI$5)^3+5*$AFQ8*#REF!/(1+$BAI$5)^4+6*$AFQ8*#REF!/(1+$BAI$5)^5+8*$AFQ8*#REF!/(1+$BAI$5)^6+8*$AFQ8*#REF!/(1+$BAI$5)^8+9*$AFQ8*#REF!/(1+$BAI$5)^8+10*$AFQ8*#REF!/(1+$BAI$5)^9+11*$AFQ8*#REF!/(1+$BAI$5)^10+12*$AFQ8*#REF!/(1+$BAI$5)^11+13*$AFQ8*#REF!/(1+$BAI$5)^12+14*$AFQ8*#REF!/(1+$BAI$5)^13+15*$AFQ8*#REF!/(1+$BAI$5)^14","v":{"$error":"#REF!"}},{"$f":"$AGJ8*#REF!+2*$AGJ8*#REF!/(1+$BAI$5)^1+3*$AGJ8*#REF!/(1+$BAI$5)^2+4*$AGJ8*#REF!/(1+$BAI$5)^3+5*$AGJ8*#REF!/(1+$BAI$5)^4+6*$AGJ8*#REF!/(1+$BAI$5)^5+8*$AGJ8*#REF!/(1+$BAI$5)^6+8*$AGJ8*#REF!/(1+$BAI$5)^8+9*$AGJ8*#REF!/(1+$BAI$5)^8+10*$AGJ8*#REF!/(1+$BAI$5)^9+11*$AGJ8*#REF!/(1+$BAI$5)^10+12*$AGJ8*#REF!/(1+$BAI$5)^11+13*$AGJ8*#REF!/(1+$BAI$5)^12+14*$AGJ8*#REF!/(1+$BAI$5)^13+15*$AGJ8*#REF!/(1+$BAI$5)^14","v":{"$error":"#REF!"}},{"$f":"$AHC8*#REF!+2*$AHC8*#REF!/(1+$BAI$5)^1+3*$AHC8*#REF!/(1+$BAI$5)^2+4*$AHC8*#REF!/(1+$BAI$5)^3+5*$AHC8*#REF!/(1+$BAI$5)^4+6*$AHC8*#REF!/(1+$BAI$5)^5+8*$AHC8*#REF!/(1+$BAI$5)^6+8*$AHC8*#REF!/(1+$BAI$5)^8+9*$AHC8*#REF!/(1+$BAI$5)^8+10*$AHC8*#REF!/(1+$BAI$5)^9+11*$AHC8*#REF!/(1+$BAI$5)^10+12*$AHC8*#REF!/(1+$BAI$5)^11+13*$AHC8*#REF!/(1+$BAI$5)^12+14*$AHC8*#REF!/(1+$BAI$5)^13+15*$AHC8*#REF!/(1+$BAI$5)^14","v":{"$error":"#REF!"}},{"$f":"SUM(HVV8:HVZ8)","v":{"$error":"#REF!"}},{"$f":"$AIO8*#REF!+2*$AIO8*#REF!/(1+$BAI$5)^1+3*$AIO8*#REF!/(1+$BAI$5)^2+4*$AIO8*#REF!/(1+$BAI$5)^3+5*$AIO8*#REF!/(1+$BAI$5)^4+6*$AIO8*#REF!/(1+$BAI$5)^5+8*$AIO8*#REF!/(1+$BAI$5)^6+8*$AIO8*#REF!/(1+$BAI$5)^8+9*$AIO8*#REF!/(1+$BAI$5)^8+10*$AIO8*#REF!/(1+$BAI$5)^9+11*$AIO8*#REF!/(1+$BAI$5)^10+12*$AIO8*#REF!/(1+$BAI$5)^11+13*$AIO8*#REF!/(1+$BAI$5)^12+14*$AIO8*#REF!/(1+$BAI$5)^13+15*$AIO8*#REF!/(1+$BAI$5)^14","v":{"$error":"#REF!"}},{"$f":"$AJH8*#REF!+2*$AJH8*#REF!/(1+$BAI$5)^1+3*$AJH8*#REF!/(1+$BAI$5)^2+4*$AJH8*#REF!/(1+$BAI$5)^3+5*$AJH8*#REF!/(1+$BAI$5)^4+6*$AJH8*#REF!/(1+$BAI$5)^5+8*$AJH8*#REF!/(1+$BAI$5)^6+8*$AJH8*#REF!/(1+$BAI$5)^8+9*$AJH8*#REF!/(1+$BAI$5)^8+10*$AJH8*#REF!/(1+$BAI$5)^9+11*$AJH8*#REF!/(1+$BAI$5)^10+12*$AJH8*#REF!/(1+$BAI$5)^11+13*$AJH8*#REF!/(1+$BAI$5)^12+14*$AJH8*#REF!/(1+$BAI$5)^13+15*$AJH8*#REF!/(1+$BAI$5)^14","v":{"$error":"#REF!"}},{"$f":"$AKA8*#REF!+2*$AKA8*#REF!/(1+$BAI$5)^1+3*$AKA8*#REF!/(1+$BAI$5)^2+4*$AKA8*#REF!/(1+$BAI$5)^3+5*$AKA8*#REF!/(1+$BAI$5)^4+6*$AKA8*#REF!/(1+$BAI$5)^5+8*$AKA8*#REF!/(1+$BAI$5)^6+8*$AKA8*#REF!/(1+$BAI$5)^8+9*$AKA8*#REF!/(1+$BAI$5)^8+10*$AKA8*#REF!/(1+$BAI$5)^9+11*$AKA8*#REF!/(1+$BAI$5)^10+12*$AKA8*#REF!/(1+$BAI$5)^11+13*$AKA8*#REF!/(1+$BAI$5)^12+14*$AKA8*#REF!/(1+$BAI$5)^13+15*$AKA8*#REF!/(1+$BAI$5)^14","v":{"$error":"#REF!"}},{"$f":"$AKT8*#REF!+2*$AKT8*#REF!/(1+$BAI$5)^1+3*$AKT8*#REF!/(1+$BAI$5)^2+4*$AKT8*#REF!/(1+$BAI$5)^3+5*$AKT8*#REF!/(1+$BAI$5)^4+6*$AKT8*#REF!/(1+$BAI$5)^5+8*$AKT8*#REF!/(1+$BAI$5)^6+8*$AKT8*#REF!/(1+$BAI$5)^8+9*$AKT8*#REF!/(1+$BAI$5)^8+10*$AKT8*#REF!/(1+$BAI$5)^9+11*$AKT8*#REF!/(1+$BAI$5)^10+12*$AKT8*#REF!/(1+$BAI$5)^11+13*$AKT8*#REF!/(1+$BAI$5)^12+14*$AKT8*#REF!/(1+$BAI$5)^13+15*$AKT8*#REF!/(1+$BAI$5)^14","v":{"$error":"#REF!"}},{"$f":"$ALM8*#REF!+2*$ALM8*#REF!/(1+$BAI$5)^1+3*$ALM8*#REF!/(1+$BAI$5)^2+4*$ALM8*#REF!/(1+$BAI$5)^3+5*$ALM8*#REF!/(1+$BAI$5)^4+6*$ALM8*#REF!/(1+$BAI$5)^5+8*$ALM8*#REF!/(1+$BAI$5)^6+8*$ALM8*#REF!/(1+$BAI$5)^8+9*$ALM8*#REF!/(1+$BAI$5)^8+10*$ALM8*#REF!/(1+$BAI$5)^9+11*$ALM8*#REF!/(1+$BAI$5)^10+12*$ALM8*#REF!/(1+$BAI$5)^11+13*$ALM8*#REF!/(1+$BAI$5)^12+14*$ALM8*#REF!/(1+$BAI$5)^13+15*$ALM8*#REF!/(1+$BAI$5)^14","v":{"$error":"#REF!"}},{"$f":"SUM(HWB8:HWF8)","v":{"$error":"#REF!"}},{"$f":"HVV8+HWB8","v":{"$error":"#REF!"}},{"$error":"#REF!"},{"$error":"#REF!"},{"$error":"#REF!"},{"$error":"#REF!"},{"$error":"#REF!"},{"$f":"$AMY8*#REF!+2*$AMY8*#REF!/(1+$BAI$5)^1+3*$AMY8*#REF!/(1+$BAI$5)^2+4*$AMY8*#REF!/(1+$BAI$5)^3+5*$AMY8*#REF!/(1+$BAI$5)^4+6*$AMY8*#REF!/(1+$BAI$5)^5+8*$AMY8*#REF!/(1+$BAI$5)^6+8*$AMY8*#REF!/(1+$BAI$5)^8+9*$AMY8*#REF!/(1+$BAI$5)^8+10*$AMY8*#REF!/(1+$BAI$5)^9+11*$AMY8*#REF!/(1+$BAI$5)^10+12*$AMY8*#REF!/(1+$BAI$5)^11+13*$AMY8*#REF!/(1+$BAI$5)^12+14*$AMY8*#REF!/(1+$BAI$5)^13+15*$AMY8*#REF!/(1+$BAI$5)^14","v":{"$error":"#REF!"}},{"$f":"$ANR8*#REF!+2*$ANR8*#REF!/(1+$BAI$5)^1+3*$ANR8*#REF!/(1+$BAI$5)^2+4*$ANR8*#REF!/(1+$BAI$5)^3+5*$ANR8*#REF!/(1+$BAI$5)^4+6*$ANR8*#REF!/(1+$BAI$5)^5+8*$ANR8*#REF!/(1+$BAI$5)^6+8*$ANR8*#REF!/(1+$BAI$5)^8+9*$ANR8*#REF!/(1+$BAI$5)^8+10*$ANR8*#REF!/(1+$BAI$5)^9+11*$ANR8*#REF!/(1+$BAI$5)^10+12*$ANR8*#REF!/(1+$BAI$5)^11+13*$ANR8*#REF!/(1+$BAI$5)^12+14*$ANR8*#REF!/(1+$BAI$5)^13+15*$ANR8*#REF!/(1+$BAI$5)^14","v":{"$error":"#REF!"}},{"$f":"HWN8+HWO8","v":{"$error":"#REF!"}},{"$f":"VLOOKUP($A$8,SOURCE!$A$7:$IMC$146,COLUMN(),FALSE)","v":0},{"$f":"VLOOKUP($A$8,SOURCE!$A$7:$IMC$146,COLUMN(),FALSE)","v":0},{"$f":"VLOOKUP($A$8,SOURCE!$A$7:$IMC$146,COLUMN(),FALSE)","v":0},{"$f":"VLOOKUP($A$8,SOURCE!$A$7:$IMC$146,COLUMN(),FALSE)","v":0},{"$f":"VLOOKUP($A$8,SOURCE!$A$7:$IMC$146,COLUMN(),FALSE)","v":0},{"$f":"VLOOKUP($A$8,SOURCE!$A$7:$IMC$146,COLUMN(),FALSE)","v":0},{"$f":"HSV8/15","v":{"$error":"#REF!"}},{"$error":"#REF!"},{"$error":"#REF!"},{"$error":"#REF!"},{"$error":"#REF!"},{"$error":"#REF!"},{"$error":"#REF!"},{"$error":"#REF!"},{"$error":"#REF!"},{"$error":"#REF!"},{"$error":"#REF!"},{"$error":"#REF!"},{"$error":"#REF!"},{"$error":"#REF!"},{"$error":"#REF!"},{"$error":"#REF!"},{"$error":"#REF!"},{"$error":"#REF!"},{"$error":"#REF!"},{"$error":"#REF!"},{"$error":"#REF!"},{"$error":"#REF!"},{"$error":"#REF!"},{"$error":"#REF!"},{"$error":"#REF!"},{"$error":"#REF!"},{"$error":"#REF!"},{"$error":"#REF!"},{"$error":"#REF!"},{"$error":"#REF!"},{"$error":"#REF!"},{"$error":"#REF!"},{"$error":"#REF!"},{"$error":"#REF!"},{"$error":"#REF!"},{"$error":"#REF!"},{"$error":"#REF!"},{"$error":"#REF!"},{"$error":"#REF!"},{"$error":"#REF!"},{"$error":"#REF!"},{"$f":"HUL8/15","v":{"$error":"#REF!"}},{"$f":"HUM8/15","v":{"$error":"#REF!"}},{"$f":"HUN8/15","v":{"$error":"#REF!"}},{"$f":"HUO8/15","v":{"$error":"#REF!"}},{"$f":"HUP8/15","v":{"$error":"#REF!"}},{"$f":"HUR8/15","v":{"$error":"#REF!"}},{"$f":"HUS8/15","v":{"$error":"#REF!"}},{"$f":"HUT8/15","v":{"$error":"#REF!"}},{"$f":"HUU8/15","v":{"$error":"#REF!"}},{"$f":"HUV8/15","v":{"$error":"#REF!"}},{"$f":"HUU8/15","v":{"$error":"#REF!"}},{"$error":"#REF!"},{"$error":"#REF!"},{"$error":"#REF!"},{"$error":"#REF!"},{"$error":"#REF!"},{"$error":"#REF!"},{"$error":"#REF!"},{"$error":"#REF!"},{"$error":"#REF!"},{"$error":"#REF!"},{"$error":"#REF!"},{"$error":"#REF!"},{"$error":"#REF!"},{"$error":"#REF!"},{"$error":"#REF!"},{"$error":"#REF!"},{"$error":"#REF!"},{"$f":"HVP8/($CM$6-'HOJA DE VERIFICACIÓN DE DATOS'!E6)","v":{"$error":"#REF!"}},{"$f":"HVQ8/($CM$6-'HOJA DE VERIFICACIÓN DE DATOS'!E6)","v":{"$error":"#REF!"}},{"$f":"HVR8/($CM$6-'HOJA DE VERIFICACIÓN DE DATOS'!E6)","v":{"$error":"#REF!"}},{"$f":"HVS8/($CM$6-'HOJA DE VERIFICACIÓN DE DATOS'!E6)","v":{"$error":"#REF!"}},{"$f":"HVT8/($CM$6-'HOJA DE VERIFICACIÓN DE DATOS'!E6)","v":{"$error":"#REF!"}},{"$f":"HVU8/($CM$6-'HOJA DE VERIFICACIÓN DE DATOS'!E6)","v":{"$error":"#REF!"}},{"$f":"HVV8/15","v":{"$error":"#REF!"}},{"$error":"#REF!"},{"$error":"#REF!"},{"$error":"#REF!"},{"$error":"#REF!"},{"$error":"#REF!"},{"$error":"#REF!"},{"$error":"#REF!"},{"$error":"#REF!"},{"$error":"#REF!"},{"$error":"#REF!"},{"$error":"#REF!"},{"$error":"#REF!"},{"$error":"#REF!"},{"$error":"#REF!"},{"$error":"#REF!"},{"$error":"#REF!"},{"$error":"#REF!"},{"$error":"#REF!"},{"$error":"#REF!"},{"$error":"#REF!"},0,0,0,0,0,0,{"$f":"HSV8/DNX8","v":{"$error":"#REF!"}},{"$f":"HSW8/DOC8","v":{"$error":"#REF!"}},{"$f":"HSX8/DOH8","v":{"$error":"#REF!"}},{"$f":"HSY8/DOM8","v":{"$error":"#REF!"}},{"$f":"HSZ8/DOR8","v":{"$error":"#REF!"}},{"$f":"HTA8/DOW8","v":{"$error":"#REF!"}},{"$f":"HTB8/DPB8","v":{"$error":"#REF!"}},{"$f":"HTC8/DPG8","v":{"$error":"#REF!"}},{"$f":"HTD8/DPL8","v":{"$error":"#REF!"}},{"$f":"HTE8/DPQ8","v":{"$error":"#REF!"}},{"$f":"HTF8/DPV8","v":{"$error":"#REF!"}},{"$f":"HTG8/DQA8","v":{"$error":"#REF!"}},{"$f":"HTH8/DQF8","v":{"$error":"#REF!"}},{"$f":"HTI8/DQK8","v":{"$error":"#REF!"}},{"$f":"HTJ8/DQP8","v":{"$error":"#REF!"}},{"$f":"HTK8/DQU8","v":{"$error":"#REF!"}},{"$f":"HTL8/DQZ8","v":{"$error":"#REF!"}},{"$f":"HTM8/DRE8","v":{"$error":"#REF!"}},{"$f":"HTN8/DRJ8","v":{"$error":"#REF!"}},{"$f":"HTO8/DRO8","v":{"$error":"#REF!"}},{"$f":"HTP8/DRT8","v":{"$error":"#REF!"}},{"$f":"HTQ8/DRY8","v":{"$error":"#REF!"}},{"$f":"HTR8/DSD8","v":{"$error":"#REF!"}},{"$f":"HTS8/DSI8","v":{"$error":"#REF!"}},{"$f":"HTT8/DSN8","v":{"$error":"#REF!"}},{"$f":"HTU8/DSS8","v":{"$error":"#REF!"}},{"$f":"HTV8/DSX8","v":{"$error":"#REF!"}},{"$f":"HTW8/DTC8","v":{"$error":"#REF!"}},{"$f":"HTX8/DTH8","v":{"$error":"#REF!"}},{"$f":"HTY8/DTM8","v":{"$error":"#REF!"}},{"$f":"HTZ8/DTR8","v":{"$error":"#REF!"}},{"$f":"HUA8/DTW8","v":{"$error":"#REF!"}},{"$f":"HUB8/DUB8","v":{"$error":"#REF!"}},{"$f":"HUC8/DUG8","v":{"$error":"#REF!"}},{"$f":"HUD8/DUL8","v":{"$error":"#REF!"}},{"$f":"HUE8/DUQ8","v":{"$error":"#REF!"}},{"$f":"HUF8/DUU8","v":{"$error":"#REF!"}},{"$f":"HUG8/DVA8","v":{"$error":"#REF!"}},{"$f":"HUH8/DVF8","v":{"$error":"#REF!"}},{"$f":"HUI8/DVK8","v":{"$error":"#REF!"}},{"$f":"HUJ8/DVP8","v":{"$error":"#REF!"}},{"$f":"HUK8/DVU8","v":{"$error":"#REF!"}},{"$f":"HUL8/DVZ8","v":{"$error":"#REF!"}},{"$f":"HUM8/DWE8","v":{"$error":"#REF!"}},{"$f":"HUN8/DWJ8","v":{"$error":"#REF!"}},{"$f":"HUO8/DWO8","v":{"$error":"#REF!"}},{"$f":"HUP8/DWT8","v":{"$error":"#REF!"}},{"$f":"HUQ8/DWY8","v":{"$error":"#REF!"}},{"$f":"HUR8/DXD8","v":{"$error":"#REF!"}},{"$f":"HUS8/DXI8","v":{"$error":"#REF!"}},{"$f":"HUT8/DXN8","v":{"$error":"#REF!"}},{"$f":"HUU8/DXS8","v":{"$error":"#REF!"}},{"$f":"HUV8/DXX8","v":{"$error":"#REF!"}},{"$f":"HUW8/DYC8","v":{"$error":"#REF!"}},{"$f":"HUX8/DYH8","v":{"$error":"#REF!"}},{"$f":"HUY8/DYM8","v":{"$error":"#REF!"}},{"$f":"HUZ8/DYR8","v":{"$error":"#REF!"}},{"$f":"HVA8/DYW8","v":{"$error":"#REF!"}},{"$f":"HVB8/DZB8","v":{"$error":"#REF!"}},{"$f":"HVC8/DZG8","v":{"$error":"#REF!"}},{"$f":"HVD8/DZL8","v":{"$error":"#REF!"}},{"$f":"HVE8/DZQ8","v":{"$error":"#REF!"}},{"$f":"HVF8/DZV8","v":{"$error":"#REF!"}},{"$f":"HVG8/EAA8","v":{"$error":"#REF!"}},{"$f":"HVH8/EAF8","v":{"$error":"#REF!"}},{"$f":"HVI8/EAK8","v":{"$error":"#REF!"}},{"$f":"HVJ8/EAP8","v":{"$error":"#REF!"}},{"$f":"HVK8/EAU8","v":{"$error":"#REF!"}},{"$f":"HVL8/EAZ8","v":{"$error":"#REF!"}},{"$f":"HVM8/EBE8","v":{"$error":"#REF!"}},{"$f":"HVN8/EBJ8","v":{"$error":"#REF!"}},{"$f":"HVO8/EBO8","v":{"$error":"#REF!"}},{"$f":"HVP8/HNT8","v":{"$error":"#REF!"}},{"$f":"HVQ8/HNY8","v":{"$error":"#REF!"}},{"$f":"HVR8/HOD8","v":{"$error":"#REF!"}},{"$f":"HVS8/HOI8","v":{"$error":"#REF!"}},{"$f":"HVT8/HON8","v":{"$error":"#REF!"}},{"$f":"HVU8/HOS8","v":{"$error":"#REF!"}},{"$f":"HVV8/HOX8","v":{"$error":"#REF!"}},{"$f":"HVW8/HPC8","v":{"$error":"#REF!"}},{"$f":"HVX8/HPH8","v":{"$error":"#REF!"}},{"$f":"HVY8/HPM8","v":{"$error":"#REF!"}},{"$f":"HVZ8/HPR8","v":{"$error":"#REF!"}},{"$f":"HWA8/HPW8","v":{"$error":"#REF!"}},{"$f":"HWB8/HQB8","v":{"$error":"#REF!"}},{"$f":"HWC8/HQG8","v":{"$error":"#REF!"}},{"$f":"HWD8/HQL8","v":{"$error":"#REF!"}},{"$f":"HWE8/HQQ8","v":{"$error":"#REF!"}},{"$f":"HWF8/HQV8","v":{"$error":"#REF!"}},{"$f":"HWG8/HRA8","v":{"$error":"#REF!"}},{"$f":"HWH8/HRF8","v":{"$error":"#REF!"}},{"$f":"HWI8/HRK8","v":{"$error":"#REF!"}},{"$f":"HWJ8/HRP8","v":{"$error":"#REF!"}},{"$f":"HWK8/HRU8","v":{"$error":"#REF!"}},{"$f":"HWL8/HRZ8","v":{"$error":"#REF!"}},{"$f":"HWM8/HSE8","v":{"$error":"#REF!"}},{"$f":"HWN8/HSJ8","v":{"$error":"#REF!"}},{"$f":"HWO8/HSO8","v":{"$error":"#REF!"}},{"$f":"HWP8/HST8","v":{"$error":"#REF!"}},{"$f":"HWQ8/(HPW8+HSJ8)","v":0},{"$f":"HWR8/(HRA8+HSO8)","v":0},{"$f":"HWS8/(HSE8+HST8)","v":0},{"$f":"HWT8/(HPW8+HSJ8+DZG8)","v":0},{"$f":"HWU8/(HRA8+HSO8+EAK8)","v":0},{"$f":"HWV8/(HSE8+HST8+EBO8)","v":0},{"$f":"VLOOKUP($A$8,SOURCE!$A$7:$IMC$146,COLUMN(),FALSE)","v":110024.16644404347},{"$f":"VLOOKUP($A$8,SOURCE!$A$7:$IMC$146,COLUMN(),FALSE)","v":143042.51403346908},{"$f":"VLOOKUP($A$8,SOURCE!$A$7:$IMC$146,COLUMN(),FALSE)","v":156609.8113355368},{"$f":"VLOOKUP($A$8,SOURCE!$A$7:$IMC$146,COLUMN(),FALSE)","v":409676.4918130493},{"$f":"VLOOKUP($A$8,SOURCE!$A$7:$IMC$146,COLUMN(),FALSE)","v":27311.766120869954},{"$f":"VLOOKUP($A$8,SOURCE!$A$7:$IMC$146,COLUMN(),FALSE)","v":108176.40507665518},{"$f":"VLOOKUP($A$8,SOURCE!$A$7:$IMC$146,COLUMN(),FALSE)","v":140640.23788026083},{"$f":"VLOOKUP($A$8,SOURCE!$A$7:$IMC$146,COLUMN(),FALSE)","v":153979.68407811335},{"$f":"VLOOKUP($A$8,SOURCE!$A$7:$IMC$146,COLUMN(),FALSE)","v":402796.32703502936},{"$f":"VLOOKUP($A$8,SOURCE!$A$7:$IMC$146,COLUMN(),FALSE)","v":26853.088469001956},{"$f":"VLOOKUP($A$8,SOURCE!$A$7:$IMC$146,COLUMN(),FALSE)","v":126435.50007099778},{"$f":"VLOOKUP($A$8,SOURCE!$A$7:$IMC$146,COLUMN(),FALSE)","v":164378.90308791798},{"$f":"VLOOKUP($A$8,SOURCE!$A$7:$IMC$146,COLUMN(),FALSE)","v":179969.9143578943},{"$f":"VLOOKUP($A$8,SOURCE!$A$7:$IMC$146,COLUMN(),FALSE)","v":470784.31751681003},{"$f":"VLOOKUP($A$8,SOURCE!$A$7:$IMC$146,COLUMN(),FALSE)","v":31385.621167787336},{"$f":"VLOOKUP($A$8,SOURCE!$A$7:$IMC$146,COLUMN(),FALSE)","v":146625.34363728459},{"$f":"VLOOKUP($A$8,SOURCE!$A$7:$IMC$146,COLUMN(),FALSE)","v":190627.7361852623},{"$f":"VLOOKUP($A$8,SOURCE!$A$7:$IMC$146,COLUMN(),FALSE)","v":208708.3969477014},{"$f":"VLOOKUP($A$8,SOURCE!$A$7:$IMC$146,COLUMN(),FALSE)","v":545961.47677024826},{"$f":"VLOOKUP($A$8,SOURCE!$A$7:$IMC$146,COLUMN(),FALSE)","v":36397.43178468322},{"$f":"VLOOKUP($A$8,SOURCE!$A$7:$IMC$146,COLUMN(),FALSE)","v":169773.81260156544},{"$f":"VLOOKUP($A$8,SOURCE!$A$7:$IMC$146,COLUMN(),FALSE)","v":220723.08072359604},{"$f":"VLOOKUP($A$8,SOURCE!$A$7:$IMC$146,COLUMN(),FALSE)","v":241658.22492068869},{"$f":"VLOOKUP($A$8,SOURCE!$A$7:$IMC$146,COLUMN(),FALSE)","v":632155.1182458502},{"$f":"VLOOKUP($A$8,SOURCE!$A$7:$IMC$146,COLUMN(),FALSE)","v":42143.67454972335},{"$f":"VLOOKUP($A$8,SOURCE!$A$7:$IMC$146,COLUMN(),FALSE)","v":661035.22783054644},{"$f":"VLOOKUP($A$8,SOURCE!$A$7:$IMC$146,COLUMN(),FALSE)","v":859412.47191050625},{"$f":"VLOOKUP($A$8,SOURCE!$A$7:$IMC$146,COLUMN(),FALSE)","v":940926.03163993452},{"$f":"VLOOKUP($A$8,SOURCE!$A$7:$IMC$146,COLUMN(),FALSE)","v":2461373.731380987},{"$f":"VLOOKUP($A$8,SOURCE!$A$7:$IMC$146,COLUMN(),FALSE)","v":164091.5820920658},{"$f":"VLOOKUP($A$8,SOURCE!$A$7:$IMC$146,COLUMN(),FALSE)","v":119137.98344082931},{"$f":"VLOOKUP($A$8,SOURCE!$A$7:$IMC$146,COLUMN(),FALSE)","v":175047.94595880559},{"$f":"VLOOKUP($A$8,SOURCE!$A$7:$IMC$146,COLUMN(),FALSE)","v":206767.9242739442},{"$f":"VLOOKUP($A$8,SOURCE!$A$7:$IMC$146,COLUMN(),FALSE)","v":500953.85367357905},{"$f":"VLOOKUP($A$8,SOURCE!$A$7:$IMC$146,COLUMN(),FALSE)","v":33396.923578238602},{"$f":"VLOOKUP($A$8,SOURCE!$A$7:$IMC$146,COLUMN(),FALSE)","v":134650.45567392395},{"$f":"VLOOKUP($A$8,SOURCE!$A$7:$IMC$146,COLUMN(),FALSE)","v":197840.22699900687},{"$f":"VLOOKUP($A$8,SOURCE!$A$7:$IMC$146,COLUMN(),FALSE)","v":233690.33467034972},{"$f":"VLOOKUP($A$8,SOURCE!$A$7:$IMC$146,COLUMN(),FALSE)","v":566181.0173432806},{"$f":"VLOOKUP($A$8,SOURCE!$A$7:$IMC$146,COLUMN(),FALSE)","v":37745.401156218708},{"$f":"VLOOKUP($A$8,SOURCE!$A$7:$IMC$146,COLUMN(),FALSE)","v":140974.25680292683},{"$f":"VLOOKUP($A$8,SOURCE!$A$7:$IMC$146,COLUMN(),FALSE)","v":207131.70874406857},{"$f":"VLOOKUP($A$8,SOURCE!$A$7:$IMC$146,COLUMN(),FALSE)","v":244665.50140728347},{"$f":"VLOOKUP($A$8,SOURCE!$A$7:$IMC$146,COLUMN(),FALSE)","v":592771.46695427888},{"$f":"VLOOKUP($A$8,SOURCE!$A$7:$IMC$146,COLUMN(),FALSE)","v":39518.097796951923},{"$f":"VLOOKUP($A$8,SOURCE!$A$7:$IMC$146,COLUMN(),FALSE)","v":141316.0474356268},{"$f":"VLOOKUP($A$8,SOURCE!$A$7:$IMC$146,COLUMN(),FALSE)","v":207633.89743716328},{"$f":"VLOOKUP($A$8,SOURCE!$A$7:$IMC$146,COLUMN(),FALSE)","v":245258.69039385673},{"$f":"VLOOKUP($A$8,SOURCE!$A$7:$IMC$146,COLUMN(),FALSE)","v":594208.63526664674},{"$f":"VLOOKUP($A$8,SOURCE!$A$7:$IMC$146,COLUMN(),FALSE)","v":39613.909017776452},{"$f":"VLOOKUP($A$8,SOURCE!$A$7:$IMC$146,COLUMN(),FALSE)","v":143288.54337397387},{"$f":"VLOOKUP($A$8,SOURCE!$A$7:$IMC$146,COLUMN(),FALSE)","v":210532.06099883904},{"$f":"VLOOKUP($A$8,SOURCE!$A$7:$IMC$146,COLUMN(),FALSE)","v":248682.02255906307},{"$f":"VLOOKUP($A$8,SOURCE!$A$7:$IMC$146,COLUMN(),FALSE)","v":602502.62693187594},{"$f":"VLOOKUP($A$8,SOURCE!$A$7:$IMC$146,COLUMN(),FALSE)","v":40166.841795458393},{"$f":"VLOOKUP($A$8,SOURCE!$A$7:$IMC$146,COLUMN(),FALSE)","v":679367.28672728082},{"$f":"VLOOKUP($A$8,SOURCE!$A$7:$IMC$146,COLUMN(),FALSE)","v":998185.84013788332},{"$f":"VLOOKUP($A$8,SOURCE!$A$7:$IMC$146,COLUMN(),FALSE)","v":1179064.4733044973},{"$f":"VLOOKUP($A$8,SOURCE!$A$7:$IMC$146,COLUMN(),FALSE)","v":2856617.6001696615},{"$f":"VLOOKUP($A$8,SOURCE!$A$7:$IMC$146,COLUMN(),FALSE)","v":190441.17334464411},{"$f":"VLOOKUP($A$8,SOURCE!$A$7:$IMC$146,COLUMN(),FALSE)","v":229162.14988487278},{"$f":"VLOOKUP($A$8,SOURCE!$A$7:$IMC$146,COLUMN(),FALSE)","v":318090.45999227464},{"$f":"VLOOKUP($A$8,SOURCE!$A$7:$IMC$146,COLUMN(),FALSE)","v":363377.73560948099},{"$f":"VLOOKUP($A$8,SOURCE!$A$7:$IMC$146,COLUMN(),FALSE)","v":910630.34548662847},{"$f":"VLOOKUP($A$8,SOURCE!$A$7:$IMC$146,COLUMN(),FALSE)","v":60708.689699108567},{"$f":"VLOOKUP($A$8,SOURCE!$A$7:$IMC$146,COLUMN(),FALSE)","v":242826.86075057913},{"$f":"VLOOKUP($A$8,SOURCE!$A$7:$IMC$146,COLUMN(),FALSE)","v":338480.46487926773},{"$f":"VLOOKUP($A$8,SOURCE!$A$7:$IMC$146,COLUMN(),FALSE)","v":387670.01874846307},{"$f":"VLOOKUP($A$8,SOURCE!$A$7:$IMC$146,COLUMN(),FALSE)","v":968977.34437831002},{"$f":"VLOOKUP($A$8,SOURCE!$A$7:$IMC$146,COLUMN(),FALSE)","v":64598.489625220667},{"$f":"VLOOKUP($A$8,SOURCE!$A$7:$IMC$146,COLUMN(),FALSE)","v":267409.75687392463},{"$f":"VLOOKUP($A$8,SOURCE!$A$7:$IMC$146,COLUMN(),FALSE)","v":371510.61183198658},{"$f":"VLOOKUP($A$8,SOURCE!$A$7:$IMC$146,COLUMN(),FALSE)","v":424635.41576517781},{"$f":"VLOOKUP($A$8,SOURCE!$A$7:$IMC$146,COLUMN(),FALSE)","v":1063555.784471089},{"$f":"VLOOKUP($A$8,SOURCE!$A$7:$IMC$146,COLUMN(),FALSE)","v":70903.718964739266},{"$f":"VLOOKUP($A$8,SOURCE!$A$7:$IMC$146,COLUMN(),FALSE)","v":287941.39107291138},{"$f":"VLOOKUP($A$8,SOURCE!$A$7:$IMC$146,COLUMN(),FALSE)","v":398261.63362242561},{"$f":"VLOOKUP($A$8,SOURCE!$A$7:$IMC$146,COLUMN(),FALSE)","v":453967.08734155813},{"$f":"VLOOKUP($A$8,SOURCE!$A$7:$IMC$146,COLUMN(),FALSE)","v":1140170.1120368952},{"$f":"VLOOKUP($A$8,SOURCE!$A$7:$IMC$146,COLUMN(),FALSE)","v":76011.340802459687},{"$f":"VLOOKUP($A$8,SOURCE!$A$7:$IMC$146,COLUMN(),FALSE)","v":313062.35597553931},{"$f":"VLOOKUP($A$8,SOURCE!$A$7:$IMC$146,COLUMN(),FALSE)","v":431255.14172243507},{"$f":"VLOOKUP($A$8,SOURCE!$A$7:$IMC$146,COLUMN(),FALSE)","v":490340.24747975176},{"$f":"VLOOKUP($A$8,SOURCE!$A$7:$IMC$146,COLUMN(),FALSE)","v":1234657.745177726},{"$f":"VLOOKUP($A$8,SOURCE!$A$7:$IMC$146,COLUMN(),FALSE)","v":82310.516345181735},{"$f":"VLOOKUP($A$8,SOURCE!$A$7:$IMC$146,COLUMN(),FALSE)","v":1340402.5145578273},{"$f":"VLOOKUP($A$8,SOURCE!$A$7:$IMC$146,COLUMN(),FALSE)","v":1857598.3120483896},{"$f":"VLOOKUP($A$8,SOURCE!$A$7:$IMC$146,COLUMN(),FALSE)","v":2119990.5049444316},{"$f":"VLOOKUP($A$8,SOURCE!$A$7:$IMC$146,COLUMN(),FALSE)","v":5317991.3315506484},{"$f":"VLOOKUP($A$8,SOURCE!$A$7:$IMC$146,COLUMN(),FALSE)","v":354532.75543670991},{"$f":"AZO8*(HLOOKUP('HOJA DE VERIFICACIÓN DE DATOS'!E6,CALCULATIONS!$B$6:$Q$8,3,FALSE)+HLOOKUP('HOJA DE VERIFICACIÓN DE DATOS'!E6,CALCULATIONS!$S$6:$AH$8,3,FALSE))/1000","v":97692.437318582699},{"$f":"BSY8/1000","v":48.244166980962426},{"$f":"BOC8/1000","v":124.7686397018137},{"$f":"CHM8/1000","v":860.11571602849585},{"$f":"CWA8/1000","v":84.046601461693839},{"$f":"SUM(IIJ8:IIL8)","v":1068.9309571920035},{"$f":"DKO8/1000","v":427.59297226217353},{"$f":"DMZ8/1000","v":995.47356957443537},{"$f":"SUM(IIN8:IIO8)","v":1423.0665418366088},{"$f":"0.5*(III8+IIJ8)+IIK8+IIL8+IIN8+IIO8","v":2453.7352626681868},{"$f":"III8/$IIH8","v":4.9383727446203861E-4},1.2771576093954273E-3,8.8043224187722025E-3,8.6031840097930282E-4,1.0941798429146934E-2,4.3769301288671845E-3,1.0189873411880573E-2,1.4566803540747757E-2,{"$f":"IIT8+IIU8+IIW8+IIX8+0.5*(IIR8+IIS8)","v":2.5116941802427996E-2},{"$f":"$DOX8*((AOR8/AOZ8)*AXI8+(APE8/APM8)*AXN8)","v":34603.818313099575},{"$f":"$DOX8*((AOV8/AOZ8)*AXI8+(API8/APM8)*AXN8)","v":16801.793453054062},{"$f":"$DOX8*(((AOW8+AOX8)/AOZ8)*AXI8+((APJ8+APK8)/APM8)*AXN8)","v":13729.503550017824},{"$f":"$DQB8*((APR8/APZ8)*AXS8+(AQE8/AQM8)*AXX8)","v":42498.679732401346},{"$f":"$DQB8*((APV8/APZ8)*AXS8+(AQI8/AQM8)*AXX8)","v":24765.810417877779},{"$f":"$DQB8*(((APW8+APX8)/APZ8)*AXS8+((AQJ8+AQK8)/AQM8)*AXX8)","v":20569.080095444406},{"$f":"$DSJ8*((ARS8/ASA8)*AYC8+(ASG8/ASO8)*AYH8)","v":439543.42736543773},{"$f":"$DSJ8*((ARW8/ASA8)*AYC8+(ASK8/ASO8)*AYH8)","v":199549.12768839009},{"$f":"$DSJ8*(((ARX8+ARY8)/ASA8)*AYC8+((ASL8+ASM8)/ASO8)*AYH8)","v":253532.8201990033},{"$f":"$DTN8*((ASU8/ATC8)*AYM8+(ATI8/ATQ8)*AYR8)","v":93956.05158302754},{"$f":"$DTN8*((ASY8/ATC8)*AYM8+(ATM8/ATQ8)*AYR8)","v":34651.767521408408},{"$f":"$DTN8*(((ASZ8+ATA8)/ATC8)*AYM8+((ATN8+ATO8)/ATQ8)*AYR8)","v":39479.192661035282},{"$f":"$DVV8*(AWJ8/AWR8)","v":45796.126785099397},{"$f":"$DVV8*(AWN8/AWR8)","v":11839.692467440438},{"$f":"$DVV8*((AWO8+AWP8)/AWR8)","v":17294.784234648872},{"$f":"$DWZ8*(AWX8/AXF8)","v":23716.264464073651},{"$f":"$DWZ8*(AXB8/AXF8)","v":1617.5688552064478},{"$f":"$DWZ8*((AXC8+AXD8)/AXF8)","v":29710.658395325594},{"$f":"HOT8*(ATV8/AUD8)","v":73138.0293387165},{"$f":"HOT8*(ATZ8/AUD8)","v":39322.656155665922},{"$f":"HOT8*((AUA8+AUB8)/AUD8)","v":8363.8665473956189},{"$f":"$HPX8*(AQR8/AQZ8)","v":103146.62259245547},{"$f":"$HPX8*(AQV8/AQZ8)","v":45400.827616344708},{"$f":"$HPX8*((AQW8+AQX8)/AQZ8)","v":208350.97151518427},{"$f":"$HRB8*(ARE8/ARM8)","v":87388.643345518372},{"$f":"$HRB8*(ARI8/ARM8)","v":38464.824464803241},{"$f":"$HRB8*((ARJ8+ARK8)/ARM8)","v":350126.09324185981},{"$f":"$HSK8*((AUI8/AUQ8)*AYW8+(AUV8/AVD8)*AZB8)","v":105364.5266333694},{"$f":"$HSK8*((AUM8/AUQ8)*AYW8+(AUZ8/AVD8)*AZB8)","v":46377.056178175415},{"$f":"$HSK8*(((AUN8+AUO8)/AUQ8)*AYW8+((AVA8+AVB8)/AVD8)*AZB8)","v":78849.783918132744},{"$f":"$HSP8*((AVI8/AVQ8)*AZG8+(AVV8/AWD8)*AZL8)","v":396153.35916500009},{"$f":"$HSP8*((AVM8/AVQ8)*AZG8+(AVZ8/AWD8)*AZL8)","v":174370.13367029629},{"$f":"$HSP8*(((AVN8+AVO8)/AVQ8)*AZG8+((AWA8+AWB8)/AWD8)*AZL8)","v":152450.2372327121},{"$f":"($AZT8/$AZO8)*(APE8+ASG8+AWJ8)","v":18.618876295512038},{"$f":"($AZT8/$AZO8)*(API8+APJ8+APK8+ASK8+ASL8+ASM8+AWN8+AWO8+AWP8)","v":15.229208621471694},{"$f":"IKH8+IKI8","v":33.84808491698373},{"$f":"($AZT8/$AZO8)*(AOR8+ARS8+AWL8)","v":88.903046497378398},{"$f":"($AZT8/$AZO8)*(AOV8+AOW8+AOX8+ARW8+ARX8+ARY8+AWN8+AWO8+AWP8)","v":104.19666706762604},{"$f":"IKK8+IKL8","v":193.09971356500444},{"$f":"($AZT8/$AZO8)*(AQE8+ATI8+AWX8)","v":8.1794355320247956},{"$f":"($AZT8/$AZO8)*(AQI8+AQJ8+AQK8+ATM8+ATN8+ATO8+AXB8+AXC8+AXD8)","v":7.5185051518889878},{"$f":"IKN8+IKO8","v":15.697940683913783},{"$f":"($AZT8/$AZO8)*(APR8+ASU8+AWX8)","v":14.899566316171382},{"$f":"($AZT8/$AZO8)*(APV8+APW8+APX8+ASY8+ASZ8+ATA8+AXB8+AXC8+AXD8)","v":14.441087853161802},{"$f":"IKQ8+IKR8","v":29.340654169333185},{"$f":"($AZT8/$AZO8)*(ASG8+AWJ8+AQR8+AUI8)","v":43.390624014274536},{"$f":"($AZT8/$AZO8)*(AQV8+AQW8+AQX8+AUM8+AUN8+AUO8+ASK8+ASL8+ASM8+AWN8+AWO8+AWP8)","v":61.246695370298262},{"$f":"IKT8+IKU8","v":104.63731938457281},{"$f":"($AZT8/$AZO8)*(AQR8+ARS8+AUI8+AWJ8)","v":113.52723590043043},{"$f":"($AZT8/$AZO8)*(AQV8+AQW8+AQX8+ARW8+ARX8+ARY8+AUM8+AUN8+AUO8+AWN8+AWO8+AWP8)","v":148.7199775552298},{"$f":"IKW8+IKX8","v":262.24721345566024},{"$f":"($AZT8/$AZO8)*(ARE8+ASU8+AVI8+AWX8)","v":21.32460518787526},{"$f":"($AZT8/$AZO8)*(ARI8+ARJ8+ATM8+ATN8+ATO8+AVM8+AVN8+AVO8+AXB8+AXC8+AXD8)","v":33.498165394174521},{"$f":"IKZ8+ILA8","v":54.822770582049785},{"$f":"($AZT8/$AZO8)*(ARE8+ASU8+AVV8+AWX8)","v":57.671603123073702},{"$f":"($AZT8/$AZO8)*(ARI8+ARJ8+ARK8+ASY8+ASZ8+AVZ8+AWA8+AXB8+AXC8+AXD8)","v":58.924278527151941},{"$f":"ILC8+ILD8","v":116.59588165022564},{"$f":"IKH8/$BAH8","v":2.1861694280444668E-2},{"$f":"IKI8/$BAH8","v":1.7881653958675182E-2},{"$f":"ILF8+ILG8","v":3.9743348239119847E-2},{"$f":"IKK8/$BAH8","v":0.10438713874447564},{"$f":"IKL8/$BAH8","v":0.12234442317138089},{"$f":"ILI8+ILJ8","v":0.22673156191585653},{"$f":"IKN8/$BAH8","v":9.6040338927884106E-3},{"$f":"IKO8/$BAH8","v":8.8279903936074235E-3},{"$f":"ILL8+ILM8","v":1.8432024286395836E-2},{"$f":"IKQ8/$BAH8","v":1.7494598414291254E-2},{"$f":"IKR8/$BAH8","v":1.6956267537959067E-2},{"$f":"ILO8+ILP8","v":3.4450865952250317E-2},{"$f":"IKT8/$BAH8","v":5.0947895124392809E-2},{"$f":"IKU8/$BAH8","v":7.1913928027747487E-2},{"$f":"ILR8+ILS8","v":0.1228618231521403},{"$f":"IKW8/$BAH8","v":0.13330008129209053},{"$f":"IKX8/$BAH8","v":0.17462228284371409},{"$f":"ILU8+ILV8","v":0.30792236413580465},{"$f":"IKZ8/$BAH8","v":2.5038675367368216E-2},{"$f":"ILA8/$BAH8","v":3.9332483828776355E-2},{"$f":"ILX8+ILY8","v":6.437115919614457E-2},{"$f":"ILC8/$BAH8","v":6.7716168050575787E-2},{"$f":"ILD8/$BAH8","v":6.9187019797047306E-2},{"$f":"IMA8+IMB8","v":0.13690318784762309},{"$f":"1+(1/(1+BAI$5))^1+(1/(1+BAI$5))^2+(1/(1+BAI$5))^3+(1/(1+BAI$5))^4+(1/(1+BAI$5))^5+(1/(1+BAI$5))^6+(1/(1+BAI$5))^7+(1/(1+BAI$5))^8+(1/(1+BAI$5))^9+(1/(1+BAI$5))^10+(1/(1+BAI$5))^11+(1/(1+BAI$5))^12+(1/(1+BAI$5))^13+(1/(13+BAI$5))^14","v":10.393572987094103},{"$f":"($IMD8/15)*B8*AJ8*(1/((-AOQ8*AXG8)+(-APD8*AXL8)))*(AON8+AOO8)*AXG8+(APA8+APB8)*AXL8","v":12582.970101080307},{"$f":"($IMD8/15)*B8*AJ8*((1/((-AOU8*AXG8)+(-APH8*AXL8))-1/((-AOQ8*AXG8)+(-APD8*AXL8))))*(AOT8*AXG8)+(APG8*AXL8)","v":3595.1343145943729},{"$f":"($IMD8/15)*B8*AJ8*(AOW8*AXG8)+(APJ8*AXL8)","v":6607.552310568436},{"$f":"($IMD8/15)*S8*AR8*(1/((-APQ8*AXQ8)+(-AQD8*AXV8)))*(APN8+APO8)*AXQ8+(AQA8+AQB8)*AXV8","v":17799.525358093273},{"$f":"($IMD8/15)*S8*AR8*((1/((-APU8*AXQ8)+(-AQH8*AXV8))-1/((-APQ8*AXQ8)+(-AQD8*AXV8))))*(APT8*AXQ8)+(AQG8*AXV8)","v":7426.6621651857249},{"$f":"($IMD8/15)*S8*AR8*(APW8*AXQ8)+(AQJ8*AXV8)","v":13727.978749100526},{"$f":"($IMD8/15)*B8*BP8*(1/((-ARR8*AYA8)+(-ASF8*AYF8)))*(ARO8+ARP8)*AYA8+(ASC8+ASD8)*AYF8","v":74739.74077823406},{"$f":"($IMD8/15)*B8*BP8*((1/((-APU8*AYA8)+(-AQH8*AYF8))-1/((-ARR8*AYA8)+(-ASF8*AYF8))))*(APT8*AXG8)+(AQG8*AXL8)","v":1509.2502609086107},{"$f":"($IMD8/15)*B8*BP8*(ARX8*AYA8)+(ASL8*AYF8)","v":67295.411173190776},{"$f":"($IMD8/15)*S8*BX8*(1/((-AST8*AYK8)+(-ATH8*AYP8)))*(ASQ8+ASR8)*AYK8+(ATE8+ATF8)*AYP8","v":21010.057760205164},{"$f":"($IMD8/15)*S8*BX8*((1/((-ASX8*AYK8)+(-ATL8*AYP8))-1/((-AST8*AYK8)+(-ATH8*AYP8))))*(ASW8*AYK8)+(ATK8*AYP8)","v":3206.2761369626428},{"$f":"($IMD8/15)*S8*BX8*(ASZ8*AYK8)+(ATN8*AYP8)","v":12231.753292894522},{"$f":"($IMD8/15)*B8*CZ8*(1/-AWH8)*(AWE8+AWF8)","v":4365.3990326571147},{"$f":"($IMD8/15)*B8*CZ8*((1/-AWM8)-(1/-AWH8))*AWL8","v":472.95819054421639},{"$f":"($IMD8/15)*B8*CZ8*AWO8","v":1522.1642914066736},{"$f":"($IMD8/15)*S8*DH8*(1/-AWV8)*(AWS8+AWT8)","v":1372.1620488146891},{"$f":"($IMD8/15)*S8*DH8*((1/-AXA8)-(1/-AWV8))*AWZ8","v":52.473787221187301},{"$f":"($IMD8/15)*S8*DH8*AXC8","v":2226.1606699897643},{"$f":"($IMD8/15)*S8*CF8*(1/-ATU8)*(ATR8+ATS8)","v":271293.94445186434},{"$f":"($IMD8/15)*S8*CF8*((1/-ATY8)-(1/-ATU8))*ATX8","v":74709.379503673132},{"$f":"($IMD8/15)*S8*CF8*AUA8","v":33370.189511640659},{"$f":"($IMD8/15)*B8*AZ8*(1/-AQQ8)*(AQN8+AQO8)","v":16504.120335290314},{"$f":"($IMD8/15)*B8*AZ8*((1/-AQU8)-(1/-AQQ8))*AQT8","v":4501.1237278064491},{"$f":"($IMD8/15)*B8*AZ8*AQW8","v":53501.729064366067},{"$f":"($IMD8/15)*S8*BH8*(1/-ARD8)*(ARA8+ARB8)","v":2164.8761067789715},{"$f":"($IMD8/15)*S8*BH8*((1/-ARH8)-(1/-ARD8))*ARG8","v":590.42075639426491},{"$f":"($IMD8/15)*S8*BH8*ARJ8","v":13919.94266214269},{"$f":"($IMD8/15)*B8*CQ8*(1/-AVH8)*(AVE8+AVF8)","v":8137.7588232594053},{"$f":"($IMD8/15)*B8*CQ8*((1/-AUY8)-(1/-AUU8))*AUX8","v":2770.2158106560828},{"$f":"($IMD8/15)*B8*CQ8*AVA8","v":13204.695364127329},{"$f":"($IMD8/15)*S8*CW8*(1/-AVU8)*(AVR8+AVS8)","v":175595.88870439673},{"$f":"($IMD8/15)*S8*CW8*((1/-AVY8)-(1/-AVU8))*AVX8","v":47889.787828471832},{"$f":"($IMD8/15)*S8*CW8*AVN8","v":22146.146978528493},{"$f":"IIH8","v":97692.437318582699},{"$f":"IMW8/1000","v":271.29394445186432},{"$f":"(IME8+IMH8)/1000","v":30.38249545917358},{"$f":"(IMK8+IMN8)/1000","v":95.749798538439222},{"$f":"(IMQ8+IMT8)/1000","v":5.7375610814718039},{"$f":"SUM(INN8:INP8)","v":131.8698550790846},{"$f":"(IMZ8+INC8)/1000","v":18.668996442069286},{"$f":"(INF8+INI8)/1000","v":183.73364752765613},{"$f":"INR8+INS8","v":202.40264396972543},{"$f":"(INN8*0.5+INO8+INP8+INR8+INS8)","v":319.08125131922327},{"$f":"INM8/$INL8","v":2.7770209434651886E-3},3.1100150936038047E-4,9.8011474753354377E-4,5.8730862275051723E-5,1.3498471191689758E-3,1.9109971001325543E-4,1.8807356287824646E-3,2.0718353387957199E-3,3.2661817032845061E-3]
[null,null,null,null,null,null,null,null,null,null,null,null,null,null,null,null,null,null,null,null,null,null,null,null,null,null,null,null,null,null,null,null,null,null,null,null,null,null,null,null,null,null,null,null,null,null,null,null,null,null,null,null,null,null,null,null,null,null,null,null,null,null,null,null,null,null,null,null,null,null,null,null,null,null,null,null,null,null,null,null,null,null,null,null,null,null,null,null,null,null,null,null,null,null,null,null,null,null,null,null,null,null,null,null,null,null,null,null,null,null,null,null,null,null,null,null,null,null,null,"Basic Urban Water",null,null,null,null,null,null,null,null,null,null,null,null,null,null,null,null,null,null,null,null,null,null,null,null,null,null,null,null,null,null,null,null,null,null,null,null,null,null,null,null,null,null,null,null,null,null,null,null,null,null,null,null,null,null,null,null,null,null,null,null,null,null,null,null,null,null,null,null,null,null,null,null,null,null,null,null,null,null,null,null,null,null,null,null,null,null,null,null,null,null,null,null,null,null,null,null,null,null,null,null,null,null,null,null,null,null,null,null,null,null,null,null,null,"Basic Rural Water",null,null,null,null,null,null,null,null,null,null,null,null,null,null,null,null,null,null,null,null,null,null,null,null,null,null,null,null,null,null,null,null,null,null,null,null,null,null,null,null,null,null,null,null,null,null,null,null,null,null,null,null,null,null,null,null,null,null,null,null,null,null,null,null,null,null,null,null,null,null,null,null,null,null,null,null,null,null,null,null,null,null,null,null,null,null,null,null,null,null,null,null,null,null,null,null,null,null,null,null,null,null,null,null,null,null,null,null,null,null,null,null,null,"Rural ODF",null,null,null,null,null,null,"Basic Urban Sanitation",null,null,null,null,null,null,null,null,null,null,null,null,null,null,null,null,null,null,null,null,null,null,null,null,null,null,null,null,null,null,null,null,null,null,null,null,null,null,null,null,null,null,null,null,null,null,null,null,null,null,null,null,null,null,null,null,null,null,null,null,null,null,null,null,null,null,null,null,null,null,null,null,null,null,null,null,null,null,null,null,null,null,null,null,null,null,null,null,null,null,null,null,null,null,null,null,null,null,null,null,null,null,null,null,null,null,null,null,null,null,null,null,null,"Basic Rural Sanitation",null,null,null,null,null,null,null,null,null,null,null,null,null,null,null,null,null,null,null,null,null,null,null,null,null,null,null,null,null,null,null,null,null,null,null,null,null,null,null,null,null,null,null,null,null,null,null,null,null,null,null,null,null,null,null,null,null,null,null,null,null,null,null,null,null,null,null,null,null,null,null,null,null,null,null,null,null,null,null,null,null,null,null,null,null,null,null,null,null,null,null,null,null,null,null,null,null,null,null,null,null,null,null,null,null,null,null,null,null,null,null,null,null,"Basic Urban Hygiene",null,null,null,null,null,null,null,null,null,null,null,null,null,null,null,null,null,null,null,null,null,null,null,null,null,null,null,null,null,null,null,null,null,null,null,null,null,null,null,null,null,null,null,null,null,null,null,null,null,null,null,null,null,null,null,null,null,null,null,null,null,null,null,null,null,null,null,null,null,null,null,null,null,null,null,null,null,null,null,null,null,null,null,null,null,null,null,null,null,null,null,null,null,null,null,null,null,null,null,null,null,null,null,null,null,null,null,null,null,null,null,null,null,"Basic Rural Hygiene",null,null,null,null,null,null,null,null,null,null,null,null,null,null,null,null,null,null,null,null,null,null,null,null,null,null,null,null,null,null,null,null,null,null,null,null,null,null,null,null,null,null,null,null,null,null,null,null,null,null,null,null,null,null,null,null,null,null,null,null,null,null,null,null,null,null,null,null,null,null,null,null,null,null,null,null,null,null,null,null,null,null,null,null,null,null,null,null,null,null,null,null,null,null,null,null,null,null,null,null,null,null,null,null,null,null,null,null,null,null,null,null,null,"Safely managed Urban Water",null,null,null,null,null,null,null,null,null,null,null,null,null,null,null,null,null,null,null,null,null,null,null,null,null,null,null,null,null,null,null,null,null,null,null,null,null,null,null,null,null,null,null,null,null,null,null,null,null,null,null,null,null,null,null,null,null,null,null,null,null,null,null,null,null,null,null,null,null,null,null,null,null,null,null,null,null,null,null,null,null,null,null,null,null,null,null,null,null,null,null,null,null,null,null,null,null,null,null,null,null,null,null,null,null,null,null,null,null,null,null,null,null,"Safely Managed Rural Water",null,null,null,null,null,null,null,null,null,null,null,null,null,null,null,null,null,null,null,null,null,null,null,null,null,null,null,null,null,null,null,null,null,null,null,null,null,null,null,null,null,null,null,null,null,null,null,null,null,null,null,null,null,null,null,null,null,null,null,null,null,null,null,null,null,null,null,null,null,null,null,null,null,null,null,null,null,null,null,null,null,null,null,null,null,null,null,null,null,null,null,null,null,null,null,null,null,null,null,null,null,null,null,null,null,null,null,null,null,null,null,null,null,"Safely Managed Urban Sanitation",null,null,null,null,null,null,null,null,null,null,null,null,null,null,null,null,null,null,"Safely Managed Rural Sanitation",null,null,null,null,null,null,null,null,null,null,null,null,null,null,null,null,null,null,null,null,null,null,null,null,null,null,null,null,null,null,null,null,null,null,null,null,null,null,null,null,null,null,null,null,null,null,null,null,null,null,null,null,null,null,null,null,null,null,null,null,null,null,null,null,null,null,null,null,null,null,null,null,null,null,null,null,null,null,null,null,null,null,null,null,null,null,null,null,null,null,null,null,null,null,null,null,null,null,null,null,null,null,null,null,null,null,null,null,null,null,null,null,null,null,null,null,null,null,null,null,null,null,null,null,null,null,null,null,null,null,null,null,null,null,null,null,null,null,null,null,null,null,null,null,null,null,null,null,null,null,null,null,null,null,null,null,null,null,null,null,null,null,null,null,null,null,null,null,null,null,null,null,null,null,null,null,null,null,null,null,null,null,null,null,null,null,null,null,null,null,null,null,null,null,null,null,null,null,null,null,null,null,null,null,null,null,null,null,null,null,null,null,null,null,null,null,null,null,null,null,null,null,null,null,null,null,null,null,null,null,null,null,null,null,null,null,null,null,null,null,null,null,null,null,null,null,null,null,null,null,null,null,null,null,null,null,null,null,null,null,null,null,null,null,null,null,null,null,null,null,null,null,null,null,null,null,null,null,null,null,null,null,null,null,null,null,null,null,null,null,null,null,null,null,null,null,null,null,null,null,null,null,null,null,null,null,null,null,null,null,null,null,null,null,null,null,null,null,null,null,null,null,null,null,null,null,null,null,null,"Basic Water",null,"x",null,null,null,null,null,null,null,null,null,null,null,null,null,null,null,null,null,null,null,null,null,null,null,null,null,null,null,null,null,null,null,null,null,null,null,null,null,null,null,null,null,"FB",null,null,null,null,null,null,null,null,null,null,null,null,null,"FP",null,null,null,null,null,null,"FU",null,null,null,null,null,null,null,null,null,null,null,null,null,"GI",null,null,null,null,null,null,"GN",null,null,null,null,null,null,null,null,null,null,null,null,null,"HB",null,null,null,null,null,null,null,null,null,null,null,null,null,null,null,null,null,null,null,null,null,null,null,null,null,null,null,"HZ",null,null,null,null,null,null,null,null,null,null,null,null,null,"IN",null,null,null,null,null,null,"IS",null,null,null,null,null,null,null,null,null,null,null,null,null,"JG",null,null,null,null,null,null,"JL",null,null,null,null,null,null,null,null,null,null,null,null,null,"JZ",null,null,null,null,null,null,"KE",null,null,null,null,null,null,null,null,null,null,null,null,null,"KS",null,null,null,null,null,null,"KX",null,null,null,null,null,null,null,null,null,null,null,null,null,"LL",null,null,null,null,null,null,null,null,null,null,null,null,null,null,null,null,null,null,null,null,null,null,null,null,null,null,null,null,null,null,null,null,null,null,null,null,null,null,null,null,null,null,null,null,null,null,null,null,null,null,null,null,null,null,null,null,null,null,null,null,null,null,null,null,null,null,null,null,null,null,null,null,null,null,null,null,null,null,null,null,null,null,null,null,null,null,null,null,null,null,null,null,null,null,null,null,null,null,null,null,null,null,null,null,null,null,null,null,null,null,null,null,null,null,null,null,null,null,null,null,null,null,null,null,null,null,null,null,null,null,null,null,null,null,null,null,null,null,null,null,null,null,null,null,null,null,null,null,null,null,null,"Ending Open Defecation",null,null,null,null,null,null,null,null,null,null,null,null,null,null,null,null,null,null,null,null,null,null,null,null,null,null,null,null,null,null,null,null,null,null,null,null,null,null,null,null,null,null,null,null,null,null,null,null,null,null,null,null,null,null,null,null,null,null,null,null,null,null,null,null,null,null,null,null,null,null,null,null,null,null,null,null,null,null,null,null,null,null,null,null,null,null,null,null,null,null,null,null,null,null,null,null,null,null,null,null,null,null,null,null,null,null,null,null,null,null,null,null,null,null,null,null,null,null,null,null,null,null,null,null,null,"Basic Sanitation",null,"MQ",null,null,null,null,null,null,null,null,null,null,null,null,null,"NE",null,null,null,null,null,null,"NJ",null,null,null,null,null,null,null,null,null,null,null,null,null,"NX",null,null,null,null,null,null,"OC",null,null,null,null,null,null,null,null,null,null,null,null,null,"OQ",null,null,null,null,null,null,"OV",null,null,null,null,null,null,null,null,null,null,null,null,null,"PJ",null,null,null,null,null,null,"PO",null,null,null,null,null,null,null,null,null,null,null,null,null,"QC",null,null,null,null,null,null,null,null,null,null,null,null,null,null,null,null,null,null,null,null,null,null,null,null,null,null,null,"RA",null,null,null,null,null,null,null,null,null,null,null,null,null,"RO",null,null,null,null,null,null,"RT",null,null,null,null,null,null,null,null,null,null,null,null,null,"SH",null,null,null,null,null,null,"SM",null,null,null,null,null,null,null,null,null,null,null,null,null,"TA",null,null,null,null,null,null,"TF",null,null,null,null,null,null,null,null,null,null,null,null,null,"TT",null,null,null,null,null,null,"TY",null,null,null,null,null,null,null,null,null,null,null,null,null,"UM",null,null,null,null,null,null,null,null,null,null,null,null,null,null,null,null,null,null,null,null,null,null,null,null,null,null,null,null,null,null,null,null,null,null,null,null,null,null,null,null,null,null,null,null,null,null,null,null,null,null,null,null,null,null,null,null,null,null,null,null,null,null,null,null,null,null,null,null,null,null,null,null,null,null,null,null,null,null,null,null,null,null,null,null,null,null,null,null,null,null,null,null,null,null,null,null,null,null,null,null,null,null,null,null,null,null,null,null,null,null,null,null,null,null,null,null,null,null,null,null,null,null,null,null,null,null,null,null,null,null,null,null,null,null,null,null,null,null,null,null,null,null,null,null,null,null,null,null,null,null,null,"Basic Hygiene",null,"VK",null,null,null,null,null,null,null,null,null,null,null,null,null,"VY",null,null,null,null,null,null,"WD",null,null,null,null,null,null,null,null,null,null,null,null,null,"WR",null,null,null,null,null,null,"WW",null,null,null,null,null,null,null,null,null,null,null,null,null,"XK",null,null,null,null,null,null,"XP",null,null,null,null,null,null,null,null,null,null,null,null,null,"YD",null,null,null,null,null,null,"YI",null,null,null,null,null,null,null,null,null,null,null,null,null,"YW",null,null,null,null,null,null,null,null,null,null,null,null,null,null,null,null,null,null,null,null,null,null,null,null,null,null,null,"ZU",null,null,null,null,null,null,null,null,null,null,null,null,null,"AAI",null,null,null,null,null,null,"AAN",null,null,null,null,null,null,null,null,null,null,null,null,null,"ABB",null,null,null,null,null,null,"ABG",null,null,null,null,null,null,null,null,null,null,null,null,null,"ABU",null,null,null,null,null,null,"ABZ",null,null,null,null,null,null,null,null,null,null,null,null,null,"ACN",null,null,null,null,null,null,"ACS",null,null,null,null,null,null,null,null,null,null,null,null,null,"ADG",null,null,null,null,null,null,null,null,null,null,null,null,null,null,null,null,null,null,null,null,null,null,null,null,null,null,null,null,null,null,null,null,null,null,null,null,null,null,null,null,null,null,null,null,null,null,null,null,null,null,null,null,null,null,null,null,null,null,null,null,null,null,null,null,null,null,null,null,null,null,null,null,null,null,null,null,null,null,null,null,null,null,null,null,null,null,null,null,null,null,null,null,null,null,null,null,null,null,null,null,null,null,null,null,null,null,null,null,null,null,null,null,null,null,null,null,null,null,null,null,null,null,null,null,null,null,null,null,null,null,null,null,null,null,null,null,null,null,null,null,null,null,null,null,null,null,null,null,null,null,null,"Advanced Water",null,"AEE",null,null,null,null,null,null,null,null,null,null,null,null,null,"AES",null,null,null,null,null,null,"AEX",null,null,null,null,null,null,null,null,null,null,null,null,null,"AFL",null,null,null,null,null,null,"AFQ",null,null,null,null,null,null,null,null,null,null,null,null,null,"AGE",null,null,null,null,null,null,"AGJ",null,null,null,null,null,null,null,null,null,null,null,null,null,"AGX",null,null,null,null,null,null,"AHC",null,null,null,null,null,null,null,null,null,null,null,null,null,"AHQ",null,null,null,null,null,null,null,null,null,null,null,null,null,null,null,null,null,null,null,null,null,null,null,null,null,null,null,"AIO",null,null,null,null,null,null,null,null,null,null,null,null,null,"AJC",null,null,null,null,null,null,"AJH",null,null,null,null,null,null,null,null,null,null,null,null,null,"AJV",null,null,null,null,null,null,"AKA",null,null,null,null,null,null,null,null,null,null,null,null,null,"Ako",null,null,null,null,null,null,"AKT",null,null,null,null,null,null,null,null,null,null,null,null,null,"ALH",null,null,null,null,null,null,"ALM",null,null,null,null,null,null,null,null,null,null,null,null,null,"AMA",null,null,null,null,null,null,null,null,null,null,null,null,null,null,null,null,null,null,null,null,null,null,null,null,null,null,null,null,null,null,null,null,null,null,null,null,null,null,null,null,null,null,null,null,null,null,null,null,null,null,null,null,null,null,null,null,null,null,null,null,null,null,null,null,null,null,null,null,null,null,null,null,null,null,null,null,null,null,null,null,null,null,null,null,null,null,null,null,null,null,null,null,null,null,null,null,null,null,null,null,null,null,null,null,null,null,null,null,null,null,null,null,null,null,null,null,null,null,null,null,null,null,null,null,null,null,null,null,null,null,null,null,null,null,null,null,null,null,null,null,null,null,null,null,null,null,null,null,null,null,null,"Safe Fecal Management",null,"AMY",null,null,null,null,null,null,null,null,null,null,null,null,null,"ANM",null,null,null,null,null,null,"ANR",null,null,null,null,null,null,null,null,null,null,null,null,null,"AOF"]
[null,null,null,null,null,null,null,null,null,null,null,null,null,null,null,null,null,null,null,null,null,null,null,null,null,null,null,null,null,null,null,null,null,null,null,null,null,null,null,null,null,null,null,null,null,null,null,null,null,null,null,null,null,null,null,null,null,null,null,null,null,null,null,null,null,null,null,null,null,null,null,null,null,null,null,null,null,null,null,null,null,null,null,null,null,null,null,null,null,null,null,null,null,null,null,null,null,null,null,null,null,null,null,null,null,null,null,null,null,null,null,null,null,null,null,null,null,null,null,null,null,null,null,null,null,null,null,null,null,null,null,null,null,null,null,null,null,null,null,null,null,null,null,null,null,null,null,null,null,null,null,null,null,null,null,null,null,null,null,null,null,null,null,null,null,null,null,null,null,null,null,null,null,null,null,null,null,null,null,null,null,null,null,null,null,null,null,null,null,null,null,null,null,null,null,null,null,null,null,null,null,null,null,null,null,null,null,null,null,null,null,null,null,null,null,null,null,null,null,null,null,null,null,null,null,null,null,null,null,null,null,null,null,null,null,null,null,null,null,null,null,null,null,null,null,null,null,null,null,null,null,null,null,null,null,null,null,null,null,null,null,null,null,null,null,null,null,null,null,null,null,null,null,null,null,null,null,null,null,null,null,null,null,null,null,null,null,null,null,null,null,null,null,null,null,null,null,null,null,null,null,null,null,null,null,null,null,null,null,null,null,null,null,null,null,null,null,null,null,null,null,null,null,null,null,null,null,null,null,null,null,null,null,null,null,null,null,null,null,null,null,null,null,null,null,null,null,null,null,null,null,null,null,null,null,null,null,null,null,null,null,null,null,null,null,null,null,null,null,null,null,null,null,null,null,null,null,null,null,null,null,null,null,null,null,null,null,null,null,null,null,null,null,null,null,null,null,null,null,null,null,null,null,null,null,null,null,null,null,null,null,null,null,null,null,null,null,null,null,null,null,null,null,null,null,null,null,null,null,null,null,null,null,null,null,null,null,null,null,null,null,null,null,null,null,null,null,null,null,null,null,null,null,null,null,null,null,null,null,null,null,null,null,null,null,null,null,null,null,null,null,null,null,null,null,null,null,null,null,null,null,null,null,null,null,null,null,null,null,null,null,null,null,null,null,null,null,null,null,null,null,null,null,null,null,null,null,null,null,null,null,null,null,null,null,null,null,null,null,null,null,null,null,null,null,null,null,null,null,null,null,null,null,null,null,null,null,null,null,null,null,null,null,null,null,null,null,null,null,null,null,null,null,null,null,null,null,null,null,null,null,null,null,null,null,null,null,null,null,null,null,null,null,null,null,null,null,null,null,null,null,null,null,null,null,null,null,null,null,null,null,null,null,null,null,null,null,null,null,null,null,null,null,null,null,null,null,null,null,null,null,null,null,null,null,null,null,null,null,null,null,null,null,null,null,null,null,null,null,null,null,null,null,null,null,null,null,null,null,null,null,null,null,null,null,null,null,null,null,null,null,null,null,null,null,null,null,null,null,null,null,null,null,null,null,null,null,null,null,null,null,null,null,null,null,null,null,null,null,null,null,null,null,null,null,null,null,null,null,null,null,null,null,null,null,null,null,null,null,null,null,null,null,null,null,null,null,null,null,null,null,null,null,null,null,null,null,null,null,null,null,null,null,null,null,null,null,null,null,null,null,null,null,null,null,null,null,null,null,null,null,null,null,null,null,null,null,null,null,null,null,null,null,null,null,null,null,null,null,null,null,null,null,null,null,null,null,null,null,null,null,null,null,null,null,null,null,null,null,null,null,null,null,null,null,null,null,null,null,null,null,null,null,null,null,null,null,null,null,null,null,null,null,null,null,null,null,null,null,null,null,null,null,null,null,null,null,null,null,null,null,null,null,null,null,null,null,null,null,null,null,null,null,null,null,null,null,null,null,null,null,null,null,null,null,null,null,null,null,null,null,null,null,null,null,null,null,null,null,null,null,null,null,null,null,null,null,null,null,null,null,null,null,null,null,null,null,null,null,null,null,null,null,null,null,null,null,null,null,null,null,null,null,null,null,null,null,null,null,null,null,null,null,null,null,null,null,null,null,null,null,null,null,null,null,null,null,null,null,null,null,null,null,null,null,null,null,null,null,null,null,null,null,null,null,null,null,null,null,null,null,null,null,null,null,null,null,null,null,null,null,null,null,null,null,null,null,null,null,null,null,null,null,null,null,null,null,null,null,null,null,null,null,null,null,null,null,null,null,null,null,null,null,null,null,null,null,null,null,null,null,null,null,null,null,null,null,null,null,null,null,null,null,null,null,null,null,null,null,null,null,null,null,null,null,null,null,null,null,null,null,null,null,null,null,null,null,null,null,null,null,null,null,null,null,null,null,null,null,null,null,null,null,null,null,null,null,null,null,null,null,null,null,null,null,null,null,null,null,null,null,null,null,null,null,null,null,null,null,null,null,null,null,null,null,null,null,null,null,null,null,null,null,null,null,null,null,null,null,null,null,null,null,null,null,null,null,null,null,null,null,null,null,null,null,null,null,null,null,null,null,null,null,null,null,null,null,null,null,null,null,null,null,null,null,null,null,null,null,null,null,null,null,null,null,null,null,null,null,null,null,null,null,null,null,null,null,null,null,null,null,null,null,null,null,null,null,null,null,null,null,null,null,null,null,null,null,null,null,null,null,null,null,null,null,null,null,null,null,null,null,null,null,null,null,null,null,null,null,null,null,null,null,null,null,null,null,null,null,null,null,null,null,null,null,null,null,null,null,null,null,null,null,null,null,null,null,null,null,null,null,null,null,null,null,null,null,null,null,null,null,null,null,null,null,null,null,null,null,null,null,null,null,null,null,null,null,null,null,null,null,null,null,null,null,null,null,null,null,null,null,null,null,null,null,null,null,null,null,null,null,null,null,null,null,null,null,null,null,null,null,null,null,null,null,null,null,null,null,null,null,null,null,null,null,null,null,null,null,null,null,null,null,null,null,null,null,null,null,null,null,null,null,null,null,null,null,null,null,null,null,null,null,null,null,null,null,null,null,null,null,null,null,null,null,null,null,null,null,null,null,null,null,null,null,null,null,null,null,null,null,null,null,null,null,null,null,null,null,null,null,null,null,null,null,null,"x",null,null,null,null,null,null,null,null,null,null,null,null,null,null,null,null,null,null,null,null,null,null,null,null,null,null,null,null,null,null,null,null,null,null,null,null,null,null,null,null,null,null,null,null,null,null,null,null,null,null,null,null,null,null,null,null,null,null,null,null,null,null,null,null,null,null,null,null,null,null,null,null,null,null,null,null,null,null,null,null,null,null,null,null,null,null,null,null,null,null,null,null,null,null,null,null,null,null,null,null,null,null,null,null,null,null,null,null,null,null,null,null,null,null,null,null,null,null,null,null,null,null,null,null,null,null,null,null,null,null,null,null,null,null,null,null,null,null,null,null,null,null,null,null,null,null,null,null,null,null,null,null,null,null,null,null,null,null,null,null,null,null,null,null,null,null,null,null,null,null,null,null,null,null,null,null,null,null,null,null,null,null,null,null,null,null,null,null,null,null,null,null,null,null,null,null,null,null,null,null,null,null,null,null,null,null,null,null,null,null,null,null,null,null,null,null,null,null,null,null,null,null,null,null,null,null,null,null,null,null,null,null,null,null,null,null,null,null,null,null,null,null,null,null,null,null,null,null,null,null,null,null,null,null,null,null,null,null,null,null,null,null,null,null,null,null,null,null,null,null,null,null,null,null,null,null,null,null,null,null,null,null,null,null,null,null,null,null,null,null,null,null,null,null,null,null,null,null,null,null,null,null,null,null,null,null,null,null,null,null,null,null,null,null,null,null,null,null,null,null,null,null,null,null,null,null,null,null,null,null,null,null,null,null,null,null,null,null,null,null,null,null,null,null,null,null,null,null,null,null,null,null,null,null,null,null,null,null,null,null,null,null,null,null,null,null,null,null,null,null,null,null,null,null,null,null,null,null,null,null,null,null,null,null,null,null,null,null,null,null,null,null,null,null,null,null,null,null,"x",null,null,null,null,null,null,null,null,null,null,null,null,null,null,null,null,null,null,null,null,null,null,null,null,null,null,null,null,null,null,null,null,null,null,null,null,null,null,null,null,null,null,null,null,null,null,null,null,null,null,null,null,null,null,null,null,null,null,null,null,null,null,null,null,null,null,null,null,null,null,null,null,null,null,null,null,null,null,null,null,null,null,null,null,null,null,null,null,null,null,null,null,null,null,null,null,null,null,null,null,null,null,null,null,null,null,null,null,null,null,null,null,null,null,null,null,null,null,null,null,null,null,null,null,null,null,null,null,null,null,null,null,null,null,null,null,null,null,null,null,null,null,null,null,null,null,null,null,null,null,null,null,null,null,null,null,null,null,null,null,null,null,null,null,null,null,null,null,null,null,null,null,null,null,null,null,null,null,null,null,null,null,null,null,null,null,null,null,null,null,null,null,null,null,null,null,null,null,null,null,null,null,null,null,null,null,null,null,null,null,null,null,null,null,null,null,null,null,null,null,null,null,null,null,null,null,null,null,null,null,null,null,null,null,null,null,null,null,null,null,null,null,null,null,null,null,null,null,null,null,null,null,null,null,null,null,null,null,null,null,null,null,null,null,null,null,null,null,null,null,null,null,null,null,null,null,null,null,null,null,null,null,null,null,null,null,null,null,null,null,null,null,null,null,null,null,null,null,null,null,null,null,null,null,null,null,null,null,null,null,null,null,null,null,null,null,null,null,null,null,null,null,null,null,null,null,null,null,null,null,null,null,null,null,null,null,null,null,null,null,null,null,null,null,null,null,null,null,null,null,null,null,null,null,null,null,null,null,null,null,null,null,null,null,null,null,null,null,null,null,null,null,null,null,null,null,null,null,null,null,null,null,null,null,null,null,null,null,null,null,null,null,null,null,null,null,null,null,null,null,null,null,null,null,null,null,null,null,null,null,null,null,null,null,null,null,null,null,null,null,null,null,null,null,null,null,null,null,null,null,null,null,null,null,null,null,null,null,null,null,null,null,null,null,null,null,null,null,null,null,null,null,null,null,null,null,null,null,null,null,null,null,null,null,null,null,null,null,null,null,null,null,null,null,null,null,null,null,null,null,null,null,null,null,null,null,null,null,null,null,null,null,null,null,null,null,null,null,null,null,null,null,null,null,null,null,null,null,null,null,null,null,null,null,null,null,null,null,null,null,null,null,null,null,null,null,null,null,null,null,null,null,null,null,null,null,null,null,null,null,null,null,null,null,null,null,null,null,null,null,null,null,null,null,null,null,null,null,null,null,null,null,null,null,null,null,null,null,null,null,null,null,null,null,null,null,null,null,null,null,null,null,null,null,null,null,null,null,null,null,null,null,null,null,null,null,null,null,null,null,null,null,null,null,null,null,null,null,null,null,null,null,null,null,null,null,null,null,null,null,null,null,null,null,null,null,null,null,null,null,null,null,null,null,null,null,null,null,null,null,null,null,null,null,null,null,null,null,null,null,null,null,null,null,null,null,null,null,null,null,null,null,null,null,null,null,null,null,null,null,null,null,null,null,null,null,null,null,null,null,null,null,null,null,null,null,null,null,null,null,null,null,null,null,null,null,null,null,null,null,null,null,null,null,null,null,null,null,null,null,null,null,null,null,null,null,null,null,null,null,null,null,null,null,null,null,null,null,null,null,null,null,null,null,null,null,null,null,null,null,null,null,null,null,null,null,null,null,null,null,null,null,null,null,null,null,null,null,null,null,null,null,null,null,null,null,null,null,null,null,null,null,null,null,null,null,null,null,null,null,null,null,null,null,null,null,null,null,null,null,null,null,null,null,null,null,null,null,null,null,null,null,null,null,null,null,null,null,null,null,null,null,null,null,null,null,null,null,null,null,null,null,null,null,null,null,null,null,null,null,null,null,null,null,null,null,null,null,null,null,null,null,null,null,null,null,null,null,null,null,null,null,null,null,null,null,null,null,null,null,null,null,null,null,null,null,null,null,null,null,null,null,null,null,null,null,null,null,null,null,null,null,null,null,null,null,null,null,null,null,null,null,null,null,null,null,null,null,null,null,null,null,null,null,null,null,null,null,null,null,null,null,null,null,null,null,null,null,null,null,null,null,null,null,null,null,null,null,null,null,null,null,null,null,null,null,null,null,null,null,null,null,null,null,null,null,null,null,null,null,null,null,null,null,null,null,null,null,null,null,null,null,null,null,null,null,null,null,null,null,null,null,null,null,null,null,null,null,null,null,null,null,null,null,null,null,null,null,null,null,null,null,null,null,null,null,null,null,null,null,null,null,null,null,null,null,null,null,null,null,null,null,null,null,null,null,null,null,null,null,null,null,null,null,null,null,null,null,null,null,null,null,null,null,null,null,null,null,null,null,null,null,null,null,null,null,null,null,null,null,null,null,null,null,null,null,null,null,null,null,null,null,null,null,null,null,null,null,null,null,null,null,null,null,null,null,null,null,null,null,null,null,null,null,null,null,null,null,null,null,null,null,null,null,null,null,null,null,null,null,null,null,null,null,null,null,null,null,null,null,null,null,null,null,null,null,null,null,null,null,null,null,null,null,null,null,null,null,null,null,null,null,null,null,null,null,null,null,null,null,null,null,null,null,null,null,null,null,null,null,null,null,null,null,null,null,null,null,null,null,null,null,null,null,null,null,null,null,null,null,null,null,null,null,null,null,null,null,null,null,null,null,null,null,null,null,null,null,null,null,null,null,null,null,null,null,null,null,null,null,null,null,null,null,null,null,null,null,null,null,null,null,null,null,null,null,null,null,null,null,null,null,null,null,null,null,null,null,null,null,null,null,null,null,null,null,null,null,null,null,null,null,null,null,null,null,null,null,null,null,null,null,null,null,null,null,null,null,null,null,null,null,null,null,null,null,null,null,null,null,null,null,null,null,null,null,null,null,null,null,null,null,null,null,null,null,null,null,null,null,null,null,null,null,null,null,null,null,null,null,null,null,null,null,null,null,null,null,null,null,null,null,null,null,null,null,null,null,null,null,null,null,null,null,null,null,null,null,null,null,null,null,null,null,null,null,null,null,null,null,null,null,null,null,null,null,null,null,null,null,null,null,null,null,null,null,null,null,null,null,null,null,null,null,null,null,null,null,null,null,null,null,null,null,null,null,null,null,null,null,null,null,null,null,null,null,null,null,null,null,null,null,null,null,null,null,null,null,null,null,null,null,null,null,null,null,null,null,null,null,null,null,null,null,null,null,null,null,null,null,null,null,null,null,null,null,null,null,null,null,null,null,null,null,null,null,null,null,null,null,null,null,null,null,null,null,null,null,null,null,null,null,null,null,null,null,null,null,null,null,null,null,null,null,null,null,null,null,null,null,null,null,null,null,null,null,null,null,null,null,null,null,null,null,null,null,null,null,null,null,null,null,null,null,null,null,null,null,null,null,null,null,null,null,null,null,null,null,null,null,null,null,null,null,null,null,null,null,null,null,null,null,null,null,null,null,null,null,null,null,null,null,null,null,null,null,null,null,null,null,null,null,null,null,null,null,null,null,null,null,null,null,null,null,null,null,null,null,null,null,null,null,null,null,null,null,null,null,null,null,null,null,null,null,null,null,null,null,null,null,null,null,null,null,null,null,null,null,null,null,null,null,null,null,null,null,null,null,null,null,null,null,null,null,null,null,null,null,null,null,null,null,null,null,null,null,null,null,null,null,null,null,null,null,null,null,null,null,null,null,null,null,null,null,null,null,null,null,null,null,null,null,null,null,null,null,null,null,null,null,null,null,null,null,null,null,null,null,null,null,null,null,null,null,null,null,null,null,null,null,null,null,null,null,null,null,null,null,null,null,null,null,null,null,null,null,null,null,null,null,null,null,null,null,null,null,null,null,null,null,null,null,null,null,null,null,null,null,null,null,null,null,null,null,null,null,null,null,null,null,null,null,null,null,null,null,null,null,null,null,null,null,null,null,null,null,null,null,null,null,null,null,null,null,null,null,null,null,null,null,null,null,null,null,null,null,null,null,null,null,null,null,null,null,null,null,null,null,null,null,null,null,null,null,null,null,null,null,null,null,null,null,null,null,null,null,null,null,null,null,null,null,null,null,null,null,null,null,null,null,null,null,null,null,null,null,null,null,null,null,null,null,null,null,null,null,null,null,null,null,null,null,null,null,null,null,null,null,null,null,null,null,null,null,null,null,null,null,null,null,null,null,null,null,null,null,null,null,null,null,null,null,null,null,null,null,null,null,null,null,null,null,null,null,null,null,null,null,null,null,null,null,null,null,null,null,null,null,null,null,null,null,null,null,null,null,null,null,null,null,null,null,null,null,null,null,null,null,null,null,null,null,null,null,null,null,null,null,null,null,null,null,null,null,null,null,null,null,null,null,null,null,null,null,null,null,null,null,null,null,null,null,null,null,null,null,null,null,null,null,null,null,null,null,null,null,null,null,null,null,null,null,null,null,null,null,null,null,null,null,null,null,null,null,null,null,null,null,null,null,null,null,null,null,null,null,null,null,null,null,null,null,null,null,null,null,null,null,null,null,null,null,null,null,null,null,null,null,null,null,null,null,null,null,null,null,null,null,null,null,null,null,null,null,null,null,null,null,null,null,null,null,null,null,null,null,null,null,null,null,null,null,null,null,null,null,null,null,null,null,null,null,null,null,null,null,null,null,null,null,null,null,null,null,null,null,null,null,null,null,null,null,null,null,null,null,null,null,null,null,null,null,null,null,null,null,null,null,null,null,null,null,null,null,null,null,null,null,null,null,null,null,null,null,null,null,null,null,null,null,null,null,null,null,null,null,null,null,null,null,null,null,null,null,null,null,null,null,null,null,null,null,null,null,null,null,null,null,null,null,null,null,null,null,null,null,null,null,null,null,null,null,null,null,null,null,null,null,null,null,null,null,null,null,null,null,null,null,null,null,null,null,null,null,null,null,null,null,null,null,null,null,null,null,null,null,null,null,null,null,null,null,null,null,null,null,null,null,null,null,null,null,null,null,null,null,null,null,null,null,null,null,null,null,null,null,null,null,null,null,null,null,null,null,null,null,null,null,null,null,null,null,null,null,null,null,null,null,null,null,null,null,null,null,null,null,null,null,null,null,null,null,null,null,null,null,null,null,null,null,null,null,null,null,null,null,null,null,null,null,null,null,null,null,null,null,null,null,null,null,null,null,null,null,null,null,null,null,null,null,null,null,null,null,null,null,null,null,null,null,null,null,null,null,null,null,null,null,null,null,null,null,null,null,null,null,null,null,null,null,null,null,null,null,null,null,null,null,null,null,null,null,null,null,null,null,null,null,null,null,null,null,null,null,null,null,null,null,null,null,null,null,null,null,null,null,null,null,null,null,null,null,null,null,null,null,null,null,null,null,null,null,null,null,null,null,null,null,null,null,null,null,null,null,null,null,null,null,null,null,null,null,null,null,null,null,null,null,null,null,null,null,null,null,null,null,null,null,null,null,null,null,null,null,null,null,null,null,null,null,null,null,null,null,null,null,null,null,null,null,null,null,null,null,null,null,null,null,null,null,null,null,null,null,null,null,null,null,null,null,null,null,null,null,null,null,null,null,null,null,null,null,null,null,null,null,null,null,null,null,null,null,null,null,null,null,null,null,null,null,null,null,null,null,null,null,null,null,null,null,null,null,null,null,null,null,null,null,null,null,null,null,null,null,null,null,null,null,null,null,null,null,null,null,null,null,null,null,null,null,null,null,null,null,null,null,null,null,null,null,null,null,null,null,null,null,null,null,null,null,null,null,null,null,null,null,null,null,null,null,null,null,null,null,null,null,null,null,null,null,null,null,null,null,null,null,null,null,null,null,null,null,null,null,null,null,null,null,null,null,null,null,null,null,null,null,null,null,null,null,null,null,null,null,null,null,null,null,null,null,null,null,null,null,null,null,null,null,null,null,null,null,null,null,null,null,null,null,null,null,null,null,null,null,null,null,null,null,null,null,null,null,null,null,null,null,null,null,null,null,null,null,null,null,null,null,null,null,null,null,null,null,null,null,null,null,null,null,null,null,null,null,null,null,null,null,null,null,null,null,null,null,null,null,null,null,null,null,null,null,null,null,null,null,null,null,null,null,null,null,null,null,null,null,null,null,null,null,null,null,null,null,null,null,null,null,null,null,null,null,null,null,null,null,null,null,null,null,null,null,null,null,null,null,null,null,null,null,null,null,null,null,null,null,null,null,null,null,null,null,null,null,null,null,null,null,null,null,null,null,null,null,null,null,null,null,null,null,null,null,null,null,null,null,null,null,null,null,null,null,null,null,null,null,null,null,null,null,null,null,null,null,null,null,null,null,null,null,null,null,null,null,null,null,null,null,null,null,null,null,null,null,null,null,null,null,null,null,null,null,null,null,null,null,null,null,null,null,null,null,null,null,null,null,null,null,null,null,null,null,null,null,null,null,null,null,null,null,null,null,null,null,null,null,null,null,null,null,null,null,null,null,null,null,null,null,null,null,null,null,null,null,null,null,null,null,null,null,null,null,null,null,null,null,null,null,null,null,null,null,null,null,null,null,null,null,null,null,null,null,null,null,null,null,null,null,null,null,null,null,null,null,null,null,null,null,null,null,null,null,null,null,null,null,null,null,null,null,null,null,null,null,null,null,null,null,null,null,null,null,null,null,null,null,null,null,null,null,null,null,null,null,null,null,null,null,null,null,null,null,null,null,null,null,null,null,null,null,null,null,null,null,null,null,null,null,null,null,null,null,null,null,null,null,null,null,null,null,null,null,null,null,null,null,null,null,null,null,null,null,null,null,null,null,null,null,null,null,null,null,null,null,null,null,null,null,null,null,null,null,null,null,null,null,null,null,null,null,null,null,null,null,null,null,null,null,null,null,null,null,null,null,null,null,null,null,null,null,null,null,null,null,null,null,null,null,null,null,null,null,null,null,null,null,null,null,null,null,null,null,null,null,null,null,null,null,null,null,null,null,null,null,null,null,null,null,null,null,null,null,null,null,null,null,null,null,null,null,null,null,null,null,null,null,null,null,null,null,null,null,null,null,null,null,null,null,null,null,null,null,null,null,null,null,null,null,null,null,null,null,null,null,null,null,null,null,null,null,null,null,null,null,null,null,null,null,null,null,null,null,null,null,null,null,null,null,null,null,null,null,null,null,null,null,null,null,null,null,null,null,null,null,null,null,null,null,null,null,null,null,null,null,null,null,null,null,null,null,null,null,null,null,null,null,null,null,null,null,null,null,null,null,null,null,null,null,null,null,null,null,null,null,null,null,null,null,null,null,null,null,null,null,null,null,null,null,null,null,null,null,null,null,null,null,null,null,null,null,null,null,null,null,null,null,null,null,null,null,null,null,null,null,null,null,null,null,null,null,null,null,null,null,null,null,null,null,null,null,null,null,null,null,null,null,null,null,null,null,null,null,null,null,null,null,null,null,null,null,null,null,null,null,null,null,null,null,null,null,null,null,null,null,null,null,null,null,null,null,null,null,null,null,null,null,null,null,null,null,null,null,null,null,null,null,null,null,null,null,null,null,null,null,null,null,null,null,null,null,null,null,null,null,null,null,null,null,null,null,null,null,null,null,null,null,null,null,null,null,null,null,null,null,null,null,null,null,null,null,null,null,null,null,null,null,null,null,null,null,null,null,null,null,null,null,null,null,null,null,null,null,null,null,null,null,null,null,null,null,null,null,null,null,null,null,null,null,null,null,null,null,null,null,null,null,null,null,null,null,null,null,null,null,null,null,null,null,null,null,null,null,null,null,null,null,null,null,null,null,null,null,null,null,null,null,null,null,null,null,null,null,null,null,null,null,null,null,null,null,null,null,null,null,null,null,null,null,null,null,null,null,null,null,null,null,null,null,null,null,null,null,null,null,null,null,null,null,null,null,null,null,null,null,null,null,null,null,null,null,null,null,null,null,null,null,null,null,null,null,null,null,null,null,null,null,null,null,null,null,null,null,null,null,null,null,null,null,null,null,null,null,null,null,null,null,null,null,null,null,null,null,null,null,null,null,null,null,null,null,null,null,null,null,null,null,null,null,null,null,null,null,null,null,null,null,null,null,null,null,null,null,null,null,null,null,null,null,null,null,null,null,null,null,null,null,null,null,null,null,null,null,null,null,null,null,null,null,null,null,null,null,null,null,null,null,null,null,null,null,null,null,null,null,null,null,null,null,null,null,null,null,null,null,null,null,null,null,null,null,null,null,null,null,null,null,null,null,null,null,null,null,null,null,null,null,null,null,null,null,null,null,null,null,null,null,null,null,null,null,null,null,null,null,null,null,null,null,null,null,null,null,null,null,null,null,null,null,null,null,null,null,null,null,null,null,null,null,null,null,null,null,null,null,null,null,null,null,null,null,null,null,null,null,null,null,null,null,null,null,null,null,null,null,null,null,null,null,null,null,null,null,null,null,null,null,null,null,null,null,null,null,null,null,null,null,null,null,null,null,null,null,null,null,null,null,null,null,null,null,null,null,null,null,null,null,null,null,null,null,null,null,null,null,null,null,null,null,null,null,null,null,null,null,null,null,null,null,null,null,null,null,null,null,null,null,null,null,null,null,null,null,null,null,null,null,null,null,null,null,null,null,null,null,null,null,null,null,null,null,null,null,null,null,null,null,null,null,null,null,null,null,null,null,null,null,null,null,null,null,null,null,null,null,null,null,null,null,null,null,null,null,null,null,null,null,null,null,null,null,null,null,null,null,null,null,null,null,null,null,null,null,null,null,null,null,null,null,null,null,null,null,null,null,null,null,null,null,null,null,null,null,null,null,null,null,null,null,null,null,null,null,null,null,null,null,null,null,null,null,null,null,null,null,null,null,null,null,null,null,null,null,null,null,null,null,null,null,null,null,null,null,null,null,null,null,null,null,null,null,null,null,null,null,null,null,null,null,null,null,null,null,null,null,null,null,null,null,null,null,null,null,null,null,null,null,null,null,null,null,null,null,null,null,null,null,null,null,null,null,null,null,null,null,null,null,null,null,null,null,null,null,null,null,null,null,null,null,null,null,null,null,null,null,null,null,null,null,null,null,null,null,null,null,null,null,null,null,null,null,null,null,null,null,null,null,null,null,null,null,null,null,null,null,null,null,null,null,null,null,null,null,null,null,null,null,null,null,null,null,null,null,null,null,null,null,null,null,null,null,null,null,null,null,null,null,null,null,null,null,null,null,null,null,null,null,null,null,null,null,null,null,null,null,null,null,null,null,null,null,null,null,null,null,null,null,null,null,null,null,null,null,null,null,null,null,null,null,null,null,null,null,null,null,null,null,null,null,null,null,null,null,null,null,null,null,null,null,null,null,null,null,null,null,null,null,null,null,null,null,null,null,null,null,null,null,null,null,null,null,null,null,null,null,null,null,null,null,null,null,null,null,null,null,null,null,null,null,null,null,null,null,null,null,null,null,null,null,null,null,null,null,null,null,null,null,null,null,null,null,null,null,null,null,null,null,null,null,null,null,null,null,null,null,null,null,null,null,null,null,null,null,null,null,null,null,null,null,null,null,null,null,null,null,null,null,null,null,null,null,null,null,null,null,null,null,null,null,null,null,null,null,null,null,null,null,null,null,null,null,null,null,null,null,null,null,null,null,null,null,null,null,null,null,null,null,null,null,null,null,null,null,null,null,null,null,null,null,null,null,null,null,null,null,null,null,null,null,null,null,null,null,null,null,null,null,null,null,null,null,null,null,null,null,null,null,null,null,null,null,null,null,null,null,null,null,null,null,null,null,null,null,null,null,null,null,null,null,null,null,null,null,null,null,null,null,null,null,null,null,null,null,null,null,null,null,null,null,null,null,null,null,null,null,null,null,null,null,null,null,null,null,null,null,null,null,null,null,null,null,null,null,null,null,null,null,null,null,null,null,null,null,null,null,null,null,null,null,null,null,null,null,null,null,null,null,null,null,null,null,null,null,null,null,null,null,null,null,null,null,null,null,null,null,null,null,null,null,null,null,null,null,null,null,null,null,null,null,null,null,null,null,null,null,null,null,null,null,null,null,null,null,null,null,null,null,null,null,null,null,null,null,null,null,null,null,null,null,null,null,null,null,null,null,null,null,null,null,null,null,null,null,null,null,null,null,null,null,null,null,null,null,null,null,null,null,null,null,null,null,null,null,null,null,null,null,null,null,null,null,null,null,null,null,null,null,null,null,null,null,null,null,null,null,null,null,null,null,null,null,null,null,null,null,null,null,null,null,null,null,null,null,null,null,null,null,null,null,null,null,null,null,null,null,null,null,null,null,null,null,null,null,null,null,null,null,null,null,null,null,null,null,null,null,null,null,null,null,null,null,null,null,null,null,null,null,null,null,null,null,null,null,null,null,null,null,null,null,null,null,null,"x"]
[]
[]
[]
[]
["RECORD OF EDITS",null,null,null,null,null,null,null,null,null,null,null,null,null,null,null,null,null,null,null,null,null,null,null,null,null,null,null,null,null,null,null,null,null,null,"AJ5, AR5 and similar - edited to reflect baseyear and not 2015",null,null,null,null,null,null,null,null,null,null,null,null,null,null,null,null,null,null,null,null,null,null,null,null,null,null,null,null,null,null,null,null,null,null,null,null,null,null,null,null,null,null,null,null,null,null,null,null,null,null,null,null,null,null,null,null,null,null,null,null,null,null,null,"Changed this to default formula","Changed this to refer to G39 in Data Verification Sheet (Resolves Jim's error)",null,null,null,null,null,null,null,null,null,null,null,null,null,null,null,null,null,null,"DP6 edited for dynamic years",null,null,null,null,null,null,null,null,null,null,null,null,null,null,"Changed EE6 and similar to dynamic years",null,null,null,null,null,null,null,null,null,null,null,null,null,null,null,null,null,null,null,null,null,null,null,null,null,null,null,null,null,null,null,null,null,null,null,null,null,null,null,null,null,null,null,null,null,null,null,null,null,null,null,null,null,null,null,null,null,null,null,null,null,null,null,null,null,null,null,null,null,null,null,null,null,null,null,null,null,null,null,null,null,null,null,null,null,null,null,null,null,null,null,null,null,null,null,null,null,null,null,null,null,null,null,null,null,null,null,null,null,null,null,null,null,null,null,null,null,null,null,null,null,null,null,null,null,null,null,null,null,null,null,null,null,null,null,null,null,null,null,null,null,null,null,null,null,null,null,null,null,null,null,null,null,null,null,null,null,null,null,null,null,null,null,null,null,null,null,null,null,null,null,null,null,null,null,null,null,null,null,null,null,null,null,null,null,null,null,null,null,null,null,null,null,null,null,null,null,null,null,null,null,null,null,null,null,null,null,null,null,null,null,null,null,null,null,null,null,null,null,null,null,null,null,null,null,null,null,null,null,null,null,null,null,null,null,null,null,null,null,null,null,null,null,null,null,null,null,null,null,null,null,null,null,null,null,null,null,null,null,null,null,null,null,null,null,null,null,null,null,null,null,null,null,null,null,null,null,null,null,null,null,null,null,null,null,null,null,null,null,null,null,null,null,null,null,null,null,null,null,null,null,null,null,null,null,null,null,null,null,null,null,null,null,null,null,null,null,null,null,null,null,null,null,null,null,null,null,null,null,null,null,null,null,null,null,null,null,null,null,null,null,null,null,null,null,null,null,null,null,null,null,null,null,null,null,null,null,null,null,null,null,null,null,null,null,null,null,null,null,null,null,null,null,null,null,null,null,null,null,null,null,null,null,null,null,null,null,null,null,null,null,null,null,null,null,null,null,null,null,null,null,null,null,null,null,null,null,null,null,null,null,null,null,null,null,null,null,null,null,null,null,null,null,null,null,null,null,null,null,null,null,null,null,null,null,null,null,null,null,null,null,null,null,null,null,null,null,null,null,null,null,null,null,null,null,null,null,null,null,null,null,null,null,null,null,null,null,null,null,null,null,null,null,null,null,null,null,null,null,null,null,null,null,null,null,null,null,null,null,null,null,null,null,null,null,null,null,null,null,null,null,null,null,null,null,null,null,null,null,null,null,null,null,null,null,null,null,null,null,null,null,null,null,null,null,null,null,null,null,null,null,null,null,null,null,null,null,null,null,null,null,null,null,null,null,null,null,null,null,null,null,null,null,null,null,null,null,null,null,null,null,null,null,null,null,null,null,null,null,null,null,null,null,null,null,null,null,null,null,null,null,null,null,null,null,null,null,null,null,null,null,null,null,null,null,null,null,null,null,null,null,null,null,null,null,null,null,null,null,null,null,null,null,null,null,null,null,null,null,null,null,null,null,null,null,null,null,null,null,null,null,null,null,null,null,null,null,null,null,null,null,null,null,null,null,null,null,null,null,null,null,null,null,null,null,null,null,null,null,null,null,null,null,null,null,null,null,null,null,null,null,null,null,null,null,null,null,null,null,null,null,null,null,null,null,null,null,null,null,null,null,null,null,null,null,null,null,null,null,null,null,null,null,null,null,null,null,null,null,null,null,null,null,null,null,null,null,null,null,null,null,null,null,null,null,null,null,null,null,null,null,null,null,null,null,null,null,null,null,null,null,null,null,null,null,null,null,null,null,null,null,null,null,null,null,null,null,null,null,null,null,null,null,null,null,null,null,null,null,null,null,null,null,null,null,null,null,null,null,null,null,null,null,null,null,null,null,null,null,null,null,null,null,null,null,null,null,null,null,null,null,null,null,null,null,null,null,null,null,null,null,null,null,null,null,null,null,null,null,null,null,null,null,null,null,null,null,null,null,null,null,null,null,null,null,null,null,null,null,null,null,null,null,null,null,null,null,null,null,null,null,null,null,null,null,null,null,null,null,null,null,null,null,null,null,null,null,null,null,null,null,null,null,null,null,null,null,null,null,null,null,null,null,null,null,null,null,null,null,null,null,null,null,null,null,null,null,null,null,null,null,null,null,null,null,null,null,null,null,null,null,null,null,null,null,null,null,null,null,null,null,null,null,null,null,null,null,null,null,null,null,null,null,null,null,null,null,null,null,null,null,null,null,null,null,null,null,null,null,null,null,null,null,null,null,null,null,null,null,null,null,null,null,null,null,null,null,null,null,null,null,null,null,null,null,null,null,null,null,null,null,null,null,null,null,null,null,null,null,null,null,null,null,null,null,null,null,null,null,null,null,null,null,null,null,null,null,null,null,null,null,null,null,null,null,null,null,null,null,null,null,null,null,null,null,null,null,null,null,null,null,null,null,null,null,null,null,null,null,null,null,null,null,null,null,null,null,null,null,null,null,null,null,null,null,null,null,null,null,null,null,null,null,null,null,null,null,null,null,null,null,null,null,null,null,null,null,null,null,null,null,null,null,null,null,null,null,null,null,null,null,null,null,null,null,null,null,null,null,null,null,null,null,null,null,null,null,null,null,null,null,null,null,null,null,null,null,null,null,null,null,null,null,null,null,null,null,null,null,null,null,null,null,null,null,null,null,null,null,null,null,null,null,null,null,null,null,null,null,null,null,null,null,null,null,null,null,null,null,null,null,null,null,null,null,null,null,null,null,null,null,null,null,null,null,null,null,null,null,null,null,null,null,null,null,null,null,null,null,null,null,null,null,null,null,null,null,null,null,null,null,null,null,null,null,null,null,null,null,null,null,null,null,null,null,null,null,null,null,null,null,null,null,null,null,null,null,null,null,null,null,"Changed to get new GDP data and growth rate in Source",null,null,null,null,null,null,null,null,null,null,null,null,null,null,null,null,null,null,null,null,null,null,"Changed years in BAL6 onwards to be dynamic",null,null,null,null,null,null,null,null,null,null,null,null,null,null,null,null,null,null,null,null,null,null,null,null,null,null,null,null,null,null,null,null,null,null,null,null,null,null,null,null,null,null,null,null,null,null,null,null,null,null,null,null,null,null,null,null,null,null,null,null,null,null,null,null,null,null,null,null,null,null,null,null,null,null,null,null,null,null,null,null,null,null,null,null,null,null,null,null,null,null,null,null,null,null,null,null,null,null,null,null,null,null,null,null,null,null,null,null,null,null,null,null,null,null,null,null,null,null,null,null,null,null,null,null,null,null,null,null,null,null,null,null,null,null,null,null,null,null,null,null,null,null,null,null,null,null,null,null,null,null,null,null,null,null,null,null,null,null,null,null,null,null,null,null,null,null,null,null,null,null,null,null,null,null,null,null,null,null,null,null,null,null,null,null,null,null,null,null,null,null,null,null,null,null,null,null,null,null,null,null,null,null,null,null,null,null,null,null,null,null,null,null,null,null,null,null,null,null,null,null,null,null,null,null,null,null,null,null,null,null,null,null,null,null,null,null,null,null,null,null,null,null,null,null,null,null,null,null,null,null,null,null,null,null,null,null,null,null,null,null,null,null,null,null,null,null,null,null,null,null,null,null,null,null,null,null,null,null,null,null,null,null,null,null,null,null,null,null,null,null,null,null,null,null,null,null,null,null,null,null,null,null,null,null,null,null,null,null,null,null,null,null,null,null,null,null,null,null,null,null,null,null,null,null,null,null,null,null,null,null,null,null,null,null,null,null,null,null,null,null,null,null,null,null,null,null,null,null,null,null,null,null,null,null,null,null,null,null,null,null,null,null,null,null,null,null,null,null,null,null,null,null,null,null,null,null,null,"Added IF STATEMENT to existing formulas. Did not make dynamic in any other way.",null,null,null,null,null,null,null,null,null,null,null,null,null,null,null,null,null,null,null,null,null,null,null,null,null,null,null,null,null,null,null,null,null,null,null,null,null,null,null,null,null,null,null,null,null,null,null,null,null,null,null,null,null,null,null,null,null,null,null,null,null,null,null,null,null,null,null,null,null,null,null,null,null,null,null,null,null,null,null,null,null,null,null,null,null,null,null,null,null,null,null,null,null,null,null,null,null,null,null,null,null,null,null,null,null,null,null,null,null,null,null,null,null,null,null,null,null,null,null,null,null,null,null,null,null,null,null,null,null,null,null,null,null,null,null,null,null,null,null,null,null,null,null,null,null,null,null,null,null,null,null,null,null,null,null,null,null,null,null,null,null,null,null,null,null,null,null,null,null,null,null,null,null,null,null,null,null,null,null,null,null,null,null,null,null,null,null,null,null,null,null,null,null,null,null,null,null,null,null,null,null,null,null,null,null,null,null,null,null,null,null,null,null,null,null,null,null,null,null,null,null,null,null,null,null,null,null,null,null,null,null,null,null,null,null,null,null,null,null,null,null,null,null,null,null,null,null,null,null,null,null,null,null,null,null,null,null,null,null,null,null,null,null,null,null,null,null,null,null,null,null,null,null,null,null,null,null,null,null,null,null,null,null,null,null,null,null,null,null,null,null,null,null,null,null,null,null,null,null,null,null,null,null,null,null,null,null,null,null,null,null,null,null,null,null,null,null,null,null,null,null,null,null,null,null,null,null,null,null,null,null,null,null,null,null,null,null,null,null,null,null,null,null,null,null,null,null,null,null,null,null,null,null,null,null,null,null,null,null,null,null,null,null,null,null,null,null,null,null,null,null,null,null,null,null,null,null,null,null,null,null,null,null,null,null,null,null,null,null,null,null,null,null,null,null,null,null,null,null,null,null,null,null,null,null,null,null,null,null,null,null,null,null,null,null,null,null,null,null,null,null,null,null,null,null,null,null,null,null,null,null,null,null,null,null,null,null,null,null,null,null,null,null,null,null,null,null,null,null,null,null,null,null,null,null,null,null,null,null,null,null,null,null,null,null,null,null,null,null,null,null,null,null,null,null,null,null,null,null,null,null,null,null,null,null,null,null,null,null,null,null,null,null,null,null,null,null,null,null,null,null,null,null,null,null,null,null,null,null,null,null,null,null,null,null,null,null,null,null,null,null,null,null,null,null,null,null,null,null,null,null,null,null,null,null,null,null,null,null,null,null,null,null,null,null,null,null,null,null,null,null,null,null,null,null,null,null,null,null,null,null,null,null,null,null,null,null,null,null,null,null,null,null,null,null,null,null,null,null,null,null,null,null,null,null,null,null,null,null,null,null,null,null,null,null,null,null,null,null,null,null,null,null,null,null,null,null,null,null,null,null,null,null,null,null,null,null,null,null,null,null,null,null,null,null,null,null,null,null,null,null,null,null,null,null,null,null,null,null,null,null,null,null,null,null,null,null,null,null,null,null,null,null,null,null,null,null,null,null,null,null,null,null,null,null,null,null,null,null,null,null,null,null,null,null,null,null,null,null,null,null,null,null,null,null,null,null,null,null,null,null,null,null,null,null,null,null,null,null,null,null,null,null,null,null,null,null,null,null,null,null,null,null,null,null,null,null,null,null,null,null,null,null,null,null,null,null,null,null,null,null,null,null,null,null,null,null,null,null,null,null,null,null,null,null,null,null,null,null,null,null,null,null,null,null,null,null,null,null,null,null,null,null,null,null,null,null,null,null,null,null,null,null,null,null,null,null,null,null,null,null,null,null,null,null,null,null,null,null,null,null,null,null,null,null,null,null,null,null,null,null,null,null,null,null,null,null,null,null,null,null,null,null,null,null,null,null,null,null,null,null,null,null,null,null,null,null,null,null,null,null,null,null,null,null,null,null,null,null,null,null,null,null,null,null,null,null,null,null,null,null,null,null,null,null,null,null,null,null,null,null,null,null,null,null,null,null,null,null,null,null,null,null,null,null,null,null,null,null,null,null,null,null,null,null,null,null,null,null,null,null,null,null,null,null,null,null,null,null,null,null,null,null,null,null,null,null,null,null,null,null,null,null,null,null,null,null,null,null,null,null,null,null,null,null,null,null,null,null,null,null,null,null,null,null,null,null,null,null,null,null,null,null,null,null,null,null,null,null,null,null,null,null,null,null,null,null,null,null,null,null,null,null,null,null,null,null,null,null,null,null,null,null,null,null,null,null,null,null,null,null,null,null,null,null,null,null,null,null,null,null,null,null,null,null,null,null,null,null,null,null,null,null,null,null,null,null,null,"In addition to other changes, this formula used to refer to AIP8 and didn't change the year. This has been adjusted.",null,null,null,null,null,null,null,null,null,null,null,null,null,null,null,null,null,null,null,null,null,null,null,null,null,null,null,null,null,null,null,null,null,null,null,null,null,null,null,null,null,null,null,null,null,null,null,null,null,null,null,null,null,null,null,null,null,null,null,null,null,null,null,null,null,null,null,null,null,null,null,null,null,null,null,null,null,null,null,null,null,null,null,null,null,null,null,null,null,null,null,null,null,null,null,null,null,null,null,null,null,null,null,null,null,null,null,null,null,null,null,null,null,null,null,null,null,null,null,null,null,null,null,null,null,null,null,null,null,null,null,null,null,null,null,null,null,null,null,null,null,null,null,null,null,null,null,null,null,null,null,null,null,null,null,null,null,null,null,null,null,null,null,null,null,null,null,null,null,null,null,null,null,null,null,null,null,null,null,null,null,null,null,null,null,null,null,null,null,null,null,null,null,null,null,null,null,null,null,null,null,null,null,null,null,null,null,null,null,null,null,null,null,null,null,null,null,null,null,null,null,null,null,null,null,null,null,null,null,null,null,null,null,null,null,null,null,null,null,null,null,null,null,null,null,null,null,null,null,null,null,null,null,null,null,null,null,null,null,null,null,null,null,null,null,null,null,null,null,null,null,null,null,null,null,null,null,null,null,null,null,null,null,null,null,null,null,null,null,null,null,null,null,null,null,null,null,null,null,null,null,null,null,null,null,null,null,null,null,null,null,null,null,null,null,"Changed divisor to be dynamic",null,null,null,null,null,null,null,null,null,null,null,null,null,null,null,null,null,null,null,null,null,null,null,null,null,null,null,null,null,null,null,null,null,null,null,null,null,null,null,null,null,null,null,null,null,null,null,null,null,null,null,null,null,null,null,null,null,null,null,null,null,null,null,null,null,null,null,null,null,null,null,null,null,null,null,null,null,null,null,null,null,null,null,null,null,null,null,null,null,null,null,null,null,null,null,null,null,null,null,null,null,null,null,null,null,null,null,null,null,null,null,null,null,null,null,null,null,null,null,null,null,null,null,null,null,null,null,null,null,null,null,null,null,null,null,null,null,null,null,null,null,null,null,null,null,null,null,null,null,null,null,null,null,null,null,null,null,null,null,null,null,null,null,null,null,null,null,null,null,null,null,null,null,null,null,null,null,null,null,null,null,null,null,null,null,null,null,null,null,null,null,null,null,null,null,null,null,null,null,null,null,null,null,null,null,null,null,null,null,null,null,null,null,null,null,null,null,null,null,null,null,null,null,null,null,null,null,null,null,null,null,null,null,null,null,null,null,null,null,null,null,null,null,null,null,null,null,null,null,null,null,null,null,null,null,null,null,null,null,null,null,null,null,null,null,null,null,null,null,null,null,null,null,null,null,null,null,null,null,null,null,null,null,null,null,null,null,null,null,null,null,null,null,null,null,null,null,null,null,null,null,null,null,null,null,null,null,null,null,null,null,null,null,null,null,null,null,null,null,null,null,null,null,null,null,null,null,null,null,null,null,null,null,null,null,null,null,null,null,null,null,null,null,null,null,null,null,null,null,null,null,null,null,null,null,null,null,null,null,null,null,null,null,null,null,null,null,null,null,null,null,null,null,null,null,null,null,null,null,null,null,null,null,null,null,null,null,null,null,null,null,null,null,null,null,null,null,null,null,null,null,null,null,null,null,null,null,null,null,null,null,null,null,null,null,null,null,null,null,null,null,null,null,null,null,null,null,null,null,null,null,null,null,null,null,null,null,null,null,null,null,null,null,null,null,null,null,null,null,null,null,null,null,null,null,null,null,null,null,null,null,null,null,null,null,null,null,null,null,null,null,null,null,null,null,null,null,null,null,null,null,null,null,null,null,null,null,null,null,null,null,null,null,null,null,null,null,null,null,null,null,null,null,null,null,null,null,null,null,null,null,null,null,null,null,null,null,null,null,null,null,null,null,null,null,null,null,null,null,null,null,null,null,null,null,null,null,null,null,null,null,null,null,null,null,null,null,null,null,null,null,null,null,null,null,null,null,null,null,null,null,null,null,null,null,null,null,null,null,null,null,null,null,null,null,null,null,null,null,null,null,null,null,null,null,null,null,null,null,null,null,null,null,null,null,null,null,null,null,null,null,null,null,null,null,null,null,null,null,null,null,null,null,null,null,null,null,null,null,null,null,null,null,null,null,null,null,null,null,null,null,null,null,null,null,null,null,null,null,null,null,null,null,null,null,null,null,null,null,null,null,null,null,null,null,null,null,null,null,null,null,null,null,null,null,null,null,null,null,null,null,null,null,null,null,null,null,null,null,null,null,null,null,null,null,null,null,null,null,null,null,null,null,null,null,null,null,null,null,null,null,null,null,null,null,null,null,null,null,null,null,null,null,null,null,null,null,null,null,null,null,null,null,null,null,null,null,null,null,null,null,null,null,null,null,null,null,null,null,null,null,null,null,null,null,null,null,null,null,null,null,null,null,null,null,null,null,null,null,null,null,null,null,null,null,null,null,null,null,null,null,null,null,null,null,null,null,null,null,null,null,null,null,null,null,null,null,null,null,null,null,null,null,null,null,null,null,null,null,null,null,null,null,null,null,null,null,null,null,null,null,null,null,null,null,null,null,null,null,null,null,null,null,null,null,null,null,null,null,null,null,null,null,null,null,null,null,null,null,null,null,null,null,null,null,null,null,null,null,null,null,null,null,null,null,null,null,null,null,null,null,null,null,null,null,null,null,null,null,null,null,null,null,null,null,null,null,null,null,null,null,null,null,null,null,null,null,null,null,null,null,null,null,null,null,null,null,null,null,null,null,null,null,null,null,null,null,null,null,null,null,null,null,null,null,null,null,null,null,null,null,null,null,null,null,null,null,null,null,null,null,null,null,null,null,null,null,null,null,null,null,null,null,null,null,null,null,null,null,null,null,null,null,null,null,null,null,null,null,null,null,null,null,null,null,null,null,null,null,null,null,null,null,null,null,null,null,null,null,null,null,null,null,null,null,null,null,null,null,null,null,null,null,null,null,null,null,null,null,null,null,null,null,null,null,null,null,null,null,null,null,null,null,null,null,null,null,null,null,null,null,null,null,null,null,null,null,null,null,null,null,null,null,null,null,null,null,null,null,null,null,null,null,null,null,null,null,null,null,null,null,null,null,null,null,null,null,null,null,null,null,null,null,null,null,null,null,null,null,null,null,null,null,null,null,null,null,null,null,null,null,null,null,null,null,null,null,null,null,null,null,null,null,null,null,null,null,null,null,null,null,null,null,null,null,null,null,null,null,null,null,null,null,null,null,null,null,null,null,null,null,null,null,null,null,null,null,null,null,null,null,null,null,null,null,null,null,null,null,null,null,null,null,null,null,null,null,null,null,null,null,null,null,null,null,null,null,null,null,null,null,null,null,null,null,null,null,null,null,null,null,null,null,null,null,null,null,null,null,null,null,null,null,null,null,null,null,null,null,null,null,null,null,null,null,null,null,null,null,null,null,null,null,null,null,null,null,null,null,null,null,null,null,null,null,null,null,null,null,null,null,null,null,null,null,null,null,null,null,null,null,null,null,null,null,null,null,null,null,null,null,null,null,null,null,null,null,null,null,null,null,null,null,null,null,null,null,null,null,null,null,null,null,null,null,null,null,null,null,null,null,null,null,null,null,null,null,null,null,null,null,null,null,null,null,null,null,null,null,null,null,null,null,null,null,null,null,null,null,null,null,null,null,null,null,null,null,null,null,null,null,null,null,null,null,null,null,null,null,null,null,null,null,null,null,null,null,null,null,null,null,null,null,null,null,null,null,null,null,null,null,null,null,null,null,null,null,null,null,null,null,null,null,null,null,null,null,null,null,null,null,null,null,null,null,null,null,null,null,null,null,null,null,null,null,null,null,null,null,null,null,null,null,null,null,null,null,null,null,null,null,null,null,null,null,null,null,null,null,null,null,null,null,null,null,null,null,null,null,null,null,null,null,null,null,null,null,null,null,null,null,null,null,null,null,null,null,null,null,null,null,null,null,null,null,null,null,null,null,null,null,null,null,null,null,null,null,null,null,null,null,null,null,null,null,null,null,null,null,null,null,null,null,null,null,null,null,null,null,null,null,null,null,null,null,null,null,null,null,null,null,null,null,null,null,null,null,null,null,null,null,null,null,null,null,null,null,null,null,null,null,null,null,null,null,null,null,null,null,null,null,null,null,null,null,null,null,null,null,null,null,null,null,null,null,null,null,null,null,null,null,null,null,null,null,null,null,null,null,null,null,null,null,null,null,null,null,null,null,null,null,null,null,null,null,null,null,null,null,null,null,null,null,null,null,null,null,null,null,null,null,null,null,null,null,null,null,null,null,null,null,null,null,null,null,null,null,null,null,null,null,null,null,null,null,null,null,null,null,null,null,null,null,null,null,null,null,null,null,null,null,null,null,null,null,null,null,null,null,null,null,null,null,null,null,null,null,null,null,null,null,null,null,null,null,null,null,null,null,null,null,null,null,null,null,null,null,null,null,null,null,null,null,null,null,null,null,null,null,null,null,null,null,null,null,null,null,null,null,null,null,null,null,null,null,null,null,null,null,null,null,null,null,null,null,null,null,null,null,null,null,null,null,null,null,null,null,null,null,null,null,null,null,null,null,null,null,null,null,null,null,null,null,null,null,null,null,null,null,null,null,null,null,null,null,null,null,null,null,null,null,null,null,null,null,null,null,null,null,null,null,null,null,null,null,null,null,null,null,null,null,null,null,null,null,null,null,null,null,null,null,null,null,null,null,null,null,null,null,null,null,null,null,null,null,null,null,null,null,null,null,null,null,null,null,null,null,null,null,null,null,null,null,null,null,null,null,null,null,null,null,null,null,null,null,null,null,null,null,null,null,null,null,null,null,null,null,null,null,null,null,null,null,null,null,null,null,null,null,null,null,null,null,null,null,null,null,null,null,null,null,null,null,null,null,null,null,null,null,null,null,null,null,null,null,null,null,null,null,null,null,null,null,null,null,null,null,null,null,null,null,null,null,null,null,null,null,null,null,null,null,null,null,null,null,null,null,null,null,null,null,null,null,null,null,null,null,null,null,null,null,null,null,null,null,null,null,null,null,null,null,null,null,null,null,null,null,null,null,null,null,null,null,null,null,null,null,null,null,null,null,null,null,null,null,null,null,null,null,null,null,null,null,null,null,null,null,null,null,null,null,null,null,null,null,null,null,null,null,null,null,null,null,null,null,null,null,null,null,null,null,null,null,null,null,null,null,null,null,null,null,null,null,null,null,null,null,null,null,null,null,null,null,null,null,null,null,null,null,null,null,null,null,null,null,null,null,null,null,null,null,null,null,null,null,null,null,null,null,null,null,null,null,null,null,null,null,null,null,null,null,null,null,null,null,null,null,null,null,null,null,null,null,null,null,null,null,null,null,null,null,null,null,null,null,null,null,null,null,null,null,null,null,null,null,null,null,null,null,null,null,null,null,null,null,null,null,null,null,null,null,null,null,null,null,null,null,null,null,null,null,null,null,null,null,null,null,null,null,null,null,null,null,null,null,null,null,null,null,null,null,null,null,null,null,null,null,null,null,null,null,null,null,null,null,null,null,null,null,null,null,null,null,null,null,null,null,null,null,null,null,null,null,null,null,null,null,null,null,null,null,null,null,null,null,null,null,null,null,null,null,null,null,null,null,null,null,null,null,null,null,null,null,null,null,null,null,null,null,null,null,null,null,null,null,null,null,null,null,null,null,null,null,null,null,null,null,null,null,null,null,null,null,null,null,null,null,null,null,null,null,null,null,null,null,null,null,null,null,null,null,null,null,null,null,null,null,null,null,null,null,null,null,null,null,null,null,null,null,null,null,null,null,null,null,null,null,null,null,null,null,null,null,null,null,null,null,null,null,null,null,null,null,null,null,null,null,null,null,null,null,null,null,null,null,null,null,null,null,null,null,null,null,null,null,null,null,null,null,null,null,null,null,null,null,null,null,null,null,null,null,null,null,null,null,null,null,null,null,null,null,null,null,null,null,null,null,null,null,null,null,null,null,null,null,null,null,null,null,null,null,null,null,null,null,null,null,null,null,null,null,null,null,null,null,null,null,null,null,null,null,null,null,null,null,null,null,null,null,null,null,null,null,null,null,null,null,null,null,null,null,null,null,null,null,null,null,null,null,null,null,null,null,null,null,null,null,null,null,null,null,null,null,null,null,null,null,null,null,null,null,null,null,null,null,null,null,null,null,null,null,null,null,null,null,null,null,null,null,null,null,null,null,null,null,null,null,null,null,null,null,null,null,null,null,null,null,null,null,null,null,null,null,null,null,null,null,null,null,null,null,null,null,null,null,null,null,null,null,null,null,null,null,null,null,null,null,null,null,null,null,null,null,null,null,null,null,null,null,null,null,null,null,null,null,null,null,null,null,null,null,null,null,null,null,null,null,null,null,null,null,null,null,null,null,null,null,null,null,null,null,null,null,null,null,null,null,null,null,null,null,null,null,null,null,null,null,null,null,null,null,null,null,null,null,null,null,null,null,null,null,null,null,null,null,null,null,null,null,null,null,null,null,null,null,null,null,null,null,null,null,null,null,null,null,null,null,null,null,null,null,null,null,null,null,null,null,null,null,null,null,null,null,null,null,null,null,null,null,null,null,null,null,null,null,null,null,null,null,null,null,null,null,null,null,null,null,null,null,null,null,null,null,null,null,null,null,null,null,null,null,null,null,null,null,null,null,null,null,null,null,null,null,null,null,null,null,null,null,null,null,null,null,null,null,null,null,null,null,null,null,null,null,null,null,null,null,null,null,null,null,null,null,null,null,null,null,null,null,null,null,null,null,null,null,null,null,null,null,null,null,null,null,null,null,null,null,null,null,null,null,null,null,null,null,null,null,null,null,null,null,null,null,null,null,null,null,null,null,null,null,null,null,null,null,null,null,null,null,null,null,null,null,null,null,null,null,null,null,null,null,null,null,null,null,null,null,null,null,null,null,null,null,null,null,null,null,null,null,null,null,null,null,null,null,null,null,null,null,null,null,null,null,null,null,null,null,null,null,null,null,null,null,null,null,null,null,null,null,null,null,null,null,null,null,null,null,null,null,null,null,null,null,null,null,null,null,null,null,null,null,null,null,null,null,null,null,null,null,null,null,null,null,null,null,null,null,null,null,null,null,null,null,null,null,null,null,null,null,null,null,null,null,null,null,null,null,null,null,null,null,null,null,null,null,null,null,null,null,null,null,null,null,null,null,null,null,null,null,null,null,null,null,null,null,null,null,null,null,null,null,null,null,null,null,null,null,null,null,null,null,null,null,null,null,null,null,null,null,null,null,null,null,null,null,null,null,null,null,null,null,null,null,null,null,null,null,null,null,null,null,null,null,null,null,null,null,null,null,null,null,null,null,null,null,null,null,null,null,null,null,null,null,null,null,null,null,null,null,null,null,null,null,null,null,null,null,null,null,null,null,null,null,null,null,null,null,null,null,null,null,null,null,null,null,null,null,null,null,null,null,null,null,null,null,null,null,null,null,null,null,null,null,null,null,null,null,null,null,null,null,null,null,null,null,null,null,null,null,null,null,null,null,null,null,null,null,null,null,null,null,null,null,null,null,null,null,null,null,null,null,null,null,null,null,null,null,null,null,null,null,null,null,null,null,null,null,null,null,null,null,null,null,null,null,null,null,null,null,null,null,null,null,null,null,null,null,null,null,null,null,null,null,null,null,null,null,null,null,null,null,null,null,null,null,null,null,null,null,null,null,null,null,null,null,null,null,null,null,null,null,null,null,null,null,null,null,null,null,null,null,null,null,null,null,null,null,null,null,null,null,null,null,null,null,null,null,null,null,null,null,null,null,null,null,null,null,null,null,null,null,null,null,null,null,null,null,null,null,null,null,null,null,null,null,null,null,null,null,null,null,null,null,null,null,null,null,null,null,null,null,null,null,null,null,null,null,null,null,null,null,null,null,null,null,null,null,null,null,null,null,null,null,null,null,null,null,null,null,null,null,null,null,null,null,null,null,null,null,null,null,null,null,null,null,null,null,null,null,null,null,null,null,null,null,null,null,null,null,null,null,null,null,null,null,null,null,null,null,null,null,null,"Changed to take base year population"]
[null,null,null,null,null,null,null,null,null,null,null,null,null,null,null,null,null,null,null,null,null,null,null,null,null,null,null,null,null,null,null,null,null,null,null,null,null,null,null,null,null,null,null,null,null,null,null,null,null,null,null,null,null,null,null,null,null,null,null,null,null,null,null,null,null,null,null,null,null,null,null,null,null,null,null,null,null,null,null,null,null,null,null,null,null,null,null,null,null,null,null,null,null,null,null,null,null,null,null,null,null,null,null,null,null,null,null,null,null,null,null,null,null,null,null,null,null,null,null,"DP8 was originally: ",null,null,null,null,null,null,null,null,null,null,null,null,null,null,null,null,null,null,null,null,null,null,null,null,null,null,null,null,null,null,null,null,null,null,null,null,null,null,null,null,null,null,null,null,null,null,null,null,null,null,null,null,null,null,null,null,null,null,null,null,null,null,null,null,null,null,null,null,null,null,null,null,null,null,null,null,null,null,null,null,null,null,null,null,null,null,null,null,null,null,null,null,null,null,null,null,null,null,null,null,null,null,null,null,null,null,null,null,null,null,null,null,null,null,null,null,null,null,null,null,null,null,null,null,null,null,null,null,null,null,null,null,null,null,null,null,null,null,null,null,null,null,null,null,null,null,null,null,null,null,null,null,null,null,null,null,null,null,null,null,null,null,null,null,null,null,null,null,null,null,null,null,null,null,null,null,null,null,null,null,null,null,null,null,null,null,null,null,null,null,null,null,null,null,null,null,null,null,null,null,null,null,null,null,null,null,null,null,null,null,null,null,null,null,null,null,null,null,null,null,null,null,null,null,null,null,null,null,null,null,null,null,null,null,null,null,null,null,null,null,null,null,null,null,null,null,null,null,null,null,null,null,null,null,null,null,null,null,null,null,null,null,null,null,null,null,null,null,null,null,null,null,null,null,null,null,null,null,null,null,null,null,null,null,null,null,null,null,null,null,null,null,null,null,null,null,null,null,null,null,null,null,null,null,null,null,null,null,null,null,null,null,null,null,null,null,null,null,null,null,null,null,null,null,null,null,null,null,null,null,null,null,null,null,null,null,null,null,null,null,null,null,null,null,null,null,null,null,null,null,null,null,null,null,null,null,null,null,null,null,null,null,null,null,null,null,null,null,null,null,null,null,null,null,null,null,null,null,null,null,null,null,null,null,null,null,null,null,null,null,null,null,null,null,null,null,null,null,null,null,null,null,null,null,null,null,null,null,null,null,null,null,null,null,null,null,null,null,null,null,null,null,null,null,null,null,null,null,null,null,null,null,null,null,null,null,null,null,null,null,null,null,null,null,null,null,null,null,null,null,null,null,null,null,null,null,null,null,null,null,null,null,null,null,null,null,null,null,null,null,null,null,null,null,null,null,null,null,null,null,null,null,null,null,null,null,null,null,null,null,null,null,null,null,null,null,null,null,null,null,null,null,null,null,null,null,null,null,null,null,null,null,null,null,null,null,null,null,null,null,null,null,null,null,null,null,null,null,null,null,null,null,null,null,null,null,null,null,null,null,null,null,null,null,null,null,null,null,null,null,null,null,null,null,null,null,null,null,null,null,null,null,null,null,null,null,null,null,null,null,null,null,null,null,null,null,null,null,null,null,null,null,null,null,null,null,null,null,null,null,null,null,null,null,null,null,null,null,null,null,null,null,null,null,null,null,null,null,null,null,null,null,null,null,null,null,null,null,null,null,null,null,null,null,null,null,null,null,null,null,null,null,null,null,null,null,null,null,null,null,null,null,null,null,null,null,null,null,null,null,null,null,null,null,null,null,null,null,null,null,null,null,null,null,null,null,null,null,null,null,null,null,null,null,null,null,null,null,null,null,null,null,null,null,null,null,null,null,null,null,null,null,null,null,null,null,null,null,null,null,null,null,null,null,null,null,null,null,null,null,null,null,null,null,null,null,null,null,null,null,null,null,null,null,null,null,null,null,null,null,null,null,null,null,null,null,null,null,null,null,null,null,null,null,null,null,null,null,null,null,null,null,null,null,null,null,null,null,null,null,null,null,null,null,null,null,null,null,null,null,null,null,null,null,null,null,null,null,null,null,null,null,null,null,null,null,null,null,null,null,null,null,null,null,null,null,null,null,null,null,null,null,null,null,null,null,null,null,null,null,null,null,null,null,null,null,null,null,null,null,null,null,null,null,null,null,null,null,null,null,null,null,null,null,null,null,null,null,null,null,null,null,null,null,null,null,null,null,null,null,null,null,null,null,null,null,null,null,null,null,null,null,null,null,null,null,null,null,null,null,null,null,null,null,null,null,null,null,null,null,null,null,null,null,null,null,null,null,null,null,null,null,null,null,null,null,null,null,null,null,null,null,null,null,null,null,null,null,null,null,null,null,null,null,null,null,null,null,null,null,null,null,null,null,null,null,null,null,null,null,null,null,null,null,null,null,null,null,null,null,null,null,null,null,null,null,null,null,null,null,null,null,null,null,null,null,null,null,null,null,null,null,null,null,null,null,null,null,null,null,null,null,null,null,null,null,null,null,null,null,null,null,null,null,null,null,null,null,null,null,null,null,null,null,null,null,null,null,null,null,null,null,null,null,null,null,null,null,null,null,null,null,null,null,null,null,null,null,null,null,null,null,null,null,null,null,null,null,null,null,null,null,null,null,null,null,null,null,null,null,null,null,null,null,null,null,null,null,null,null,null,null,null,null,null,null,null,null,null,null,null,null,null,null,null,null,null,null,null,null,null,null,null,null,null,null,null,null,null,null,null,null,null,null,null,null,null,null,null,null,null,null,null,null,null,null,null,null,null,null,null,null,null,null,null,null,null,null,null,null,null,null,null,null,null,null,null,null,null,null,null,null,null,null,null,null,null,null,null,null,null,null,null,null,null,null,null,null,null,null,null,null,null,null,null,null,null,null,null,null,null,null,null,null,null,null,null,null,null,null,null,null,null,null,null,null,null,null,null,null,null,null,null,null,null,null,null,null,null,null,null,null,null,null,null,null,null,null,null,null,null,null,null,null,null,null,null,null,null,null,null,null,null,null,null,null,null,null,null,null,null,null,null,null,null,null,null,null,null,null,null,null,null,null,null,null,null,null,null,null,null,null,null,null,null,null,null,null,null,null,null,null,null,null,null,null,null,null,null,null,null,null,null,null,null,null,null,null,null,null,null,null,null,null,null,null,null,null,null,"Original formula in BAL8 was: ","Original formula in BAM8 was: ",null,null,null,"Original formula had inconsistency with BAP8",null,null,null,null,"Original formula had inconsistency with the extra 2 being multiplied"]
[null,null,null,null,null,null,null,null,null,null,null,null,null,null,null,null,null,null,null,null,null,null,null,null,null,null,null,null,null,null,null,null,null,null,null,null,null,null,null,null,null,null,null,null,null,null,null,null,null,null,null,null,null,null,null,null,null,null,null,null,null,null,null,null,null,null,null,null,null,null,null,null,null,null,null,null,null,null,null,null,null,null,null,null,null,null,null,null,null,null,null,null,null,null,null,null,null,null,null,null,null,null,null,null,null,null,null,null,null,null,null,null,null,null,null,null,null,null,null,"IF((AQ8*HLOOKUP(AP8,$B$6:$Q$140,(ROW()-5),FALSE)/5-(AK8*B8/5))/(AP8-2015)>0,(AQ8*HLOOKUP(AP8,$B$6:$Q$140,(ROW()-5),FALSE)/5-(AK8*B8/5))/(AP8-2015),0)",null,null,null,null,null,null,null,null,null,null,null,null,null,null,null,null,null,null,null,null,null,null,null,null,null,null,null,null,null,null,null,null,null,null,null,null,null,null,null,null,null,null,null,null,null,null,null,null,null,null,null,null,null,null,null,null,null,null,null,null,null,null,null,null,null,null,null,null,null,null,null,null,null,null,null,null,null,null,null,null,null,null,null,null,null,null,null,null,null,null,null,null,null,null,null,null,null,null,null,null,null,null,null,null,null,null,null,null,null,null,null,null,null,null,null,null,null,null,null,null,null,null,null,null,null,null,null,null,null,null,null,null,null,null,null,null,null,null,null,null,null,null,null,null,null,null,null,null,null,null,null,null,null,null,null,null,null,null,null,null,null,null,null,null,null,null,null,null,null,null,null,null,null,null,null,null,null,null,null,null,null,null,null,null,null,null,null,null,null,null,null,null,null,null,null,null,null,null,null,null,null,null,null,null,null,null,null,null,null,null,null,null,null,null,null,null,null,null,null,null,null,null,null,null,null,null,null,null,null,null,null,null,null,null,null,null,null,null,null,null,null,null,null,null,null,null,null,null,null,null,null,null,null,null,null,null,null,null,null,null,null,null,null,null,null,null,null,null,null,null,null,null,null,null,null,null,null,null,null,null,null,null,null,null,null,null,null,null,null,null,null,null,null,null,null,null,null,null,null,null,null,null,null,null,null,null,null,null,null,null,null,null,null,null,null,null,null,null,null,null,null,null,null,null,null,null,null,null,null,null,null,null,null,null,null,null,null,null,null,null,null,null,null,null,null,null,null,null,null,null,null,null,null,null,null,null,null,null,null,null,null,null,null,null,null,null,null,null,null,null,null,null,null,null,null,null,null,null,null,null,null,null,null,null,null,null,null,null,null,null,null,null,null,null,null,null,null,null,null,null,null,null,null,null,null,null,null,null,null,null,null,null,null,null,null,null,null,null,null,null,null,null,null,null,null,null,null,null,null,null,null,null,null,null,null,null,null,null,null,null,null,null,null,null,null,null,null,null,null,null,null,null,null,null,null,null,null,null,null,null,null,null,null,null,null,null,null,null,null,null,null,null,null,null,null,null,null,null,null,null,null,null,null,null,null,null,null,null,null,null,null,null,null,null,null,null,null,null,null,null,null,null,null,null,null,null,null,null,null,null,null,null,null,null,null,null,null,null,null,null,null,null,null,null,null,null,null,null,null,null,null,null,null,null,null,null,null,null,null,null,null,null,null,null,null,null,null,null,null,null,null,null,null,null,null,null,null,null,null,null,null,null,null,null,null,null,null,null,null,null,null,null,null,null,null,null,null,null,null,null,null,null,null,null,null,null,null,null,null,null,null,null,null,null,null,null,null,null,null,null,null,null,null,null,null,null,null,null,null,null,null,null,null,null,null,null,null,null,null,null,null,null,null,null,null,null,null,null,null,null,null,null,null,null,null,null,null,null,null,null,null,null,null,null,null,null,null,null,null,null,null,null,null,null,null,null,null,null,null,null,null,null,null,null,null,null,null,null,null,null,null,null,null,null,null,null,null,null,null,null,null,null,null,null,null,null,null,null,null,null,null,null,null,null,null,null,null,null,null,null,null,null,null,null,null,null,null,null,null,null,null,null,null,null,null,null,null,null,null,null,null,null,null,null,null,null,null,null,null,null,null,null,null,null,null,null,null,null,null,null,null,null,null,null,null,null,null,null,null,null,null,null,null,null,null,null,null,null,null,null,null,null,null,null,null,null,null,null,null,null,null,null,null,null,null,null,null,null,null,null,null,null,null,null,null,null,null,null,null,null,null,null,null,null,null,null,null,null,null,null,null,null,null,null,null,null,null,null,null,null,null,null,null,null,null,null,null,null,null,null,null,null,null,null,null,null,null,null,null,null,null,null,null,null,null,null,null,null,null,null,null,null,null,null,null,null,null,null,null,null,null,null,null,null,null,null,null,null,null,null,null,null,null,null,null,null,null,null,null,null,null,null,null,null,null,null,null,null,null,null,null,null,null,null,null,null,null,null,null,null,null,null,null,null,null,null,null,null,null,null,null,null,null,null,null,null,null,null,null,null,null,null,null,null,null,null,null,null,null,null,null,null,null,null,null,null,null,null,null,null,null,null,null,null,null,null,null,null,null,null,null,null,null,null,null,null,null,null,null,null,null,null,null,null,null,null,null,null,null,null,null,null,null,null,null,null,null,null,null,null,null,null,null,null,null,null,null,null,null,null,null,null,null,null,null,null,null,null,null,null,null,null,null,null,null,null,null,null,null,null,null,null,null,null,null,null,null,null,null,null,null,null,null,null,null,null,null,null,null,null,null,null,null,null,null,null,null,null,null,null,null,null,null,null,null,null,null,null,null,null,null,null,null,null,null,null,null,null,null,null,null,null,null,null,null,null,null,null,null,null,null,null,null,null,null,null,null,null,null,null,null,null,null,null,null,null,null,null,null,null,null,null,null,null,null,null,null,null,null,null,null,null,null,null,null,null,null,null,null,null,null,null,null,null,null,null,null,null,null,null,null,null,null,null,null,null,null,null,null,null,null,null,null,null,null,null,null,null,null,null,null,null,null,null,null,null,null,null,null,null,null,null,null,null,null,null,null,null,null,null,null,null,null,null,null,null,null,null,null,null,null,null,null,null,null,null,null,null,null,null,null,null,null,null,null,null,null,null,null,null,null,null,null,null,null,null,null,null,null,null,null,null,null,null,null,null,null,null,null,null,null,null,null,null,null,null,null,null,null,null,null,null,null,null,null,null,null,null,null,null,null,null,null,null,null,null,null,null,null,null,null,null,null,null,null,null,null,null,null,null,null,null,null,null,null,null,null,null,null,null,null,null,null,null,null,null,null,null,null,null,null,null,null,null,null,null,null,null,null,"$DP8*(($AON8+$AOO8+$AOV8+$AOW8)*$AXG8+($APA8+$APB8+$API8+$APJ8)*$AXL8)","(DQ8*(($AON8+$AOO8)*$AXG8+($APA8+$APB8)*$AXL8)+2*$DQ8*(($AOV8+$AOW8)*$AXG8+($API8+$APJ8)*$AXL8))/(1+$BAI8)^1",null,null,null,null,null,null,null,null,"(DZ8*(($AON8+$AOO8)*$AXG8+2*($APA8+$APB8)*$AXL8)+11*$DZ8*(($AOV8+$AOW8)*$AXG8+($API8+$APJ8)*$AXL8))/(1+$BAI8)^10"]
[null,null,null,null,null,null,null,null,null,null,null,null,null,null,null,null,null,null,null,null,null,null,null,null,null,null,null,null,null,null,null,null,null,null,null,null,null,null,null,null,null,null,null,null,null,null,null,null,null,null,null,null,null,null,null,null,null,null,null,null,null,null,null,null,null,null,null,null,null,null,null,null,null,null,null,null,null,null,null,null,null,null,null,null,null,null,null,null,null,null,null,null,null,null,null,null,null,null,null,null,null,null,null,null,null,null,null,null,null,null,null,null,null,null,null,null,null,null,null,"Revised to make references to B8 dynamic and to refer to DP6 instead of 2015",null,null,null,null,null,null,null,null,null,null,null,null,null,null,null,null,null,null,null,null,null,null,null,null,null,null,null,null,null,null,null,null,null,null,null,null,null,null,null,null,null,null,null,null,null,null,null,null,null,null,null,null,null,null,null,null,null,null,null,null,null,null,null,null,null,null,null,null,null,null,null,null,null,null,null,null,null,null,null,null,null,null,null,null,null,null,null,null,null,null,null,null,null,null,null,null,null,null,null,null,null,null,null,null,null,null,null,null,null,null,null,null,null,null,null,null,null,null,null,null,null,null,null,null,null,null,null,null,null,null,null,null,null,null,null,null,null,null,null,null,null,null,null,null,null,null,null,null,null,null,null,null,null,null,null,null,null,null,null,null,null,null,null,null,null,null,null,null,null,null,null,null,null,null,null,null,null,null,null,null,null,null,null,null,null,null,null,null,null,null,null,null,null,null,null,null,null,null,null,null,null,null,null,null,null,null,null,null,null,null,null,null,null,null,null,null,null,null,null,null,null,null,null,null,null,null,null,null,null,null,null,null,null,null,null,null,null,null,null,null,null,null,null,null,null,null,null,null,null,null,null,null,null,null,null,null,null,null,null,null,null,null,null,null,null,null,null,null,null,null,null,null,null,null,null,null,null,null,null,null,null,null,null,null,null,null,null,null,null,null,null,null,null,null,null,null,null,null,null,null,null,null,null,null,null,null,null,null,null,null,null,null,null,null,null,null,null,null,null,null,null,null,null,null,null,null,null,null,null,null,null,null,null,null,null,null,null,null,null,null,null,null,null,null,null,null,null,null,null,null,null,null,null,null,null,null,null,null,null,null,null,null,null,null,null,null,null,null,null,null,null,null,null,null,null,null,null,null,null,null,null,null,null,null,null,null,null,null,null,null,null,null,null,null,null,null,null,null,null,null,null,null,null,null,null,null,null,null,null,null,null,null,null,null,null,null,null,null,null,null,null,null,null,null,null,null,null,null,null,null,null,null,null,null,null,null,null,null,null,null,null,null,null,null,null,null,null,null,null,null,null,null,null,null,null,null,null,null,null,null,null,null,null,null,null,null,null,null,null,null,null,null,null,null,null,null,null,null,null,null,null,null,null,null,null,null,null,null,null,null,null,null,null,null,null,null,null,null,null,null,null,null,null,null,null,null,null,null,null,null,null,null,null,null,null,null,null,null,null,null,null,null,null,null,null,null,null,null,null,null,null,null,null,null,null,null,null,null,null,null,null,null,null,null,null,null,null,null,null,null,null,null,null,null,null,null,null,null,null,null,null,null,null,null,null,null,null,null,null,null,null,null,null,null,null,null,null,null,null,null,null,null,null,null,null,null,null,null,null,null,null,null,null,null,null,null,null,null,null,null,null,null,null,null,null,null,null,null,null,null,null,null,null,null,null,null,null,null,null,null,null,null,null,null,null,null,null,null,null,null,null,null,null,null,null,null,null,null,null,null,null,null,null,null,null,null,null,null,null,null,null,null,null,null,null,null,null,null,null,null,null,null,null,null,null,null,null,null,null,null,null,null,null,null,null,null,null,null,null,null,null,null,null,null,null,null,null,null,null,null,null,null,null,null,null,null,null,null,null,null,null,null,null,null,null,null,null,null,null,null,null,null,null,null,null,null,null,null,null,null,null,null,null,null,null,null,null,null,null,null,null,null,null,null,null,null,null,null,null,null,null,null,null,null,null,null,null,null,null,null,null,null,null,null,null,null,null,null,null,null,null,null,null,null,null,null,null,null,null,null,null,null,null,null,null,null,null,null,null,null,null,null,null,null,null,null,null,null,null,null,null,null,null,null,null,null,null,null,null,null,null,null,null,null,null,null,null,null,null,null,null,null,null,null,null,null,null,null,null,null,null,null,null,null,null,null,null,null,null,null,null,null,null,null,null,null,null,null,null,null,null,null,null,null,null,null,null,null,null,null,null,null,null,null,null,null,null,null,null,null,null,null,null,null,null,null,null,null,null,null,null,null,null,null,null,null,null,null,null,null,null,null,null,null,null,null,null,null,null,null,null,null,null,null,null,null,null,null,null,null,null,null,null,null,null,null,null,null,null,null,null,null,null,null,null,null,null,null,null,null,null,null,null,null,null,null,null,null,null,null,null,null,null,null,null,null,null,null,null,null,null,null,null,null,null,null,null,null,null,null,null,null,null,null,null,null,null,null,null,null,null,null,null,null,null,null,null,null,null,null,null,null,null,null,null,null,null,null,null,null,null,null,null,null,null,null,null,null,null,null,null,null,null,null,null,null,null,null,null,null,null,null,null,null,null,null,null,null,null,null,null,null,null,null,null,null,null,null,null,null,null,null,null,null,null,null,null,null,null,null,null,null,null,null,null,null,null,null,null,null,null,null,null,null,null,null,null,null,null,null,null,null,null,null,null,null,null,null,null,null,null,null,null,null,null,null,null,null,null,null,null,null,null,null,null,null,null,null,null,null,null,null,null,null,null,null,null,null,null,null,null,null,null,null,null,null,null,null,null,null,null,null,null,null,null,null,null,null,null,null,null,null,null,null,null,null,null,null,null,null,null,null,null,null,null,null,null,null,null,null,null,null,null,null,null,null,null,null,null,null,null,null,null,null,null,null,null,null,null,null,null,null,null,null,null,null,null,null,null,null,null,null,null,null,null,null,null,null,null,null,null,null,null,null,null,null,null,null,null,null,null,null,null,null,null,null,null,null,null,null,null,null,null,null,null,null,null,null,null,null,null,null,null,null,null,null,null,null,null,null,null,null,null,null,null,null,null,null,null,null,null,null,null,null,null,null,null,null,null,null,null,null,null,null,null,null,null,null,null,null,null,null,null,null,null,null,null,null,null,null,null,null,null,null,null,null,null,null,null,null,null,null,null,null,null,null,null,null,null,"Changed to make reference to DP8 dynamic","Changed so DQ8 is dynamic and multiplyers are dynamic"]

{"sheet":"DATA VERIFICATION FORMULAS","index":5,"n_rows":59,"n_cols":20,"rows_kept":59,"cut":false,"hidden":true,"merged":[[7,2,7,4],[1,1,1,20],[3,2,3,3],[3,4,3,5],[5,2,5,3],[5,4,5,5],[20,11,20,19],[21,2,24,2],[21,3,24,3],[21,4,24,4],[21,5,24,5],[21,6,24,6],[21,7,24,7],[21,8,21,19],[22,8,22,12],[22,13,22,16],[22,17,22,19],[23,8,23,10],[23,11,23,12],[23,13,23,14],[23,15,23,16],[23,18,23,19],[25,15,26,15],[25,16,26,16],[25,18,26,18],[25,19,26,19],[27,3,28,3],[27,6,28,6],[27,7,28,7],[27,11,28,11],[27,12,28,12],[27,15,28,15],[25,3,26,3],[25,6,26,6],[25,7,26,7],[25,11,26,11],[25,12,26,12],[27,16,28,16],[27,18,28,18],[27,19,28,19],[29,2,30,2],[31,2,34,2],[31,3,32,3],[31,6,32,6],[31,7,32,7],[31,11,32,11],[31,12,32,12],[25,2,28,2],[31,15,32,15],[31,16,32,16],[31,18,32,18],[31,19,32,19],[33,3,34,3],[33,6,34,6],[33,7,34,7],[33,11,34,11],[33,12,34,12],[33,15,34,15],[33,16,34,16],[38,19,39,19],[40,2,41,2],[33,18,34,18],[33,19,34,19],[36,2,39,2],[36,3,37,3],[36,6,37,6],[36,7,37,7],[36,11,37,11],[36,12,37,12],[36,15,37,15],[36,16,37,16],[36,18,37,18],[36,19,37,19],[38,3,39,3],[38,6,39,6],[55,2,56,2],[57,2,58,2],[38,18,39,18],[46,2,46,7],[48,4,48,7],[49,4,49,7],[51,2,52,2],[53,2,54,2],[38,12,39,12],[38,15,39,15],[38,16,39,16],[38,7,39,7],[38,11,39,11]]}
[null,null,"INPUTS - SHEET TO ADJUST MODEL VALUES"]
[null,"DATA VERIFICATION SHEET"]
[]
[null,null,"     STEP 1: SELECT COUNTRY --> ",null,"Uganda"]
[]
[null,null,"     STEP 2: SELECT BASEYEAR -->",null,2018]
[]
[null,null,"     STEP 2: VERIFY AND ADJUST COUNTRY DATA BELOW"]
[]
[null,null,"Please verify the data below and, if deemed necessary, adjust these figures to reflect country level data by deleting the formula and entering a revised figure. Instructions are provided in INTRODUCTION sheet."]
[]
[null,null,"The cells in the table are colour coded according to the variable type, as follows:"]
[]
[null,null,"TECHNOLOGY"]
[null,null,"COVERAGE LEVEL IN BASELINE YEAR"]
[null,null,"COVERAGE IN TARGET YEAR"]
[null,null,"COSTS"]
[null,null,"COST RECOVERY"]
[null,null,"DISCOUNT RATE"]
[null,null,"LOCAL CURRENCY EXCHANGE RATE"]
[null,null,null,null,null,null,null,null,null,null,null,"ERROR: COST RECOVERY MUST ADD UP TO 100% FOR EACH COST TYPE"]
[null,null,"SERVICE","RURAL / URBAN","TECHNOLOGY","HOUSEHOLDS WITH TECH. OPTION","SERVICE COVERAGE LEVEL BASELINE YEAR","COVERAGE TARGET 2030","FINANCIAL COST PER CAPITA (US$ in 2016) with DISTRIBUTION OF COST RECOVERY"]
[null,null,null,null,null,null,null,null,"CAPITAL COSTS (TOTAL)",null,null,null,null,"MAINTENANCE COSTS (TOTAL)",null,null,null,"OPERATING COSTS (ANNUAL)"]
[null,null,null,null,null,null,null,null,"COSTS",null,null,"COST RECOVERY (%)",null,"COSTS",null,"COST RECOVERY (%)",null,"COSTS","COST RECOVERY (%)"]
[null,null,null,null,null,null,null,null,"CapEx","Software","Duration","Customer","Subsidy","CapManEx","Duration","Customer","Subsidy","OpEx","Customer","Subsidy"]
[null,null,"Basic Water","Urban","Tubewell",{"$f":"INDIRECT(\"SOURCE!AXG\" & MATCH(E4,Countries,FALSE)+6)","v":0.5},{"$f":"INDIRECT(\"SOURCE!AJ\" & MATCH(E4,Countries,FALSE)+6)","v":0.60770618438720703},{"$f":"INDIRECT(\"SOURCE!AQ\" & MATCH(E4,Countries,FALSE)+6)","v":1},{"$f":"INDIRECT(\"SOURCE!AON\" & MATCH(E4,Countries,FALSE)+6)","v":38.917697175343775},{"$f":"INDIRECT(\"SOURCE!AOO\" & MATCH(E4,Countries,FALSE)+6)","v":1.9458848587671889},{"$f":"INDIRECT(\"SOURCE!AOQ\" & MATCH(E4,Countries,FALSE)+6)","v":-20},0.2,0.8,{"$f":"INDIRECT(\"SOURCE!AOT\" & MATCH(E4,Countries,FALSE)+6)","v":11.675309152603132},{"$f":"INDIRECT(\"SOURCE!AOU\" & MATCH(E4,Countries,FALSE)+6)","v":-10},0.2,0.8,{"$f":"INDIRECT(\"SOURCE!AOW\" & MATCH(E4,Countries,FALSE)+6)","v":1.4321712560526509},0.8,0.2]
[null,null,null,null,"Dug well",{"$f":"INDIRECT(\"SOURCE!AXL\" & MATCH(E4,Countries,FALSE)+6)","v":0.5},null,null,{"$f":"INDIRECT(\"SOURCE!APA\" & MATCH(E4,Countries,FALSE)+6)","v":18.539406708341925},{"$f":"INDIRECT(\"SOURCE!APB\" & MATCH(E4,Countries,FALSE)+6)","v":0.92697033541709628},{"$f":"INDIRECT(\"SOURCE!APD\" & MATCH(E4,Countries,FALSE)+6)","v":-10},null,null,{"$f":"INDIRECT(\"SOURCE!APG\" & MATCH(E4,Countries,FALSE)+6)","v":5.561822012502577},{"$f":"INDIRECT(\"SOURCE!APH\" & MATCH(E4,Countries,FALSE)+6)","v":-5},null,null,{"$f":"INDIRECT(\"SOURCE!APJ\" & MATCH(E4,Countries,FALSE)+6)","v":0.90101516602541765}]
[null,null,null,"Rural","Tubewell",{"$f":"INDIRECT(\"SOURCE!AXQ\" & MATCH(E4,Countries,FALSE)+6)","v":0.5},{"$f":"INDIRECT(\"SOURCE!AR\" & MATCH(E4,Countries,FALSE)+6)","v":0.40260856628417968},{"$f":"INDIRECT(\"SOURCE!AY\" & MATCH(E4,Countries,FALSE)+6)","v":1},{"$f":"INDIRECT(\"SOURCE!APN\" & MATCH(E4,Countries,FALSE)+6)","v":27.2},{"$f":"INDIRECT(\"SOURCE!APO\" & MATCH(E4,Countries,FALSE)+6)","v":1.36},{"$f":"INDIRECT(\"SOURCE!APQ\" & MATCH(E4,Countries,FALSE)+6)","v":-20},0.2,0.8,{"$f":"INDIRECT(\"SOURCE!APT\" & MATCH(E4,Countries,FALSE)+6)","v":8.16},{"$f":"INDIRECT(\"SOURCE!APU\" & MATCH(E4,Countries,FALSE)+6)","v":-10},0.2,0.8,{"$f":"INDIRECT(\"SOURCE!APW\" & MATCH(E4,Countries,FALSE)+6)","v":1.4687999999999999},0.8,0.2]
[null,null,null,null,"Dug well",{"$f":"INDIRECT(\"SOURCE!AXV\" & MATCH(E4,Countries,FALSE)+6)","v":0.5},null,null,{"$f":"INDIRECT(\"SOURCE!AQA\" & MATCH(E4,Countries,FALSE)+6)","v":6.5},{"$f":"INDIRECT(\"SOURCE!AQB\" & MATCH(E4,Countries,FALSE)+6)","v":0.32500000000000001},{"$f":"INDIRECT(\"SOURCE!AQD\" & MATCH(E4,Countries,FALSE)+6)","v":-10},null,null,{"$f":"INDIRECT(\"SOURCE!AQG\" & MATCH(E4,Countries,FALSE)+6)","v":1.95},{"$f":"INDIRECT(\"SOURCE!AQH\" & MATCH(E4,Countries,FALSE)+6)","v":-5},null,null,{"$f":"INDIRECT(\"SOURCE!AQJ\" & MATCH(E4,Countries,FALSE)+6)","v":0.31590000000000001}]
[null,null,"Safely Managed Water","Urban","Safely managed water",1,{"$f":"INDIRECT(\"SOURCE!AZ\" & MATCH(E4,Countries,FALSE)+6)","v":0.14627809963500332},{"$f":"INDIRECT(\"SOURCE!BG\" & MATCH(E4,Countries,FALSE)+6)","v":1},{"$f":"INDIRECT(\"SOURCE!AQN\" & MATCH(E4,Countries,FALSE)+6)","v":76.900000000000006},{"$f":"INDIRECT(\"SOURCE!AQO\" & MATCH(E4,Countries,FALSE)+6)","v":7.6900000000000013},{"$f":"INDIRECT(\"SOURCE!AQQ\" & MATCH(E4,Countries,FALSE)+6)","v":-20},0.2,0.8,{"$f":"INDIRECT(\"SOURCE!AQT\" & MATCH(E4,Countries,FALSE)+6)","v":23.07},{"$f":"INDIRECT(\"SOURCE!AQU\" & MATCH(E4,Countries,FALSE)+6)","v":-10},0.2,0.8,{"$f":"INDIRECT(\"SOURCE!AQW\" & MATCH(E4,Countries,FALSE)+6)","v":22},0.8,0.2]
[null,null,null,"Rural","Safely managed water",1,{"$f":"INDIRECT(\"SOURCE!BH\" & MATCH(E4,Countries,FALSE)+6)","v":2.9426512095593006E-3},{"$f":"INDIRECT(\"SOURCE!BO\" & MATCH(E4,Countries,FALSE)+6)","v":1},{"$f":"INDIRECT(\"SOURCE!ARA\" & MATCH(E4,Countries,FALSE)+6)","v":113.1},{"$f":"INDIRECT(\"SOURCE!ARB\" & MATCH(E4,Countries,FALSE)+6)","v":11.31},{"$f":"INDIRECT(\"SOURCE!ARD\" & MATCH(E4,Countries,FALSE)+6)","v":-20},0.2,0.8,{"$f":"INDIRECT(\"SOURCE!ARG\" & MATCH(E4,Countries,FALSE)+6)","v":33.93},{"$f":"INDIRECT(\"SOURCE!AQU\" & MATCH(E4,Countries,FALSE)+6)","v":-10},0.2,0.8,{"$f":"INDIRECT(\"SOURCE!ARJ\" & MATCH(E4,Countries,FALSE)+6)","v":16.5},0.8,0.2]
[null,null,"Basic Sanitation (onsite only)","Urban","Septic tank",{"$f":"INDIRECT(\"SOURCE!AYA\" & MATCH(E4,Countries,FALSE)+6)","v":0.5},{"$f":"INDIRECT(\"SOURCE!BP\" & MATCH(E4,Countries,FALSE)+6)","v":0.32873837706043468},{"$f":"INDIRECT(\"SOURCE!BW\" & MATCH(E4,Countries,FALSE)+6)","v":1},{"$f":"INDIRECT(\"SOURCE!ARO\" & MATCH(E4,Countries,FALSE)+6)","v":158.6},{"$f":"INDIRECT(\"SOURCE!ARP\" & MATCH(E4,Countries,FALSE)+6)","v":31.72},{"$f":"INDIRECT(\"SOURCE!ARR\" & MATCH(E4,Countries,FALSE)+6)","v":-20},0.2,0.8,{"$f":"INDIRECT(\"SOURCE!ARU\" & MATCH(E4,Countries,FALSE)+6)","v":47.58},{"$f":"INDIRECT(\"SOURCE!ARV\" & MATCH(E4,Countries,FALSE)+6)","v":-10},0.2,0.8,{"$f":"INDIRECT(\"SOURCE!ARX\" & MATCH(E4,Countries,FALSE)+6)","v":12.243919999999997},0.8,0.2]
[null,null,null,null,"Pit latrine",{"$f":"INDIRECT(\"SOURCE!AYF\" & MATCH(E4,Countries,FALSE)+6)","v":0.5},null,null,{"$f":"INDIRECT(\"SOURCE!ASC\" & MATCH(E4,Countries,FALSE)+6)","v":42.898327094413887},{"$f":"INDIRECT(\"SOURCE!ASD\" & MATCH(E4,Countries,FALSE)+6)","v":4.2898327094413888},{"$f":"INDIRECT(\"SOURCE!ASF\" & MATCH(E4,Countries,FALSE)+6)","v":-8},null,null,{"$f":"INDIRECT(\"SOURCE!ASI\" & MATCH(E4,Countries,FALSE)+6)","v":12.869498128324166},{"$f":"INDIRECT(\"SOURCE!ASJ\" & MATCH(E4,Countries,FALSE)+6)","v":-4},null,null,{"$f":"INDIRECT(\"SOURCE!ASL\" & MATCH(E4,Countries,FALSE)+6)","v":2.8098404246841095}]
[null,null,null,"Rural","Wet pit latrine",{"$f":"INDIRECT(\"SOURCE!AYK\" & MATCH(E4,Countries,FALSE)+6)","v":0.5},{"$f":"INDIRECT(\"SOURCE!BX\" & MATCH(E4,Countries,FALSE)+6)","v":0.34460934185717496},{"$f":"INDIRECT(\"SOURCE!CE\" & MATCH(E4,Countries,FALSE)+6)","v":1},{"$f":"INDIRECT(\"SOURCE!ASQ\" & MATCH(E4,Countries,FALSE)+6)","v":42.898327094413887},{"$f":"INDIRECT(\"SOURCE!ASR\" & MATCH(E4,Countries,FALSE)+6)","v":4.2898327094413888},{"$f":"INDIRECT(\"SOURCE!AST\" & MATCH(E4,Countries,FALSE)+6)","v":-8},0.2,0.8,{"$f":"INDIRECT(\"SOURCE!ASW\" & MATCH(E4,Countries,FALSE)+6)","v":12.869498128324166},{"$f":"INDIRECT(\"SOURCE!ASX\" & MATCH(E4,Countries,FALSE)+6)","v":-4},0.2,0.8,{"$f":"INDIRECT(\"SOURCE!ASZ\" & MATCH(E4,Countries,FALSE)+6)","v":3.4361560002625522},0.8,0.2]
[null,null,null,null,"Dry pit latrine",{"$f":"INDIRECT(\"SOURCE!AYP\" & MATCH(E4,Countries,FALSE)+6)","v":0.5},null,null,{"$f":"INDIRECT(\"SOURCE!ATE\" & MATCH(E4,Countries,FALSE)+6)","v":15.191728372993284},{"$f":"INDIRECT(\"SOURCE!ATF\" & MATCH(E4,Countries,FALSE)+6)","v":4.2898327094413888},{"$f":"INDIRECT(\"SOURCE!ATH\" & MATCH(E4,Countries,FALSE)+6)","v":-8},null,null,{"$f":"INDIRECT(\"SOURCE!ATK\" & MATCH(E4,Countries,FALSE)+6)","v":4.5575185118979853},{"$f":"INDIRECT(\"SOURCE!ATL\" & MATCH(E4,Countries,FALSE)+6)","v":-4},null,null,{"$f":"INDIRECT(\"SOURCE!ATN\" & MATCH(E4,Countries,FALSE)+6)","v":1.01784580099055}]
[null,null,"Any fixed point defecation","Rural","Any latrine, including unimproved",1,{"$f":"INDIRECT(\"SOURCE!CF\" & MATCH(E4,Countries,FALSE)+6)","v":0.91868064958674034},{"$f":"INDIRECT(\"SOURCE!CM\" & MATCH(E4,Countries,FALSE)+6)","v":1},{"$f":"INDIRECT(\"SOURCE!ATR\" & MATCH(E4,Countries,FALSE)+6)","v":7.9030121684483969},{"$f":"INDIRECT(\"SOURCE!ATS\" & MATCH(E4,Countries,FALSE)+6)","v":2.1449163547206944},{"$f":"INDIRECT(\"SOURCE!ATU\" & MATCH(E4,Countries,FALSE)+6)","v":-2},0.2,0.8,{"$f":"INDIRECT(\"SOURCE!ATX\" & MATCH(E4,Countries,FALSE)+6)","v":2.3709036505345189},{"$f":"INDIRECT(\"SOURCE!ATY\" & MATCH(E4,Countries,FALSE)+6)","v":-1},0.2,0.8,{"$f":"INDIRECT(\"SOURCE!AUA\" & MATCH(E4,Countries,FALSE)+6)","v":1.01784580099055},0.8,0.2]
[null,null,"Safely Managed Sanitation (fecal sludge management or sewerage only)","Urban","Sewerage with treatment",{"$f":"INDIRECT(\"SOURCE!AYU\" & MATCH(E4,Countries,FALSE)+6)","v":0.5},{"$f":"INDIRECT(\"SOURCE!CQ\" & MATCH(E4,Countries,FALSE)+6)","v":0.33004900000000004},{"$f":"INDIRECT(\"SOURCE!CS\" & MATCH(E4,Countries,FALSE)+6)","v":1},{"$f":"INDIRECT(\"SOURCE!AUE\" & MATCH(E4,Countries,FALSE)+6)","v":182.2},{"$f":"INDIRECT(\"SOURCE!AUF\" & MATCH(E4,Countries,FALSE)+6)","v":18.22},{"$f":"INDIRECT(\"SOURCE!AUH\" & MATCH(E4,Countries,FALSE)+6)","v":-20},0.2,0.8,{"$f":"INDIRECT(\"SOURCE!AUK\" & MATCH(E4,Countries,FALSE)+6)","v":54.66},{"$f":"INDIRECT(\"SOURCE!AUL\" & MATCH(E4,Countries,FALSE)+6)","v":-10},0.2,0.8,{"$f":"INDIRECT(\"SOURCE!AUN\" & MATCH(E4,Countries,FALSE)+6)","v":11.095979999999999},0.8,0.2]
[null,null,null,null,"Septic tank with treatment (FSM)",{"$f":"INDIRECT(\"SOURCE!AYZ\" & MATCH(E4,Countries,FALSE)+6)","v":0.5},null,null,{"$f":"INDIRECT(\"SOURCE!AUR\" & MATCH(E4,Countries,FALSE)+6)","v":44.625109169182089},{"$f":"INDIRECT(\"SOURCE!AUS\" & MATCH(E4,Countries,FALSE)+6)","v":4.4625109169182089},{"$f":"INDIRECT(\"SOURCE!AUU\" & MATCH(E4,Countries,FALSE)+6)","v":-20},null,null,{"$f":"INDIRECT(\"SOURCE!AUX\" & MATCH(E4,Countries,FALSE)+6)","v":13.387532750754627},{"$f":"INDIRECT(\"SOURCE!AUY\" & MATCH(E4,Countries,FALSE)+6)","v":-10},null,null,{"$f":"INDIRECT(\"SOURCE!AVA\" & MATCH(E4,Countries,FALSE)+6)","v":3.190695305596519}]
[null,null,null,"Rural","Pit latrine with treatment (FSM)",{"$f":"INDIRECT(\"SOURCE!AZE\" & MATCH(E4,Countries,FALSE)+6)","v":0.5},{"$f":"INDIRECT(\"SOURCE!CW\" & MATCH(E4,Countries,FALSE)+6)","v":0.33800000000000002},{"$f":"INDIRECT(\"SOURCE!CY\" & MATCH(E4,Countries,FALSE)+6)","v":1},{"$f":"INDIRECT(\"SOURCE!AVE\" & MATCH(E4,Countries,FALSE)+6)","v":35.056388460837347},{"$f":"INDIRECT(\"SOURCE!AVF\" & MATCH(E4,Countries,FALSE)+6)","v":3.5056388460837349},{"$f":"INDIRECT(\"SOURCE!AVH\" & MATCH(E4,Countries,FALSE)+6)","v":-20},0.2,0.8,{"$f":"INDIRECT(\"SOURCE!AVK\" & MATCH(E4,Countries,FALSE)+6)","v":10.516916538251204},{"$f":"INDIRECT(\"SOURCE!AVL\" & MATCH(E4,Countries,FALSE)+6)","v":-10},0.2,0.8,{"$f":"INDIRECT(\"SOURCE!AVN\" & MATCH(E4,Countries,FALSE)+6)","v":1.6932235626584438},0.8,0.2]
[null,null,null,null,"Sewerage with treatment",{"$f":"INDIRECT(\"SOURCE!AZJ\" & MATCH(E4,Countries,FALSE)+6)","v":0.5},null,null,{"$f":"INDIRECT(\"SOURCE!AVR\" & MATCH(E4,Countries,FALSE)+6)","v":244.1},{"$f":"INDIRECT(\"SOURCE!AVS\" & MATCH(E4,Countries,FALSE)+6)","v":24.41},{"$f":"INDIRECT(\"SOURCE!AVU\" & MATCH(E4,Countries,FALSE)+6)","v":-20},null,null,{"$f":"INDIRECT(\"SOURCE!AVX\" & MATCH(E4,Countries,FALSE)+6)","v":73.22999999999999},{"$f":"INDIRECT(\"SOURCE!AVY\" & MATCH(E4,Countries,FALSE)+6)","v":-10},null,null,{"$f":"INDIRECT(\"SOURCE!AWA\" & MATCH(E4,Countries,FALSE)+6)","v":5.3213800000000004}]
[null,null,"Handwashing with soap","Urban","Station with soap and water",1,{"$f":"INDIRECT(\"SOURCE!CZ\" & MATCH(E4,Countries,FALSE)+6)","v":0.13100000000000001},{"$f":"INDIRECT(\"SOURCE!DG\" & MATCH(E4,Countries,FALSE)+6)","v":1},{"$f":"INDIRECT(\"SOURCE!AWE\" & MATCH(E4,Countries,FALSE)+6)","v":7.7},{"$f":"INDIRECT(\"SOURCE!AWF\" & MATCH(E4,Countries,FALSE)+6)","v":9.5821652649857132},{"$f":"INDIRECT(\"SOURCE!AWH\" & MATCH(E4,Countries,FALSE)+6)","v":-20},0.2,0.8,{"$f":"INDIRECT(\"SOURCE!AWL\" & MATCH(E4,Countries,FALSE)+6)","v":2.31},{"$f":"INDIRECT(\"SOURCE!AWM\" & MATCH(E4,Countries,FALSE)+6)","v":-10},0.2,0.8,{"$f":"INDIRECT(\"SOURCE!AWO\" & MATCH(E4,Countries,FALSE)+6)","v":1.1000000000000001},0.8,0.2]
[null,null,null,"Rural","Station with soap and water",1,{"$f":"INDIRECT(\"SOURCE!DH\" & MATCH(E4,Countries,FALSE)+6)","v":6.6000000000000003E-2},{"$f":"INDIRECT(\"SOURCE!DO\" & MATCH(E4,Countries,FALSE)+6)","v":1},{"$f":"INDIRECT(\"SOURCE!AWS\" & MATCH(E4,Countries,FALSE)+6)","v":0.3},{"$f":"INDIRECT(\"SOURCE!AWT\" & MATCH(E4,Countries,FALSE)+6)","v":4.6878480620512537},{"$f":"INDIRECT(\"SOURCE!AWV\" & MATCH(E4,Countries,FALSE)+6)","v":-10},0.2,0.8,{"$f":"INDIRECT(\"SOURCE!AWZ\" & MATCH(E4,Countries,FALSE)+6)","v":0.09},{"$f":"INDIRECT(\"SOURCE!AXA\" & MATCH(E4,Countries,FALSE)+6)","v":-5},0.2,0.8,{"$f":"INDIRECT(\"SOURCE!AXC\" & MATCH(E4,Countries,FALSE)+6)","v":1.1000000000000001},0.8,0.2]
[null,null,"DISCOUNT RATE ( > 0% )",{"$f":"SOURCE!BAI5","v":0.05}]
[null,null,"LOCAL CURRENCY PER US$",1000]
[null,null,"CURRENCY (SHORT FORM)","KSH"]
[null,null,null,"USD"]
[null,null,"     STEP 3: ENTER FINANCIAL DATA ON WASH EXPENDITURES BELOW"]
[]
[null,null,"Location and sub-sector",null,"United States Dollars (US$) in 2016 Prices"]
[null,null,null,null,"VALUE OF EXPENDITURE / BUDGET"]
[null,null,"SUB-SECTOR","RURAL / URBAN","NATIONAL BUDGETS SPENT","SUB-NATIONAL BUDGETS SPENT","CURRENT ODA \n(loans or repayable financing)","CURRENT ODA \n(grants and voluntary transfers)"]
[null,null,"Water supply","Urban",0,0,0,0]
[null,null,null,"Rural",0,0,0,0]
[null,null,"Sanitation and hygiene","Urban",0,0,0,0]
[null,null,null,"Rural",0,0,0,0]
[null,null,"WASH spending, not disaggregated","Urban",0,0,0,0]
[null,null,null,"Rural",0,0,0,0]
[null,null,"Total","Urban",{"$f":"E52+E54+E56","v":0},{"$f":"F52+F54+F56","v":0},0,0]
[null,null,null,"Rural",{"$f":"E53+E55+E57","v":0},0,0,0]